Workbook

Sheet 取引基本表
A1: 令和２年（2020年）長野県産業連関表
A2: 第１表 取引基本表（生産者価格表）≪統合小分類≫ | HJ2: （単位：100万円）
D3: 1 | E3: 2 | F3: 3 | G3: 4 | H3: 5 | I3: 6 | J3: 7 | K3: 8 | L3: 9 | M3: 10 | N3: 11 | O3: 12 | P3: 13 | Q3: 14 | R3: 15 | S3: 16 | T3: 17 | U3: 18 | V3: 19 | W3: 20 | X3: 21 | Y3: 22 | Z3: 23 | AA3: 24 | AB3: 25 | AC3: 26 | AD3: 27 | AE3: 28 | AF3: 29 | AG3: 30 | AH3: 31 | AI3: 32 | AJ3: 33 | AK3: 34 | AL3: 35 | AM3: 36 | AN3: 37 | AO3: 38 | AP3: 39 | AQ3: 40 | AR3: 41 | AS3: 42 | AT3: 43 | AU3: 44 | AV3: 45 | AW3: 46 | AX3: 47 | AY3: 48 | AZ3: 49 | BA3: 50 | BB3: 51 | BC3: 52 | BD3: 53 | BE3: 54 | BF3: 55 | BG3: 56 | BH3: 57 | BI3: 58 | BJ3: 59 | BK3: 60 | BL3: 61 | BM3: 62 | BN3: 63 | BO3: 64 | BP3: 65 | BQ3: 66 | BR3: 67 | BS3: 68 | BT3: 69 | BU3: 70 | BV3: 71 | BW3: 72 | BX3: 73 | BY3: 74 | BZ3: 75 | CA3: 76 | CB3: 77 | CC3: 78 | CD3: 79 | CE3: 80 | CF3: 81 | CG3: 82 | CH3: 83 | CI3: 84 | CJ3: 85 | CK3: 86 | CL3: 87 | CM3: 88 | CN3: 89 | CO3: 90 | CP3: 91 | CQ3: 92 | CR3: 93 | CS3: 94 | CT3: 95 | CU3: 96 | CV3: 97 | CW3: 98 | CX3: 99 | CY3: 100 | CZ3: 101 | DA3: 102 | DB3: 103 | DC3: 104 | DD3: 105 | DE3: 106 | DF3: 107 | DG3: 108 | DH3: 109 | DI3: 110 | DJ3: 111 | DK3: 112 | DL3: 113 | DM3: 114 | DN3: 115 | DO3: 116 | DP3: 117 | DQ3: 118 | DR3: 119 | DS3: 120 | DT3: 121 | DU3: 122 | DV3: 123 | DW3: 124 | DX3: 125 | DY3: 126 | DZ3: 127 | EA3: 128 | EB3: 129 | EC3: 130 | ED3: 131 | EE3: 132 | EF3: 133 | EG3: 134 | EH3: 135 | EI3: 136 | EJ3: 137 | EK3: 138 | EL3: 139 | EM3: 140 | EN3: 141 | EO3: 142 | EP3: 143 | EQ3: 144 | ER3: 145 | ES3: 146 | ET3: 147 | EU3: 148 | EV3: 149 | EW3: 150 | EX3: 151 | EY3: 152 | EZ3: 153 | FA3: 154 | FB3: 155 | FC3: 156 | FD3: 157 | FE3: 158 | FF3: 159 | FG3: 160 | FH3: 161 | FI3: 162 | FJ3: 163 | FK3: 164 | FL3: 165 | FM3: 166 | FN3: 167 | FO3: 168 | FP3: 169 | FQ3: 170 | FR3: 171 | FS3: 172 | FT3: 173 | FU3: 174 | FV3: 175 | FW3: 176 | FX3: 177 | FY3: 178 | FZ3: 179 | GA3: 180 | GB3: 181 | GC3: 182 | GD3: 183 | GE3: 184 | GF3: 185 | GG3: 186 | GH3: 187 | GI3: 188 | GJ3: 189 | GK3: 190 | GL3: 191 | GM3: 192 | GN3: 193 | GO3: 194 | GP3: 195 | GQ3: 196 | GR3: 197 | GS3: 198 | GT3: 199 | GU3: 200 | GV3: 201 | GW3: 202 | GX3: 203 | GY3: 204 | GZ3: 205 | HA3: 206 | HB3: 207 | HC3: 208 | HD3: 209 | HE3: 210 | HF3: 211 | HG3: 212 | HH3: 213 | HI3: 214 | HJ3: 215
D4: 0111 | E4: 0112 | F4: 0113 | G4: 0114 | H4: 0115 | I4: 0116 | J4: 0121 | K4: 0131 | L4: 0151 | M4: 0152 | N4: 0153 | O4: 0171 | P4: 0172 | Q4: 0611 | R4: 0621 | S4: 0629 | T4: 1111 | U4: 1112 | V4: 1113 | W4: 1114 | X4: 1115 | Y4: 1116 | Z4: 1119 | AA4: 1121 | AB4: 1129 | AC4: 1131 | AD4: 1141 | AE4: 1511 | AF4: 1512 | AG4: 1513 | AH4: 1514 | AI4: 1519 | AJ4: 1521 | AK4: 1522 | AL4: 1529 | AM4: 1611 | AN4: 1619 | AO4: 1621 | AP4: 1631 | AQ4: 1632 | AR4: 1633 | AS4: 1641 | AT4: 1649 | AU4: 1911 | AV4: 2011 | AW4: 2021 | AX4: 2029 | AY4: 2031 | AZ4: 2041 | BA4: 2042 | BB4: 2049 | BC4: 2051 | BD4: 2061 | BE4: 2071 | BF4: 2081 | BG4: 2082 | BH4: 2083 | BI4: 2084 | BJ4: 2089 | BK4: 2111 | BL4: 2121 | BM4: 2211 | BN4: 2221 | BO4: 2229 | BP4: 2311 | BQ4: 2312 | BR4: 2511 | BS4: 2521 | BT4: 2531 | BU4: 2591 | BV4: 2599 | BW4: 2611 | BX4: 2612 | BY4: 2621 | BZ4: 2622 | CA4: 2623 | CB4: 2631 | CC4: 2699 | CD4: 2711 | CE4: 2712 | CF4: 2721 | CG4: 2729 | CH4: 2811 | CI4: 2812 | CJ4: 2891 | CK4: 2899 | CL4: 2911 | CM4: 2912 | CN4: 2913 | CO4: 2914 | CP4: 2919 | CQ4: 3011 | CR4: 3012 | CS4: 3013 | CT4: 3014 | CU4: 3015 | CV4: 3016 | CW4: 3017 | CX4: 3019 | CY4: 3111 | CZ4: 3112 | DA4: 3113 | DB4: 3114 | DC4: 3115 | DD4: 3116 | DE4: 3211 | DF4: 3299 | DG4: 3311 | DH4: 3321 | DI4: 3331 | DJ4: 3332 | DK4: 3399 | DL4: 3411 | DM4: 3412 | DN4: 3421 | DO4: 3511 | DP4: 3521 | DQ4: 3522 | DR4: 3531 | DS4: 3541 | DT4: 3591 | DU4: 3592 | DV4: 3599 | DW4: 3911 | DX4: 3919 | DY4: 3921 | DZ4: 4111 | EA4: 4112 | EB4: 4121 | EC4: 4131 | ED4: 4191 | EE4: 4611 | EF4: 4621 | EG4: 4622 | EH4: 4711 | EI4: 4811 | EJ4: 5111 | EK4: 5112 | EL4: 5311 | EM4: 5312 | EN4: 5511 | EO4: 5521 | EP4: 5531 | EQ4: 5711 | ER4: 5712 | ES4: 5721 | ET4: 5722 | EU4: 5731 | EV4: 5732 | EW4: 5741 | EX4: 5742 | EY4: 5743 | EZ4: 5751 | FA4: 5761 | FB4: 5771 | FC4: 5781 | FD4: 5789 | FE4: 5791 | FF4: 5911 | FG4: 5921 | FH4: 5931 | FI4: 5941 | FJ4: 5951 | FK4: 6111 | FL4: 6112 | FM4: 6311 | FN4: 6312 | FO4: 6321 | FP4: 6322 | FQ4: 6411 | FR4: 6421 | FS4: 6431 | FT4: 6441 | FU4: 6599 | FV4: 6611 | FW4: 6612 | FX4: 6621 | FY4: 6631 | FZ4: 6632 | GA4: 6699 | GB4: 6711 | GC4: 6721 | GD4: 6731 | GE4: 6741 | GF4: 6751 | GG4: 6799 | GH4: 6811 | GI4: 6911 | GJ4: 7000 | GK4: 7111 | GL4: 7211 | GM4: 7212 | GN4: 7311 | GO4: 7321 | GP4: 7411 | GQ4: 7511 | GR4: 7611 | GS4: 7800 | GT4: 7900 | GU4: 8011 | GV4: 8012 | GW4: 8100 | GX4: 9800 | GY4: 9900 | GZ4: 8200 | HA4: 8300 | HB4: 8411 | HC4: 8412 | HD4: 8511 | HE4: 8611 | HF4: 8700 | HG4: 10000 | HH4: 10100 | HI4: 8800 | HJ4: 9700
C5: 統合小分類（188部門） | D5: 穀類 | E5: いも・豆類 | F5: 野菜 | G5: 果実 | H5: その他の食用作物 | I5: 非食用作物 | J5: 畜産 | K5: 農業サービス | L5: 育林 | M5: 素材 | N5: 特用林産物 | O5: 海面漁業 | P5: 内水面漁業 | Q5: 石炭・原油・天然ガス | R5: 砂利・採石 | S5: その他の鉱物 | T5: 畜産食料品 | U5: 水産食料品 | V5: 精穀・製粉 | W5: めん・パン・菓子類 | X5: 農産保存食料品 | Y5: 砂糖・油脂・調味料類 | Z5: その他の食料品 | AA5: 酒類 | AB5: その他の飲料 | AC5: 飼料・有機質肥料（別掲を除く。） | AD5: たばこ | AE5: 紡績糸 | AF5: 織物 | AG5: ニット生地 | AH5: 染色整理 | AI5: その他の繊維工業製品 | AJ5: 織物製・ニット製衣服 | AK5: その他の衣服・身の回り品 | AL5: その他の繊維既製品 | AM5: 木材 | AN5: その他の木製品 | AO5: 家具・装備品 | AP5: パルプ | AQ5: 紙・板紙 | AR5: 加工紙 | AS5: 紙製容器 | AT5: その他の紙加工品 | AU5: 印刷・製版・製本 | AV5: 化学肥料 | AW5: ソーダ工業製品 | AX5: その他の無機化学工業製品 | AY5: 石油化学系基礎製品 | AZ5: 脂肪族中間物・環式中間物・合成染料・有機顔料 | BA5: 合成ゴム | BB5: その他の有機化学工業製品 | BC5: 合成樹脂 | BD5: 化学繊維 | BE5: 医薬品 | BF5: 油脂加工製品・界面活性剤 | BG5: 化粧品・歯磨 | BH5: 塗料・印刷インキ | BI5: 農薬 | BJ5: その他の化学最終製品 | BK5: 石油製品 | BL5: 石炭製品 | BM5: プラスチック製品 | BN5: タイヤ・チューブ | BO5: その他のゴム製品 | BP5: 革製履物 | BQ5: なめし革・革製品・毛皮（革製履物を除く。） | BR5: ガラス・ガラス製品 | BS5: セメント・セメント製品 | BT5: 陶磁器 | BU5: 建設用土石製品 | BV5: その他の窯業・土石製品 | BW5: 銑鉄・粗鋼 | BX5: 鉄屑 | BY5: 熱間圧延鋼材 | BZ5: 鋼管 | CA5: 冷延・めっき鋼材 | CB5: 鋳鍛造品（鉄） | CC5: その他の鉄鋼製品 | CD5: 非鉄金属製錬・精製 | CE5: 非鉄金属屑 | CF5: 電線・ケーブル | CG5: その他の非鉄金属製品 | CH5: 建設用金属製品 | CI5: 建築用金属製品 | CJ5: ガス・石油機器・暖房・調理装置 | CK5: その他の金属製品 | CL5: ボイラ・原動機 | CM5: ポンプ・圧縮機 | CN5: 運搬機械 | CO5: 冷凍機・温湿調整装置 | CP5: その他のはん用機械 | CQ5: 農業用機械 | CR5: 建設・鉱山機械 | CS5: 繊維機械 | CT5: 生活関連産業用機械 | CU5: 基礎素材産業用機械 | CV5: 金属加工機械 | CW5: 半導体製造装置 | CX5: その他の生産用機械 | CY5: 事務用機械 | CZ5: サービス用・娯楽用機器 | DA5: 計測機器 | DB5: 医療用機械器具 | DC5: 光学機械・レンズ | DD5: 武器 | DE5: 電子デバイス | DF5: その他の電子部品 | DG5: 産業用電気機器 | DH5: 民生用電気機器 | DI5: 電子応用装置 | DJ5: 電気計測器 | DK5: その他の電気機械 | DL5: 通信機器 | DM5: 映像・音響機器 | DN5: 電子計算機・同附属装置 | DO5: 乗用車 | DP5: トラック・バス・その他の自動車 | DQ5: 二輪自動車 | DR5: 自動車部品・同附属品 | DS5: 船舶・同修理 | DT5: 鉄道車両・同修理 | DU5: 航空機・同修理 | DV5: その他の輸送機械 | DW5: がん具・運動用品 | DX5: その他の製造工業製品 | DY5: 再生資源回収・加工処理 | DZ5: 住宅建築 | EA5: 非住宅建築 | EB5: 建設補修 | EC5: 公共事業 | ED5: その他の土木建設 | EE5: 電気 | EF5: 都市ガス | EG5: 熱供給業 | EH5: 水道 | EI5: 廃棄物処理 | EJ5: 卸売 | EK5: 小売 | EL5: 金融 | EM5: 保険 | EN5: 不動産仲介及び賃貸 | EO5: 住宅賃貸料 | EP5: 住宅賃貸料（帰属家賃） | EQ5: 鉄道旅客輸送 | ER5: 鉄道貨物輸送 | ES5: 道路旅客輸送 | ET5: 道路貨物輸送（自家輸送を除く。） | EU5: 自家輸送（旅客自動車） | EV5: 自家輸送（貨物自動車） | EW5: 外洋輸送 | EX5: 沿海・内水面輸送 | EY5: 港湾運送 | EZ5: 航空輸送 | FA5: 貨物利用運送 | FB5: 倉庫 | FC5: こん包 | FD5: その他の運輸附帯サービス | FE5: 郵便・信書便 | FF5: 通信 | FG5: 放送 | FH5: 情報サービス | FI5: インターネット附随サービス | FJ5: 映像・音声・文字情報制作 | FK5: 公務（中央） | FL5: 公務（地方） | FM5: 学校教育 | FN5: 社会教育・その他の教育 | FO5: 学術研究機関 | FP5: 企業内研究開発 | FQ5: 医療 | FR5: 保健衛生 | FS5: 社会保険・社会福祉 | FT5: 介護 | FU5: 他に分類されない会員制団体 | FV5: 物品賃貸業（貸自動車業を除く。） | FW5: 貸自動車業 | FX5: 広告 | FY5: 自動車整備 | FZ5: 機械修理 | GA5: その他の対事業所サービス | GB5: 宿泊業 | GC5: 飲食サービス | GD5: 洗濯・理容・美容・浴場業 | GE5: 娯楽サービス | GF5: 獣医業 | GG5: その他の対個人サービス | GH5: 事務用品 | GI5: 分類不明 | GJ5: 内生部門計 | GK5: 家計外消費支出（列） | GL5: 家計消費支出 | GM5: 対家計民間非営利団体消費支出 | GN5: 一般政府消費支出 | GO5: 一般政府消費支出（社会資本等減耗分） | GP5: 県内総固定資本形成（公的） | GQ5: 県内総固定資本形成（民間） | GR5: 在庫純増 | GS5: 県内最終需要計 | GT5: 県内需要合計 | GU5: 輸出 | GV5: 輸出（直接購入） | GW5: 輸出計 | GX5: 移出 | GY5: 移輸出計 | GZ5: 最終需要計 | HA5: 需要合計 | HB5: （控除）輸入 | HC5: （控除）輸入（直接購入） | HD5: （控除）関税 | HE5: （控除）輸入品商品税 | HF5: （控除）輸入計 | HG5: （控除）移入 | HH5: （控除）移輸入計 | HI5: 最終需要部門計 | HJ5: 県内生産額
A6: 1 | B6: 0111 | C6: 穀類 | D6: 520 | E6: 4 | F6: 248 | G6: 237 | H6: 0 | I6: 161 | J6: 287 | K6: 122 | L6: 1 | M6: 0 | N6: 203 | O6: 0 | P6: 0 | Q6: 0 | R6: 0 | S6: 0 | T6: 0 | U6: 0 | V6: 35632 | W6: 0 | X6: 0 | Y6: 228 | Z6: 105 | AA6: 25 | AB6: 38 | AC6: 89 | AD6: 0 | AE6: 0 | AF6: 0 | AG6: 0 | AH6: 0 | AI6: 0 | AJ6: 0 | AK6: 0 | AL6: 0 | AM6: 0 | AN6: 0 | AO6: 0 | AP6: 0 | AQ6: 0 | AR6: 0 | AS6: 0 | AT6: 0 | AU6: 0 | AV6: 0 | AW6: 0 | AX6: 0 | AY6: 0 | AZ6: 0 | BA6: 0 | BB6: 0 | BC6: 0 | BD6: 0 | BE6: 0 | BF6: 0 | BG6: 0 | BH6: 0 | BI6: 0 | BJ6: 0 | BK6: 0 | BL6: 0 | BM6: 0 | BN6: 0 | BO6: 0 | BP6: 0 | BQ6: 0 | BR6: 0 | BS6: 0 | BT6: 0 | BU6: 0 | BV6: 0 | BW6: 0 | BX6: 0 | BY6: 0 | BZ6: 0 | CA6: 0 | CB6: 0 | CC6: 0 | CD6: 0 | CE6: 0 | CF6: 0 | CG6: 0 | CH6: 0 | CI6: 0 | CJ6: 0 | CK6: 0 | CL6: 0 | CM6: 0 | CN6: 0 | CO6: 0 | CP6: 0 | CQ6: 0 | CR6: 0 | CS6: 0 | CT6: 0 | CU6: 0 | CV6: 0 | CW6: 0 | CX6: 0 | CY6: 0 | CZ6: 0 | DA6: 0 | DB6: 0 | DC6: 0 | DD6: 0 | DE6: 0 | DF6: 0 | DG6: 0 | DH6: 0 | DI6: 0 | DJ6: 0 | DK6: 0 | DL6: 0 | DM6: 0 | DN6: 0 | DO6: 0 | DP6: 0 | DQ6: 0 | DR6: 0 | DS6: 0 | DT6: 0 | DU6: 0 | DV6: 0 | DW6: 0 | DX6: 158 | DY6: 0 | DZ6: 0 | EA6: 0 | EB6: 3 | EC6: 0 | ED6: 0 | EE6: 0 | EF6: 0 | EG6: 0 | EH6: 0 | EI6: 0 | EJ6: 0 | EK6: 0 | EL6: 0 | EM6: 0 | EN6: 0 | EO6: 0 | EP6: 0 | EQ6: 0 | ER6: 0 | ES6: 0 | ET6: 0 | EU6: 0 | EV6: 0 | EW6: 0 | EX6: 0 | EY6: 0 | EZ6: 0 | FA6: 0 | FB6: 0 | FC6: 0 | FD6: 0 | FE6: 0 | FF6: 0 | FG6: 0 | FH6: 0 | FI6: 0 | FJ6: 0 | FK6: 0 | FL6: 0 | FM6: 0 | FN6: 18 | FO6: 0 | FP6: 0 | FQ6: 0 | FR6: 0 | FS6: 0 | FT6: 0 | FU6: 0 | FV6: 0 | FW6: 0 | FX6: 0 | FY6: 0 | FZ6: 0 | GA6: 0 | GB6: 0 | GC6: 0 | GD6: 0 | GE6: 2 | GF6: 0 | GG6: 0 | GH6: 0 | GI6: 0 | GJ6: 38081 | GK6: 0 | GL6: 0 | GM6: 0 | GN6: 0 | GO6: 0 | GP6: 0 | GQ6: 0 | GR6: 986 | GS6: 986 | GT6: 39067 | GU6: 26 | GV6: 0 | GW6: 26 | GX6: 35644 | GY6: 35670 | GZ6: 36656 | HA6: 74737 | HB6: -3889 | HC6: 0 | HD6: 0 | HE6: -317 | HF6: -4206 | HG6: -27694 | HH6: -31900 | HI6: 4756 | HJ6: 42837
A7: 2 | B7: 0112 | C7: いも・豆類 | D7: 0 | E7: 128 | F7: 360 | G7: 0 | H7: 0 | I7: 0 | J7: 14 | K7: 0 | L7: 0 | M7: 0 | N7: 0 | O7: 0 | P7: 0 | Q7: 0 | R7: 0 | S7: 0 | T7: 1 | U7: 0 | V7: 25 | W7: 541 | X7: 175 | Y7: 1261 | Z7: 2716 | AA7: 57 | AB7: 134 | AC7: 9 | AD7: 0 | AE7: 0 | AF7: 0 | AG7: 0 | AH7: 0 | AI7: 0 | AJ7: 0 | AK7: 0 | AL7: 0 | AM7: 0 | AN7: 0 | AO7: 0 | AP7: 0 | AQ7: 0 | AR7: 0 | AS7: 0 | AT7: 0 | AU7: 0 | AV7: 0 | AW7: 0 | AX7: 0 | AY7: 0 | AZ7: 0 | BA7: 0 | BB7: 0 | BC7: 0 | BD7: 0 | BE7: 0 | BF7: 0 | BG7: 0 | BH7: 0 | BI7: 0 | BJ7: 0 | BK7: 0 | BL7: 0 | BM7: 0 | BN7: 0 | BO7: 0 | BP7: 0 | BQ7: 0 | BR7: 0 | BS7: 0 | BT7: 0 | BU7: 0 | BV7: 0 | BW7: 0 | BX7: 0 | BY7: 0 | BZ7: 0 | CA7: 0 | CB7: 0 | CC7: 0 | CD7: 0 | CE7: 0 | CF7: 0 | CG7: 0 | CH7: 0 | CI7: 0 | CJ7: 0 | CK7: 0 | CL7: 0 | CM7: 0 | CN7: 0 | CO7: 0 | CP7: 0 | CQ7: 0 | CR7: 0 | CS7: 0 | CT7: 0 | CU7: 0 | CV7: 0 | CW7: 0 | CX7: 0 | CY7: 0 | CZ7: 0 | DA7: 0 | DB7: 0 | DC7: 0 | DD7: 0 | DE7: 0 | DF7: 0 | DG7: 0 | DH7: 0 | DI7: 0 | DJ7: 0 | DK7: 0 | DL7: 0 | DM7: 0 | DN7: 0 | DO7: 0 | DP7: 0 | DQ7: 0 | DR7: 0 | DS7: 0 | DT7: 0 | DU7: 0 | DV7: 0 | DW7: 0 | DX7: 0 | DY7: 0 | DZ7: 0 | EA7: 0 | EB7: 0 | EC7: 0 | ED7: 0 | EE7: 0 | EF7: 0 | EG7: 0 | EH7: 0 | EI7: 0 | EJ7: 0 | EK7: 0 | EL7: 0 | EM7: 0 | EN7: 0 | EO7: 0 | EP7: 0 | EQ7: 0 | ER7: 0 | ES7: 0 | ET7: 0 | EU7: 0 | EV7: 0 | EW7: 0 | EX7: 0 | EY7: 0 | EZ7: 0 | FA7: 0 | FB7: 0 | FC7: 0 | FD7: 0 | FE7: 0 | FF7: 0 | FG7: 0 | FH7: 0 | FI7: 0 | FJ7: 0 | FK7: 0 | FL7: 0 | FM7: 31 | FN7: 0 | FO7: 0 | FP7: 7 | FQ7: 14 | FR7: 0 | FS7: 42 | FT7: 58 | FU7: 0 | FV7: 0 | FW7: 0 | FX7: 0 | FY7: 0 | FZ7: 0 | GA7: 0 | GB7: 193 | GC7: 262 | GD7: 0 | GE7: 0 | GF7: 0 | GG7: 8 | GH7: 0 | GI7: 0 | GJ7: 6036 | GK7: 0 | GL7: 645 | GM7: 0 | GN7: 0 | GO7: 0 | GP7: 0 | GQ7: 0 | GR7: -141 | GS7: 504 | GT7: 6540 | GU7: 4 | GV7: 0 | GW7: 4 | GX7: 366 | GY7: 370 | GZ7: 874 | HA7: 6910 | HB7: -2684 | HC7: -2 | HD7: -12 | HE7: -216 | HF7: -2914 | HG7: -2129 | HH7: -5043 | HI7: -4169 | HJ7: 1867
A8: 3 | B8: 0113 | C8: 野菜 | D8: 0 | E8: 0 | F8: 34 | G8: 0 | H8: 0 | I8: 0 | J8: 0 | K8: 0 | L8: 0 | M8: 0 | N8: 0 | O8: 0 | P8: 0 | Q8: 0 | R8: 0 | S8: 0 | T8: 55 | U8: 2 | V8: 0 | W8: 256 | X8: 5254 | Y8: 2354 | Z8: 3437 | AA8: 0 | AB8: 136 | AC8: 0 | AD8: 0 | AE8: 0 | AF8: 0 | AG8: 0 | AH8: 0 | AI8: 0 | AJ8: 0 | AK8: 0 | AL8: 0 | AM8: 0 | AN8: 0 | AO8: 0 | AP8: 0 | AQ8: 0 | AR8: 0 | AS8: 0 | AT8: 0 | AU8: 0 | AV8: 0 | AW8: 0 | AX8: 0 | AY8: 0 | AZ8: 0 | BA8: 0 | BB8: 0 | BC8: 0 | BD8: 0 | BE8: 0 | BF8: 0 | BG8: 0 | BH8: 0 | BI8: 0 | BJ8: 0 | BK8: 0 | BL8: 0 | BM8: 0 | BN8: 0 | BO8: 0 | BP8: 0 | BQ8: 0 | BR8: 0 | BS8: 0 | BT8: 0 | BU8: 0 | BV8: 0 | BW8: 0 | BX8: 0 | BY8: 0 | BZ8: 0 | CA8: 0 | CB8: 0 | CC8: 0 | CD8: 0 | CE8: 0 | CF8: 0 | CG8: 0 | CH8: 0 | CI8: 0 | CJ8: 0 | CK8: 0 | CL8: 0 | CM8: 0 | CN8: 0 | CO8: 0 | CP8: 0 | CQ8: 0 | CR8: 0 | CS8: 0 | CT8: 0 | CU8: 0 | CV8: 0 | CW8: 0 | CX8: 0 | CY8: 0 | CZ8: 0 | DA8: 0 | DB8: 0 | DC8: 0 | DD8: 0 | DE8: 0 | DF8: 0 | DG8: 0 | DH8: 0 | DI8: 0 | DJ8: 0 | DK8: 0 | DL8: 0 | DM8: 0 | DN8: 0 | DO8: 0 | DP8: 0 | DQ8: 0 | DR8: 0 | DS8: 0 | DT8: 0 | DU8: 0 | DV8: 0 | DW8: 0 | DX8: 0 | DY8: 0 | DZ8: 0 | EA8: 0 | EB8: 0 | EC8: 0 | ED8: 0 | EE8: 0 | EF8: 0 | EG8: 0 | EH8: 0 | EI8: 0 | EJ8: 0 | EK8: 0 | EL8: 0 | EM8: 0 | EN8: 0 | EO8: 0 | EP8: 0 | EQ8: 0 | ER8: 0 | ES8: 0 | ET8: 0 | EU8: 0 | EV8: 0 | EW8: 0 | EX8: 0 | EY8: 0 | EZ8: 0 | FA8: 0 | FB8: 0 | FC8: 0 | FD8: 0 | FE8: 0 | FF8: 0 | FG8: 0 | FH8: 0 | FI8: 0 | FJ8: 0 | FK8: 4 | FL8: 0 | FM8: 300 | FN8: 0 | FO8: 0 | FP8: 58 | FQ8: 304 | FR8: 0 | FS8: 326 | FT8: 453 | FU8: 42 | FV8: 0 | FW8: 0 | FX8: 0 | FY8: 0 | FZ8: 0 | GA8: 0 | GB8: 1156 | GC8: 2382 | GD8: 0 | GE8: 10 | GF8: 0 | GG8: 94 | GH8: 0 | GI8: 0 | GJ8: 16657 | GK8: 224 | GL8: 21166 | GM8: 0 | GN8: 0 | GO8: 0 | GP8: 0 | GQ8: 0 | GR8: 0 | GS8: 21390 | GT8: 38047 | GU8: 212 | GV8: 0 | GW8: 212 | GX8: 62107 | GY8: 62319 | GZ8: 83709 | HA8: 100366 | HB8: -1567 | HC8: -7 | HD8: -41 | HE8: -128 | HF8: -1743 | HG8: -9523 | HH8: -11266 | HI8: 72443 | HJ8: 89100
A9: 4 | B9: 0114 | C9: 果実 | D9: 0 | E9: 0 | F9: 0 | G9: 0 | H9: 0 | I9: 0 | J9: 0 | K9: 0 | L9: 0 | M9: 0 | N9: 0 | O9: 0 | P9: 0 | Q9: 0 | R9: 0 | S9: 0 | T9: 10 | U9: 32 | V9: 0 | W9: 341 | X9: 1664 | Y9: 139 | Z9: 2608 | AA9: 34 | AB9: 955 | AC9: 0 | AD9: 0 | AE9: 0 | AF9: 0 | AG9: 0 | AH9: 0 | AI9: 0 | AJ9: 0 | AK9: 0 | AL9: 0 | AM9: 0 | AN9: 0 | AO9: 0 | AP9: 0 | AQ9: 0 | AR9: 0 | AS9: 0 | AT9: 0 | AU9: 0 | AV9: 0 | AW9: 0 | AX9: 0 | AY9: 0 | AZ9: 0 | BA9: 0 | BB9: 0 | BC9: 0 | BD9: 0 | BE9: 0 | BF9: 0 | BG9: 0 | BH9: 0 | BI9: 0 | BJ9: 0 | BK9: 0 | BL9: 0 | BM9: 0 | BN9: 0 | BO9: 0 | BP9: 0 | BQ9: 0 | BR9: 0 | BS9: 0 | BT9: 0 | BU9: 0 | BV9: 0 | BW9: 0 | BX9: 0 | BY9: 0 | BZ9: 0 | CA9: 0 | CB9: 0 | CC9: 0 | CD9: 0 | CE9: 0 | CF9: 0 | CG9: 0 | CH9: 0 | CI9: 0 | CJ9: 0 | CK9: 0 | CL9: 0 | CM9: 0 | CN9: 0 | CO9: 0 | CP9: 0 | CQ9: 0 | CR9: 0 | CS9: 0 | CT9: 0 | CU9: 0 | CV9: 0 | CW9: 0 | CX9: 0 | CY9: 0 | CZ9: 0 | DA9: 0 | DB9: 0 | DC9: 0 | DD9: 0 | DE9: 0 | DF9: 0 | DG9: 0 | DH9: 0 | DI9: 0 | DJ9: 0 | DK9: 0 | DL9: 0 | DM9: 0 | DN9: 0 | DO9: 0 | DP9: 0 | DQ9: 0 | DR9: 0 | DS9: 0 | DT9: 0 | DU9: 0 | DV9: 0 | DW9: 0 | DX9: 0 | DY9: 0 | DZ9: 0 | EA9: 0 | EB9: 0 | EC9: 0 | ED9: 0 | EE9: 0 | EF9: 0 | EG9: 0 | EH9: 0 | EI9: 0 | EJ9: 0 | EK9: 0 | EL9: 0 | EM9: 0 | EN9: 0 | EO9: 0 | EP9: 0 | EQ9: 0 | ER9: 0 | ES9: 0 | ET9: 0 | EU9: 0 | EV9: 0 | EW9: 0 | EX9: 0 | EY9: 0 | EZ9: 0 | FA9: 0 | FB9: 0 | FC9: 0 | FD9: 0 | FE9: 0 | FF9: 0 | FG9: 0 | FH9: 0 | FI9: 0 | FJ9: 0 | FK9: 1 | FL9: 0 | FM9: 147 | FN9: 0 | FO9: 0 | FP9: 30 | FQ9: 140 | FR9: 0 | FS9: 199 | FT9: 278 | FU9: 104 | FV9: 0 | FW9: 0 | FX9: 0 | FY9: 0 | FZ9: 0 | GA9: 0 | GB9: 664 | GC9: 1186 | GD9: 0 | GE9: 0 | GF9: 0 | GG9: 51 | GH9: 0 | GI9: 0 | GJ9: 8583 | GK9: 232 | GL9: 18079 | GM9: 0 | GN9: 0 | GO9: 0 | GP9: 0 | GQ9: 1538 | GR9: 0 | GS9: 19849 | GT9: 28432 | GU9: 1155 | GV9: 0 | GW9: 1155 | GX9: 74487 | GY9: 75642 | GZ9: 95491 | HA9: 104074 | HB9: -7157 | HC9: -5 | HD9: -405 | HE9: -605 | HF9: -8172 | HG9: -4353 | HH9: -12525 | HI9: 82966 | HJ9: 91549
A10: 5 | B10: 0115 | C10: その他の食用作物 | D10: 0 | E10: 0 | F10: 0 | G10: 0 | H10: 89 | I10: 8 | J10: 87 | K10: 0 | L10: 0 | M10: 0 | N10: 0 | O10: 0 | P10: 0 | Q10: 0 | R10: 0 | S10: 0 | T10: 0 | U10: 0 | V10: 505 | W10: 386 | X10: 2 | Y10: 746 | Z10: 112 | AA10: 93 | AB10: 427 | AC10: 384 | AD10: 0 | AE10: 0 | AF10: 0 | AG10: 0 | AH10: 0 | AI10: 0 | AJ10: 0 | AK10: 0 | AL10: 0 | AM10: 0 | AN10: 0 | AO10: 0 | AP10: 0 | AQ10: 0 | AR10: 0 | AS10: 0 | AT10: 0 | AU10: 0 | AV10: 0 | AW10: 0 | AX10: 0 | AY10: 0 | AZ10: 0 | BA10: 0 | BB10: 0 | BC10: 0 | BD10: 0 | BE10: 0 | BF10: 0 | BG10: 0 | BH10: 0 | BI10: 0 | BJ10: 0 | BK10: 0 | BL10: 0 | BM10: 0 | BN10: 0 | BO10: 0 | BP10: 0 | BQ10: 0 | BR10: 0 | BS10: 0 | BT10: 0 | BU10: 0 | BV10: 0 | BW10: 0 | BX10: 0 | BY10: 0 | BZ10: 0 | CA10: 0 | CB10: 0 | CC10: 0 | CD10: 0 | CE10: 0 | CF10: 0 | CG10: 0 | CH10: 0 | CI10: 0 | CJ10: 0 | CK10: 0 | CL10: 0 | CM10: 0 | CN10: 0 | CO10: 0 | CP10: 0 | CQ10: 0 | CR10: 0 | CS10: 0 | CT10: 0 | CU10: 0 | CV10: 0 | CW10: 0 | CX10: 0 | CY10: 0 | CZ10: 0 | DA10: 0 | DB10: 0 | DC10: 0 | DD10: 0 | DE10: 0 | DF10: 0 | DG10: 0 | DH10: 0 | DI10: 0 | DJ10: 0 | DK10: 0 | DL10: 0 | DM10: 0 | DN10: 0 | DO10: 0 | DP10: 0 | DQ10: 0 | DR10: 0 | DS10: 0 | DT10: 0 | DU10: 0 | DV10: 0 | DW10: 0 | DX10: 0 | DY10: 0 | DZ10: 0 | EA10: 0 | EB10: 0 | EC10: 0 | ED10: 0 | EE10: 0 | EF10: 0 | EG10: 0 | EH10: 0 | EI10: 0 | EJ10: 0 | EK10: 0 | EL10: 0 | EM10: 0 | EN10: 0 | EO10: 0 | EP10: 0 | EQ10: 0 | ER10: 0 | ES10: 0 | ET10: 0 | EU10: 0 | EV10: 0 | EW10: 0 | EX10: 0 | EY10: 0 | EZ10: 0 | FA10: 0 | FB10: 0 | FC10: 0 | FD10: 0 | FE10: 0 | FF10: 0 | FG10: 0 | FH10: 0 | FI10: 0 | FJ10: 0 | FK10: 0 | FL10: 0 | FM10: 0 | FN10: 0 | FO10: 0 | FP10: 0 | FQ10: 0 | FR10: 0 | FS10: 0 | FT10: 0 | FU10: 0 | FV10: 0 | FW10: 0 | FX10: 0 | FY10: 0 | FZ10: 0 | GA10: 0 | GB10: 0 | GC10: 46 | GD10: 0 | GE10: 0 | GF10: 0 | GG10: 0 | GH10: 0 | GI10: 0 | GJ10: 2885 | GK10: 0 | GL10: 9 | GM10: 0 | GN10: 0 | GO10: 0 | GP10: 0 | GQ10: 643 | GR10: -10 | GS10: 642 | GT10: 3527 | GU10: 69 | GV10: 0 | GW10: 69 | GX10: 505 | GY10: 574 | GZ10: 1216 | HA10: 4101 | HB10: -2787 | HC10: 0 | HD10: -1 | HE10: -223 | HF10: -3011 | HG10: -402 | HH10: -3413 | HI10: -2197 | HJ10: 688
A11: 6 | B11: 0116 | C11: 非食用作物 | D11: 0 | E11: 10 | F11: 2004 | G11: 603 | H11: 14 | I11: 817 | J11: 2862 | K11: 0 | L11: 0 | M11: 0 | N11: 0 | O11: 0 | P11: 0 | Q11: 0 | R11: 0 | S11: 0 | T11: 0 | U11: 0 | V11: 0 | W11: 10 | X11: 0 | Y11: 0 | Z11: 0 | AA11: 0 | AB11: 0 | AC11: 31 | AD11: 0 | AE11: 113 | AF11: 0 | AG11: 0 | AH11: 1 | AI11: 12 | AJ11: 0 | AK11: 0 | AL11: 19 | AM11: 0 | AN11: 1 | AO11: 0 | AP11: 0 | AQ11: 0 | AR11: 0 | AS11: 0 | AT11: 0 | AU11: 0 | AV11: 0 | AW11: 0 | AX11: 0 | AY11: 0 | AZ11: 0 | BA11: 0 | BB11: 0 | BC11: 0 | BD11: 0 | BE11: 280 | BF11: 0 | BG11: 0 | BH11: 0 | BI11: 0 | BJ11: 12 | BK11: 0 | BL11: 0 | BM11: 0 | BN11: 2 | BO11: 127 | BP11: 0 | BQ11: 0 | BR11: 0 | BS11: 0 | BT11: 0 | BU11: 0 | BV11: 42 | BW11: 0 | BX11: 0 | BY11: 0 | BZ11: 0 | CA11: 0 | CB11: 0 | CC11: 0 | CD11: 0 | CE11: 0 | CF11: 0 | CG11: 0 | CH11: 0 | CI11: 0 | CJ11: 0 | CK11: 0 | CL11: 0 | CM11: 0 | CN11: 0 | CO11: 0 | CP11: 0 | CQ11: 0 | CR11: 0 | CS11: 0 | CT11: 0 | CU11: 0 | CV11: 0 | CW11: 0 | CX11: 0 | CY11: 0 | CZ11: 0 | DA11: 0 | DB11: 0 | DC11: 0 | DD11: 0 | DE11: 0 | DF11: 0 | DG11: 0 | DH11: 0 | DI11: 0 | DJ11: 0 | DK11: 0 | DL11: 0 | DM11: 0 | DN11: 0 | DO11: 0 | DP11: 0 | DQ11: 0 | DR11: 0 | DS11: 0 | DT11: 0 | DU11: 0 | DV11: 0 | DW11: 3 | DX11: 43 | DY11: 0 | DZ11: 126 | EA11: 158 | EB11: 0 | EC11: 496 | ED11: 376 | EE11: 0 | EF11: 0 | EG11: 0 | EH11: 0 | EI11: 0 | EJ11: 0 | EK11: 186 | EL11: 0 | EM11: 0 | EN11: 0 | EO11: 0 | EP11: 6 | EQ11: 0 | ER11: 0 | ES11: 0 | ET11: 0 | EU11: 0 | EV11: 0 | EW11: 0 | EX11: 0 | EY11: 0 | EZ11: 0 | FA11: 0 | FB11: 0 | FC11: 0 | FD11: 0 | FE11: 0 | FF11: 0 | FG11: 0 | FH11: 0 | FI11: 0 | FJ11: 0 | FK11: 0 | FL11: 0 | FM11: 0 | FN11: 49 | FO11: 0 | FP11: 0 | FQ11: 48 | FR11: 0 | FS11: 24 | FT11: 9 | FU11: 123 | FV11: 7 | FW11: 0 | FX11: 0 | FY11: 0 | FZ11: 0 | GA11: 1 | GB11: 16 | GC11: 97 | GD11: 12 | GE11: 74 | GF11: 22 | GG11: 299 | GH11: 0 | GI11: 0 | GJ11: 9135 | GK11: 293 | GL11: 3874 | GM11: 0 | GN11: 0 | GO11: 0 | GP11: 0 | GQ11: 0 | GR11: -8 | GS11: 4159 | GT11: 13294 | GU11: 59 | GV11: 0 | GW11: 59 | GX11: 9757 | GY11: 9816 | GZ11: 13975 | HA11: 23110 | HB11: -3059 | HC11: -1 | HD11: -4 | HE11: -307 | HF11: -3371 | HG11: -5340 | HH11: -8711 | HI11: 5264 | HJ11: 14399
A12: 7 | B12: 0121 | C12: 畜産 | D12: 156 | E12: 28 | F12: 324 | G12: 111 | H12: 13 | I12: 128 | J12: 3181 | K12: 442 | L12: 2 | M12: 0 | N12: 0 | O12: 0 | P12: 0 | Q12: 0 | R12: 0 | S12: 0 | T12: 32583 | U12: 0 | V12: 0 | W12: 348 | X12: 0 | Y12: 1371 | Z12: 1892 | AA12: 0 | AB12: 0 | AC12: 39 | AD12: 0 | AE12: 6 | AF12: 0 | AG12: 0 | AH12: 0 | AI12: 1 | AJ12: 0 | AK12: 0 | AL12: 2 | AM12: 0 | AN12: 0 | AO12: 0 | AP12: 0 | AQ12: 0 | AR12: 0 | AS12: 0 | AT12: 0 | AU12: 0 | AV12: 2 | AW12: 0 | AX12: 0 | AY12: 0 | AZ12: 0 | BA12: 0 | BB12: 0 | BC12: 0 | BD12: 0 | BE12: 2 | BF12: 0 | BG12: 0 | BH12: 0 | BI12: 0 | BJ12: 0 | BK12: 0 | BL12: 0 | BM12: 0 | BN12: 0 | BO12: 0 | BP12: 0 | BQ12: 77 | BR12: 0 | BS12: 0 | BT12: 0 | BU12: 0 | BV12: 0 | BW12: 0 | BX12: 0 | BY12: 0 | BZ12: 0 | CA12: 0 | CB12: 0 | CC12: 0 | CD12: 0 | CE12: 0 | CF12: 0 | CG12: 0 | CH12: 0 | CI12: 0 | CJ12: 0 | CK12: 0 | CL12: 0 | CM12: 0 | CN12: 0 | CO12: 0 | CP12: 0 | CQ12: 0 | CR12: 0 | CS12: 0 | CT12: 0 | CU12: 0 | CV12: 0 | CW12: 0 | CX12: 0 | CY12: 0 | CZ12: 0 | DA12: 0 | DB12: 0 | DC12: 0 | DD12: 0 | DE12: 0 | DF12: 0 | DG12: 0 | DH12: 0 | DI12: 0 | DJ12: 0 | DK12: 0 | DL12: 0 | DM12: 0 | DN12: 0 | DO12: 0 | DP12: 0 | DQ12: 0 | DR12: 0 | DS12: 0 | DT12: 0 | DU12: 0 | DV12: 0 | DW12: 0 | DX12: 10 | DY12: 0 | DZ12: 0 | EA12: 0 | EB12: 0 | EC12: 0 | ED12: 0 | EE12: 0 | EF12: 0 | EG12: 0 | EH12: 0 | EI12: 0 | EJ12: 0 | EK12: 0 | EL12: 0 | EM12: 0 | EN12: 0 | EO12: 0 | EP12: 0 | EQ12: 0 | ER12: 0 | ES12: 0 | ET12: 0 | EU12: 0 | EV12: 0 | EW12: 0 | EX12: 0 | EY12: 0 | EZ12: 0 | FA12: 0 | FB12: 0 | FC12: 0 | FD12: 0 | FE12: 0 | FF12: 0 | FG12: 0 | FH12: 0 | FI12: 0 | FJ12: 0 | FK12: 1 | FL12: 0 | FM12: 64 | FN12: 0 | FO12: 81 | FP12: 214 | FQ12: 65 | FR12: 0 | FS12: 100 | FT12: 147 | FU12: 0 | FV12: 0 | FW12: 0 | FX12: 0 | FY12: 0 | FZ12: 0 | GA12: 0 | GB12: 241 | GC12: 956 | GD12: 0 | GE12: 0 | GF12: 0 | GG12: 18 | GH12: 0 | GI12: 0 | GJ12: 42605 | GK12: 0 | GL12: 2274 | GM12: 0 | GN12: 0 | GO12: 0 | GP12: 0 | GQ12: 1161 | GR12: 136 | GS12: 3571 | GT12: 46176 | GU12: 24 | GV12: 0 | GW12: 24 | GX12: 7611 | GY12: 7635 | GZ12: 11206 | HA12: 53811 | HB12: -609 | HC12: -1 | HD12: -58 | HE12: -66 | HF12: -734 | HG12: -21606 | HH12: -22340 | HI12: -11134 | HJ12: 31471
A13: 8 | B13: 0131 | C13: 農業サービス | D13: 4548 | E13: 96 | F13: 2896 | G13: 4034 | H13: 80 | I13: 130 | J13: 1098 | K13: 0 | L13: 0 | M13: 0 | N13: 0 | O13: 0 | P13: 0 | Q13: 0 | R13: 0 | S13: 0 | T13: 0 | U13: 0 | V13: 0 | W13: 0 | X13: 0 | Y13: 0 | Z13: 0 | AA13: 0 | AB13: 0 | AC13: 0 | AD13: 0 | AE13: 0 | AF13: 0 | AG13: 0 | AH13: 0 | AI13: 0 | AJ13: 0 | AK13: 0 | AL13: 0 | AM13: 0 | AN13: 0 | AO13: 0 | AP13: 0 | AQ13: 0 | AR13: 0 | AS13: 0 | AT13: 0 | AU13: 0 | AV13: 0 | AW13: 0 | AX13: 0 | AY13: 0 | AZ13: 0 | BA13: 0 | BB13: 0 | BC13: 0 | BD13: 0 | BE13: 0 | BF13: 0 | BG13: 0 | BH13: 0 | BI13: 0 | BJ13: 0 | BK13: 0 | BL13: 0 | BM13: 0 | BN13: 0 | BO13: 0 | BP13: 0 | BQ13: 0 | BR13: 0 | BS13: 0 | BT13: 0 | BU13: 0 | BV13: 0 | BW13: 0 | BX13: 0 | BY13: 0 | BZ13: 0 | CA13: 0 | CB13: 0 | CC13: 0 | CD13: 0 | CE13: 0 | CF13: 0 | CG13: 0 | CH13: 0 | CI13: 0 | CJ13: 0 | CK13: 0 | CL13: 0 | CM13: 0 | CN13: 0 | CO13: 0 | CP13: 0 | CQ13: 0 | CR13: 0 | CS13: 0 | CT13: 0 | CU13: 0 | CV13: 0 | CW13: 0 | CX13: 0 | CY13: 0 | CZ13: 0 | DA13: 0 | DB13: 0 | DC13: 0 | DD13: 0 | DE13: 0 | DF13: 0 | DG13: 0 | DH13: 0 | DI13: 0 | DJ13: 0 | DK13: 0 | DL13: 0 | DM13: 0 | DN13: 0 | DO13: 0 | DP13: 0 | DQ13: 0 | DR13: 0 | DS13: 0 | DT13: 0 | DU13: 0 | DV13: 0 | DW13: 0 | DX13: 0 | DY13: 0 | DZ13: 0 | EA13: 0 | EB13: 0 | EC13: 0 | ED13: 0 | EE13: 0 | EF13: 0 | EG13: 0 | EH13: 0 | EI13: 0 | EJ13: 0 | EK13: 0 | EL13: 0 | EM13: 0 | EN13: 0 | EO13: 0 | EP13: 0 | EQ13: 0 | ER13: 0 | ES13: 0 | ET13: 0 | EU13: 0 | EV13: 0 | EW13: 0 | EX13: 0 | EY13: 0 | EZ13: 0 | FA13: 0 | FB13: 0 | FC13: 0 | FD13: 0 | FE13: 0 | FF13: 0 | FG13: 0 | FH13: 0 | FI13: 0 | FJ13: 0 | FK13: 0 | FL13: 0 | FM13: 0 | FN13: 0 | FO13: 0 | FP13: 0 | FQ13: 0 | FR13: 0 | FS13: 0 | FT13: 0 | FU13: 0 | FV13: 0 | FW13: 0 | FX13: 0 | FY13: 0 | FZ13: 0 | GA13: 0 | GB13: 0 | GC13: 0 | GD13: 0 | GE13: 0 | GF13: 0 | GG13: 0 | GH13: 0 | GI13: 0 | GJ13: 12882 | GK13: 0 | GL13: 0 | GM13: 0 | GN13: 0 | GO13: 0 | GP13: 0 | GQ13: 0 | GR13: 0 | GS13: 0 | GT13: 12882 | GU13: 0 | GV13: 0 | GW13: 0 | GX13: 0 | GY13: 0 | GZ13: 0 | HA13: 12882 | HB13: 0 | HC13: 0 | HD13: 0 | HE13: 0 | HF13: 0 | HG13: 0 | HH13: 0 | HI13: 0 | HJ13: 12882
A14: 9 | B14: 0151 | C14: 育林 | D14: 0 | E14: 0 | F14: 0 | G14: 0 | H14: 0 | I14: 0 | J14: 0 | K14: 0 | L14: 179 | M14: 1979 | N14: 0 | O14: 0 | P14: 0 | Q14: 0 | R14: 0 | S14: 0 | T14: 0 | U14: 0 | V14: 0 | W14: 0 | X14: 0 | Y14: 0 | Z14: 0 | AA14: 0 | AB14: 0 | AC14: 0 | AD14: 0 | AE14: 0 | AF14: 0 | AG14: 0 | AH14: 0 | AI14: 0 | AJ14: 0 | AK14: 0 | AL14: 0 | AM14: 0 | AN14: 0 | AO14: 0 | AP14: 0 | AQ14: 0 | AR14: 0 | AS14: 0 | AT14: 0 | AU14: 0 | AV14: 0 | AW14: 0 | AX14: 0 | AY14: 0 | AZ14: 0 | BA14: 0 | BB14: 0 | BC14: 0 | BD14: 0 | BE14: 0 | BF14: 0 | BG14: 0 | BH14: 0 | BI14: 0 | BJ14: 0 | BK14: 0 | BL14: 0 | BM14: 0 | BN14: 0 | BO14: 0 | BP14: 0 | BQ14: 0 | BR14: 0 | BS14: 0 | BT14: 0 | BU14: 0 | BV14: 0 | BW14: 0 | BX14: 0 | BY14: 0 | BZ14: 0 | CA14: 0 | CB14: 0 | CC14: 0 | CD14: 0 | CE14: 0 | CF14: 0 | CG14: 0 | CH14: 0 | CI14: 0 | CJ14: 0 | CK14: 0 | CL14: 0 | CM14: 0 | CN14: 0 | CO14: 0 | CP14: 0 | CQ14: 0 | CR14: 0 | CS14: 0 | CT14: 0 | CU14: 0 | CV14: 0 | CW14: 0 | CX14: 0 | CY14: 0 | CZ14: 0 | DA14: 0 | DB14: 0 | DC14: 0 | DD14: 0 | DE14: 0 | DF14: 0 | DG14: 0 | DH14: 0 | DI14: 0 | DJ14: 0 | DK14: 0 | DL14: 0 | DM14: 0 | DN14: 0 | DO14: 0 | DP14: 0 | DQ14: 0 | DR14: 0 | DS14: 0 | DT14: 0 | DU14: 0 | DV14: 0 | DW14: 0 | DX14: 0 | DY14: 0 | DZ14: 0 | EA14: 0 | EB14: 0 | EC14: 0 | ED14: 0 | EE14: 0 | EF14: 0 | EG14: 0 | EH14: 0 | EI14: 0 | EJ14: 0 | EK14: 0 | EL14: 0 | EM14: 0 | EN14: 0 | EO14: 0 | EP14: 0 | EQ14: 0 | ER14: 0 | ES14: 0 | ET14: 0 | EU14: 0 | EV14: 0 | EW14: 0 | EX14: 0 | EY14: 0 | EZ14: 0 | FA14: 0 | FB14: 0 | FC14: 0 | FD14: 0 | FE14: 0 | FF14: 0 | FG14: 0 | FH14: 0 | FI14: 0 | FJ14: 0 | FK14: 0 | FL14: 0 | FM14: 0 | FN14: 0 | FO14: 0 | FP14: 0 | FQ14: 0 | FR14: 0 | FS14: 0 | FT14: 0 | FU14: 0 | FV14: 0 | FW14: 0 | FX14: 0 | FY14: 0 | FZ14: 0 | GA14: 0 | GB14: 0 | GC14: 0 | GD14: 0 | GE14: 0 | GF14: 0 | GG14: 0 | GH14: 0 | GI14: 0 | GJ14: 2158 | GK14: 0 | GL14: 0 | GM14: 0 | GN14: 0 | GO14: 0 | GP14: 0 | GQ14: 0 | GR14: 3130 | GS14: 3130 | GT14: 5288 | GU14: 0 | GV14: 0 | GW14: 0 | GX14: 0 | GY14: 0 | GZ14: 3130 | HA14: 5288 | HB14: 0 | HC14: 0 | HD14: 0 | HE14: 0 | HF14: 0 | HG14: -20 | HH14: -20 | HI14: 3110 | HJ14: 5268
A15: 10 | B15: 0152 | C15: 素材 | D15: 0 | E15: 0 | F15: 0 | G15: 19 | H15: 0 | I15: 0 | J15: 0 | K15: 0 | L15: 0 | M15: 0 | N15: 11115 | O15: 0 | P15: 0 | Q15: 0 | R15: 0 | S15: 0 | T15: 0 | U15: 0 | V15: 0 | W15: 0 | X15: 0 | Y15: 0 | Z15: 0 | AA15: 0 | AB15: 0 | AC15: 3 | AD15: 0 | AE15: 0 | AF15: 0 | AG15: 0 | AH15: 0 | AI15: 0 | AJ15: 0 | AK15: 0 | AL15: 0 | AM15: 3026 | AN15: 14 | AO15: 0 | AP15: 0 | AQ15: 0 | AR15: 0 | AS15: 0 | AT15: 0 | AU15: 0 | AV15: 0 | AW15: 0 | AX15: 0 | AY15: 0 | AZ15: 0 | BA15: 0 | BB15: 0 | BC15: 0 | BD15: 0 | BE15: 0 | BF15: 0 | BG15: 0 | BH15: 0 | BI15: 0 | BJ15: 0 | BK15: 0 | BL15: 0 | BM15: 0 | BN15: 0 | BO15: 0 | BP15: 0 | BQ15: 0 | BR15: 0 | BS15: 0 | BT15: 0 | BU15: 0 | BV15: 0 | BW15: 0 | BX15: 0 | BY15: 0 | BZ15: 0 | CA15: 0 | CB15: 0 | CC15: 0 | CD15: 0 | CE15: 0 | CF15: 0 | CG15: 0 | CH15: 0 | CI15: 0 | CJ15: 0 | CK15: 0 | CL15: 0 | CM15: 0 | CN15: 0 | CO15: 0 | CP15: 0 | CQ15: 0 | CR15: 0 | CS15: 0 | CT15: 0 | CU15: 0 | CV15: 0 | CW15: 0 | CX15: 0 | CY15: 0 | CZ15: 0 | DA15: 0 | DB15: 0 | DC15: 0 | DD15: 0 | DE15: 0 | DF15: 0 | DG15: 0 | DH15: 0 | DI15: 0 | DJ15: 0 | DK15: 0 | DL15: 0 | DM15: 0 | DN15: 0 | DO15: 0 | DP15: 0 | DQ15: 0 | DR15: 0 | DS15: 0 | DT15: 0 | DU15: 0 | DV15: 0 | DW15: 3 | DX15: 6 | DY15: 0 | DZ15: 4 | EA15: 0 | EB15: 0 | EC15: 15 | ED15: 5 | EE15: 0 | EF15: 0 | EG15: 0 | EH15: 0 | EI15: 0 | EJ15: 0 | EK15: 0 | EL15: 0 | EM15: 0 | EN15: 0 | EO15: 0 | EP15: 0 | EQ15: 0 | ER15: 0 | ES15: 0 | ET15: 0 | EU15: 0 | EV15: 0 | EW15: 0 | EX15: 0 | EY15: 0 | EZ15: 0 | FA15: 0 | FB15: 0 | FC15: 0 | FD15: 0 | FE15: 0 | FF15: 0 | FG15: 0 | FH15: 0 | FI15: 0 | FJ15: 0 | FK15: 0 | FL15: 0 | FM15: 0 | FN15: 0 | FO15: 0 | FP15: 0 | FQ15: 0 | FR15: 0 | FS15: 0 | FT15: 0 | FU15: 0 | FV15: 0 | FW15: 0 | FX15: 0 | FY15: 0 | FZ15: 0 | GA15: 0 | GB15: 0 | GC15: 0 | GD15: 0 | GE15: 0 | GF15: 0 | GG15: 0 | GH15: 0 | GI15: 0 | GJ15: 14210 | GK15: 0 | GL15: 0 | GM15: 0 | GN15: 0 | GO15: 0 | GP15: 0 | GQ15: 0 | GR15: -344 | GS15: -344 | GT15: 13866 | GU15: 288 | GV15: 0 | GW15: 288 | GX15: 699 | GY15: 987 | GZ15: 643 | HA15: 14853 | HB15: -2625 | HC15: 0 | HD15: 0 | HE15: -262 | HF15: -2887 | HG15: -6634 | HH15: -9521 | HI15: -8878 | HJ15: 5332
A16: 11 | B16: 0153 | C16: 特用林産物 | D16: 0 | E16: 0 | F16: 201 | G16: 7 | H16: 0 | I16: 3 | J16: 0 | K16: 0 | L16: 0 | M16: 0 | N16: 3 | O16: 0 | P16: 0 | Q16: 0 | R16: 0 | S16: 0 | T16: 15 | U16: 10 | V16: 0 | W16: 15 | X16: 38 | Y16: 0 | Z16: 340 | AA16: 0 | AB16: 0 | AC16: 0 | AD16: 0 | AE16: 0 | AF16: 0 | AG16: 0 | AH16: 0 | AI16: 0 | AJ16: 0 | AK16: 0 | AL16: 0 | AM16: 0 | AN16: 32 | AO16: 0 | AP16: 0 | AQ16: 0 | AR16: 0 | AS16: 0 | AT16: 0 | AU16: 0 | AV16: 0 | AW16: 0 | AX16: 3 | AY16: 0 | AZ16: 0 | BA16: 0 | BB16: 0 | BC16: 0 | BD16: 0 | BE16: 0 | BF16: 0 | BG16: 0 | BH16: 0 | BI16: 0 | BJ16: 3 | BK16: 0 | BL16: 0 | BM16: 0 | BN16: 0 | BO16: 0 | BP16: 0 | BQ16: 4 | BR16: 0 | BS16: 0 | BT16: 0 | BU16: 0 | BV16: 0 | BW16: 0 | BX16: 0 | BY16: 0 | BZ16: 0 | CA16: 0 | CB16: 0 | CC16: 0 | CD16: 0 | CE16: 0 | CF16: 0 | CG16: 0 | CH16: 0 | CI16: 0 | CJ16: 0 | CK16: 0 | CL16: 0 | CM16: 0 | CN16: 0 | CO16: 0 | CP16: 0 | CQ16: 0 | CR16: 0 | CS16: 0 | CT16: 0 | CU16: 0 | CV16: 0 | CW16: 0 | CX16: 0 | CY16: 0 | CZ16: 0 | DA16: 0 | DB16: 0 | DC16: 0 | DD16: 0 | DE16: 0 | DF16: 0 | DG16: 0 | DH16: 0 | DI16: 0 | DJ16: 0 | DK16: 0 | DL16: 0 | DM16: 0 | DN16: 0 | DO16: 0 | DP16: 0 | DQ16: 0 | DR16: 0 | DS16: 0 | DT16: 0 | DU16: 0 | DV16: 0 | DW16: 9 | DX16: 11 | DY16: 0 | DZ16: 0 | EA16: 1 | EB16: 7 | EC16: 4 | ED16: 1 | EE16: 0 | EF16: 0 | EG16: 0 | EH16: 0 | EI16: 0 | EJ16: 0 | EK16: 0 | EL16: 0 | EM16: 0 | EN16: 0 | EO16: 0 | EP16: 0 | EQ16: 0 | ER16: 0 | ES16: 0 | ET16: 0 | EU16: 0 | EV16: 0 | EW16: 0 | EX16: 0 | EY16: 0 | EZ16: 0 | FA16: 0 | FB16: 0 | FC16: 0 | FD16: 0 | FE16: 0 | FF16: 0 | FG16: 0 | FH16: 0 | FI16: 0 | FJ16: 0 | FK16: 1 | FL16: 0 | FM16: 22 | FN16: 0 | FO16: 0 | FP16: 15 | FQ16: 5 | FR16: 0 | FS16: 23 | FT16: 36 | FU16: 0 | FV16: 0 | FW16: 0 | FX16: 0 | FY16: 0 | FZ16: 0 | GA16: 0 | GB16: 195 | GC16: 532 | GD16: 0 | GE16: 0 | GF16: 0 | GG16: 15 | GH16: 0 | GI16: 0 | GJ16: 1551 | GK16: 46 | GL16: 2221 | GM16: 0 | GN16: 0 | GO16: 0 | GP16: 0 | GQ16: 0 | GR16: -7 | GS16: 2260 | GT16: 3811 | GU16: 296 | GV16: 0 | GW16: 296 | GX16: 51550 | GY16: 51846 | GZ16: 54106 | HA16: 55657 | HB16: -403 | HC16: -1 | HD16: -14 | HE16: -34 | HF16: -452 | HG16: 0 | HH16: -452 | HI16: 53654 | HJ16: 55205
A17: 12 | B17: 0171 | C17: 海面漁業 | D17: 0 | E17: 0 | F17: 0 | G17: 0 | H17: 0 | I17: 0 | J17: 0 | K17: 0 | L17: 0 | M17: 0 | N17: 0 | O17: 0 | P17: 2 | Q17: 0 | R17: 0 | S17: 0 | T17: 9 | U17: 4783 | V17: 0 | W17: 14 | X17: 0 | Y17: 0 | Z17: 312 | AA17: 0 | AB17: 0 | AC17: 4 | AD17: 0 | AE17: 0 | AF17: 0 | AG17: 0 | AH17: 0 | AI17: 0 | AJ17: 0 | AK17: 0 | AL17: 0 | AM17: 0 | AN17: 0 | AO17: 0 | AP17: 0 | AQ17: 0 | AR17: 0 | AS17: 0 | AT17: 0 | AU17: 0 | AV17: 0 | AW17: 0 | AX17: 0 | AY17: 0 | AZ17: 0 | BA17: 0 | BB17: 0 | BC17: 0 | BD17: 0 | BE17: 16 | BF17: 0 | BG17: 0 | BH17: 0 | BI17: 0 | BJ17: 0 | BK17: 0 | BL17: 0 | BM17: 0 | BN17: 0 | BO17: 0 | BP17: 0 | BQ17: 0 | BR17: 0 | BS17: 0 | BT17: 0 | BU17: 0 | BV17: 0 | BW17: 0 | BX17: 0 | BY17: 0 | BZ17: 0 | CA17: 0 | CB17: 0 | CC17: 0 | CD17: 0 | CE17: 0 | CF17: 0 | CG17: 0 | CH17: 0 | CI17: 0 | CJ17: 0 | CK17: 0 | CL17: 0 | CM17: 0 | CN17: 0 | CO17: 0 | CP17: 0 | CQ17: 0 | CR17: 0 | CS17: 0 | CT17: 0 | CU17: 0 | CV17: 0 | CW17: 0 | CX17: 0 | CY17: 0 | CZ17: 0 | DA17: 0 | DB17: 0 | DC17: 0 | DD17: 0 | DE17: 0 | DF17: 0 | DG17: 0 | DH17: 0 | DI17: 0 | DJ17: 0 | DK17: 0 | DL17: 0 | DM17: 0 | DN17: 0 | DO17: 0 | DP17: 0 | DQ17: 0 | DR17: 0 | DS17: 0 | DT17: 0 | DU17: 0 | DV17: 0 | DW17: 0 | DX17: 654 | DY17: 0 | DZ17: 0 | EA17: 0 | EB17: 0 | EC17: 0 | ED17: 0 | EE17: 0 | EF17: 0 | EG17: 0 | EH17: 0 | EI17: 0 | EJ17: 0 | EK17: 0 | EL17: 0 | EM17: 0 | EN17: 0 | EO17: 0 | EP17: 0 | EQ17: 0 | ER17: 0 | ES17: 0 | ET17: 0 | EU17: 0 | EV17: 0 | EW17: 0 | EX17: 0 | EY17: 0 | EZ17: 0 | FA17: 0 | FB17: 0 | FC17: 0 | FD17: 0 | FE17: 0 | FF17: 0 | FG17: 0 | FH17: 0 | FI17: 0 | FJ17: 0 | FK17: 1 | FL17: 0 | FM17: 21 | FN17: 0 | FO17: 0 | FP17: 18 | FQ17: 83 | FR17: 0 | FS17: 122 | FT17: 191 | FU17: 0 | FV17: 0 | FW17: 0 | FX17: 0 | FY17: 0 | FZ17: 0 | GA17: 0 | GB17: 478 | GC17: 644 | GD17: 0 | GE17: 0 | GF17: 0 | GG17: 35 | GH17: 0 | GI17: 0 | GJ17: 7387 | GK17: 193 | GL17: 3995 | GM17: 0 | GN17: 0 | GO17: 0 | GP17: 0 | GQ17: 0 | GR17: -1 | GS17: 4187 | GT17: 11574 | GU17: 0 | GV17: 0 | GW17: 0 | GX17: 0 | GY17: 0 | GZ17: 4187 | HA17: 11574 | HB17: -957 | HC17: -2 | HD17: -46 | HE17: -80 | HF17: -1085 | HG17: -10489 | HH17: -11574 | HI17: -7387 | HJ17: 0
... A194: 189 | B194: 7000 | C194: 内生部門計 | D194: 20488 | E194: 1315 | F194: 45648 | G194: 40873 | H194: 555 | I194: 7384 | J194: 21994 | K194: 5145 | L194: 815 | M194: 2977 | N194: 34609 | O194: 0 | P194: 1248 | Q194: 0 | R194: 2472 | S194: 47 | T194: 77991 | U194: 14060 | V194: 43739 | W194: 63417 | X194: 25448 | Y194: 75937 | Z194: 89827 | AA194: 7253 | AB194: 59604 | AC194: 1767 | AD194: 0 | AE194: 679 | AF194: 31 | AG194: 0 | AH194: 108 | AI194: 684 | AJ194: 2483 | AK194: 1093 | AL194: 3382 | AM194: 6025 | AN194: 8565 | AO194: 10284 | AP194: 0 | AQ194: 10056 | AR194: 12371 | AS194: 23436 | AT194: 5090 | AU194: 23429 | AV194: 1870 | AW194: 1052 | AX194: 3029 | AY194: 0 | AZ194: 17 | BA194: 0 | BB194: 1 | BC194: 585 | BD194: 6 | BE194: 56504 | BF194: 2927 | BG194: 2578 | BH194: 2285 | BI194: 3568 | BJ194: 4828 | BK194: 33 | BL194: 4279 | BM194: 109434 | BN194: 13 | BO194: 4144 | BP194: 0 | BQ194: 2089 | BR194: 1635 | BS194: 20721 | BT194: 8621 | BU194: 2015 | BV194: 41784 | BW194: 0 | BX194: 0 | BY194: 0 | BZ194: 0 | CA194: 0 | CB194: 9233 | CC194: 10529 | CD194: 18004 | CE194: 0 | CF194: 11982 | CG194: 49777 | CH194: 50080 | CI194: 12360 | CJ194: 2762 | CK194: 66626 | CL194: 1271 | CM194: 58020 | CN194: 9469 | CO194: 15725 | CP194: 66624 | CQ194: 23964 | CR194: 61572 | CS194: 1229 | CT194: 3269 | CU194: 43665 | CV194: 49897 | CW194: 42567 | CX194: 89942 | CY194: 9407 | CZ194: 26302 | DA194: 22708 | DB194: 24192 | DC194: 40661 | DD194: 0 | DE194: 66137 | DF194: 352664 | DG194: 61091 | DH194: 37786 | DI194: 15217 | DJ194: 41545 | DK194: 11613 | DL194: 146843 | DM194: 21241 | DN194: 126969 | DO194: 0 | DP194: 1202 | DQ194: 0 | DR194: 223435 | DS194: 18465 | DT194: 1382 | DU194: 5624 | DV194: 2619 | DW194: 8991 | DX194: 51527 | DY194: 9424 | DZ194: 153363 | EA194: 108141 | EB194: 88969 | EC194: 148775 | ED194: 93829 | EE194: 114284 | EF194: 20687 | EG194: 24 | EH194: 53434 | EI194: 36292 | EJ194: 122759 | EK194: 252991 | EL194: 110735 | EM194: 73891 | EN194: 65147 | EO194: 40547 | EP194: 99286 | EQ194: 10399 | ER194: 638 | ES194: 6449 | ET194: 39098 | EU194: 140846 | EV194: 106198 | EW194: 0 | EX194: 21 | EY194: 0 | EZ194: 493 | FA194: 1516 | FB194: 7835 | FC194: 3358 | FD194: 34920 | FE194: 3616 | FF194: 136571 | FG194: 21308 | FH194: 45428 | FI194: 7656 | FJ194: 33638 | FK194: 42277 | FL194: 131202 | FM194: 61036 | FN194: 21303 | FO194: 30381 | FP194: 97220 | FQ194: 349208 | FR194: 19404 | FS194: 73208 | FT194: 49555 | FU194: 49433 | FV194: 38697 | FW194: 4405 | FX194: 36117 | FY194: 70460 | FZ194: 47979 | GA194: 151602 | GB194: 74730 | GC194: 140443 | GD194: 26878 | GE194: 26580 | GF194: 2561 | GG194: 27477 | GH194: 23247 | GI194: 24600 | GJ194: 6855104 | GK194: 142618 | GL194: 4138338 | GM194: 160034 | GN194: 1607723 | GO194: 323977 | GP194: 590542 | GQ194: 1964405 | GR194: -48327 | GS194: 8879310 | GT194: 15734414 | GU194: 1334819 | GV194: 21966 | GW194: 1356785 | GX194: 3860508 | GY194: 5217293 | GZ194: 14096603 | HA194: 20951707 | HB194: -1156127 | HC194: -7632 | HD194: -12120 | HE194: -113283 | HF194: -1289162 | HG194: -4791255 | HH194: -6080417 | HI194: 8016186 | HJ194: 14871290
A195: 190 | B195: 7111 | C195: 家計外消費支出（行） | D195: 38 | E195: 2 | F195: 266 | G195: 278 | H195: 0 | I195: 56 | J195: 46 | K195: 17 | L195: 86 | M195: 70 | N195: 233 | O195: 0 | P195: 26 | Q195: 0 | R195: 42 | S195: 4 | T195: 653 | U195: 99 | V195: 69 | W195: 605 | X195: 425 | Y195: 770 | Z195: 929 | AA195: 88 | AB195: 435 | AC195: 7 | AD195: 0 | AE195: 11 | AF195: 0 | AG195: 0 | AH195: 2 | AI195: 12 | AJ195: 35 | AK195: 15 | AL195: 52 | AM195: 40 | AN195: 133 | AO195: 182 | AP195: 0 | AQ195: 115 | AR195: 177 | AS195: 493 | AT195: 145 | AU195: 770 | AV195: 79 | AW195: 39 | AX195: 25 | AY195: 0 | AZ195: 0 | BA195: 0 | BB195: 0 | BC195: 2 | BD195: 0 | BE195: 778 | BF195: 55 | BG195: 76 | BH195: 20 | BI195: 46 | BJ195: 48 | BK195: 0 | BL195: 47 | BM195: 2610 | BN195: 0 | BO195: 137 | BP195: 0 | BQ195: 31 | BR195: 34 | BS195: 325 | BT195: 195 | BU195: 67 | BV195: 972 | BW195: 0 | BX195: 0 | BY195: 0 | BZ195: 0 | CA195: 0 | CB195: 68 | CC195: 34 | CD195: 92 | CE195: 0 | CF195: 117 | CG195: 429 | CH195: 1712 | CI195: 98 | CJ195: 17 | CK195: 1427 | CL195: 28 | CM195: 1195 | CN195: 110 | CO195: 382 | CP195: 1349 | CQ195: 369 | CR195: 327 | CS195: 53 | CT195: 94 | CU195: 501 | CV195: 1048 | CW195: 1263 | CX195: 2166 | CY195: 93 | CZ195: 472 | DA195: 663 | DB195: 437 | DC195: 720 | DD195: 0 | DE195: 791 | DF195: 5308 | DG195: 1090 | DH195: 549 | DI195: 432 | DJ195: 910 | DK195: 219 | DL195: 2227 | DM195: 218 | DN195: 3934 | DO195: 0 | DP195: 8 | DQ195: 0 | DR195: 1714 | DS195: 201 | DT195: 8 | DU195: 110 | DV195: 15 | DW195: 206 | DX195: 859 | DY195: 79 | DZ195: 3746 | EA195: 2821 | EB195: 2030 | EC195: 3256 | ED195: 1862 | EE195: 3207 | EF195: 234 | EG195: 0 | EH195: 787 | EI195: 1727 | EJ195: 7246 | EK195: 8606 | EL195: 6615 | EM195: 5551 | EN195: 1155 | EO195: 399 | EP195: 0 | EQ195: 390 | ER195: 20 | ES195: 256 | ET195: 819 | EU195: 0 | EV195: 0 | EW195: 0 | EX195: 0 | EY195: 0 | EZ195: 6 | FA195: 46 | FB195: 227 | FC195: 127 | FD195: 1946 | FE195: 51 | FF195: 478 | FG195: 290 | FH195: 1170 | FI195: 48 | FJ195: 1139 | FK195: 1746 | FL195: 3509 | FM195: 671 | FN195: 435 | FO195: 687 | FP195: 306 | FQ195: 4210 | FR195: 739 | FS195: 2706 | FT195: 2518 | FU195: 4392 | FV195: 331 | FW195: 67 | FX195: 391 | FY195: 737 | FZ195: 363 | GA195: 5984 | GB195: 2503 | GC195: 2951 | GD195: 1027 | GE195: 1357 | GF195: 135 | GG195: 1305 | GH195: 0 | GI195: 139 | GJ195: 142618
A196: 191 | B196: 9111 | C196: 賃金・俸給 | D196: 5115 | E196: 323 | F196: 21040 | G196: 18376 | H196: 209 | I196: 3079 | J196: 3012 | K196: 1968 | L196: 984 | M196: 1267 | N196: 11548 | O196: 0 | P196: 303 | Q196: 0 | R196: 959 | S196: 14 | T196: 9871 | U196: 2510 | V196: 1781 | W196: 17233 | X196: 6441 | Y196: 13101 | Z196: 20524 | AA196: 1224 | AB196: 6993 | AC196: 185 | AD196: 0 | AE196: 352 | AF196: 12 | AG196: 0 | AH196: 80 | AI196: 232 | AJ196: 1172 | AK196: 481 | AL196: 1212 | AM196: 1441 | AN196: 2310 | AO196: 3264 | AP196: 0 | AQ196: 958 | AR196: 562 | AS196: 7911 | AT196: 2404 | AU196: 14249 | AV196: 259 | AW196: 82 | AX196: 655 | AY196: 0 | AZ196: 1 | BA196: 0 | BB196: 1 | BC196: 85 | BD196: 2 | BE196: 7672 | BF196: 434 | BG196: 508 | BH196: 357 | BI196: 616 | BJ196: 966 | BK196: 1 | BL196: 583 | BM196: 36303 | BN196: 4 | BO196: 2666 | BP196: 0 | BQ196: 1161 | BR196: 662 | BS196: 6615 | BT196: 4157 | BU196: 729 | BV196: 14240 | BW196: 0 | BX196: 0 | BY196: 0 | BZ196: 0 | CA196: 0 | CB196: 2872 | CC196: 1740 | CD196: 1346 | CE196: 0 | CF196: 1920 | CG196: 8775 | CH196: 18446 | CI196: 5010 | CJ196: 518 | CK196: 43292 | CL196: 308 | CM196: 22147 | CN196: 2952 | CO196: 4052 | CP196: 38333 | CQ196: 7904 | CR196: 11406 | CS196: 630 | CT196: 1840 | CU196: 21456 | CV196: 34294 | CW196: 14785 | CX196: 46520 | CY196: 3051 | CZ196: 6105 | DA196: 12437 | DB196: 10112 | DC196: 16457 | DD196: 0 | DE196: 21779 | DF196: 118558 | DG196: 19552 | DH196: 8474 | DI196: 4435 | DJ196: 12946 | DK196: 3803 | DL196: 35562 | DM196: 7027 | DN196: 21153 | DO196: 0 | DP196: 126 | DQ196: 0 | DR196: 46735 | DS196: 4695 | DT196: 222 | DU196: 1838 | DV196: 698 | DW196: 2560 | DX196: 20931 | DY196: 2419 | DZ196: 80907 | EA196: 58997 | EB196: 50158 | EC196: 82777 | ED196: 68242 | EE196: 21121 | EF196: 1807 | EG196: 6 | EH196: 9380 | EI196: 39346 | EJ196: 159553 | EK196: 271370 | EL196: 74230 | EM196: 47143 | EN196: 36713 | EO196: 10343 | EP196: 0 | EQ196: 6924 | ER196: 453 | ES196: 14740 | ET196: 85278 | EU196: 0 | EV196: 0 | EW196: 0 | EX196: 12 | EY196: 0 | EZ196: 107 | FA196: 1913 | FB196: 5400 | FC196: 2656 | FD196: 14128 | FE196: 8204 | FF196: 12631 | FG196: 5585 | FH196: 36323 | FI196: 2107 | FJ196: 13625 | FK196: 26129 | FL196: 136825 | FM196: 163201 | FN196: 15497 | FO196: 11802 | FP196: 66640 | FQ196: 285327 | FR196: 17314 | FS196: 133562 | FT196: 119112 | FU196: 59526 | FV196: 8143 | FW196: 1887 | FX196: 3364 | FY196: 36374 | FZ196: 9154 | GA196: 216543 | GB196: 35027 | GC196: 67922 | GD196: 21180 | GE196: 19238 | GF196: 2513 | GG196: 25337 | GH196: 0 | GI196: 476 | GJ196: 3639952
A197: 192 | B197: 9112 | C197: 社会保険料（雇用主負担） | D197: 242 | E197: 18 | F197: 1022 | G197: 458 | H197: 7 | I197: 171 | J197: 175 | K197: 152 | L197: 42 | M197: 102 | N197: 892 | O197: 0 | P197: 19 | Q197: 0 | R197: 113 | S197: 2 | T197: 1455 | U197: 383 | V197: 236 | W197: 2422 | X197: 844 | Y197: 2488 | Z197: 2750 | AA197: 185 | AB197: 1042 | AC197: 25 | AD197: 0 | AE197: 47 | AF197: 2 | AG197: 0 | AH197: 11 | AI197: 31 | AJ197: 157 | AK197: 64 | AL197: 162 | AM197: 226 | AN197: 310 | AO197: 437 | AP197: 0 | AQ197: 128 | AR197: 75 | AS197: 1058 | AT197: 322 | AU197: 1910 | AV197: 35 | AW197: 11 | AX197: 88 | AY197: 0 | AZ197: 0 | BA197: 0 | BB197: 0 | BC197: 11 | BD197: 0 | BE197: 1285 | BF197: 58 | BG197: 68 | BH197: 47 | BI197: 112 | BJ197: 129 | BK197: 0 | BL197: 78 | BM197: 4864 | BN197: 0 | BO197: 358 | BP197: 0 | BQ197: 156 | BR197: 89 | BS197: 887 | BT197: 556 | BU197: 98 | BV197: 1906 | BW197: 0 | BX197: 0 | BY197: 0 | BZ197: 0 | CA197: 0 | CB197: 386 | CC197: 233 | CD197: 181 | CE197: 0 | CF197: 254 | CG197: 1175 | CH197: 2474 | CI197: 672 | CJ197: 69 | CK197: 5807 | CL197: 41 | CM197: 2969 | CN197: 395 | CO197: 544 | CP197: 5135 | CQ197: 1059 | CR197: 1526 | CS197: 85 | CT197: 247 | CU197: 2853 | CV197: 4506 | CW197: 1979 | CX197: 6223 | CY197: 408 | CZ197: 819 | DA197: 1664 | DB197: 1352 | DC197: 2195 | DD197: 0 | DE197: 2912 | DF197: 15856 | DG197: 2609 | DH197: 1132 | DI197: 594 | DJ197: 1727 | DK197: 507 | DL197: 4753 | DM197: 941 | DN197: 2836 | DO197: 0 | DP197: 17 | DQ197: 0 | DR197: 6264 | DS197: 628 | DT197: 33 | DU197: 256 | DV197: 93 | DW197: 344 | DX197: 2787 | DY197: 292 | DZ197: 9502 | EA197: 6939 | EB197: 5668 | EC197: 9570 | ED197: 8319 | EE197: 7463 | EF197: 262 | EG197: 1 | EH197: 1381 | EI197: 5093 | EJ197: 21673 | EK197: 35512 | EL197: 11514 | EM197: 5502 | EN197: 3573 | EO197: 803 | EP197: 0 | EQ197: 1283 | ER197: 84 | ES197: 2071 | ET197: 12906 | EU197: 0 | EV197: 0 | EW197: 0 | EX197: 1 | EY197: 0 | EZ197: 16 | FA197: 313 | FB197: 741 | FC197: 256 | FD197: 1994 | FE197: 1197 | FF197: 2387 | FG197: 681 | FH197: 5200 | FI197: 376 | FJ197: 1801 | FK197: 6049 | FL197: 30852 | FM197: 30257 | FN197: 1664 | FO197: 1542 | FP197: 8652 | FQ197: 37342 | FR197: 2976 | FS197: 20650 | FT197: 15509 | FU197: 5533 | FV197: 990 | FW197: 273 | FX197: 551 | FY197: 3872 | FZ197: 912 | GA197: 31139 | GB197: 4156 | GC197: 6106 | GD197: 2188 | GE197: 2727 | GF197: 299 | GG197: 3408 | GH197: 0 | GI197: 25 | GJ197: 502607
A198: 193 | B198: 9113 | C198: その他の給与及び手当 | D198: 33 | E198: 1 | F198: 75 | G198: 77 | H198: 0 | I198: 12 | J198: 50 | K198: 43 | L198: 19 | M198: 38 | N198: 78 | O198: 0 | P198: 5 | Q198: 0 | R198: 39 | S198: 1 | T198: 605 | U198: 45 | V198: 87 | W198: 653 | X198: 134 | Y198: 735 | Z198: 453 | AA198: 172 | AB198: 655 | AC198: 11 | AD198: 0 | AE198: 25 | AF198: 0 | AG198: 0 | AH198: 4 | AI198: 13 | AJ198: 43 | AK198: 23 | AL198: 69 | AM198: 34 | AN198: 127 | AO198: 152 | AP198: 0 | AQ198: 82 | AR198: 30 | AS198: 524 | AT198: 204 | AU198: 792 | AV198: 21 | AW198: 11 | AX198: 51 | AY198: 0 | AZ198: 0 | BA198: 0 | BB198: 0 | BC198: 4 | BD198: 0 | BE198: 494 | BF198: 27 | BG198: 25 | BH198: 112 | BI198: 42 | BJ198: 60 | BK198: 0 | BL198: 43 | BM198: 1344 | BN198: 0 | BO198: 102 | BP198: 0 | BQ198: 46 | BR198: 46 | BS198: 204 | BT198: 309 | BU198: 55 | BV198: 809 | BW198: 0 | BX198: 0 | BY198: 0 | BZ198: 0 | CA198: 0 | CB198: 116 | CC198: 105 | CD198: 52 | CE198: 0 | CF198: 341 | CG198: 546 | CH198: 672 | CI198: 214 | CJ198: 23 | CK198: 2009 | CL198: 15 | CM198: 684 | CN198: 80 | CO198: 106 | CP198: 1105 | CQ198: 329 | CR198: 787 | CS198: 26 | CT198: 73 | CU198: 837 | CV198: 1303 | CW198: 627 | CX198: 2076 | CY198: 178 | CZ198: 374 | DA198: 742 | DB198: 627 | DC198: 1762 | DD198: 0 | DE198: 1692 | DF198: 5554 | DG198: 1112 | DH198: 401 | DI198: 297 | DJ198: 1216 | DK198: 177 | DL198: 2380 | DM198: 373 | DN198: 1167 | DO198: 0 | DP198: 7 | DQ198: 0 | DR198: 2502 | DS198: 378 | DT198: 10 | DU198: 90 | DV198: 29 | DW198: 134 | DX198: 717 | DY198: 64 | DZ198: 2516 | EA198: 1838 | EB198: 1501 | EC198: 2535 | ED198: 2252 | EE198: 4804 | EF198: 96 | EG198: 0 | EH198: 456 | EI198: 759 | EJ198: 9330 | EK198: 10911 | EL198: 4158 | EM198: 4616 | EN198: 1278 | EO198: 440 | EP198: 0 | EQ198: 498 | ER198: 33 | ES198: 316 | ET198: 2808 | EU198: 0 | EV198: 0 | EW198: 0 | EX198: 1 | EY198: 0 | EZ198: 5 | FA198: 82 | FB198: 145 | FC198: 77 | FD198: 854 | FE198: 430 | FF198: 1622 | FG198: 90 | FH198: 1489 | FI198: 28 | FJ198: 932 | FK198: 3551 | FL198: 15588 | FM198: 16458 | FN198: 532 | FO198: 872 | FP198: 6209 | FQ198: 8619 | FR198: 1367 | FS198: 5242 | FT198: 1270 | FU198: 1398 | FV198: 213 | FW198: 93 | FX198: 143 | FY198: 1487 | FZ198: 645 | GA198: 5637 | GB198: 1715 | GC198: 503 | GD198: 407 | GE198: 890 | GF198: 86 | GG198: 954 | GH198: 0 | GI198: 15 | GJ198: 174851
A199: 194 | B199: 9211 | C199: 営業余剰 | D199: 9923 | E199: 368 | F199: 6450 | G199: 17201 | H199: 804 | I199: 1563 | J199: 1017 | K199: 2941 | L199: 2931 | M199: 255 | N199: 1300 | O199: 0 | P199: 824 | Q199: 0 | R199: -163 | S199: 9 | T199: 9129 | U199: 1742 | V199: 4766 | W199: 7598 | X199: 5426 | Y199: 15484 | Z199: 8705 | AA199: 981 | AB199: 9315 | AC199: 270 | AD199: 0 | AE199: -94 | AF199: 17 | AG199: 1 | AH199: -45 | AI199: 32 | AJ199: -99 | AK199: -247 | AL199: 325 | AM199: 1007 | AN199: 3048 | AO199: 1119 | AP199: 0 | AQ199: 797 | AR199: 1357 | AS199: 4181 | AT199: 625 | AU199: 7516 | AV199: 317 | AW199: 291 | AX199: 1861 | AY199: 0 | AZ199: 4 | BA199: 0 | BB199: 4 | BC199: 63 | BD199: 6 | BE199: 1084 | BF199: 573 | BG199: 447 | BH199: 107 | BI199: 1456 | BJ199: 953 | BK199: 6 | BL199: 1697 | BM199: 11298 | BN199: 6 | BO199: 575 | BP199: 0 | BQ199: -227 | BR199: 70 | BS199: 4181 | BT199: 197 | BU199: 518 | BV199: 5380 | BW199: 0 | BX199: 0 | BY199: 0 | BZ199: 0 | CA199: 0 | CB199: 1130 | CC199: 4050 | CD199: 75 | CE199: 0 | CF199: 303 | CG199: -831 | CH199: 10503 | CI199: 2352 | CJ199: 161 | CK199: 4502 | CL199: 382 | CM199: 16457 | CN199: 785 | CO199: 3459 | CP199: 6195 | CQ199: 8080 | CR199: 8443 | CS199: 118 | CT199: 93 | CU199: 8144 | CV199: -1209 | CW199: 18143 | CX199: -1306 | CY199: -347 | CZ199: -186 | DA199: 3632 | DB199: -2995 | DC199: 1280 | DD199: 0 | DE199: -1908 | DF199: -50935 | DG199: -868 | DH199: -2500 | DI199: -2249 | DJ199: 2040 | DK199: 1019 | DL199: 1317 | DM199: -886 | DN199: -6249 | DO199: 0 | DP199: 52 | DQ199: 0 | DR199: -7126 | DS199: 1833 | DT199: 31 | DU199: 802 | DV199: -58 | DW199: -930 | DX199: -1563 | DY199: -1489 | DZ199: 10235 | EA199: 7612 | EB199: 6042 | EC199: 2595 | ED199: 2840 | EE199: -49465 | EF199: -987 | EG199: 18 | EH199: 9638 | EI199: 4272 | EJ199: 63185 | EK199: 17915 | EL199: 72262 | EM199: 34378 | EN199: 44384 | EO199: 22091 | EP199: 401850 | EQ199: -6009 | ER199: -73 | ES199: -3042 | ET199: 4025 | EU199: 0 | EV199: 0 | EW199: 0 | EX199: 5 | EY199: 0 | EZ199: -307 | FA199: 245 | FB199: 1171 | FC199: 306 | FD199: 28736 | FE199: 558 | FF199: 41104 | FG199: 3337 | FH199: 14684 | FI199: 1647 | FJ199: 6912 | FK199: -539 | FL199: -3027 | FM199: -2282 | FN199: 299 | FO199: -1 | FP199: 8918 | FQ199: 3274 | FR199: 1244 | FS199: 2006 | FT199: 3241 | FU199: -1900 | FV199: 922 | FW199: 5267 | FX199: -738 | FY199: 171 | FZ199: 2030 | GA199: 48504 | GB199: -18815 | GC199: -2535 | GD199: 6016 | GE199: 8261 | GF199: 1766 | GG199: 1813 | GH199: 0 | GI199: 39765 | GJ199: 1026816
A200: 195 | B200: 9311 | C200: 資本減耗引当 | D200: 11674 | E200: 599 | F200: 12652 | G200: 11690 | H200: 274 | I200: 2386 | J200: 4651 | K200: 1878 | L200: 223 | M200: 555 | N200: 5201 | O200: 0 | P200: 144 | Q200: 0 | R200: 445 | S200: 15 | T200: 7791 | U200: 928 | V200: 1101 | W200: 7389 | X200: 2360 | Y200: 6284 | Z200: 8254 | AA200: 2425 | AB200: 6340 | AC200: 122 | AD200: 0 | AE200: 83 | AF200: 7 | AG200: 0 | AH200: 86 | AI200: 231 | AJ200: 374 | AK200: 78 | AL200: 631 | AM200: 691 | AN200: 1439 | AO200: 830 | AP200: 0 | AQ200: 567 | AR200: 391 | AS200: 2839 | AT200: 873 | AU200: 7246 | AV200: 303 | AW200: 301 | AX200: 464 | AY200: 0 | AZ200: 3 | BA200: 0 | BB200: 1 | BC200: 132 | BD200: 2 | BE200: 25755 | BF200: 565 | BG200: 623 | BH200: 391 | BI200: 442 | BJ200: 676 | BK200: 1 | BL200: 972 | BM200: 16628 | BN200: 6 | BO200: 1402 | BP200: 0 | BQ200: 158 | BR200: 530 | BS200: 3791 | BT200: 2219 | BU200: 485 | BV200: 7591 | BW200: 0 | BX200: 0 | BY200: 0 | BZ200: 0 | CA200: 0 | CB200: 819 | CC200: 477 | CD200: 679 | CE200: 0 | CF200: 915 | CG200: 1244 | CH200: 5556 | CI200: 2295 | CJ200: 114 | CK200: 15355 | CL200: 164 | CM200: 10752 | CN200: 1196 | CO200: 3874 | CP200: 14597 | CQ200: 5083 | CR200: 10144 | CS200: 257 | CT200: 728 | CU200: 12534 | CV200: 7928 | CW200: 15800 | CX200: 19552 | CY200: 1546 | CZ200: 4437 | DA200: 11338 | DB200: 6126 | DC200: 7985 | DD200: 0 | DE200: 19126 | DF200: 81040 | DG200: 16002 | DH200: 11473 | DI200: 4129 | DJ200: 13366 | DK200: 3319 | DL200: 45130 | DM200: 4174 | DN200: 41679 | DO200: 0 | DP200: 168 | DQ200: 0 | DR200: 31304 | DS200: 4819 | DT200: 74 | DU200: 1491 | DV200: 487 | DW200: 1834 | DX200: 10941 | DY200: 362 | DZ200: 9484 | EA200: 8310 | EB200: 4824 | EC200: 23833 | ED200: 12573 | EE200: 140628 | EF200: 4394 | EG200: 16 | EH200: 16852 | EI200: 5097 | EJ200: 41386 | EK200: 71356 | EL200: 20742 | EM200: 16457 | EN200: 67886 | EO200: 32014 | EP200: 340673 | EQ200: 17180 | ER200: 508 | ES200: 1979 | ET200: 19546 | EU200: 0 | EV200: 0 | EW200: 0 | EX200: 7 | EY200: 0 | EZ200: 361 | FA200: 543 | FB200: 3333 | FC200: 423 | FD200: 8078 | FE200: 1159 | FF200: 50195 | FG200: 7687 | FH200: 12045 | FI200: 692 | FJ200: 6908 | FK200: 0 | FL200: 0 | FM200: 9923 | FN200: 1211 | FO200: 1872 | FP200: 16048 | FQ200: 45884 | FR200: 379 | FS200: 5412 | FT200: 16323 | FU200: 5442 | FV200: 27011 | FW200: 5178 | FX200: 3260 | FY200: 1661 | FZ200: 4054 | GA200: 47667 | GB200: 23612 | GC200: 16294 | GD200: 12331 | GE200: 15768 | GF200: 250 | GG200: 17305 | GH200: 0 | GI200: 2445 | GJ200: 1854100
A201: 196 | B201: 9321 | C201: 資本減耗引当（社会資本等減耗分） | D201: 0 | E201: 0 | F201: 0 | G201: 0 | H201: 0 | I201: 0 | J201: 0 | K201: 0 | L201: 0 | M201: 0 | N201: 0 | O201: 0 | P201: 0 | Q201: 0 | R201: 0 | S201: 0 | T201: 0 | U201: 0 | V201: 0 | W201: 0 | X201: 0 | Y201: 0 | Z201: 0 | AA201: 0 | AB201: 0 | AC201: 0 | AD201: 0 | AE201: 0 | AF201: 0 | AG201: 0 | AH201: 0 | AI201: 0 | AJ201: 0 | AK201: 0 | AL201: 0 | AM201: 0 | AN201: 0 | AO201: 0 | AP201: 0 | AQ201: 0 | AR201: 0 | AS201: 0 | AT201: 0 | AU201: 0 | AV201: 0 | AW201: 0 | AX201: 0 | AY201: 0 | AZ201: 0 | BA201: 0 | BB201: 0 | BC201: 0 | BD201: 0 | BE201: 0 | BF201: 0 | BG201: 0 | BH201: 0 | BI201: 0 | BJ201: 0 | BK201: 0 | BL201: 0 | BM201: 0 | BN201: 0 | BO201: 0 | BP201: 0 | BQ201: 0 | BR201: 0 | BS201: 0 | BT201: 0 | BU201: 0 | BV201: 0 | BW201: 0 | BX201: 0 | BY201: 0 | BZ201: 0 | CA201: 0 | CB201: 0 | CC201: 0 | CD201: 0 | CE201: 0 | CF201: 0 | CG201: 0 | CH201: 0 | CI201: 0 | CJ201: 0 | CK201: 0 | CL201: 0 | CM201: 0 | CN201: 0 | CO201: 0 | CP201: 0 | CQ201: 0 | CR201: 0 | CS201: 0 | CT201: 0 | CU201: 0 | CV201: 0 | CW201: 0 | CX201: 0 | CY201: 0 | CZ201: 0 | DA201: 0 | DB201: 0 | DC201: 0 | DD201: 0 | DE201: 0 | DF201: 0 | DG201: 0 | DH201: 0 | DI201: 0 | DJ201: 0 | DK201: 0 | DL201: 0 | DM201: 0 | DN201: 0 | DO201: 0 | DP201: 0 | DQ201: 0 | DR201: 0 | DS201: 0 | DT201: 0 | DU201: 0 | DV201: 0 | DW201: 0 | DX201: 0 | DY201: 0 | DZ201: 0 | EA201: 0 | EB201: 0 | EC201: 0 | ED201: 0 | EE201: 0 | EF201: 0 | EG201: 0 | EH201: 2394 | EI201: 2677 | EJ201: 0 | EK201: 0 | EL201: 0 | EM201: 0 | EN201: 0 | EO201: 0 | EP201: 0 | EQ201: 0 | ER201: 0 | ES201: 0 | ET201: 0 | EU201: 0 | EV201: 0 | EW201: 0 | EX201: 0 | EY201: 0 | EZ201: 0 | FA201: 0 | FB201: 0 | FC201: 0 | FD201: 0 | FE201: 0 | FF201: 0 | FG201: 0 | FH201: 0 | FI201: 0 | FJ201: 0 | FK201: 35531 | FL201: 199391 | FM201: 45332 | FN201: 6693 | FO201: 30954 | FP201: 0 | FQ201: 0 | FR201: 104 | FS201: 901 | FT201: 0 | FU201: 0 | FV201: 0 | FW201: 0 | FX201: 0 | FY201: 0 | FZ201: 0 | GA201: 0 | GB201: 0 | GC201: 0 | GD201: 0 | GE201: 0 | GF201: 0 | GG201: 0 | GH201: 0 | GI201: 0 | GJ201: 323977
A202: 197 | B202: 9411 | C202: 間接税（関税・輸入品商品税を除く。） | D202: 1279 | E202: 26 | F202: 1961 | G202: 2620 | H202: 29 | I202: 531 | J202: 711 | K202: 738 | L202: 217 | M202: 189 | N202: 1346 | O202: 0 | P202: 50 | Q202: 0 | R202: 215 | S202: 5 | T202: 1746 | U202: 391 | V202: 386 | W202: 2458 | X202: 1106 | Y202: 2697 | Z202: 2573 | AA202: 8756 | AB202: 907 | AC202: 90 | AD202: 0 | AE202: 12 | AF202: -4 | AG202: 0 | AH202: 5 | AI202: -30 | AJ202: 115 | AK202: 34 | AL202: 172 | AM202: 364 | AN202: 768 | AO202: 589 | AP202: 0 | AQ202: 415 | AR202: 135 | AS202: 2099 | AT202: 553 | AU202: 2630 | AV202: 120 | AW202: 45 | AX202: 32 | AY202: 0 | AZ202: 0 | BA202: 0 | BB202: 0 | BC202: -58 | BD202: 0 | BE202: 1224 | BF202: 73 | BG202: 0 | BH202: 13 | BI202: 132 | BJ202: -73 | BK202: 18 | BL202: 359 | BM202: 4394 | BN202: 0 | BO202: 341 | BP202: 0 | BQ202: 62 | BR202: 30 | BS202: 1978 | BT202: 418 | BU202: 185 | BV202: 1958 | BW202: 0 | BX202: 0 | BY202: 0 | BZ202: 0 | CA202: 0 | CB202: 545 | CC202: 621 | CD202: 572 | CE202: 0 | CF202: 83 | CG202: 239 | CH202: 3761 | CI202: 1103 | CJ202: 53 | CK202: 5754 | CL202: 20 | CM202: 699 | CN202: 181 | CO202: 861 | CP202: 11 | CQ202: 880 | CR202: -333 | CS202: -26 | CT202: 103 | CU202: 286 | CV202: 1301 | CW202: -1601 | CX202: 2167 | CY202: -323 | CZ202: -1124 | DA202: -1628 | DB202: -737 | DC202: -5660 | DD202: 0 | DE202: -8424 | DF202: -1663 | DG202: -2650 | DH202: 495 | DI202: -868 | DJ202: -3996 | DK202: -366 | DL202: -9079 | DM202: -2217 | DN202: -9651 | DO202: 0 | DP202: -24 | DQ202: 0 | DR202: -1148 | DS202: 24 | DT202: 3 | DU202: 105 | DV202: 14 | DW202: -110 | DX202: -592 | DY202: 169 | DZ202: 13174 | EA202: 9662 | EB202: 8057 | EC202: 15631 | ED202: 8432 | EE202: 13429 | EF202: 61 | EG202: 2 | EH202: 3605 | EI202: 4292 | EJ202: 25682 | EK202: 41391 | EL202: 6941 | EM202: 1467 | EN202: 18670 | EO202: 6684 | EP202: 65154 | EQ202: -261 | ER202: 55 | ES202: 2087 | ET202: 14914 | EU202: 0 | EV202: 0 | EW202: 0 | EX202: 2 | EY202: 0 | EZ202: -33 | FA202: 322 | FB202: 1118 | FC202: 285 | FD202: 2441 | FE202: 1293 | FF202: 4433 | FG202: 1313 | FH202: 6509 | FI202: 384 | FJ202: 1824 | FK202: 191 | FL202: 930 | FM202: 1050 | FN202: 599 | FO202: 715 | FP202: 2732 | FQ202: 7960 | FR202: 400 | FS202: 1613 | FT202: 2144 | FU202: 3943 | FV202: 608 | FW202: 916 | FX202: 121 | FY202: 4864 | FZ202: 1710 | GA202: 37700 | GB202: 61 | GC202: 8385 | GD202: 5678 | GE202: 4077 | GF202: 603 | GG202: 11231 | GH202: 0 | GI202: 2287 | GJ202: 397503
A203: 198 | B203: 9511 | C203: （控除）経常補助金 | D203: -5955 | E203: -785 | F203: -14 | G203: -24 | H203: -1190 | I203: -783 | J203: -185 | K203: 0 | L203: -49 | M203: -121 | N203: -2 | O203: 0 | P203: -1 | Q203: 0 | R203: 0 | S203: 0 | T203: -992 | U203: 0 | V203: -3 | W203: 0 | X203: -1 | Y203: -6 | Z203: -4 | AA203: -4 | AB203: -1 | AC203: -3 | AD203: 0 | AE203: 0 | AF203: 0 | AG203: 0 | AH203: 0 | AI203: 0 | AJ203: 0 | AK203: 0 | AL203: 0 | AM203: 0 | AN203: 0 | AO203: 0 | AP203: 0 | AQ203: 0 | AR203: 0 | AS203: 0 | AT203: 0 | AU203: 0 | AV203: 0 | AW203: 0 | AX203: 0 | AY203: 0 | AZ203: 0 | BA203: 0 | BB203: 0 | BC203: 0 | BD203: 0 | BE203: 0 | BF203: 0 | BG203: 0 | BH203: 0 | BI203: 0 | BJ203: 0 | BK203: 0 | BL203: 0 | BM203: 0 | BN203: 0 | BO203: 0 | BP203: 0 | BQ203: 0 | BR203: 0 | BS203: 0 | BT203: 0 | BU203: 0 | BV203: 0 | BW203: 0 | BX203: 0 | BY203: 0 | BZ203: 0 | CA203: 0 | CB203: 0 | CC203: 0 | CD203: 0 | CE203: 0 | CF203: 0 | CG203: 0 | CH203: -1 | CI203: 0 | CJ203: 0 | CK203: -1 | CL203: 0 | CM203: 0 | CN203: 0 | CO203: 0 | CP203: -1 | CQ203: 0 | CR203: 0 | CS203: 0 | CT203: 0 | CU203: -1 | CV203: 0 | CW203: 0 | CX203: 0 | CY203: 0 | CZ203: 0 | DA203: 0 | DB203: 0 | DC203: -1 | DD203: 0 | DE203: 0 | DF203: -4 | DG203: 0 | DH203: 0 | DI203: 0 | DJ203: 0 | DK203: 0 | DL203: 0 | DM203: 0 | DN203: -1 | DO203: 0 | DP203: 0 | DQ203: 0 | DR203: -1 | DS203: 0 | DT203: 0 | DU203: -1 | DV203: 0 | DW203: 0 | DX203: 0 | DY203: 0 | DZ203: -1 | EA203: -1 | EB203: -2 | EC203: -756 | ED203: -4762 | EE203: -33 | EF203: -23 | EG203: 0 | EH203: -3282 | EI203: 0 | EJ203: -289 | EK203: -546 | EL203: -3156 | EM203: -3030 | EN203: -1 | EO203: -168 | EP203: 0 | EQ203: -452 | ER203: 0 | ES203: -752 | ET203: 0 | EU203: 0 | EV203: 0 | EW203: 0 | EX203: -1 | EY203: 0 | EZ203: 0 | FA203: 0 | FB203: 0 | FC203: 0 | FD203: -204 | FE203: 0 | FF203: -1 | FG203: 0 | FH203: -1 | FI203: 0 | FJ203: 0 | FK203: 0 | FL203: 0 | FM203: 0 | FN203: -43 | FO203: -1142 | FP203: -2 | FQ203: -14180 | FR203: 0 | FS203: 0 | FT203: -644 | FU203: -2400 | FV203: 0 | FW203: 0 | FX203: 0 | FY203: 0 | FZ203: 0 | GA203: -25 | GB203: 0 | GC203: 0 | GD203: 0 | GE203: 0 | GF203: 0 | GG203: 0 | GH203: 0 | GI203: -206 | GJ203: -46238
