Workbook

Sheet 取引基本表
A1: 令和２年（2020年）長野県産業連関表
A2: 第１表 取引基本表（生産者価格表）≪統合中分類≫ | EE2: （単位：100万円）
D3: 1 | E3: 2 | F3: 3 | G3: 4 | H3: 5 | I3: 6 | J3: 7 | K3: 8 | L3: 9 | M3: 10 | N3: 11 | O3: 12 | P3: 13 | Q3: 14 | R3: 15 | S3: 16 | T3: 17 | U3: 18 | V3: 19 | W3: 20 | X3: 21 | Y3: 22 | Z3: 23 | AA3: 24 | AB3: 25 | AC3: 26 | AD3: 27 | AE3: 28 | AF3: 29 | AG3: 30 | AH3: 31 | AI3: 32 | AJ3: 33 | AK3: 34 | AL3: 35 | AM3: 36 | AN3: 37 | AO3: 38 | AP3: 39 | AQ3: 40 | AR3: 41 | AS3: 42 | AT3: 43 | AU3: 44 | AV3: 45 | AW3: 46 | AX3: 47 | AY3: 48 | AZ3: 49 | BA3: 50 | BB3: 51 | BC3: 52 | BD3: 53 | BE3: 54 | BF3: 55 | BG3: 56 | BH3: 57 | BI3: 58 | BJ3: 59 | BK3: 60 | BL3: 61 | BM3: 62 | BN3: 63 | BO3: 64 | BP3: 65 | BQ3: 66 | BR3: 67 | BS3: 68 | BT3: 69 | BU3: 70 | BV3: 71 | BW3: 72 | BX3: 73 | BY3: 74 | BZ3: 75 | CA3: 76 | CB3: 77 | CC3: 78 | CD3: 79 | CE3: 80 | CF3: 81 | CG3: 82 | CH3: 83 | CI3: 84 | CJ3: 85 | CK3: 86 | CL3: 87 | CM3: 88 | CN3: 89 | CO3: 90 | CP3: 91 | CQ3: 92 | CR3: 93 | CS3: 94 | CT3: 95 | CU3: 96 | CV3: 97 | CW3: 98 | CX3: 99 | CY3: 100 | CZ3: 101 | DA3: 102 | DB3: 103 | DC3: 104 | DD3: 105 | DE3: 106 | DF3: 107 | DG3: 108 | DH3: 109 | DI3: 110 | DJ3: 111 | DK3: 112 | DL3: 113 | DM3: 114 | DN3: 115 | DO3: 116 | DP3: 117 | DQ3: 118 | DR3: 119 | DS3: 120 | DT3: 121 | DU3: 122 | DV3: 123 | DW3: 124 | DX3: 125 | DY3: 126 | DZ3: 127 | EA3: 128 | EB3: 129 | EC3: 130 | ED3: 131 | EE3: 132
D4: 011 | E4: 012 | F4: 013 | G4: 015 | H4: 017 | I4: 061 | J4: 062 | K4: 111 | L4: 112 | M4: 113 | N4: 114 | O4: 151 | P4: 152 | Q4: 161 | R4: 162 | S4: 163 | T4: 164 | U4: 191 | V4: 201 | W4: 202 | X4: 203 | Y4: 204 | Z4: 205 | AA4: 206 | AB4: 207 | AC4: 208 | AD4: 211 | AE4: 212 | AF4: 221 | AG4: 222 | AH4: 231 | AI4: 251 | AJ4: 252 | AK4: 253 | AL4: 259 | AM4: 261 | AN4: 262 | AO4: 263 | AP4: 269 | AQ4: 271 | AR4: 272 | AS4: 281 | AT4: 289 | AU4: 291 | AV4: 301 | AW4: 311 | AX4: 321 | AY4: 329 | AZ4: 331 | BA4: 332 | BB4: 333 | BC4: 339 | BD4: 341 | BE4: 342 | BF4: 351 | BG4: 352 | BH4: 353 | BI4: 354 | BJ4: 359 | BK4: 391 | BL4: 392 | BM4: 411 | BN4: 412 | BO4: 413 | BP4: 419 | BQ4: 461 | BR4: 462 | BS4: 471 | BT4: 481 | BU4: 511 | BV4: 531 | BW4: 551 | BX4: 552 | BY4: 553 | BZ4: 571 | CA4: 572 | CB4: 573 | CC4: 574 | CD4: 575 | CE4: 576 | CF4: 577 | CG4: 578 | CH4: 579 | CI4: 591 | CJ4: 592 | CK4: 593 | CL4: 594 | CM4: 595 | CN4: 611 | CO4: 631 | CP4: 632 | CQ4: 641 | CR4: 642 | CS4: 643 | CT4: 644 | CU4: 659 | CV4: 661 | CW4: 662 | CX4: 663 | CY4: 669 | CZ4: 671 | DA4: 672 | DB4: 673 | DC4: 674 | DD4: 675 | DE4: 679 | DF4: 681 | DG4: 691 | DH4: 700 | DI4: 711 | DJ4: 721 | DK4: 731 | DL4: 732 | DM4: 741 | DN4: 751 | DO4: 761 | DP4: 780 | DQ4: 790 | DR4: 801 | DS4: 810 | DT4: 980 | DU4: 990 | DV4: 820 | DW4: 830 | DX4: 841 | DY4: 851 | DZ4: 861 | EA4: 870 | EB4: 1000 | EC4: 1010 | ED4: 880 | EE4: 970
C5: 統合中分類（108部門） | D5: 耕種農業 | E5: 畜産 | F5: 農業サービス | G5: 林業 | H5: 漁業 | I5: 石炭・原油・天然ガス | J5: その他の鉱業 | K5: 食料品 | L5: 飲料 | M5: 飼料・有機質肥料（別掲を除く。） | N5: たばこ | O5: 繊維工業製品 | P5: 衣服・その他の繊維既製品 | Q5: 木材・木製品 | R5: 家具・装備品 | S5: パルプ・紙・板紙・加工紙 | T5: 紙加工品 | U5: 印刷・製版・製本 | V5: 化学肥料 | W5: 無機化学工業製品 | X5: 石油化学系基礎製品 | Y5: 有機化学工業製品（石油化学系基礎製品・合成樹脂を除く。） | Z5: 合成樹脂 | AA5: 化学繊維 | AB5: 医薬品 | AC5: 化学最終製品（医薬品を除く。） | AD5: 石油製品 | AE5: 石炭製品 | AF5: プラスチック製品 | AG5: ゴム製品 | AH5: なめし革・革製品・毛皮 | AI5: ガラス・ガラス製品 | AJ5: セメント・セメント製品 | AK5: 陶磁器 | AL5: その他の窯業・土石製品 | AM5: 銑鉄・粗鋼 | AN5: 鋼材 | AO5: 鋳鍛造品（鉄） | AP5: その他の鉄鋼製品 | AQ5: 非鉄金属製錬・精製 | AR5: 非鉄金属加工製品 | AS5: 建設用・建築用金属製品 | AT5: その他の金属製品 | AU5: はん用機械 | AV5: 生産用機械 | AW5: 業務用機械 | AX5: 電子デバイス | AY5: その他の電子部品 | AZ5: 産業用電気機器 | BA5: 民生用電気機器 | BB5: 電子応用装置・電気計測器 | BC5: その他の電気機械 | BD5: 通信・映像・音響機器 | BE5: 電子計算機・同附属装置 | BF5: 乗用車 | BG5: その他の自動車 | BH5: 自動車部品・同附属品 | BI5: 船舶・同修理 | BJ5: その他の輸送機械・同修理 | BK5: その他の製造工業製品 | BL5: 再生資源回収・加工処理 | BM5: 建築 | BN5: 建設補修 | BO5: 公共事業 | BP5: その他の土木建設 | BQ5: 電気 | BR5: ガス・熱供給 | BS5: 水道 | BT5: 廃棄物処理 | BU5: 商業 | BV5: 金融・保険 | BW5: 不動産仲介及び賃貸 | BX5: 住宅賃貸料 | BY5: 住宅賃貸料（帰属家賃） | BZ5: 鉄道輸送 | CA5: 道路輸送（自家輸送を除く。） | CB5: 自家輸送 | CC5: 水運 | CD5: 航空輸送 | CE5: 貨物利用運送 | CF5: 倉庫 | CG5: 運輸附帯サービス | CH5: 郵便・信書便 | CI5: 通信 | CJ5: 放送 | CK5: 情報サービス | CL5: インターネット附随サービス | CM5: 映像・音声・文字情報制作 | CN5: 公務 | CO5: 教育 | CP5: 研究 | CQ5: 医療 | CR5: 保健衛生 | CS5: 社会保険・社会福祉 | CT5: 介護 | CU5: 他に分類されない会員制団体 | CV5: 物品賃貸サービス | CW5: 広告 | CX5: 自動車整備・機械修理 | CY5: その他の対事業所サービス | CZ5: 宿泊業 | DA5: 飲食サービス | DB5: 洗濯・理容・美容・浴場業 | DC5: 娯楽サービス | DD5: 獣医業 | DE5: その他の対個人サービス | DF5: 事務用品 | DG5: 分類不明 | DH5: 内生部門計 | DI5: 家計外消費支出（列） | DJ5: 民間消費支出 | DK5: 一般政府消費支出 | DL5: 一般政府消費支出（社会資本等減耗分） | DM5: 県内総固定資本形成（公的） | DN5: 県内総固定資本形成（民間） | DO5: 在庫純増 | DP5: 県内最終需要計 | DQ5: 県内需要合計 | DR5: 輸出 | DS5: 輸出計 | DT5: 移出 | DU5: 移輸出計 | DV5: 最終需要計 | DW5: 需要合計 | DX5: （控除）輸入 | DY5: （控除）関税 | DZ5: （控除）輸入品商品税 | EA5: （控除）輸入計 | EB5: （控除）移入 | EC5: （控除）移輸入 | ED5: 最終需要部門計 | EE5: 県内生産額
A6: 1 | B6: 011 | C6: 耕種農業 | D6: 5237 | E6: 3250 | F6: 122 | G6: 204 | H6: 0 | I6: 0 | J6: 0 | K6: 58597 | L6: 1899 | M6: 513 | N6: 0 | O6: 126 | P6: 19 | Q6: 1 | R6: 0 | S6: 0 | T6: 0 | U6: 0 | V6: 0 | W6: 0 | X6: 0 | Y6: 0 | Z6: 0 | AA6: 0 | AB6: 280 | AC6: 12 | AD6: 0 | AE6: 0 | AF6: 0 | AG6: 129 | AH6: 0 | AI6: 0 | AJ6: 0 | AK6: 0 | AL6: 42 | AM6: 0 | AN6: 0 | AO6: 0 | AP6: 0 | AQ6: 0 | AR6: 0 | AS6: 0 | AT6: 0 | AU6: 0 | AV6: 0 | AW6: 0 | AX6: 0 | AY6: 0 | AZ6: 0 | BA6: 0 | BB6: 0 | BC6: 0 | BD6: 0 | BE6: 0 | BF6: 0 | BG6: 0 | BH6: 0 | BI6: 0 | BJ6: 0 | BK6: 204 | BL6: 0 | BM6: 284 | BN6: 3 | BO6: 496 | BP6: 376 | BQ6: 0 | BR6: 0 | BS6: 0 | BT6: 0 | BU6: 186 | BV6: 0 | BW6: 0 | BX6: 0 | BY6: 6 | BZ6: 0 | CA6: 0 | CB6: 0 | CC6: 0 | CD6: 0 | CE6: 0 | CF6: 0 | CG6: 0 | CH6: 0 | CI6: 0 | CJ6: 0 | CK6: 0 | CL6: 0 | CM6: 0 | CN6: 5 | CO6: 545 | CP6: 95 | CQ6: 506 | CR6: 0 | CS6: 591 | CT6: 798 | CU6: 269 | CV6: 7 | CW6: 0 | CX6: 0 | CY6: 1 | CZ6: 2029 | DA6: 3973 | DB6: 12 | DC6: 86 | DD6: 22 | DE6: 452 | DF6: 0 | DG6: 0 | DH6: 81377 | DI6: 749 | DJ6: 43773 | DK6: 0 | DL6: 0 | DM6: 0 | DN6: 2181 | DO6: 827 | DP6: 47530 | DQ6: 128907 | DR6: 1525 | DS6: 1525 | DT6: 182866 | DU6: 184391 | DV6: 231921 | DW6: 390857 | DX6: -21158 | DY6: -463 | DZ6: -1796 | EA6: -23417 | EB6: -49441 | EC6: -72858 | ED6: 159063 | EE6: 240440
A7: 2 | B7: 012 | C7: 畜産 | D7: 760 | E7: 3181 | F7: 442 | G7: 2 | H7: 0 | I7: 0 | J7: 0 | K7: 36194 | L7: 0 | M7: 39 | N7: 0 | O7: 7 | P7: 2 | Q7: 0 | R7: 0 | S7: 0 | T7: 0 | U7: 0 | V7: 2 | W7: 0 | X7: 0 | Y7: 0 | Z7: 0 | AA7: 0 | AB7: 2 | AC7: 0 | AD7: 0 | AE7: 0 | AF7: 0 | AG7: 0 | AH7: 77 | AI7: 0 | AJ7: 0 | AK7: 0 | AL7: 0 | AM7: 0 | AN7: 0 | AO7: 0 | AP7: 0 | AQ7: 0 | AR7: 0 | AS7: 0 | AT7: 0 | AU7: 0 | AV7: 0 | AW7: 0 | AX7: 0 | AY7: 0 | AZ7: 0 | BA7: 0 | BB7: 0 | BC7: 0 | BD7: 0 | BE7: 0 | BF7: 0 | BG7: 0 | BH7: 0 | BI7: 0 | BJ7: 0 | BK7: 10 | BL7: 0 | BM7: 0 | BN7: 0 | BO7: 0 | BP7: 0 | BQ7: 0 | BR7: 0 | BS7: 0 | BT7: 0 | BU7: 0 | BV7: 0 | BW7: 0 | BX7: 0 | BY7: 0 | BZ7: 0 | CA7: 0 | CB7: 0 | CC7: 0 | CD7: 0 | CE7: 0 | CF7: 0 | CG7: 0 | CH7: 0 | CI7: 0 | CJ7: 0 | CK7: 0 | CL7: 0 | CM7: 0 | CN7: 1 | CO7: 64 | CP7: 295 | CQ7: 65 | CR7: 0 | CS7: 100 | CT7: 147 | CU7: 0 | CV7: 0 | CW7: 0 | CX7: 0 | CY7: 0 | CZ7: 241 | DA7: 956 | DB7: 0 | DC7: 0 | DD7: 0 | DE7: 18 | DF7: 0 | DG7: 0 | DH7: 42605 | DI7: 0 | DJ7: 2274 | DK7: 0 | DL7: 0 | DM7: 0 | DN7: 1161 | DO7: 136 | DP7: 3571 | DQ7: 46176 | DR7: 24 | DS7: 24 | DT7: 7611 | DU7: 7635 | DV7: 11206 | DW7: 175459 | DX7: -610 | DY7: -58 | DZ7: -66 | EA7: -734 | EB7: -21606 | EC7: -22340 | ED7: -11134 | EE7: 31471
A8: 3 | B8: 013 | C8: 農業サービス | D8: 11784 | E8: 1098 | F8: 0 | G8: 0 | H8: 0 | I8: 0 | J8: 0 | K8: 0 | L8: 0 | M8: 0 | N8: 0 | O8: 0 | P8: 0 | Q8: 0 | R8: 0 | S8: 0 | T8: 0 | U8: 0 | V8: 0 | W8: 0 | X8: 0 | Y8: 0 | Z8: 0 | AA8: 0 | AB8: 0 | AC8: 0 | AD8: 0 | AE8: 0 | AF8: 0 | AG8: 0 | AH8: 0 | AI8: 0 | AJ8: 0 | AK8: 0 | AL8: 0 | AM8: 0 | AN8: 0 | AO8: 0 | AP8: 0 | AQ8: 0 | AR8: 0 | AS8: 0 | AT8: 0 | AU8: 0 | AV8: 0 | AW8: 0 | AX8: 0 | AY8: 0 | AZ8: 0 | BA8: 0 | BB8: 0 | BC8: 0 | BD8: 0 | BE8: 0 | BF8: 0 | BG8: 0 | BH8: 0 | BI8: 0 | BJ8: 0 | BK8: 0 | BL8: 0 | BM8: 0 | BN8: 0 | BO8: 0 | BP8: 0 | BQ8: 0 | BR8: 0 | BS8: 0 | BT8: 0 | BU8: 0 | BV8: 0 | BW8: 0 | BX8: 0 | BY8: 0 | BZ8: 0 | CA8: 0 | CB8: 0 | CC8: 0 | CD8: 0 | CE8: 0 | CF8: 0 | CG8: 0 | CH8: 0 | CI8: 0 | CJ8: 0 | CK8: 0 | CL8: 0 | CM8: 0 | CN8: 0 | CO8: 0 | CP8: 0 | CQ8: 0 | CR8: 0 | CS8: 0 | CT8: 0 | CU8: 0 | CV8: 0 | CW8: 0 | CX8: 0 | CY8: 0 | CZ8: 0 | DA8: 0 | DB8: 0 | DC8: 0 | DD8: 0 | DE8: 0 | DF8: 0 | DG8: 0 | DH8: 12882 | DI8: 0 | DJ8: 0 | DK8: 0 | DL8: 0 | DM8: 0 | DN8: 0 | DO8: 0 | DP8: 0 | DQ8: 12882 | DR8: 0 | DS8: 0 | DT8: 0 | DU8: 0 | DV8: 0 | DW8: 9319 | DX8: 0 | DY8: 0 | DZ8: 0 | EA8: 0 | EB8: 0 | EC8: 0 | ED8: 0 | EE8: 12882
A9: 4 | B9: 015 | C9: 林業 | D9: 230 | E9: 0 | F9: 0 | G9: 13276 | H9: 0 | I9: 0 | J9: 0 | K9: 418 | L9: 0 | M9: 3 | N9: 0 | O9: 0 | P9: 0 | Q9: 3072 | R9: 0 | S9: 0 | T9: 0 | U9: 0 | V9: 0 | W9: 3 | X9: 0 | Y9: 0 | Z9: 0 | AA9: 0 | AB9: 0 | AC9: 3 | AD9: 0 | AE9: 0 | AF9: 0 | AG9: 0 | AH9: 4 | AI9: 0 | AJ9: 0 | AK9: 0 | AL9: 0 | AM9: 0 | AN9: 0 | AO9: 0 | AP9: 0 | AQ9: 0 | AR9: 0 | AS9: 0 | AT9: 0 | AU9: 0 | AV9: 0 | AW9: 0 | AX9: 0 | AY9: 0 | AZ9: 0 | BA9: 0 | BB9: 0 | BC9: 0 | BD9: 0 | BE9: 0 | BF9: 0 | BG9: 0 | BH9: 0 | BI9: 0 | BJ9: 0 | BK9: 29 | BL9: 0 | BM9: 5 | BN9: 7 | BO9: 19 | BP9: 6 | BQ9: 0 | BR9: 0 | BS9: 0 | BT9: 0 | BU9: 0 | BV9: 0 | BW9: 0 | BX9: 0 | BY9: 0 | BZ9: 0 | CA9: 0 | CB9: 0 | CC9: 0 | CD9: 0 | CE9: 0 | CF9: 0 | CG9: 0 | CH9: 0 | CI9: 0 | CJ9: 0 | CK9: 0 | CL9: 0 | CM9: 0 | CN9: 1 | CO9: 22 | CP9: 15 | CQ9: 5 | CR9: 0 | CS9: 23 | CT9: 36 | CU9: 0 | CV9: 0 | CW9: 0 | CX9: 0 | CY9: 0 | CZ9: 195 | DA9: 532 | DB9: 0 | DC9: 0 | DD9: 0 | DE9: 15 | DF9: 0 | DG9: 0 | DH9: 17919 | DI9: 46 | DJ9: 2221 | DK9: 0 | DL9: 0 | DM9: 0 | DN9: 0 | DO9: 2779 | DP9: 5046 | DQ9: 22965 | DR9: 584 | DS9: 584 | DT9: 52249 | DU9: 52833 | DV9: 57879 | DW9: 22499 | DX9: -3029 | DY9: -14 | DZ9: -296 | EA9: -3339 | EB9: -6654 | EC9: -9993 | ED9: 47886 | EE9: 65805
A10: 5 | B10: 017 | C10: 漁業 | D10: 0 | E10: 0 | F10: 0 | G10: 0 | H10: 247 | I10: 0 | J10: 0 | K10: 5598 | L10: 0 | M10: 4 | N10: 0 | O10: 0 | P10: 0 | Q10: 0 | R10: 0 | S10: 0 | T10: 0 | U10: 0 | V10: 0 | W10: 0 | X10: 0 | Y10: 0 | Z10: 0 | AA10: 0 | AB10: 16 | AC10: 0 | AD10: 0 | AE10: 0 | AF10: 0 | AG10: 0 | AH10: 0 | AI10: 0 | AJ10: 0 | AK10: 0 | AL10: 0 | AM10: 0 | AN10: 0 | AO10: 0 | AP10: 0 | AQ10: 0 | AR10: 0 | AS10: 0 | AT10: 0 | AU10: 0 | AV10: 0 | AW10: 0 | AX10: 0 | AY10: 0 | AZ10: 0 | BA10: 0 | BB10: 0 | BC10: 0 | BD10: 0 | BE10: 0 | BF10: 0 | BG10: 0 | BH10: 0 | BI10: 0 | BJ10: 0 | BK10: 658 | BL10: 0 | BM10: 0 | BN10: 0 | BO10: 0 | BP10: 0 | BQ10: 0 | BR10: 0 | BS10: 0 | BT10: 0 | BU10: 0 | BV10: 0 | BW10: 0 | BX10: 0 | BY10: 0 | BZ10: 0 | CA10: 0 | CB10: 0 | CC10: 0 | CD10: 0 | CE10: 0 | CF10: 0 | CG10: 0 | CH10: 0 | CI10: 0 | CJ10: 0 | CK10: 0 | CL10: 0 | CM10: 0 | CN10: 1 | CO10: 21 | CP10: 50 | CQ10: 91 | CR10: 0 | CS10: 129 | CT10: 202 | CU10: 0 | CV10: 0 | CW10: 0 | CX10: 0 | CY10: 0 | CZ10: 694 | DA10: 1691 | DB10: 0 | DC10: 2 | DD10: 0 | DE10: 40 | DF10: 0 | DG10: 0 | DH10: 9444 | DI10: 193 | DJ10: 4149 | DK10: 0 | DL10: 0 | DM10: 0 | DN10: 0 | DO10: -6 | DP10: 4336 | DQ10: 13780 | DR10: 111 | DS10: 111 | DT10: 933 | DU10: 1044 | DV10: 5380 | DW10: 92177 | DX10: -1400 | DY10: -57 | DZ10: -116 | EA10: -1573 | EB10: -10633 | EC10: -12206 | ED10: -6826 | EE10: 2618
A11: 6 | B11: 061 | C11: 石炭・原油・天然ガス | D11: 0 | E11: 0 | F11: 0 | G11: 10 | H11: 0 | I11: 0 | J11: 0 | K11: 148 | L11: 27 | M11: 0 | N11: 0 | O11: 0 | P11: 0 | Q11: 0 | R11: 0 | S11: 79 | T11: 1 | U11: 0 | V11: 191 | W11: 2 | X11: 0 | Y11: 0 | Z11: 1 | AA11: 0 | AB11: 16 | AC11: 6 | AD11: 29 | AE11: 1 | AF11: 4 | AG11: 0 | AH11: 0 | AI11: 16 | AJ11: 10 | AK11: 133 | AL11: 355 | AM11: 0 | AN11: 0 | AO11: 1 | AP11: 0 | AQ11: 19 | AR11: 31 | AS11: 4 | AT11: 11 | AU11: 16 | AV11: 14 | AW11: 0 | AX11: 10 | AY11: 78 | AZ11: 3 | BA11: 0 | BB11: 0 | BC11: 0 | BD11: 0 | BE11: 1 | BF11: 0 | BG11: 0 | BH11: 37 | BI11: 0 | BJ11: 1 | BK11: 0 | BL11: 2 | BM11: 0 | BN11: 0 | BO11: 2 | BP11: 1 | BQ11: 468 | BR11: 11644 | BS11: 0 | BT11: 0 | BU11: 2 | BV11: 0 | BW11: 0 | BX11: 0 | BY11: 0 | BZ11: 0 | CA11: 0 | CB11: 0 | CC11: 0 | CD11: 0 | CE11: 0 | CF11: 0 | CG11: 1 | CH11: 0 | CI11: 0 | CJ11: 0 | CK11: 0 | CL11: 0 | CM11: 0 | CN11: 0 | CO11: 1 | CP11: 26 | CQ11: 4 | CR11: 0 | CS11: 1 | CT11: 2 | CU11: 5 | CV11: 3 | CW11: 0 | CX11: 0 | CY11: 0 | CZ11: 7 | DA11: 0 | DB11: 4 | DC11: 0 | DD11: 0 | DE11: 0 | DF11: 0 | DG11: 0 | DH11: 13428 | DI11: 0 | DJ11: 0 | DK11: 0 | DL11: 0 | DM11: 0 | DN11: 0 | DO11: 303 | DP11: 303 | DQ11: 13731 | DR11: 0 | DS11: 0 | DT11: 0 | DU11: 0 | DV11: 303 | DW11: 448894 | DX11: -11612 | DY11: 0 | DZ11: -1745 | EA11: -13357 | EB11: -374 | EC11: -13731 | ED11: -13428 | EE11: 0
A12: 7 | B12: 062 | C12: その他の鉱業 | D12: 0 | E12: 0 | F12: 0 | G12: 6 | H12: 0 | I12: 0 | J12: 0 | K12: 0 | L12: 0 | M12: 3 | N12: 0 | O12: 0 | P12: 0 | Q12: 0 | R12: 0 | S12: 17 | T12: 0 | U12: 0 | V12: 14 | W12: 226 | X12: 0 | Y12: 0 | Z12: 1 | AA12: 0 | AB12: 12 | AC12: 11 | AD12: 0 | AE12: 363 | AF12: 0 | AG12: 2 | AH12: 0 | AI12: 143 | AJ12: 1172 | AK12: 691 | AL12: 1017 | AM12: 0 | AN12: 0 | AO12: 3 | AP12: 0 | AQ12: 2338 | AR12: 8 | AS12: 5 | AT12: 4 | AU12: 4 | AV12: 15 | AW12: 13 | AX12: 0 | AY12: 0 | AZ12: 0 | BA12: 0 | BB12: 0 | BC12: 0 | BD12: 0 | BE12: 0 | BF12: 0 | BG12: 0 | BH12: 0 | BI12: 0 | BJ12: 0 | BK12: 75 | BL12: 0 | BM12: 541 | BN12: 26 | BO12: 1166 | BP12: 878 | BQ12: 0 | BR12: 0 | BS12: 0 | BT12: 0 | BU12: 0 | BV12: 0 | BW12: 0 | BX12: 0 | BY12: 0 | BZ12: 0 | CA12: 0 | CB12: 0 | CC12: 0 | CD12: 0 | CE12: 0 | CF12: 0 | CG12: 0 | CH12: 0 | CI12: 0 | CJ12: 0 | CK12: 0 | CL12: 0 | CM12: 0 | CN12: 2 | CO12: 0 | CP12: 0 | CQ12: 0 | CR12: 0 | CS12: 0 | CT12: 0 | CU12: 0 | CV12: 0 | CW12: 0 | CX12: 0 | CY12: 0 | CZ12: -8 | DA12: -9 | DB12: 0 | DC12: 2 | DD12: 0 | DE12: 7 | DF12: 0 | DG12: 9 | DH12: 8757 | DI12: -69 | DJ12: -74 | DK12: 0 | DL12: 0 | DM12: 0 | DN12: -70 | DO12: 127 | DP12: -86 | DQ12: 8671 | DR12: 50 | DS12: 50 | DT12: 123 | DU12: 173 | DV12: 87 | DW12: 166362 | DX12: -3395 | DY12: 0 | DZ12: -340 | EA12: -3735 | EB12: -890 | EC12: -4625 | ED12: -4538 | EE12: 4219
A13: 8 | B13: 111 | C13: 食料品 | D13: 0 | E13: 506 | F13: 0 | G13: 3398 | H13: 32 | I13: 0 | J13: 0 | K13: 132716 | L13: 14025 | M13: 640 | N13: 0 | O13: 0 | P13: 46 | Q13: 8 | R13: 0 | S13: 117 | T13: 9 | U13: 0 | V13: 0 | W13: 2 | X13: 0 | Y13: 0 | Z13: 0 | AA13: 0 | AB13: 1147 | AC13: 459 | AD13: 0 | AE13: 0 | AF13: 4 | AG13: 0 | AH13: 74 | AI13: 1 | AJ13: 0 | AK13: 13 | AL13: 40 | AM13: 0 | AN13: 0 | AO13: 0 | AP13: 0 | AQ13: 0 | AR13: 0 | AS13: 0 | AT13: 0 | AU13: 0 | AV13: 0 | AW13: 0 | AX13: 0 | AY13: 0 | AZ13: 0 | BA13: 0 | BB13: 0 | BC13: 0 | BD13: 0 | BE13: 0 | BF13: 0 | BG13: 0 | BH13: 0 | BI13: 0 | BJ13: 0 | BK13: 183 | BL13: 0 | BM13: 0 | BN13: 0 | BO13: 0 | BP13: 0 | BQ13: 0 | BR13: 0 | BS13: 0 | BT13: 0 | BU13: 0 | BV13: 0 | BW13: 0 | BX13: 0 | BY13: 0 | BZ13: 0 | CA13: 0 | CB13: 0 | CC13: 0 | CD13: 0 | CE13: 0 | CF13: 0 | CG13: 0 | CH13: 0 | CI13: 0 | CJ13: 0 | CK13: 0 | CL13: 0 | CM13: 0 | CN13: 412 | CO13: 2560 | CP13: 527 | CQ13: 2002 | CR13: 0 | CS13: 2797 | CT13: 3929 | CU13: 199 | CV13: 0 | CW13: 0 | CX13: 0 | CY13: 0 | CZ13: 8922 | DA13: 38246 | DB13: 0 | DC13: 3 | DD13: 0 | DE13: 662 | DF13: 0 | DG13: 0 | DH13: 213679 | DI13: 6773 | DJ13: 308353 | DK13: 0 | DL13: 0 | DM13: 0 | DN13: 0 | DO13: -554 | DP13: 314572 | DQ13: 528251 | DR13: 7930 | DS13: 7930 | DT13: 465090 | DU13: 473020 | DV13: 787592 | DW13: 2701521 | DX13: -68482 | DY13: -5224 | DZ13: -5837 | EA13: -79543 | EB13: -345700 | EC13: -425243 | ED13: 362349 | EE13: 576028
A14: 9 | B14: 112 | C14: 飲料 | D14: 0 | E14: 6 | F14: 0 | G14: 0 | H14: 0 | I14: 0 | J14: 0 | K14: 1225 | L14: 6664 | M14: 0 | N14: 0 | O14: 0 | P14: 0 | Q14: 0 | R14: 0 | S14: 0 | T14: 0 | U14: 0 | V14: 0 | W14: 0 | X14: 0 | Y14: 0 | Z14: 0 | AA14: 0 | AB14: 9 | AC14: 0 | AD14: 0 | AE14: 0 | AF14: 0 | AG14: 0 | AH14: 0 | AI14: 0 | AJ14: 0 | AK14: 0 | AL14: 0 | AM14: 0 | AN14: 0 | AO14: 0 | AP14: 0 | AQ14: 0 | AR14: 0 | AS14: 0 | AT14: 0 | AU14: 0 | AV14: 0 | AW14: 0 | AX14: 0 | AY14: 0 | AZ14: 0 | BA14: 0 | BB14: 0 | BC14: 0 | BD14: 0 | BE14: 0 | BF14: 0 | BG14: 0 | BH14: 0 | BI14: 0 | BJ14: 0 | BK14: 0 | BL14: 0 | BM14: 0 | BN14: 0 | BO14: 0 | BP14: 0 | BQ14: 0 | BR14: 0 | BS14: 0 | BT14: 0 | BU14: 99 | BV14: 0 | BW14: 0 | BX14: 0 | BY14: 0 | BZ14: 0 | CA14: 0 | CB14: 0 | CC14: 0 | CD14: 0 | CE14: 0 | CF14: 0 | CG14: 0 | CH14: 0 | CI14: 0 | CJ14: 0 | CK14: 0 | CL14: 0 | CM14: 0 | CN14: 37 | CO14: 26 | CP14: 14 | CQ14: 227 | CR14: 0 | CS14: 232 | CT14: 327 | CU14: 0 | CV14: 0 | CW14: 0 | CX14: 0 | CY14: 3 | CZ14: 2663 | DA14: 14997 | DB14: 0 | DC14: 0 | DD14: 1 | DE14: 153 | DF14: 0 | DG14: 269 | DH14: 26952 | DI14: 3636 | DJ14: 65558 | DK14: 0 | DL14: 0 | DM14: 0 | DN14: 0 | DO14: -1921 | DP14: 67273 | DQ14: 94225 | DR14: 862 | DS14: 862 | DT14: 75855 | DU14: 76717 | DV14: 143990 | DW14: 584563 | DX14: -5375 | DY14: -104 | DZ14: -1361 | EA14: -6840 | EB14: -57732 | EC14: -64572 | ED14: 79418 | EE14: 106370
A15: 10 | B15: 113 | C15: 飼料・有機質肥料（別掲を除く。） | D15: 1346 | E15: 8223 | F15: 365 | G15: 705 | H15: 357 | I15: 0 | J15: 0 | K15: -3 | L15: 0 | M15: 91 | N15: 0 | O15: 0 | P15: 0 | Q15: 0 | R15: 0 | S15: 0 | T15: 0 | U15: 0 | V15: 1 | W15: 0 | X15: 0 | Y15: 0 | Z15: 0 | AA15: 0 | AB15: 0 | AC15: 0 | AD15: 0 | AE15: 0 | AF15: 0 | AG15: 0 | AH15: 0 | AI15: 0 | AJ15: 0 | AK15: 0 | AL15: 0 | AM15: 0 | AN15: 0 | AO15: 0 | AP15: 0 | AQ15: 0 | AR15: 0 | AS15: 0 | AT15: 0 | AU15: 0 | AV15: 0 | AW15: 0 | AX15: 0 | AY15: 0 | AZ15: 0 | BA15: 0 | BB15: 0 | BC15: 0 | BD15: 0 | BE15: 0 | BF15: 0 | BG15: 0 | BH15: 0 | BI15: 0 | BJ15: 0 | BK15: 0 | BL15: 0 | BM15: 0 | BN15: 0 | BO15: 23 | BP15: 0 | BQ15: 0 | BR15: 0 | BS15: 0 | BT15: 0 | BU15: 67 | BV15: 0 | BW15: 0 | BX15: 0 | BY15: 0 | BZ15: 0 | CA15: 0 | CB15: 0 | CC15: 0 | CD15: 0 | CE15: 0 | CF15: 0 | CG15: 0 | CH15: 0 | CI15: 0 | CJ15: 0 | CK15: 0 | CL15: 0 | CM15: 0 | CN15: 0 | CO15: 211 | CP15: 971 | CQ15: 45 | CR15: 0 | CS15: 15 | CT15: 5 | CU15: 0 | CV15: 0 | CW15: 0 | CX15: 0 | CY15: 0 | CZ15: 0 | DA15: 0 | DB15: 0 | DC15: 65 | DD15: 66 | DE15: 0 | DF15: 0 | DG15: 0 | DH15: 12553 | DI15: 0 | DJ15: 3682 | DK15: 0 | DL15: 0 | DM15: 0 | DN15: 0 | DO15: -59 | DP15: 3623 | DQ15: 16176 | DR15: 14 | DS15: 14 | DT15: 2435 | DU15: 2449 | DV15: 6072 | DW15: 81200 | DX15: -1472 | DY15: -9 | DZ15: -148 | EA15: -1629 | EB15: -14522 | EC15: -16151 | ED15: -10079 | EE15: 2474
A16: 11 | B16: 114 | C16: たばこ | D16: 0 | E16: 0 | F16: 0 | G16: 0 | H16: 0 | I16: 0 | J16: 0 | K16: 0 | L16: 0 | M16: 0 | N16: 0 | O16: 0 | P16: 0 | Q16: 0 | R16: 0 | S16: 0 | T16: 0 | U16: 0 | V16: 0 | W16: 0 | X16: 0 | Y16: 0 | Z16: 0 | AA16: 0 | AB16: 0 | AC16: 0 | AD16: 0 | AE16: 0 | AF16: 0 | AG16: 0 | AH16: 0 | AI16: 0 | AJ16: 0 | AK16: 0 | AL16: 0 | AM16: 0 | AN16: 0 | AO16: 0 | AP16: 0 | AQ16: 0 | AR16: 0 | AS16: 0 | AT16: 0 | AU16: 0 | AV16: 0 | AW16: 0 | AX16: 0 | AY16: 0 | AZ16: 0 | BA16: 0 | BB16: 0 | BC16: 0 | BD16: 0 | BE16: 0 | BF16: 0 | BG16: 0 | BH16: 0 | BI16: 0 | BJ16: 0 | BK16: 0 | BL16: 0 | BM16: 0 | BN16: 0 | BO16: 0 | BP16: 0 | BQ16: 0 | BR16: 0 | BS16: 0 | BT16: 0 | BU16: 0 | BV16: 0 | BW16: 0 | BX16: 0 | BY16: 0 | BZ16: 0 | CA16: 0 | CB16: 0 | CC16: 0 | CD16: 0 | CE16: 0 | CF16: 0 | CG16: 0 | CH16: 0 | CI16: 0 | CJ16: 0 | CK16: 0 | CL16: 0 | CM16: 0 | CN16: 0 | CO16: 0 | CP16: 0 | CQ16: 0 | CR16: 0 | CS16: 0 | CT16: 0 | CU16: 0 | CV16: 0 | CW16: 0 | CX16: 0 | CY16: 0 | CZ16: 0 | DA16: 0 | DB16: 0 | DC16: 0 | DD16: 0 | DE16: 0 | DF16: 0 | DG16: 0 | DH16: 0 | DI16: 2418 | DJ16: 41209 | DK16: 0 | DL16: 0 | DM16: 0 | DN16: 0 | DO16: 0 | DP16: 43627 | DQ16: 43627 | DR16: 0 | DS16: 0 | DT16: 0 | DU16: 0 | DV16: 43627 | DW16: 138962 | DX16: -7383 | DY16: -116 | DZ16: -15259 | EA16: -22758 | EB16: -20869 | EC16: -43627 | ED16: 0 | EE16: 0
A17: 12 | B17: 151 | C17: 繊維工業製品 | D17: 14 | E17: 0 | F17: 1 | G17: 169 | H17: 1 | I17: 0 | J17: 0 | K17: 0 | L17: 2 | M17: 0 | N17: 0 | O17: 323 | P17: 2415 | Q17: 14 | R17: 58 | S17: 15 | T17: 9 | U17: 14 | V17: 3 | W17: 0 | X17: 0 | Y17: 0 | Z17: 0 | AA17: 0 | AB17: 0 | AC17: 0 | AD17: 0 | AE17: 0 | AF17: 54 | AG17: 65 | AH17: 159 | AI17: 0 | AJ17: 0 | AK17: 0 | AL17: 126 | AM17: 0 | AN17: 0 | AO17: 0 | AP17: 0 | AQ17: 0 | AR17: 84 | AS17: 9 | AT17: 44 | AU17: 12 | AV17: 369 | AW17: 64 | AX17: 127 | AY17: 33 | AZ17: 0 | BA17: 155 | BB17: 0 | BC17: 7 | BD17: 50 | BE17: 0 | BF17: 0 | BG17: 0 | BH17: 161 | BI17: 0 | BJ17: 5 | BK17: 335 | BL17: 0 | BM17: 229 | BN17: 435 | BO17: 174 | BP17: 45 | BQ17: 0 | BR17: 0 | BS17: 6 | BT17: 7 | BU17: 339 | BV17: 3 | BW17: 0 | BX17: 0 | BY17: 0 | BZ17: 21 | CA17: 16 | CB17: 5 | CC17: 0 | CD17: 0 | CE17: 2 | CF17: 10 | CG17: 33 | CH17: 1 | CI17: 2 | CJ17: 0 | CK17: 48 | CL17: 0 | CM17: 8 | CN17: 31 | CO17: 2 | CP17: 0 | CQ17: 52 | CR17: 107 | CS17: 18 | CT17: 12 | CU17: 15 | CV17: 12 | CW17: 0 | CX17: 7 | CY17: 184 | CZ17: 114 | DA17: 0 | DB17: 14 | DC17: 233 | DD17: 0 | DE17: 34 | DF17: 340 | DG17: 6 | DH17: 7462 | DI17: 16 | DJ17: 933 | DK17: 0 | DL17: 0 | DM17: 9 | DN17: 153 | DO17: -430 | DP17: 681 | DQ17: 8143 | DR17: 682 | DS17: 682 | DT17: 1445 | DU17: 2127 | DV17: 2808 | DW17: 67002 | DX17: -2904 | DY17: -72 | DZ17: -299 | EA17: -3275 | EB17: -4358 | EC17: -7633 | ED17: -4825 | EE17: 2637
... A111: 106 | B111: 679 | C111: その他の対個人サービス | D111: 0 | E111: 0 | F111: 31 | G111: 1 | H111: 0 | I111: 0 | J111: 1 | K111: 209 | L111: 7 | M111: 0 | N111: 0 | O111: 0 | P111: 0 | Q111: 0 | R111: 1 | S111: 0 | T111: 1 | U111: 6 | V111: 1 | W111: 2 | X111: 0 | Y111: 0 | Z111: 0 | AA111: 0 | AB111: 8 | AC111: 7 | AD111: 0 | AE111: 0 | AF111: 8 | AG111: 0 | AH111: 0 | AI111: 0 | AJ111: 4 | AK111: 32 | AL111: 24 | AM111: 0 | AN111: 0 | AO111: 0 | AP111: 0 | AQ111: 2 | AR111: 1 | AS111: 7 | AT111: 6 | AU111: 35 | AV111: 59 | AW111: 23 | AX111: 13 | AY111: 133 | AZ111: 10 | BA111: 11 | BB111: 6 | BC111: 4 | BD111: 59 | BE111: 9 | BF111: 0 | BG111: 0 | BH111: 16 | BI111: 3 | BJ111: 0 | BK111: 19 | BL111: 1 | BM111: 114 | BN111: 21 | BO111: 126 | BP111: 93 | BQ111: 28 | BR111: 1 | BS111: 34 | BT111: 0 | BU111: 646 | BV111: 102 | BW111: 350 | BX111: 106 | BY111: 393 | BZ111: 8 | CA111: 94 | CB111: 0 | CC111: 0 | CD111: 0 | CE111: 1 | CF111: 5 | CG111: 47 | CH111: 5 | CI111: 103 | CJ111: 47 | CK111: 115 | CL111: 1 | CM111: 203 | CN111: 185 | CO111: 1261 | CP111: 766 | CQ111: 189 | CR111: 7 | CS111: 45 | CT111: 52 | CU111: 288 | CV111: 78 | CW111: 65 | CX111: 71 | CY111: 440 | CZ111: 214 | DA111: 112 | DB111: 119 | DC111: 212 | DD111: 11 | DE111: 414 | DF111: 0 | DG111: 102 | DH111: 8034 | DI111: 3238 | DJ111: 84946 | DK111: 0 | DL111: 0 | DM111: 0 | DN111: 0 | DO111: 0 | DP111: 88184 | DQ111: 96218 | DR111: 351 | DS111: 351 | DT111: 1879 | DU111: 2230 | DV111: 90414 | DW111: 54569 | DX111: -959 | DY111: 0 | DZ111: -28 | EA111: -987 | EB111: -8631 | EC111: -9618 | ED111: 80796 | EE111: 88830
A112: 107 | B112: 681 | C112: 事務用品 | D112: 38 | E112: 5 | F112: 11 | G112: 55 | H112: 0 | I112: 0 | J112: 3 | K112: 456 | L112: 27 | M112: 0 | N112: 0 | O112: 2 | P112: 15 | Q112: 27 | R112: 19 | S112: 8 | T112: 31 | U112: 52 | V112: 3 | W112: 4 | X112: 0 | Y112: 0 | Z112: 0 | AA112: 0 | AB112: 78 | AC112: 15 | AD112: 0 | AE112: 2 | AF112: 24 | AG112: 3 | AH112: 6 | AI112: 6 | AJ112: 22 | AK112: 21 | AL112: 102 | AM112: 0 | AN112: 0 | AO112: 3 | AP112: 11 | AQ112: 8 | AR112: 40 | AS112: 124 | AT112: 65 | AU112: 222 | AV112: 614 | AW112: 156 | AX112: 143 | AY112: 1494 | AZ112: 85 | BA112: 30 | BB112: 56 | BC112: 18 | BD112: 275 | BE112: 132 | BF112: 0 | BG112: 0 | BH112: 111 | BI112: 23 | BJ112: 15 | BK112: 231 | BL112: 3 | BM112: 353 | BN112: 4 | BO112: 633 | BP112: 70 | BQ112: 31 | BR112: 3 | BS112: 94 | BT112: 285 | BU112: 2340 | BV112: 1615 | BW112: 267 | BX112: 56 | BY112: 0 | BZ112: 90 | CA112: 368 | CB112: 234 | CC112: 0 | CD112: 1 | CE112: 24 | CF112: 64 | CG112: 173 | CH112: 54 | CI112: 688 | CJ112: 85 | CK112: 77 | CL112: 24 | CM112: 137 | CN112: 1802 | CO112: 664 | CP112: 1975 | CQ112: 954 | CR112: 211 | CS112: 917 | CT112: 986 | CU112: 579 | CV112: 132 | CW112: 47 | CX112: 284 | CY112: 893 | CZ112: 282 | DA112: 152 | DB112: 283 | DC112: 178 | DD112: 24 | DE112: 201 | DF112: 0 | DG112: 19 | DH112: 23247 | DI112: 0 | DJ112: 0 | DK112: 0 | DL112: 0 | DM112: 0 | DN112: 0 | DO112: 0 | DP112: 0 | DQ112: 23247 | DR112: 0 | DS112: 0 | DT112: 0 | DU112: 0 | DV112: 0 | DX112: 0 | DY112: 0 | DZ112: 0 | EA112: 0 | EB112: 0 | EC112: 0 | ED112: 0 | EE112: 23247
A113: 108 | B113: 691 | C113: 分類不明 | D113: 2584 | E113: 6 | F113: 13 | G113: 13 | H113: 41 | I113: 0 | J113: 20 | K113: 1675 | L113: 256 | M113: 5 | N113: 0 | O113: 4 | P113: 37 | Q113: 169 | R113: 25 | S113: 39 | T113: 107 | U113: 126 | V113: 1 | W113: 7 | X113: 0 | Y113: 0 | Z113: 1 | AA113: 0 | AB113: 44 | AC113: 61 | AD113: 0 | AE113: 159 | AF113: 266 | AG113: 54 | AH113: 15 | AI113: 25 | AJ113: 413 | AK113: 21 | AL113: 1136 | AM113: 0 | AN113: 0 | AO113: 229 | AP113: 147 | AQ113: 100 | AR113: 308 | AS113: 336 | AT113: 825 | AU113: 2226 | AV113: 3451 | AW113: 550 | AX113: 212 | AY113: 238 | AZ113: 231 | BA113: 20 | BB113: 63 | BC113: 104 | BD113: 254 | BE113: 299 | BF113: 0 | BG113: 1 | BH113: 162 | BI113: 116 | BJ113: 90 | BK113: 148 | BL113: 24 | BM113: 6521 | BN113: 2943 | BO113: 3590 | BP113: 2831 | BQ113: 723 | BR113: 55 | BS113: 668 | BT113: 756 | BU113: 4874 | BV113: 5002 | BW113: 2428 | BX113: 765 | BY113: 75 | BZ113: 179 | CA113: 358 | CB113: 0 | CC113: 0 | CD113: 2 | CE113: 30 | CF113: 49 | CG113: 106 | CH113: 16 | CI113: 1426 | CJ113: 226 | CK113: 110 | CL113: 147 | CM113: 213 | CN113: 158 | CO113: 4141 | CP113: 137 | CQ113: 991 | CR113: 819 | CS113: 1501 | CT113: 650 | CU113: 1612 | CV113: 330 | CW113: 8 | CX113: 1036 | CY113: 2400 | CZ113: 2411 | DA113: 334 | DB113: 688 | DC113: 116 | DD113: 12 | DE113: 672 | DF113: 11 | DG113: 0 | DH113: 69577 | DI113: 0 | DJ113: 26 | DK113: 0 | DL113: 0 | DM113: 0 | DN113: 0 | DO113: 0 | DP113: 26 | DQ113: 69603 | DR113: 25289 | DS113: 25289 | DT113: 0 | DU113: 25289 | DV113: 25315 | DW113: 259089 | DX113: -23085 | DY113: -27 | DZ113: -2234 | EA113: -25346 | EB113: 0 | EC113: -25346 | ED113: -31 | EE113: 69546
A114: 109 | B114: 700 | C114: 内生部門計 | D114: 116263 | E114: 21994 | F114: 5145 | G114: 38401 | H114: 1248 | I114: 0 | J114: 2519 | K114: 390419 | L114: 66857 | M114: 1767 | N114: 0 | O114: 1502 | P114: 6958 | Q114: 14590 | R114: 10284 | S114: 22427 | T114: 28526 | U114: 23429 | V114: 1870 | W114: 4081 | X114: 0 | Y114: 18 | Z114: 585 | AA114: 6 | AB114: 56504 | AC114: 16186 | AD114: 33 | AE114: 4279 | AF114: 109434 | AG114: 4157 | AH114: 2089 | AI114: 1635 | AJ114: 20721 | AK114: 8621 | AL114: 43799 | AM114: 0 | AN114: 0 | AO114: 9233 | AP114: 10529 | AQ114: 18004 | AR114: 61759 | AS114: 62440 | AT114: 69388 | AU114: 151109 | AV114: 316105 | AW114: 123270 | AX114: 66137 | AY114: 352664 | AZ114: 61091 | BA114: 37786 | BB114: 56762 | BC114: 11613 | BD114: 168084 | BE114: 126969 | BF114: 0 | BG114: 1202 | BH114: 223435 | BI114: 18465 | BJ114: 9625 | BK114: 60518 | BL114: 9424 | BM114: 261504 | BN114: 88969 | BO114: 148775 | BP114: 93829 | BQ114: 114284 | BR114: 20711 | BS114: 53434 | BT114: 36292 | BU114: 375750 | BV114: 184626 | BW114: 65147 | BX114: 40547 | BY114: 99286 | BZ114: 11037 | CA114: 45547 | CB114: 247044 | CC114: 21 | CD114: 493 | CE114: 1516 | CF114: 7835 | CG114: 38278 | CH114: 3616 | CI114: 136571 | CJ114: 21308 | CK114: 45428 | CL114: 7656 | CM114: 33638 | CN114: 173479 | CO114: 82339 | CP114: 127601 | CQ114: 349208 | CR114: 19404 | CS114: 73208 | CT114: 49555 | CU114: 49433 | CV114: 43102 | CW114: 36117 | CX114: 118439 | CY114: 151602 | CZ114: 74730 | DA114: 140443 | DB114: 26878 | DC114: 26580 | DD114: 2561 | DE114: 27477 | DF114: 23247 | DG114: 24600 | DH114: 6855104 | DI114: 142618 | DJ114: 4298372 | DK114: 1607723 | DL114: 323977 | DM114: 590542 | DN114: 1964405 | DO114: -48327 | DP114: 8879310 | DQ114: 15734414 | DR114: 1356785 | DS114: 1356785 | DT114: 3860508 | DU114: 5217293 | DV114: 14096603 | DW114: 55234849 | DX114: -1163759 | DY114: -12120 | DZ114: -113283 | EA114: -1289162 | EB114: -4791255 | EC114: -6080417 | ED114: 8016186 | EE114: 14871290
A115: 110 | B115: 711 | C115: 家計外消費支出（行） | D115: 640 | E115: 46 | F115: 17 | G115: 389 | H115: 26 | I115: 0 | J115: 46 | K115: 3550 | L115: 523 | M115: 7 | N115: 0 | O115: 25 | P115: 102 | Q115: 173 | R115: 182 | S115: 292 | T115: 638 | U115: 770 | V115: 79 | W115: 64 | X115: 0 | Y115: 0 | Z115: 2 | AA115: 0 | AB115: 778 | AC115: 245 | AD115: 0 | AE115: 47 | AF115: 2610 | AG115: 137 | AH115: 31 | AI115: 34 | AJ115: 325 | AK115: 195 | AL115: 1039 | AM115: 0 | AN115: 0 | AO115: 68 | AP115: 34 | AQ115: 92 | AR115: 546 | AS115: 1810 | AT115: 1444 | AU115: 3064 | AV115: 5821 | AW115: 2385 | AX115: 791 | AY115: 5308 | AZ115: 1090 | BA115: 549 | BB115: 1342 | BC115: 219 | BD115: 2445 | BE115: 3934 | BF115: 0 | BG115: 8 | BH115: 1714 | BI115: 201 | BJ115: 133 | BK115: 1065 | BL115: 79 | BM115: 6567 | BN115: 2030 | BO115: 3256 | BP115: 1862 | BQ115: 3207 | BR115: 234 | BS115: 787 | BT115: 1727 | BU115: 15852 | BV115: 12166 | BW115: 1155 | BX115: 399 | BY115: 0 | BZ115: 410 | CA115: 1075 | CB115: 0 | CC115: 0 | CD115: 6 | CE115: 46 | CF115: 227 | CG115: 2073 | CH115: 51 | CI115: 478 | CJ115: 290 | CK115: 1170 | CL115: 48 | CM115: 1139 | CN115: 5255 | CO115: 1106 | CP115: 993 | CQ115: 4210 | CR115: 739 | CS115: 2706 | CT115: 2518 | CU115: 4392 | CV115: 398 | CW115: 391 | CX115: 1100 | CY115: 5984 | CZ115: 2503 | DA115: 2951 | DB115: 1027 | DC115: 1357 | DD115: 135 | DE115: 1305 | DF115: 0 | DG115: 139 | DH115: 142618
A116: 111 | B116: 911 | C116: 雇用者所得 | D116: 50258 | E116: 3237 | F116: 2163 | G116: 14970 | H116: 327 | I116: 0 | J116: 1128 | K116: 84751 | L116: 10271 | M116: 221 | N116: 0 | O116: 809 | P116: 3383 | Q116: 4448 | R116: 3853 | S116: 1835 | T116: 12423 | U116: 16951 | V116: 315 | W116: 898 | X116: 0 | Y116: 2 | Z116: 100 | AA116: 2 | AB116: 9451 | AC116: 3561 | AD116: 1 | AE116: 704 | AF116: 42511 | AG116: 3130 | AH116: 1363 | AI116: 797 | AJ116: 7706 | AK116: 5022 | AL116: 17837 | AM116: 0 | AN116: 0 | AO116: 3374 | AP116: 2078 | AQ116: 1579 | AR116: 13011 | AS116: 27488 | AT116: 51718 | AU116: 78866 | AV116: 163371 | AW116: 58283 | AX116: 26383 | AY116: 139968 | AZ116: 23273 | BA116: 10007 | BB116: 21215 | BC116: 4487 | BD116: 51036 | BE116: 25156 | BF116: 0 | BG116: 150 | BH116: 55501 | BI116: 5701 | BJ116: 3269 | BK116: 27473 | BL116: 2775 | BM116: 160699 | BN116: 57327 | BO116: 94882 | BP116: 78813 | BQ116: 33388 | BR116: 2172 | BS116: 11217 | BT116: 45198 | BU116: 508349 | BV116: 147163 | BW116: 41564 | BX116: 11586 | BY116: 0 | BZ116: 9275 | CA116: 118119 | CB116: 0 | CC116: 14 | CD116: 128 | CE116: 2308 | CF116: 6286 | CG116: 19965 | CH116: 9831 | CI116: 16640 | CJ116: 6356 | CK116: 43012 | CL116: 2511 | CM116: 16358 | CN116: 218994 | CO116: 227609 | CP116: 95717 | CQ116: 331288 | CR116: 21657 | CS116: 159454 | CT116: 135891 | CU116: 66457 | CV116: 11599 | CW116: 4058 | CX116: 52444 | CY116: 253319 | CZ116: 40898 | DA116: 74531 | DB116: 23775 | DC116: 22855 | DD116: 2898 | DE116: 29699 | DF116: 0 | DG116: 516 | DH116: 4317410
A117: 112 | B117: 921 | C117: 営業余剰 | D117: 36309 | E117: 1017 | F117: 2941 | G117: 4486 | H117: 824 | I117: 0 | J117: -154 | K117: 52850 | L117: 10296 | M117: 270 | N117: 0 | O117: -89 | P117: -21 | Q117: 4055 | R117: 1119 | S117: 2154 | T117: 4806 | U117: 7516 | V117: 317 | W117: 2152 | X117: 0 | Y117: 8 | Z117: 63 | AA117: 6 | AB117: 1084 | AC117: 3536 | AD117: 6 | AE117: 1697 | AF117: 11298 | AG117: 581 | AH117: -227 | AI117: 70 | AJ117: 4181 | AK117: 197 | AL117: 5898 | AM117: 0 | AN117: 0 | AO117: 1130 | AP117: 4050 | AQ117: 75 | AR117: -528 | AS117: 12855 | AT117: 4663 | AU117: 27278 | AV117: 40506 | AW117: 1384 | AX117: -1908 | AY117: -50935 | AZ117: -868 | BA117: -2500 | BB117: -209 | BC117: 1019 | BD117: 431 | BE117: -6249 | BF117: 0 | BG117: 52 | BH117: -7126 | BI117: 1833 | BJ117: 775 | BK117: -2493 | BL117: -1489 | BM117: 17847 | BN117: 6042 | BO117: 2595 | BP117: 2840 | BQ117: -49465 | BR117: -969 | BS117: 9638 | BT117: 4272 | BU117: 81100 | BV117: 106640 | BW117: 44384 | BX117: 22091 | BY117: 401850 | BZ117: -6082 | CA117: 983 | CB117: 0 | CC117: 5 | CD117: -307 | CE117: 245 | CF117: 1171 | CG117: 29042 | CH117: 558 | CI117: 41104 | CJ117: 3337 | CK117: 14684 | CL117: 1647 | CM117: 6912 | CN117: -3566 | CO117: -1983 | CP117: 8917 | CQ117: 3274 | CR117: 1244 | CS117: 2006 | CT117: 3241 | CU117: -1900 | CV117: 6189 | CW117: -738 | CX117: 2201 | CY117: 48504 | CZ117: -18815 | DA117: -2535 | DB117: 6016 | DC117: 8261 | DD117: 1766 | DE117: 1813 | DF117: 0 | DG117: 39765 | DH117: 1026816
A118: 113 | B118: 931 | C118: 資本減耗引当 | D118: 39275 | E118: 4651 | F118: 1878 | G118: 5979 | H118: 144 | I118: 0 | J118: 460 | K118: 34107 | L118: 8765 | M118: 122 | N118: 0 | O118: 407 | P118: 1083 | Q118: 2130 | R118: 830 | S118: 958 | T118: 3712 | U118: 7246 | V118: 303 | W118: 765 | X118: 0 | Y118: 4 | Z118: 132 | AA118: 2 | AB118: 25755 | AC118: 2697 | AD118: 1 | AE118: 972 | AF118: 16628 | AG118: 1408 | AH118: 158 | AI118: 530 | AJ118: 3791 | AK118: 2219 | AL118: 8076 | AM118: 0 | AN118: 0 | AO118: 819 | AP118: 477 | AQ118: 679 | AR118: 2159 | AS118: 7851 | AT118: 15469 | AU118: 30583 | AV118: 72026 | AW118: 31432 | AX118: 19126 | AY118: 81040 | AZ118: 16002 | BA118: 11473 | BB118: 17495 | BC118: 3319 | BD118: 49304 | BE118: 41679 | BF118: 0 | BG118: 168 | BH118: 31304 | BI118: 4819 | BJ118: 2052 | BK118: 12775 | BL118: 362 | BM118: 17794 | BN118: 4824 | BO118: 23833 | BP118: 12573 | BQ118: 140628 | BR118: 4410 | BS118: 16852 | BT118: 5097 | BU118: 112742 | BV118: 37199 | BW118: 67886 | BX118: 32014 | BY118: 340673 | BZ118: 17688 | CA118: 21525 | CB118: 0 | CC118: 7 | CD118: 361 | CE118: 543 | CF118: 3333 | CG118: 8501 | CH118: 1159 | CI118: 50195 | CJ118: 7687 | CK118: 12045 | CL118: 692 | CM118: 6908 | CN118: 0 | CO118: 11134 | CP118: 17920 | CQ118: 45884 | CR118: 379 | CS118: 5412 | CT118: 16323 | CU118: 5442 | CV118: 32189 | CW118: 3260 | CX118: 5715 | CY118: 47667 | CZ118: 23612 | DA118: 16294 | DB118: 12331 | DC118: 15768 | DD118: 250 | DE118: 17305 | DF118: 0 | DG118: 2445 | DH118: 1854100
A119: 114 | B119: 932 | C119: 資本減耗引当（社会資本等減耗分） | D119: 0 | E119: 0 | F119: 0 | G119: 0 | H119: 0 | I119: 0 | J119: 0 | K119: 0 | L119: 0 | M119: 0 | N119: 0 | O119: 0 | P119: 0 | Q119: 0 | R119: 0 | S119: 0 | T119: 0 | U119: 0 | V119: 0 | W119: 0 | X119: 0 | Y119: 0 | Z119: 0 | AA119: 0 | AB119: 0 | AC119: 0 | AD119: 0 | AE119: 0 | AF119: 0 | AG119: 0 | AH119: 0 | AI119: 0 | AJ119: 0 | AK119: 0 | AL119: 0 | AM119: 0 | AN119: 0 | AO119: 0 | AP119: 0 | AQ119: 0 | AR119: 0 | AS119: 0 | AT119: 0 | AU119: 0 | AV119: 0 | AW119: 0 | AX119: 0 | AY119: 0 | AZ119: 0 | BA119: 0 | BB119: 0 | BC119: 0 | BD119: 0 | BE119: 0 | BF119: 0 | BG119: 0 | BH119: 0 | BI119: 0 | BJ119: 0 | BK119: 0 | BL119: 0 | BM119: 0 | BN119: 0 | BO119: 0 | BP119: 0 | BQ119: 0 | BR119: 0 | BS119: 2394 | BT119: 2677 | BU119: 0 | BV119: 0 | BW119: 0 | BX119: 0 | BY119: 0 | BZ119: 0 | CA119: 0 | CB119: 0 | CC119: 0 | CD119: 0 | CE119: 0 | CF119: 0 | CG119: 0 | CH119: 0 | CI119: 0 | CJ119: 0 | CK119: 0 | CL119: 0 | CM119: 0 | CN119: 234922 | CO119: 52025 | CP119: 30954 | CQ119: 0 | CR119: 104 | CS119: 901 | CT119: 0 | CU119: 0 | CV119: 0 | CW119: 0 | CX119: 0 | CY119: 0 | CZ119: 0 | DA119: 0 | DB119: 0 | DC119: 0 | DD119: 0 | DE119: 0 | DF119: 0 | DG119: 0 | DH119: 323977
A120: 115 | B120: 941 | C120: 間接税（関税・輸入品商品税を除く。） | D120: 6446 | E120: 711 | F120: 738 | G120: 1752 | H120: 50 | I120: 0 | J120: 220 | K120: 11357 | L120: 9663 | M120: 90 | N120: 0 | O120: -17 | P120: 321 | Q120: 1132 | R120: 589 | S120: 550 | T120: 2652 | U120: 2630 | V120: 120 | W120: 77 | X120: 0 | Y120: 0 | Z120: -58 | AA120: 0 | AB120: 1224 | AC120: 145 | AD120: 18 | AE120: 359 | AF120: 4394 | AG120: 341 | AH120: 62 | AI120: 30 | AJ120: 1978 | AK120: 418 | AL120: 2143 | AM120: 0 | AN120: 0 | AO120: 545 | AP120: 621 | AQ120: 572 | AR120: 322 | AS120: 4864 | AT120: 5807 | AU120: 1772 | AV120: 2777 | AW120: -9472 | AX120: -8424 | AY120: -1663 | AZ120: -2650 | BA120: 495 | BB120: -4864 | BC120: -366 | BD120: -11296 | BE120: -9651 | BF120: 0 | BG120: -24 | BH120: -1148 | BI120: 24 | BJ120: 122 | BK120: -702 | BL120: 169 | BM120: 22836 | BN120: 8057 | BO120: 15631 | BP120: 8432 | BQ120: 13429 | BR120: 63 | BS120: 3605 | BT120: 4292 | BU120: 67073 | BV120: 8408 | BW120: 18670 | BX120: 6684 | BY120: 65154 | BZ120: -206 | CA120: 17001 | CB120: 0 | CC120: 2 | CD120: -33 | CE120: 322 | CF120: 1118 | CG120: 2726 | CH120: 1293 | CI120: 4433 | CJ120: 1313 | CK120: 6509 | CL120: 384 | CM120: 1824 | CN120: 1121 | CO120: 1649 | CP120: 3447 | CQ120: 7960 | CR120: 400 | CS120: 1613 | CT120: 2144 | CU120: 3943 | CV120: 1524 | CW120: 121 | CX120: 6574 | CY120: 37700 | CZ120: 61 | DA120: 8385 | DB120: 5678 | DC120: 4077 | DD120: 603 | DE120: 11231 | DF120: 0 | DG120: 2287 | DH120: 397503
A121: 116 | B121: 951 | C121: （控除）経常補助金 | D121: 2584 | E121: 6 | F121: 13 | G121: 13 | H121: 41 | I121: 0 | J121: 20 | K121: 1675 | L121: 256 | M121: 5 | N121: 0 | O121: 4 | P121: 37 | Q121: 169 | R121: 25 | S121: 39 | T121: 107 | U121: 126 | V121: 1 | W121: 7 | X121: 0 | Y121: 0 | Z121: 1 | AA121: 0 | AB121: 44 | AC121: 61 | AD121: 0 | AE121: 159 | AF121: 266 | AG121: 54 | AH121: 15 | AI121: 25 | AJ121: 413 | AK121: 21 | AL121: 1136 | AM121: 0 | AN121: 0 | AO121: 229 | AP121: 147 | AQ121: 100 | AR121: 308 | AS121: 336 | AT121: 825 | AU121: 2226 | AV121: 3451 | AW121: 550 | AX121: 212 | AY121: 238 | AZ121: 231 | BA121: 20 | BB121: 63 | BC121: 104 | BD121: 254 | BE121: 299 | BF121: 0 | BG121: 1 | BH121: 162 | BI121: 116 | BJ121: 90 | BK121: 148 | BL121: 24 | BM121: 6521 | BN121: 2943 | BO121: 3590 | BP121: 2831 | BQ121: 723 | BR121: 55 | BS121: 668 | BT121: 756 | BU121: 4874 | BV121: 5002 | BW121: 2428 | BX121: 765 | BY121: 75 | BZ121: 179 | CA121: 358 | CB121: 0 | CC121: 0 | CD121: 2 | CE121: 30 | CF121: 49 | CG121: 106 | CH121: 16 | CI121: 1426 | CJ121: 226 | CK121: 110 | CL121: 147 | CM121: 213 | CN121: 158 | CO121: 4141 | CP121: 137 | CQ121: 991 | CR121: 819 | CS121: 1501 | CT121: 650 | CU121: 1612 | CV121: 330 | CW121: 8 | CX121: 1036 | CY121: 2400 | CZ121: 2411 | DA121: 334 | DB121: 688 | DC121: 116 | DD121: 12 | DE121: 672 | DF121: 11 | DG121: 0 | DH121: 0
A122: 117 | B122: 960 | C122: 粗付加価値部門計 | D122: 124177 | E122: 9477 | F122: 7737 | G122: 27404 | H122: 1370 | I122: 0 | J122: 1700 | K122: 185609 | L122: 39513 | M122: 707 | N122: 0 | O122: 1135 | P122: 4868 | Q122: 11938 | R122: 6573 | S122: 5789 | T122: 24231 | U122: 35113 | V122: 1134 | W122: 3956 | X122: 0 | Y122: 14 | Z122: 239 | AA122: 10 | AB122: 38292 | AC122: 10184 | AD122: 26 | AE122: 3779 | AF122: 77441 | AG122: 5597 | AH122: 1387 | AI122: 1461 | AJ122: 17981 | AK122: 8051 | AL122: 34993 | AM122: 0 | AN122: 0 | AO122: 5936 | AP122: 7260 | AQ122: 2997 | AR122: 15510 | AS122: 54867 | AT122: 79100 | AU122: 141562 | AV122: 284500 | AW122: 84011 | AX122: 35968 | AY122: 173714 | AZ122: 36847 | BA122: 20024 | BB122: 34979 | BC122: 8678 | BD122: 91920 | BE122: 54868 | BF122: 0 | BG122: 354 | BH122: 80244 | BI122: 12578 | BJ122: 6350 | BK122: 38118 | BL122: 1896 | BM122: 225741 | BN122: 78278 | BO122: 139441 | BP122: 99758 | BQ122: 141154 | BR122: 5887 | BS122: 41211 | BT122: 63263 | BU122: 784281 | BV122: 305390 | BW122: 173658 | BX122: 72606 | BY122: 807677 | BZ122: 20633 | CA122: 157951 | CB122: 0 | CC122: 27 | CD122: 155 | CE122: 3464 | CF122: 12135 | CG122: 62103 | CH122: 12892 | CI122: 112849 | CJ122: 18983 | CK122: 77419 | CL122: 5282 | CM122: 33141 | CN122: 456726 | CO122: 291497 | CP122: 156804 | CQ122: 378436 | CR122: 24523 | CS122: 172092 | CT122: 159473 | CU122: 75934 | CV122: 51899 | CW122: 7092 | CX122: 68034 | CY122: 393149 | CZ122: 48259 | DA122: 99626 | DB122: 48827 | DC122: 52318 | DD122: 5652 | DE122: 61353 | DF122: 0 | DG122: 44946 | DH122: 8016186
A123: 118 | B123: 970 | C123: 県内生産額 | D123: 240440 | E123: 31471 | F123: 12882 | G123: 65805 | H123: 2618 | I123: 0 | J123: 4219 | K123: 576028 | L123: 106370 | M123: 2474 | N123: 0 | O123: 2637 | P123: 11826 | Q123: 26528 | R123: 16857 | S123: 28216 | T123: 52757 | U123: 58542 | V123: 3004 | W123: 8037 | X123: 0 | Y123: 32 | Z123: 824 | AA123: 16 | AB123: 94796 | AC123: 26370 | AD123: 59 | AE123: 8058 | AF123: 186875 | AG123: 9754 | AH123: 3476 | AI123: 3096 | AJ123: 38702 | AK123: 16672 | AL123: 78792 | AM123: 0 | AN123: 0 | AO123: 15169 | AP123: 17789 | AQ123: 21001 | AR123: 77269 | AS123: 117307 | AT123: 148488 | AU123: 292671 | AV123: 600605 | AW123: 207281 | AX123: 102105 | AY123: 526378 | AZ123: 97938 | BA123: 57810 | BB123: 91741 | BC123: 20291 | BD123: 260004 | BE123: 181837 | BF123: 0 | BG123: 1556 | BH123: 303679 | BI123: 31043 | BJ123: 15975 | BK123: 98636 | BL123: 11320 | BM123: 487245 | BN123: 167247 | BO123: 288216 | BP123: 193587 | BQ123: 255438 | BR123: 26598 | BS123: 94645 | BT123: 99555 | BU123: 1160031 | BV123: 490016 | BW123: 238805 | BX123: 113153 | BY123: 906963 | BZ123: 31670 | CA123: 203498 | CB123: 247044 | CC123: 48 | CD123: 648 | CE123: 4980 | CF123: 19970 | CG123: 100381 | CH123: 16508 | CI123: 249420 | CJ123: 40291 | CK123: 122847 | CL123: 12938 | CM123: 66779 | CN123: 630205 | CO123: 373836 | CP123: 284405 | CQ123: 727644 | CR123: 43927 | CS123: 245300 | CT123: 209028 | CU123: 125367 | CV123: 95001 | CW123: 43209 | CX123: 186473 | CY123: 544751 | CZ123: 122989 | DA123: 240069 | DB123: 75705 | DC123: 78898 | DD123: 8213 | DE123: 88830 | DF123: 23247 | DG123: 69546 | DH123: 14871290

Sheet 投入係数表
A1: 令和２年（2020年）長野県産業連関表
A2: 第２表 投入係数表
D3: 1 | E3: 2 | F3: 3 | G3: 4 | H3: 5 | I3: 6 | J3: 7 | K3: 8 | L3: 9 | M3: 10 | N3: 11 | O3: 12 | P3: 13 | Q3: 14 | R3: 15 | S3: 16 | T3: 17 | U3: 18 | V3: 19 | W3: 20 | X3: 21 | Y3: 22 | Z3: 23 | AA3: 24 | AB3: 25 | AC3: 26 | AD3: 27 | AE3: 28 | AF3: 29 | AG3: 30 | AH3: 31 | AI3: 32 | AJ3: 33 | AK3: 34 | AL3: 35 | AM3: 36 | AN3: 37 | AO3: 38 | AP3: 39 | AQ3: 40 | AR3: 41 | AS3: 42 | AT3: 43 | AU3: 44 | AV3: 45 | AW3: 46 | AX3: 47 | AY3: 48 | AZ3: 49 | BA3: 50 | BB3: 51 | BC3: 52 | BD3: 53 | BE3: 54 | BF3: 55 | BG3: 56 | BH3: 57 | BI3: 58 | BJ3: 59 | BK3: 60 | BL3: 61 | BM3: 62 | BN3: 63 | BO3: 64 | BP3: 65 | BQ3: 66 | BR3: 67 | BS3: 68 | BT3: 69 | BU3: 70 | BV3: 71 | BW3: 72 | BX3: 73 | BY3: 74 | BZ3: 75 | CA3: 76 | CB3: 77 | CC3: 78 | CD3: 79 | CE3: 80 | CF3: 81 | CG3: 82 | CH3: 83 | CI3: 84 | CJ3: 85 | CK3: 86 | CL3: 87 | CM3: 88 | CN3: 89 | CO3: 90 | CP3: 91 | CQ3: 92 | CR3: 93 | CS3: 94 | CT3: 95 | CU3: 96 | CV3: 97 | CW3: 98 | CX3: 99 | CY3: 100 | CZ3: 101 | DA3: 102 | DB3: 103 | DC3: 104 | DD3: 105 | DE3: 106 | DF3: 107 | DG3: 108 | DH3: 109 | DI3: 110 | DJ3: 111 | DK3: 112 | DL3: 113 | DM3: 114 | DN3: 115 | DO3: 116 | DP3: 117 | DQ3: 118 | DR3: 119 | DS3: 120 | DT3: 121 | DU3: 122 | DV3: 123 | DW3: 124 | DX3: 125 | DY3: 126 | DZ3: 127 | EA3: 128 | EB3: 129 | EC3: 130 | ED3: 131 | EE3: 132
D4: 011 | E4: 012 | F4: 013 | G4: 015 | H4: 017 | I4: 061 | J4: 062 | K4: 111 | L4: 112 | M4: 113 | N4: 114 | O4: 151 | P4: 152 | Q4: 161 | R4: 162 | S4: 163 | T4: 164 | U4: 191 | V4: 201 | W4: 202 | X4: 203 | Y4: 204 | Z4: 205 | AA4: 206 | AB4: 207 | AC4: 208 | AD4: 211 | AE4: 212 | AF4: 221 | AG4: 222 | AH4: 231 | AI4: 251 | AJ4: 252 | AK4: 253 | AL4: 259 | AM4: 261 | AN4: 262 | AO4: 263 | AP4: 269 | AQ4: 271 | AR4: 272 | AS4: 281 | AT4: 289 | AU4: 291 | AV4: 301 | AW4: 311 | AX4: 321 | AY4: 329 | AZ4: 331 | BA4: 332 | BB4: 333 | BC4: 339 | BD4: 341 | BE4: 342 | BF4: 351 | BG4: 352 | BH4: 353 | BI4: 354 | BJ4: 359 | BK4: 391 | BL4: 392 | BM4: 411 | BN4: 412 | BO4: 413 | BP4: 419 | BQ4: 461 | BR4: 462 | BS4: 471 | BT4: 481 | BU4: 511 | BV4: 531 | BW4: 551 | BX4: 552 | BY4: 553 | BZ4: 571 | CA4: 572 | CB4: 573 | CC4: 574 | CD4: 575 | CE4: 576 | CF4: 577 | CG4: 578 | CH4: 579 | CI4: 591 | CJ4: 592 | CK4: 593 | CL4: 594 | CM4: 595 | CN4: 611 | CO4: 631 | CP4: 632 | CQ4: 641 | CR4: 642 | CS4: 643 | CT4: 644 | CU4: 659 | CV4: 661 | CW4: 662 | CX4: 663 | CY4: 669 | CZ4: 671 | DA4: 672 | DB4: 673 | DC4: 674 | DD4: 675 | DE4: 679 | DF4: 681 | DG4: 691 | DH4: 700 | DI4: 711 | DJ4: 721 | DK4: 731 | DL4: 732 | DM4: 741 | DN4: 751 | DO4: 761 | DP4: 780 | DQ4: 790 | DR4: 801 | DS4: 810 | DT4: 980 | DU4: 990 | DV4: 820 | DW4: 830 | DX4: 841 | DY4: 851 | DZ4: 861 | EA4: 870 | EB4: 1000 | EC4: 1010 | ED4: 880 | EE4: 970
C5: 統合中分類（108部門） | D5: 耕種農業 | E5: 畜産 | F5: 農業サービス | G5: 林業 | H5: 漁業 | I5: 石炭・原油・天然ガス | J5: その他の鉱業 | K5: 食料品 | L5: 飲料 | M5: 飼料・有機質肥料（別掲を除く。） | N5: たばこ | O5: 繊維工業製品 | P5: 衣服・その他の繊維既製品 | Q5: 木材・木製品 | R5: 家具・装備品 | S5: パルプ・紙・板紙・加工紙 | T5: 紙加工品 | U5: 印刷・製版・製本 | V5: 化学肥料 | W5: 無機化学工業製品 | X5: 石油化学系基礎製品 | Y5: 有機化学工業製品（石油化学系基礎製品・合成樹脂を除く。） | Z5: 合成樹脂 | AA5: 化学繊維 | AB5: 医薬品 | AC5: 化学最終製品（医薬品を除く。） | AD5: 石油製品 | AE5: 石炭製品 | AF5: プラスチック製品 | AG5: ゴム製品 | AH5: なめし革・革製品・毛皮 | AI5: ガラス・ガラス製品 | AJ5: セメント・セメント製品 | AK5: 陶磁器 | AL5: その他の窯業・土石製品 | AM5: 銑鉄・粗鋼 | AN5: 鋼材 | AO5: 鋳鍛造品（鉄） | AP5: その他の鉄鋼製品 | AQ5: 非鉄金属製錬・精製 | AR5: 非鉄金属加工製品 | AS5: 建設用・建築用金属製品 | AT5: その他の金属製品 | AU5: はん用機械 | AV5: 生産用機械 | AW5: 業務用機械 | AX5: 電子デバイス | AY5: その他の電子部品 | AZ5: 産業用電気機器 | BA5: 民生用電気機器 | BB5: 電子応用装置・電気計測器 | BC5: その他の電気機械 | BD5: 通信・映像・音響機器 | BE5: 電子計算機・同附属装置 | BF5: 乗用車 | BG5: その他の自動車 | BH5: 自動車部品・同附属品 | BI5: 船舶・同修理 | BJ5: その他の輸送機械・同修理 | BK5: その他の製造工業製品 | BL5: 再生資源回収・加工処理 | BM5: 建築 | BN5: 建設補修 | BO5: 公共事業 | BP5: その他の土木建設 | BQ5: 電気 | BR5: ガス・熱供給 | BS5: 水道 | BT5: 廃棄物処理 | BU5: 商業 | BV5: 金融・保険 | BW5: 不動産仲介及び賃貸 | BX5: 住宅賃貸料 | BY5: 住宅賃貸料（帰属家賃） | BZ5: 鉄道輸送 | CA5: 道路輸送（自家輸送を除く。） | CB5: 自家輸送 | CC5: 水運 | CD5: 航空輸送 | CE5: 貨物利用運送 | CF5: 倉庫 | CG5: 運輸附帯サービス | CH5: 郵便・信書便 | CI5: 通信 | CJ5: 放送 | CK5: 情報サービス | CL5: インターネット附随サービス | CM5: 映像・音声・文字情報制作 | CN5: 公務 | CO5: 教育 | CP5: 研究 | CQ5: 医療 | CR5: 保健衛生 | CS5: 社会保険・社会福祉 | CT5: 介護 | CU5: 他に分類されない会員制団体 | CV5: 物品賃貸サービス | CW5: 広告 | CX5: 自動車整備・機械修理 | CY5: その他の対事業所サービス | CZ5: 宿泊業 | DA5: 飲食サービス | DB5: 洗濯・理容・美容・浴場業 | DC5: 娯楽サービス | DD5: 獣医業 | DE5: その他の対個人サービス | DF5: 事務用品 | DG5: 分類不明 | DH5: 内生部門計 | DI5: 家計外消費支出（列） | DJ5: 民間消費支出 | DK5: 一般政府消費支出 | DL5: 一般政府消費支出（社会資本等減耗分） | DM5: 県内総固定資本形成（公的） | DN5: 県内総固定資本形成（民間） | DO5: 在庫純増 | DP5: 県内最終需要計 | DQ5: 県内需要合計 | DR5: 輸出 | DS5: 輸出計 | DT5: 移出 | DU5: 移輸出計 | DV5: 最終需要計 | DW5: 需要合計 | DX5: （控除）輸入 | DY5: （控除）関税 | DZ5: （控除）輸入品商品税 | EA5: （控除）輸入計 | EB5: （控除）移入 | EC5: （控除）移輸入 | ED5: 最終需要部門計 | EE5: 県内生産額
A6: 1 | B6: 011 | C6: 耕種農業 | D6: 0.021780902 | E6: 0.10326968 | F6: 0.0094705791 | G6: 0.0031000684 | H6: 0 | I6: 0 | J6: 0 | K6: 0.10172596 | L6: 0.017852778 | M6: 0.20735651 | N6: 0 | O6: 0.04778157 | P6: 0.0016066295 | Q6: 3.7696019e-05 | R6: 0 | S6: 0 | T6: 0 | U6: 0 | V6: 0 | W6: 0 | X6: 0 | Y6: 0 | Z6: 0 | AA6: 0 | AB6: 0.0029537111 | AC6: 0.00045506257 | AD6: 0 | AE6: 0 | AF6: 0 | AG6: 0.013225343 | AH6: 0 | AI6: 0 | AJ6: 0 | AK6: 0 | AL6: 0.00053304904 | AM6: 0 | AN6: 0 | AO6: 0 | AP6: 0 | AQ6: 0 | AR6: 0 | AS6: 0 | AT6: 0 | AU6: 0 | AV6: 0 | AW6: 0 | AX6: 0 | AY6: 0 | AZ6: 0 | BA6: 0 | BB6: 0 | BC6: 0 | BD6: 0 | BE6: 0 | BF6: 0 | BG6: 0 | BH6: 0 | BI6: 0 | BJ6: 0 | BK6: 0.0020682104 | BL6: 0 | BM6: 0.00058286899 | BN6: 1.7937541e-05 | BO6: 0.0017209315 | BP6: 0.0019422792 | BQ6: 0 | BR6: 0 | BS6: 0 | BT6: 0 | BU6: 0.00016034054 | BV6: 0 | BW6: 0 | BX6: 0 | BY6: 6.6154849e-06 | BZ6: 0 | CA6: 0 | CB6: 0 | CC6: 0 | CD6: 0 | CE6: 0 | CF6: 0 | CG6: 0 | CH6: 0 | CI6: 0 | CJ6: 0 | CK6: 0 | CL6: 0 | CM6: 0 | CN6: 7.9339263e-06 | CO6: 0.0014578585 | CP6: 0.0003340307 | CQ6: 0.000695395 | CR6: 0 | CS6: 0.0024092947 | CT6: 0.0038176704 | CU6: 0.0021457002 | CV6: 7.3683435e-05 | CW6: 0 | CX6: 0 | CY6: 1.8357011e-06 | CZ6: 0.01649741 | DA6: 0.016549409 | DB6: 0.00015851001 | DC6: 0.001090015 | DD6: 0.0026786801 | DE6: 0.005088371 | DF6: 0 | DG6: 0 | DH6: 0.0054720875 | DI6: 0.0052517915 | DJ6: 0.010183623 | DK6: 0 | DL6: 0 | DM6: 0 | DN6: 0.0011102598 | DO6: -0.017112587 | DP6: 0.0053528934 | DQ6: 0.0081926788 | DR6: 0.0011239806 | DS6: 0.0011239806 | DT6: 0.047368377 | DU6: 0.035342274 | DV6: 0.016452262 | DW6: 0.01495334 | DX6: 0.01818074 | DY6: 0.03820132 | DZ6: 0.0158541 | EA6: 0.018164513 | EB6: 0.010319008 | EC6: 0.011982402 | ED6: 0.019842728 | EE6: 0.016168066
A7: 2 | B7: 012 | C7: 畜産 | D7: 0.0031608717 | E7: 0.10107718 | F7: 0.034311442 | G7: 3.0392827e-05 | H7: 0 | I7: 0 | J7: 0 | K7: 0.062833751 | L7: 0 | M7: 0.015763945 | N7: 0 | O7: 0.0026545317 | P7: 0.00016911889 | Q7: 0 | R7: 0 | S7: 0 | T7: 0 | U7: 0 | V7: 0.00066577896 | W7: 0 | X7: 0 | Y7: 0 | Z7: 0 | AA7: 0 | AB7: 2.1097937e-05 | AC7: 0 | AD7: 0 | AE7: 0 | AF7: 0 | AG7: 0 | AH7: 0.022151899 | AI7: 0 | AJ7: 0 | AK7: 0 | AL7: 0 | AM7: 0 | AN7: 0 | AO7: 0 | AP7: 0 | AQ7: 0 | AR7: 0 | AS7: 0 | AT7: 0 | AU7: 0 | AV7: 0 | AW7: 0 | AX7: 0 | AY7: 0 | AZ7: 0 | BA7: 0 | BB7: 0 | BC7: 0 | BD7: 0 | BE7: 0 | BF7: 0 | BG7: 0 | BH7: 0 | BI7: 0 | BJ7: 0 | BK7: 0.00010138286 | BL7: 0 | BM7: 0 | BN7: 0 | BO7: 0 | BP7: 0 | BQ7: 0 | BR7: 0 | BS7: 0 | BT7: 0 | BU7: 0 | BV7: 0 | BW7: 0 | BX7: 0 | BY7: 0 | BZ7: 0 | CA7: 0 | CB7: 0 | CC7: 0 | CD7: 0 | CE7: 0 | CF7: 0 | CG7: 0 | CH7: 0 | CI7: 0 | CJ7: 0 | CK7: 0 | CL7: 0 | CM7: 0 | CN7: 1.5867853e-06 | CO7: 0.00017119807 | CP7: 0.0010372532 | CQ7: 8.9329397e-05 | CR7: 0 | CS7: 0.00040766408 | CT7: 0.00070325507 | CU7: 0 | CV7: 0 | CW7: 0 | CX7: 0 | CY7: 0 | CZ7: 0.0019595248 | DA7: 0.0039821885 | DB7: 0 | DC7: 0 | DD7: 0 | DE7: 0.00020263425 | DF7: 0 | DG7: 0 | DH7: 0.0028649162 | DI7: 0 | DJ7: 0.00052903751 | DK7: 0 | DL7: 0 | DM7: 0 | DN7: 0.00059101865 | DO7: -0.0028141619 | DP7: 0.00040217089 | DQ7: 0.0029347137 | DR7: 1.7688875e-05 | DS7: 1.7688875e-05 | DT7: 0.0019715022 | DU7: 0.0014634026 | DV7: 0.00079494329 | DW7: 0.0025683349 | DX7: 0.00052416351 | DY7: 0.0047854785 | DZ7: 0.00058261169 | EA7: 0.00056936211 | EB7: 0.0045094657 | EC7: 0.0036740901 | ED7: -0.0013889398 | EE7: 0.0021162253
A8: 3 | B8: 013 | C8: 農業サービス | D8: 0.049010148 | E8: 0.034889263 | F8: 0 | G8: 0 | H8: 0 | I8: 0 | J8: 0 | K8: 0 | L8: 0 | M8: 0 | N8: 0 | O8: 0 | P8: 0 | Q8: 0 | R8: 0 | S8: 0 | T8: 0 | U8: 0 | V8: 0 | W8: 0 | X8: 0 | Y8: 0 | Z8: 0 | AA8: 0 | AB8: 0 | AC8: 0 | AD8: 0 | AE8: 0 | AF8: 0 | AG8: 0 | AH8: 0 | AI8: 0 | AJ8: 0 | AK8: 0 | AL8: 0 | AM8: 0 | AN8: 0 | AO8: 0 | AP8: 0 | AQ8: 0 | AR8: 0 | AS8: 0 | AT8: 0 | AU8: 0 | AV8: 0 | AW8: 0 | AX8: 0 | AY8: 0 | AZ8: 0 | BA8: 0 | BB8: 0 | BC8: 0 | BD8: 0 | BE8: 0 | BF8: 0 | BG8: 0 | BH8: 0 | BI8: 0 | BJ8: 0 | BK8: 0 | BL8: 0 | BM8: 0 | BN8: 0 | BO8: 0 | BP8: 0 | BQ8: 0 | BR8: 0 | BS8: 0 | BT8: 0 | BU8: 0 | BV8: 0 | BW8: 0 | BX8: 0 | BY8: 0 | BZ8: 0 | CA8: 0 | CB8: 0 | CC8: 0 | CD8: 0 | CE8: 0 | CF8: 0 | CG8: 0 | CH8: 0 | CI8: 0 | CJ8: 0 | CK8: 0 | CL8: 0 | CM8: 0 | CN8: 0 | CO8: 0 | CP8: 0 | CQ8: 0 | CR8: 0 | CS8: 0 | CT8: 0 | CU8: 0 | CV8: 0 | CW8: 0 | CX8: 0 | CY8: 0 | CZ8: 0 | DA8: 0 | DB8: 0 | DC8: 0 | DD8: 0 | DE8: 0 | DF8: 0 | DG8: 0 | DH8: 0.00086623286 | DI8: 0 | DJ8: 0 | DK8: 0 | DL8: 0 | DM8: 0 | DN8: 0 | DO8: 0 | DP8: 0 | DQ8: 0.00081871495 | DR8: 0 | DS8: 0 | DT8: 0 | DU8: 0 | DV8: 0 | DW8: 0.0006148425 | DX8: 0 | DY8: 0 | DZ8: 0 | EA8: 0 | EB8: 0 | EC8: 0 | ED8: 0 | EE8: 0.00086623286
A9: 4 | B9: 015 | C9: 林業 | D9: 0.0009565796 | E9: 0 | F9: 0 | G9: 0.20174759 | H9: 0 | I9: 0 | J9: 0 | K9: 0.00072565917 | L9: 0 | M9: 0.0012126112 | N9: 0 | O9: 0 | P9: 0 | Q9: 0.11580217 | R9: 0 | S9: 0 | T9: 0 | U9: 0 | V9: 0 | W9: 0.00037327361 | X9: 0 | Y9: 0 | Z9: 0 | AA9: 0 | AB9: 0 | AC9: 0.00011376564 | AD9: 0 | AE9: 0 | AF9: 0 | AG9: 0 | AH9: 0.001150748 | AI9: 0 | AJ9: 0 | AK9: 0 | AL9: 0 | AM9: 0 | AN9: 0 | AO9: 0 | AP9: 0 | AQ9: 0 | AR9: 0 | AS9: 0 | AT9: 0 | AU9: 0 | AV9: 0 | AW9: 0 | AX9: 0 | AY9: 0 | AZ9: 0 | BA9: 0 | BB9: 0 | BC9: 0 | BD9: 0 | BE9: 0 | BF9: 0 | BG9: 0 | BH9: 0 | BI9: 0 | BJ9: 0 | BK9: 0.0002940103 | BL9: 0 | BM9: 1.0261778e-05 | BN9: 4.1854263e-05 | BO9: 6.592278e-05 | BP9: 3.0993817e-05 | BQ9: 0 | BR9: 0 | BS9: 0 | BT9: 0 | BU9: 0 | BV9: 0 | BW9: 0 | BX9: 0 | BY9: 0 | BZ9: 0 | CA9: 0 | CB9: 0 | CC9: 0 | CD9: 0 | CE9: 0 | CF9: 0 | CG9: 0 | CH9: 0 | CI9: 0 | CJ9: 0 | CK9: 0 | CL9: 0 | CM9: 0 | CN9: 1.5867853e-06 | CO9: 5.8849335e-05 | CP9: 5.2741689e-05 | CQ9: 6.8714921e-06 | CR9: 0 | CS9: 9.376274e-05 | CT9: 0.00017222573 | CU9: 0 | CV9: 0 | CW9: 0 | CX9: 0 | CY9: 0 | CZ9: 0.0015855076 | DA9: 0.0022160296 | DB9: 0 | DC9: 0 | DD9: 0 | DE9: 0.00016886187 | DF9: 0 | DG9: 0 | DH9: 0.0012049392 | DI9: 0.00032253993 | DJ9: 0.00051670726 | DK9: 0 | DL9: 0 | DM9: 0 | DN9: 0 | DO9: -0.057504087 | DP9: 0.0005682874 | DQ9: 0.0014595396 | DR9: 0.00043042929 | DS9: 0.00043042929 | DT9: 0.013534229 | DU9: 0.010126516 | DV9: 0.0041058828 | DW9: 0.0036177482 | DX9: 0.0026027726 | DY9: 0.0011551155 | DZ9: 0.0026129252 | EA9: 0.0025900546 | EB9: 0.0013887802 | EC9: 0.0016434728 | ED9: 0.0059736638 | EE9: 0.0044249692
A10: 5 | B10: 017 | C10: 漁業 | D10: 0 | E10: 0 | F10: 0 | G10: 0 | H10: 0.09434683 | I10: 0 | J10: 0 | K10: 0.0097182776 | L10: 0 | M10: 0.0016168149 | N10: 0 | O10: 0 | P10: 0 | Q10: 0 | R10: 0 | S10: 0 | T10: 0 | U10: 0 | V10: 0 | W10: 0 | X10: 0 | Y10: 0 | Z10: 0 | AA10: 0 | AB10: 0.00016878349 | AC10: 0 | AD10: 0 | AE10: 0 | AF10: 0 | AG10: 0 | AH10: 0 | AI10: 0 | AJ10: 0 | AK10: 0 | AL10: 0 | AM10: 0 | AN10: 0 | AO10: 0 | AP10: 0 | AQ10: 0 | AR10: 0 | AS10: 0 | AT10: 0 | AU10: 0 | AV10: 0 | AW10: 0 | AX10: 0 | AY10: 0 | AZ10: 0 | BA10: 0 | BB10: 0 | BC10: 0 | BD10: 0 | BE10: 0 | BF10: 0 | BG10: 0 | BH10: 0 | BI10: 0 | BJ10: 0 | BK10: 0.0066709923 | BL10: 0 | BM10: 0 | BN10: 0 | BO10: 0 | BP10: 0 | BQ10: 0 | BR10: 0 | BS10: 0 | BT10: 0 | BU10: 0 | BV10: 0 | BW10: 0 | BX10: 0 | BY10: 0 | BZ10: 0 | CA10: 0 | CB10: 0 | CC10: 0 | CD10: 0 | CE10: 0 | CF10: 0 | CG10: 0 | CH10: 0 | CI10: 0 | CJ10: 0 | CK10: 0 | CL10: 0 | CM10: 0 | CN10: 1.5867853e-06 | CO10: 5.6174365e-05 | CP10: 0.00017580563 | CQ10: 0.00012506116 | CR10: 0 | CS10: 0.00052588667 | CT10: 0.00096637771 | CU10: 0 | CV10: 0 | CW10: 0 | CX10: 0 | CY10: 0 | CZ10: 0.0056427811 | DA10: 0.0070438082 | DB10: 0 | DC10: 2.5349185e-05 | DD10: 0 | DE10: 0.00045029832 | DF10: 0 | DG10: 0 | DH10: 0.00063504915 | DI10: 0.0013532654 | DJ10: 0.00096524917 | DK10: 0 | DL10: 0 | DM10: 0 | DN10: 0 | DO10: 0.0001241542 | DP10: 0.00048832623 | DQ10: 0.0008757873 | DR10: 8.1811046e-05 | DS10: 8.1811046e-05 | DT10: 0.00024167804 | DU10: 0.00020010377 | DV10: 0.00038165223 | DW10: 0.00070753185 | DX10: 0.0012029982 | DY10: 0.0047029703 | DZ10: 0.0010239842 | EA10: 0.0012201725 | EB10: 0.0022192515 | EC10: 0.0020074281 | ED10: -0.00085152715 | EE10: 0.00017604391
A11: 6 | B11: 061 | C11: 石炭・原油・天然ガス | D11: 0 | E11: 0 | F11: 0 | G11: 0.00015196414 | H11: 0 | I11: 0 | J11: 0 | K11: 0.00025693195 | L11: 0.00025383097 | M11: 0 | N11: 0 | O11: 0 | P11: 0 | Q11: 0 | R11: 0 | S11: 0.0027998299 | T11: 1.8954831e-05 | U11: 0 | V11: 0.063581891 | W11: 0.00024884907 | X11: 0 | Y11: 0 | Z11: 0.0012135922 | AA11: 0 | AB11: 0.00016878349 | AC11: 0.00022753129 | AD11: 0.49152542 | AE11: 0.00012410027 | AF11: 2.1404682e-05 | AG11: 0 | AH11: 0 | AI11: 0.0051679587 | AJ11: 0.00025838458 | AK11: 0.0079774472 | AL11: 0.0045055336 | AM11: 0 | AN11: 0 | AO11: 6.5923924e-05 | AP11: 0 | AQ11: 0.00090471882 | AR11: 0.00040119582 | AS11: 3.4098562e-05 | AT11: 7.408006e-05 | AU11: 5.4668894e-05 | AV11: 2.3309829e-05 | AW11: 0 | AX11: 9.7938397e-05 | AY11: 0.00014818248 | AZ11: 3.0631624e-05 | BA11: 0 | BB11: 0 | BC11: 0 | BD11: 0 | BE11: 5.4994308e-06 | BF11: 0 | BG11: 0 | BH11: 0.00012183918 | BI11: 0 | BJ11: 6.2597809e-05 | BK11: 0 | BL11: 0.00017667845 | BM11: 0 | BN11: 0 | BO11: 6.93924e-06 | BP11: 5.1656361e-06 | BQ11: 0.0018321471 | BR11: 0.43777728 | BS11: 0 | BT11: 0 | BU11: 1.7240919e-06 | BV11: 0 | BW11: 0 | BX11: 0 | BY11: 0 | BZ11: 0 | CA11: 0 | CB11: 0 | CC11: 0 | CD11: 0 | CE11: 0 | CF11: 0 | CG11: 9.9620446e-06 | CH11: 0 | CI11: 0 | CJ11: 0 | CK11: 0 | CL11: 0 | CM11: 0 | CN11: 0 | CO11: 2.6749698e-06 | CP11: 9.1418927e-05 | CQ11: 5.4971937e-06 | CR11: 0 | CS11: 4.0766408e-06 | CT11: 9.5680961e-06 | CU11: 3.9882904e-05 | CV11: 3.1578615e-05 | CW11: 0 | CX11: 0 | CY11: 0 | CZ11: 5.6915659e-05 | DA11: 0 | DB11: 5.2836669e-05 | DC11: 0 | DD11: 0 | DE11: 0 | DF11: 0 | DG11: 0 | DH11: 0.00090294789 | DI11: 0 | DJ11: 0 | DK11: 0 | DL11: 0 | DM11: 0 | DN11: 0 | DO11: -0.0062697871 | DP11: 3.4124273e-05 | DQ11: 0.00087267311 | DR11: 0 | DS11: 0 | DT11: 0 | DU11: 0 | DV11: 2.149454e-05 | DW11: 0.00065536426 | DX11: 0.0099780109 | DY11: 0 | DZ11: 0.0154039 | EA11: 0.010360994 | EB11: 7.805888e-05 | EC11: 0.0022582333 | ED11: -0.0016751108 | EE11: 0
A12: 7 | B12: 062 | C12: その他の鉱業 | D12: 0 | E12: 0 | F12: 0 | G12: 9.1178482e-05 | H12: 0 | I12: 0 | J12: 0 | K12: 0 | L12: 0 | M12: 0.0012126112 | N12: 0 | O12: 0 | P12: 0 | Q12: 0 | R12: 0 | S12: 0.00060249504 | T12: 0 | U12: 0 | V12: 0.0046604527 | W12: 0.028119945 | X12: 0 | Y12: 0 | Z12: 0.0012135922 | AA12: 0 | AB12: 0.00012658762 | AC12: 0.00041714069 | AD12: 0 | AE12: 0.045048399 | AF12: 0 | AG12: 0.00020504408 | AH12: 0 | AI12: 0.04618863 | AJ12: 0.030282673 | AK12: 0.041446737 | AL12: 0.012907402 | AM12: 0 | AN12: 0 | AO12: 0.00019777177 | AP12: 0 | AQ12: 0.11132803 | AR12: 0.00010353441 | AS12: 4.2623202e-05 | AT12: 2.6938204e-05 | AU12: 1.3667224e-05 | AV12: 2.4974817e-05 | AW12: 6.2716795e-05 | AX12: 0 | AY12: 0 | AZ12: 0 | BA12: 0 | BB12: 0 | BC12: 0 | BD12: 0 | BE12: 0 | BF12: 0 | BG12: 0 | BH12: 0 | BI12: 0 | BJ12: 0 | BK12: 0.00076037147 | BL12: 0 | BM12: 0.0011103244 | BN12: 0.00015545869 | BO12: 0.0040455769 | BP12: 0.0045354285 | BQ12: 0 | BR12: 0 | BS12: 0 | BT12: 0 | BU12: 0 | BV12: 0 | BW12: 0 | BX12: 0 | BY12: 0 | BZ12: 0 | CA12: 0 | CB12: 0 | CC12: 0 | CD12: 0 | CE12: 0 | CF12: 0 | CG12: 0 | CH12: 0 | CI12: 0 | CJ12: 0 | CK12: 0 | CL12: 0 | CM12: 0 | CN12: 3.1735705e-06 | CO12: 0 | CP12: 0 | CQ12: 0 | CR12: 0 | CS12: 0 | CT12: 0 | CU12: 0 | CV12: 0 | CW12: 0 | CX12: 0 | CY12: 0 | CZ12: -6.5046468e-05 | DA12: -3.7489222e-05 | DB12: 0 | DC12: 2.5349185e-05 | DD12: 0 | DE12: 7.8802206e-05 | DF12: 0 | DG12: 0.00012941075 | DH12: 0.00058885275 | DI12: -0.0004838099 | DJ12: -1.721582e-05 | DK12: 0 | DL12: 0 | DM12: 0 | DN12: -3.56342e-05 | DO12: -0.0026279306 | DP12: -9.6854373e-06 | DQ12: 0.00055108503 | DR12: 3.6851823e-05 | DS12: 3.6851823e-05 | DT12: 3.1861092e-05 | DU12: 3.3158958e-05 | DV12: 6.1716997e-06 | DW12: 0.00042211358 | DX12: 0.0029172707 | DY12: 0 | DZ12: 0.0030013329 | EA12: 0.0028972309 | EB12: 0.00018575509 | EC12: 0.00076063862 | ED12: -0.00056610463 | EE12: 0.00028370101
