Workbook

Sheet 取引基本表
A1: 令和２年（2020年）長野県産業連関表
A2: 第１表 取引基本表（生産者価格表）≪統合中分類≫ | EE2: （単位：100万円）
D3: 1 | E3: 2 | F3: 3 | G3: 4 | H3: 5 | I3: 6 | J3: 7 | K3: 8 | L3: 9 | M3: 10 | N3: 11 | O3: 12 | P3: 13 | Q3: 14 | R3: 15 | S3: 16 | T3: 17 | U3: 18 | V3: 19 | W3: 20 | X3: 21 | Y3: 22 | Z3: 23 | AA3: 24 | AB3: 25 | AC3: 26 | AD3: 27 | AE3: 28 | AF3: 29 | AG3: 30 | AH3: 31 | AI3: 32 | AJ3: 33 | AK3: 34 | AL3: 35 | AM3: 36 | AN3: 37 | AO3: 38 | AP3: 39 | AQ3: 40 | AR3: 41 | AS3: 42 | AT3: 43 | AU3: 44 | AV3: 45 | AW3: 46 | AX3: 47 | AY3: 48 | AZ3: 49 | BA3: 50 | BB3: 51 | BC3: 52 | BD3: 53 | BE3: 54 | BF3: 55 | BG3: 56 | BH3: 57 | BI3: 58 | BJ3: 59 | BK3: 60 | BL3: 61 | BM3: 62 | BN3: 63 | BO3: 64 | BP3: 65 | BQ3: 66 | BR3: 67 | BS3: 68 | BT3: 69 | BU3: 70 | BV3: 71 | BW3: 72 | BX3: 73 | BY3: 74 | BZ3: 75 | CA3: 76 | CB3: 77 | CC3: 78 | CD3: 79 | CE3: 80 | CF3: 81 | CG3: 82 | CH3: 83 | CI3: 84 | CJ3: 85 | CK3: 86 | CL3: 87 | CM3: 88 | CN3: 89 | CO3: 90 | CP3: 91 | CQ3: 92 | CR3: 93 | CS3: 94 | CT3: 95 | CU3: 96 | CV3: 97 | CW3: 98 | CX3: 99 | CY3: 100 | CZ3: 101 | DA3: 102 | DB3: 103 | DC3: 104 | DD3: 105 | DE3: 106 | DF3: 107 | DG3: 108 | DH3: 109 | DI3: 110 | DJ3: 111 | DK3: 112 | DL3: 113 | DM3: 114 | DN3: 115 | DO3: 116 | DP3: 117 | DQ3: 118 | DR3: 119 | DS3: 120 | DT3: 121 | DU3: 122 | DV3: 123 | DW3: 124 | DX3: 125 | DY3: 126 | DZ3: 127 | EA3: 128 | EB3: 129 | EC3: 130 | ED3: 131 | EE3: 132
D4: 011 | E4: 012 | F4: 013 | G4: 015 | H4: 017 | I4: 061 | J4: 062 | K4: 111 | L4: 112 | M4: 113 | N4: 114 | O4: 151 | P4: 152 | Q4: 161 | R4: 162 | S4: 163 | T4: 164 | U4: 191 | V4: 201 | W4: 202 | X4: 203 | Y4: 204 | Z4: 205 | AA4: 206 | AB4: 207 | AC4: 208 | AD4: 211 | AE4: 212 | AF4: 221 | AG4: 222 | AH4: 231 | AI4: 251 | AJ4: 252 | AK4: 253 | AL4: 259 | AM4: 261 | AN4: 262 | AO4: 263 | AP4: 269 | AQ4: 271 | AR4: 272 | AS4: 281 | AT4: 289 | AU4: 291 | AV4: 301 | AW4: 311 | AX4: 321 | AY4: 329 | AZ4: 331 | BA4: 332 | BB4: 333 | BC4: 339 | BD4: 341 | BE4: 342 | BF4: 351 | BG4: 352 | BH4: 353 | BI4: 354 | BJ4: 359 | BK4: 391 | BL4: 392 | BM4: 411 | BN4: 412 | BO4: 413 | BP4: 419 | BQ4: 461 | BR4: 462 | BS4: 471 | BT4: 481 | BU4: 511 | BV4: 531 | BW4: 551 | BX4: 552 | BY4: 553 | BZ4: 571 | CA4: 572 | CB4: 573 | CC4: 574 | CD4: 575 | CE4: 576 | CF4: 577 | CG4: 578 | CH4: 579 | CI4: 591 | CJ4: 592 | CK4: 593 | CL4: 594 | CM4: 595 | CN4: 611 | CO4: 631 | CP4: 632 | CQ4: 641 | CR4: 642 | CS4: 643 | CT4: 644 | CU4: 659 | CV4: 661 | CW4: 662 | CX4: 663 | CY4: 669 | CZ4: 671 | DA4: 672 | DB4: 673 | DC4: 674 | DD4: 675 | DE4: 679 | DF4: 681 | DG4: 691 | DH4: 700 | DI4: 711 | DJ4: 721 | DK4: 731 | DL4: 732 | DM4: 741 | DN4: 751 | DO4: 761 | DP4: 780 | DQ4: 790 | DR4: 801 | DS4: 810 | DT4: 980 | DU4: 990 | DV4: 820 | DW4: 830 | DX4: 841 | DY4: 851 | DZ4: 861 | EA4: 870 | EB4: 1000 | EC4: 1010 | ED4: 880 | EE4: 970
C5: 統合中分類（108部門） | D5: 耕種農業 | E5: 畜産 | F5: 農業サービス | G5: 林業 | H5: 漁業 | I5: 石炭・原油・天然ガス | J5: その他の鉱業 | K5: 食料品 | L5: 飲料 | M5: 飼料・有機質肥料（別掲を除く。） | N5: たばこ | O5: 繊維工業製品 | P5: 衣服・その他の繊維既製品 | Q5: 木材・木製品 | R5: 家具・装備品 | S5: パルプ・紙・板紙・加工紙 | T5: 紙加工品 | U5: 印刷・製版・製本 | V5: 化学肥料 | W5: 無機化学工業製品 | X5: 石油化学系基礎製品 | Y5: 有機化学工業製品（石油化学系基礎製品・合成樹脂を除く。） | Z5: 合成樹脂 | AA5: 化学繊維 | AB5: 医薬品 | AC5: 化学最終製品（医薬品を除く。） | AD5: 石油製品 | AE5: 石炭製品 | AF5: プラスチック製品 | AG5: ゴム製品 | AH5: なめし革・革製品・毛皮 | AI5: ガラス・ガラス製品 | AJ5: セメント・セメント製品 | AK5: 陶磁器 | AL5: その他の窯業・土石製品 | AM5: 銑鉄・粗鋼 | AN5: 鋼材 | AO5: 鋳鍛造品（鉄） | AP5: その他の鉄鋼製品 | AQ5: 非鉄金属製錬・精製 | AR5: 非鉄金属加工製品 | AS5: 建設用・建築用金属製品 | AT5: その他の金属製品 | AU5: はん用機械 | AV5: 生産用機械 | AW5: 業務用機械 | AX5: 電子デバイス | AY5: その他の電子部品 | AZ5: 産業用電気機器 | BA5: 民生用電気機器 | BB5: 電子応用装置・電気計測器 | BC5: その他の電気機械 | BD5: 通信・映像・音響機器 | BE5: 電子計算機・同附属装置 | BF5: 乗用車 | BG5: その他の自動車 | BH5: 自動車部品・同附属品 | BI5: 船舶・同修理 | BJ5: その他の輸送機械・同修理 | BK5: その他の製造工業製品 | BL5: 再生資源回収・加工処理 | BM5: 建築 | BN5: 建設補修 | BO5: 公共事業 | BP5: その他の土木建設 | BQ5: 電気 | BR5: ガス・熱供給 | BS5: 水道 | BT5: 廃棄物処理 | BU5: 商業 | BV5: 金融・保険 | BW5: 不動産仲介及び賃貸 | BX5: 住宅賃貸料 | BY5: 住宅賃貸料（帰属家賃） | BZ5: 鉄道輸送 | CA5: 道路輸送（自家輸送を除く。） | CB5: 自家輸送 | CC5: 水運 | CD5: 航空輸送 | CE5: 貨物利用運送 | CF5: 倉庫 | CG5: 運輸附帯サービス | CH5: 郵便・信書便 | CI5: 通信 | CJ5: 放送 | CK5: 情報サービス | CL5: インターネット附随サービス | CM5: 映像・音声・文字情報制作 | CN5: 公務 | CO5: 教育 | CP5: 研究 | CQ5: 医療 | CR5: 保健衛生 | CS5: 社会保険・社会福祉 | CT5: 介護 | CU5: 他に分類されない会員制団体 | CV5: 物品賃貸サービス | CW5: 広告 | CX5: 自動車整備・機械修理 | CY5: その他の対事業所サービス | CZ5: 宿泊業 | DA5: 飲食サービス | DB5: 洗濯・理容・美容・浴場業 | DC5: 娯楽サービス | DD5: 獣医業 | DE5: その他の対個人サービス | DF5: 事務用品 | DG5: 分類不明 | DH5: 内生部門計 | DI5: 家計外消費支出（列） | DJ5: 民間消費支出 | DK5: 一般政府消費支出 | DL5: 一般政府消費支出（社会資本等減耗分） | DM5: 県内総固定資本形成（公的） | DN5: 県内総固定資本形成（民間） | DO5: 在庫純増 | DP5: 県内最終需要計 | DQ5: 県内需要合計 | DR5: 輸出 | DS5: 輸出計 | DT5: 移出 | DU5: 移輸出計 | DV5: 最終需要計 | DW5: 需要合計 | DX5: （控除）輸入 | DY5: （控除）関税 | DZ5: （控除）輸入品商品税 | EA5: （控除）輸入計 | EB5: （控除）移入 | EC5: （控除）移輸入 | ED5: 最終需要部門計 | EE5: 県内生産額
A6: 1 | B6: 011 | C6: 耕種農業 | D6: 5237 | E6: 3250 | F6: 122 | G6: 204 | H6: 0 | I6: 0 | J6: 0 | K6: 58597 | L6: 1899 | M6: 513 | N6: 0 | O6: 126 | P6: 19 | Q6: 1 | R6: 0 | S6: 0 | T6: 0 | U6: 0 | V6: 0 | W6: 0 | X6: 0 | Y6: 0 | Z6: 0 | AA6: 0 | AB6: 280 | AC6: 12 | AD6: 0 | AE6: 0 | AF6: 0 | AG6: 129 | AH6: 0 | AI6: 0 | AJ6: 0 | AK6: 0 | AL6: 42 | AM6: 0 | AN6: 0 | AO6: 0 | AP6: 0 | AQ6: 0 | AR6: 0 | AS6: 0 | AT6: 0 | AU6: 0 | AV6: 0 | AW6: 0 | AX6: 0 | AY6: 0 | AZ6: 0 | BA6: 0 | BB6: 0 | BC6: 0 | BD6: 0 | BE6: 0 | BF6: 0 | BG6: 0 | BH6: 0 | BI6: 0 | BJ6: 0 | BK6: 204 | BL6: 0 | BM6: 284 | BN6: 3 | BO6: 496 | BP6: 376 | BQ6: 0 | BR6: 0 | BS6: 0 | BT6: 0 | BU6: 186 | BV6: 0 | BW6: 0 | BX6: 0 | BY6: 6 | BZ6: 0 | CA6: 0 | CB6: 0 | CC6: 0 | CD6: 0 | CE6: 0 | CF6: 0 | CG6: 0 | CH6: 0 | CI6: 0 | CJ6: 0 | CK6: 0 | CL6: 0 | CM6: 0 | CN6: 5 | CO6: 545 | CP6: 95 | CQ6: 506 | CR6: 0 | CS6: 591 | CT6: 798 | CU6: 269 | CV6: 7 | CW6: 0 | CX6: 0 | CY6: 1 | CZ6: 2029 | DA6: 3973 | DB6: 12 | DC6: 86 | DD6: 22 | DE6: 452 | DF6: 0 | DG6: 0 | DH6: 81377 | DI6: 749 | DJ6: 43773 | DK6: 0 | DL6: 0 | DM6: 0 | DN6: 2181 | DO6: 827 | DP6: 47530 | DQ6: 128907 | DR6: 1525 | DS6: 1525 | DT6: 182866 | DU6: 184391 | DV6: 231921 | DW6: 390857 | DX6: -21158 | DY6: -463 | DZ6: -1796 | EA6: -23417 | EB6: -49441 | EC6: -72858 | ED6: 159063 | EE6: 240440
A7: 2 | B7: 012 | C7: 畜産 | D7: 760 | E7: 3181 | F7: 442 | G7: 2 | H7: 0 | I7: 0 | J7: 0 | K7: 36194 | L7: 0 | M7: 39 | N7: 0 | O7: 7 | P7: 2 | Q7: 0 | R7: 0 | S7: 0 | T7: 0 | U7: 0 | V7: 2 | W7: 0 | X7: 0 | Y7: 0 | Z7: 0 | AA7: 0 | AB7: 2 | AC7: 0 | AD7: 0 | AE7: 0 | AF7: 0 | AG7: 0 | AH7: 77 | AI7: 0 | AJ7: 0 | AK7: 0 | AL7: 0 | AM7: 0 | AN7: 0 | AO7: 0 | AP7: 0 | AQ7: 0 | AR7: 0 | AS7: 0 | AT7: 0 | AU7: 0 | AV7: 0 | AW7: 0 | AX7: 0 | AY7: 0 | AZ7: 0 | BA7: 0 | BB7: 0 | BC7: 0 | BD7: 0 | BE7: 0 | BF7: 0 | BG7: 0 | BH7: 0 | BI7: 0 | BJ7: 0 | BK7: 10 | BL7: 0 | BM7: 0 | BN7: 0 | BO7: 0 | BP7: 0 | BQ7: 0 | BR7: 0 | BS7: 0 | BT7: 0 | BU7: 0 | BV7: 0 | BW7: 0 | BX7: 0 | BY7: 0 | BZ7: 0 | CA7: 0 | CB7: 0 | CC7: 0 | CD7: 0 | CE7: 0 | CF7: 0 | CG7: 0 | CH7: 0 | CI7: 0 | CJ7: 0 | CK7: 0 | CL7: 0 | CM7: 0 | CN7: 1 | CO7: 64 | CP7: 295 | CQ7: 65 | CR7: 0 | CS7: 100 | CT7: 147 | CU7: 0 | CV7: 0 | CW7: 0 | CX7: 0 | CY7: 0 | CZ7: 241 | DA7: 956 | DB7: 0 | DC7: 0 | DD7: 0 | DE7: 18 | DF7: 0 | DG7: 0 | DH7: 42605 | DI7: 0 | DJ7: 2274 | DK7: 0 | DL7: 0 | DM7: 0 | DN7: 1161 | DO7: 136 | DP7: 3571 | DQ7: 46176 | DR7: 24 | DS7: 24 | DT7: 7611 | DU7: 7635 | DV7: 11206 | DW7: 175459 | DX7: -610 | DY7: -58 | DZ7: -66 | EA7: -734 | EB7: -21606 | EC7: -22340 | ED7: -11134 | EE7: 31471
A8: 3 | B8: 013 | C8: 農業サービス | D8: 11784 | E8: 1098 | F8: 0 | G8: 0 | H8: 0 | I8: 0 | J8: 0 | K8: 0 | L8: 0 | M8: 0 | N8: 0 | O8: 0 | P8: 0 | Q8: 0 | R8: 0 | S8: 0 | T8: 0 | U8: 0 | V8: 0 | W8: 0 | X8: 0 | Y8: 0 | Z8: 0 | AA8: 0 | AB8: 0 | AC8: 0 | AD8: 0 | AE8: 0 | AF8: 0 | AG8: 0 | AH8: 0 | AI8: 0 | AJ8: 0 | AK8: 0 | AL8: 0 | AM8: 0 | AN8: 0 | AO8: 0 | AP8: 0 | AQ8: 0 | AR8: 0 | AS8: 0 | AT8: 0 | AU8: 0 | AV8: 0 | AW8: 0 | AX8: 0 | AY8: 0 | AZ8: 0 | BA8: 0 | BB8: 0 | BC8: 0 | BD8: 0 | BE8: 0 | BF8: 0 | BG8: 0 | BH8: 0 | BI8: 0 | BJ8: 0 | BK8: 0 | BL8: 0 | BM8: 0 | BN8: 0 | BO8: 0 | BP8: 0 | BQ8: 0 | BR8: 0 | BS8: 0 | BT8: 0 | BU8: 0 | BV8: 0 | BW8: 0 | BX8: 0 | BY8: 0 | BZ8: 0 | CA8: 0 | CB8: 0 | CC8: 0 | CD8: 0 | CE8: 0 | CF8: 0 | CG8: 0 | CH8: 0 | CI8: 0 | CJ8: 0 | CK8: 0 | CL8: 0 | CM8: 0 | CN8: 0 | CO8: 0 | CP8: 0 | CQ8: 0 | CR8: 0 | CS8: 0 | CT8: 0 | CU8: 0 | CV8: 0 | CW8: 0 | CX8: 0 | CY8: 0 | CZ8: 0 | DA8: 0 | DB8: 0 | DC8: 0 | DD8: 0 | DE8: 0 | DF8: 0 | DG8: 0 | DH8: 12882 | DI8: 0 | DJ8: 0 | DK8: 0 | DL8: 0 | DM8: 0 | DN8: 0 | DO8: 0 | DP8: 0 | DQ8: 12882 | DR8: 0 | DS8: 0 | DT8: 0 | DU8: 0 | DV8: 0 | DW8: 9319 | DX8: 0 | DY8: 0 | DZ8: 0 | EA8: 0 | EB8: 0 | EC8: 0 | ED8: 0 | EE8: 12882
A9: 4 | B9: 015 | C9: 林業 | D9: 230 | E9: 0 | F9: 0 | G9: 13276 | H9: 0 | I9: 0 | J9: 0 | K9: 418 | L9: 0 | M9: 3 | N9: 0 | O9: 0 | P9: 0 | Q9: 3072 | R9: 0 | S9: 0 | T9: 0 | U9: 0 | V9: 0 | W9: 3 | X9: 0 | Y9: 0 | Z9: 0 | AA9: 0 | AB9: 0 | AC9: 3 | AD9: 0 | AE9: 0 | AF9: 0 | AG9: 0 | AH9: 4 | AI9: 0 | AJ9: 0 | AK9: 0 | AL9: 0 | AM9: 0 | AN9: 0 | AO9: 0 | AP9: 0 | AQ9: 0 | AR9: 0 | AS9: 0 | AT9: 0 | AU9: 0 | AV9: 0 | AW9: 0 | AX9: 0 | AY9: 0 | AZ9: 0 | BA9: 0 | BB9: 0 | BC9: 0 | BD9: 0 | BE9: 0 | BF9: 0 | BG9: 0 | BH9: 0 | BI9: 0 | BJ9: 0 | BK9: 29 | BL9: 0 | BM9: 5 | BN9: 7 | BO9: 19 | BP9: 6 | BQ9: 0 | BR9: 0 | BS9: 0 | BT9: 0 | BU9: 0 | BV9: 0 | BW9: 0 | BX9: 0 | BY9: 0 | BZ9: 0 | CA9: 0 | CB9: 0 | CC9: 0 | CD9: 0 | CE9: 0 | CF9: 0 | CG9: 0 | CH9: 0 | CI9: 0 | CJ9: 0 | CK9: 0 | CL9: 0 | CM9: 0 | CN9: 1 | CO9: 22 | CP9: 15 | CQ9: 5 | CR9: 0 | CS9: 23 | CT9: 36 | CU9: 0 | CV9: 0 | CW9: 0 | CX9: 0 | CY9: 0 | CZ9: 195 | DA9: 532 | DB9: 0 | DC9: 0 | DD9: 0 | DE9: 15 | DF9: 0 | DG9: 0 | DH9: 17919 | DI9: 46 | DJ9: 2221 | DK9: 0 | DL9: 0 | DM9: 0 | DN9: 0 | DO9: 2779 | DP9: 5046 | DQ9: 22965 | DR9: 584 | DS9: 584 | DT9: 52249 | DU9: 52833 | DV9: 57879 | DW9: 22499 | DX9: -3029 | DY9: -14 | DZ9: -296 | EA9: -3339 | EB9: -6654 | EC9: -9993 | ED9: 47886 | EE9: 65805
A10: 5 | B10: 017 | C10: 漁業 | D10: 0 | E10: 0 | F10: 0 | G10: 0 | H10: 247 | I10: 0 | J10: 0 | K10: 5598 | L10: 0 | M10: 4 | N10: 0 | O10: 0 | P10: 0 | Q10: 0 | R10: 0 | S10: 0 | T10: 0 | U10: 0 | V10: 0 | W10: 0 | X10: 0 | Y10: 0 | Z10: 0 | AA10: 0 | AB10: 16 | AC10: 0 | AD10: 0 | AE10: 0 | AF10: 0 | AG10: 0 | AH10: 0 | AI10: 0 | AJ10: 0 | AK10: 0 | AL10: 0 | AM10: 0 | AN10: 0 | AO10: 0 | AP10: 0 | AQ10: 0 | AR10: 0 | AS10: 0 | AT10: 0 | AU10: 0 | AV10: 0 | AW10: 0 | AX10: 0 | AY10: 0 | AZ10: 0 | BA10: 0 | BB10: 0 | BC10: 0 | BD10: 0 | BE10: 0 | BF10: 0 | BG10: 0 | BH10: 0 | BI10: 0 | BJ10: 0 | BK10: 658 | BL10: 0 | BM10: 0 | BN10: 0 | BO10: 0 | BP10: 0 | BQ10: 0 | BR10: 0 | BS10: 0 | BT10: 0 | BU10: 0 | BV10: 0 | BW10: 0 | BX10: 0 | BY10: 0 | BZ10: 0 | CA10: 0 | CB10: 0 | CC10: 0 | CD10: 0 | CE10: 0 | CF10: 0 | CG10: 0 | CH10: 0 | CI10: 0 | CJ10: 0 | CK10: 0 | CL10: 0 | CM10: 0 | CN10: 1 | CO10: 21 | CP10: 50 | CQ10: 91 | CR10: 0 | CS10: 129 | CT10: 202 | CU10: 0 | CV10: 0 | CW10: 0 | CX10: 0 | CY10: 0 | CZ10: 694 | DA10: 1691 | DB10: 0 | DC10: 2 | DD10: 0 | DE10: 40 | DF10: 0 | DG10: 0 | DH10: 9444 | DI10: 193 | DJ10: 4149 | DK10: 0 | DL10: 0 | DM10: 0 | DN10: 0 | DO10: -6 | DP10: 4336 | DQ10: 13780 | DR10: 111 | DS10: 111 | DT10: 933 | DU10: 1044 | DV10: 5380 | DW10: 92177 | DX10: -1400 | DY10: -57 | DZ10: -116 | EA10: -1573 | EB10: -10633 | EC10: -12206 | ED10: -6826 | EE10: 2618
A11: 6 | B11: 061 | C11: 石炭・原油・天然ガス | D11: 0 | E11: 0 | F11: 0 | G11: 10 | H11: 0 | I11: 0 | J11: 0 | K11: 148 | L11: 27 | M11: 0 | N11: 0 | O11: 0 | P11: 0 | Q11: 0 | R11: 0 | S11: 79 | T11: 1 | U11: 0 | V11: 191 | W11: 2 | X11: 0 | Y11: 0 | Z11: 1 | AA11: 0 | AB11: 16 | AC11: 6 | AD11: 29 | AE11: 1 | AF11: 4 | AG11: 0 | AH11: 0 | AI11: 16 | AJ11: 10 | AK11: 133 | AL11: 355 | AM11: 0 | AN11: 0 | AO11: 1 | AP11: 0 | AQ11: 19 | AR11: 31 | AS11: 4 | AT11: 11 | AU11: 16 | AV11: 14 | AW11: 0 | AX11: 10 | AY11: 78 | AZ11: 3 | BA11: 0 | BB11: 0 | BC11: 0 | BD11: 0 | BE11: 1 | BF11: 0 | BG11: 0 | BH11: 37 | BI11: 0 | BJ11: 1 | BK11: 0 | BL11: 2 | BM11: 0 | BN11: 0 | BO11: 2 | BP11: 1 | BQ11: 468 | BR11: 11644 | BS11: 0 | BT11: 0 | BU11: 2 | BV11: 0 | BW11: 0 | BX11: 0 | BY11: 0 | BZ11: 0 | CA11: 0 | CB11: 0 | CC11: 0 | CD11: 0 | CE11: 0 | CF11: 0 | CG11: 1 | CH11: 0 | CI11: 0 | CJ11: 0 | CK11: 0 | CL11: 0 | CM11: 0 | CN11: 0 | CO11: 1 | CP11: 26 | CQ11: 4 | CR11: 0 | CS11: 1 | CT11: 2 | CU11: 5 | CV11: 3 | CW11: 0 | CX11: 0 | CY11: 0 | CZ11: 7 | DA11: 0 | DB11: 4 | DC11: 0 | DD11: 0 | DE11: 0 | DF11: 0 | DG11: 0 | DH11: 13428 | DI11: 0 | DJ11: 0 | DK11: 0 | DL11: 0 | DM11: 0 | DN11: 0 | DO11: 303 | DP11: 303 | DQ11: 13731 | DR11: 0 | DS11: 0 | DT11: 0 | DU11: 0 | DV11: 303 | DW11: 448894 | DX11: -11612 | DY11: 0 | DZ11: -1745 | EA11: -13357 | EB11: -374 | EC11: -13731 | ED11: -13428 | EE11: 0
A12: 7 | B12: 062 | C12: その他の鉱業 | D12: 0 | E12: 0 | F12: 0 | G12: 6 | H12: 0 | I12: 0 | J12: 0 | K12: 0 | L12: 0 | M12: 3 | N12: 0 | O12: 0 | P12: 0 | Q12: 0 | R12: 0 | S12: 17 | T12: 0 | U12: 0 | V12: 14 | W12: 226 | X12: 0 | Y12: 0 | Z12: 1 | AA12: 0 | AB12: 12 | AC12: 11 | AD12: 0 | AE12: 363 | AF12: 0 | AG12: 2 | AH12: 0 | AI12: 143 | AJ12: 1172 | AK12: 691 | AL12: 1017 | AM12: 0 | AN12: 0 | AO12: 3 | AP12: 0 | AQ12: 2338 | AR12: 8 | AS12: 5 | AT12: 4 | AU12: 4 | AV12: 15 | AW12: 13 | AX12: 0 | AY12: 0 | AZ12: 0 | BA12: 0 | BB12: 0 | BC12: 0 | BD12: 0 | BE12: 0 | BF12: 0 | BG12: 0 | BH12: 0 | BI12: 0 | BJ12: 0 | BK12: 75 | BL12: 0 | BM12: 541 | BN12: 26 | BO12: 1166 | BP12: 878 | BQ12: 0 | BR12: 0 | BS12: 0 | BT12: 0 | BU12: 0 | BV12: 0 | BW12: 0 | BX12: 0 | BY12: 0 | BZ12: 0 | CA12: 0 | CB12: 0 | CC12: 0 | CD12: 0 | CE12: 0 | CF12: 0 | CG12: 0 | CH12: 0 | CI12: 0 | CJ12: 0 | CK12: 0 | CL12: 0 | CM12: 0 | CN12: 2 | CO12: 0 | CP12: 0 | CQ12: 0 | CR12: 0 | CS12: 0 | CT12: 0 | CU12: 0 | CV12: 0 | CW12: 0 | CX12: 0 | CY12: 0 | CZ12: -8 | DA12: -9 | DB12: 0 | DC12: 2 | DD12: 0 | DE12: 7 | DF12: 0 | DG12: 9 | DH12: 8757 | DI12: -69 | DJ12: -74 | DK12: 0 | DL12: 0 | DM12: 0 | DN12: -70 | DO12: 127 | DP12: -86 | DQ12: 8671 | DR12: 50 | DS12: 50 | DT12: 123 | DU12: 173 | DV12: 87 | DW12: 166362 | DX12: -3395 | DY12: 0 | DZ12: -340 | EA12: -3735 | EB12: -890 | EC12: -4625 | ED12: -4538 | EE12: 4219
A13: 8 | B13: 111 | C13: 食料品 | D13: 0 | E13: 506 | F13: 0 | G13: 3398 | H13: 32 | I13: 0 | J13: 0 | K13: 132716 | L13: 14025 | M13: 640 | N13: 0 | O13: 0 | P13: 46 | Q13: 8 | R13: 0 | S13: 117 | T13: 9 | U13: 0 | V13: 0 | W13: 2 | X13: 0 | Y13: 0 | Z13: 0 | AA13: 0 | AB13: 1147 | AC13: 459 | AD13: 0 | AE13: 0 | AF13: 4 | AG13: 0 | AH13: 74 | AI13: 1 | AJ13: 0 | AK13: 13 | AL13: 40 | AM13: 0 | AN13: 0 | AO13: 0 | AP13: 0 | AQ13: 0 | AR13: 0 | AS13: 0 | AT13: 0 | AU13: 0 | AV13: 0 | AW13: 0 | AX13: 0 | AY13: 0 | AZ13: 0 | BA13: 0 | BB13: 0 | BC13: 0 | BD13: 0 | BE13: 0 | BF13: 0 | BG13: 0 | BH13: 0 | BI13: 0 | BJ13: 0 | BK13: 183 | BL13: 0 | BM13: 0 | BN13: 0 | BO13: 0 | BP13: 0 | BQ13: 0 | BR13: 0 | BS13: 0 | BT13: 0 | BU13: 0 | BV13: 0 | BW13: 0 | BX13: 0 | BY13: 0 | BZ13: 0 | CA13: 0 | CB13: 0 | CC13: 0 | CD13: 0 | CE13: 0 | CF13: 0 | CG13: 0 | CH13: 0 | CI13: 0 | CJ13: 0 | CK13: 0 | CL13: 0 | CM13: 0 | CN13: 412 | CO13: 2560 | CP13: 527 | CQ13: 2002 | CR13: 0 | CS13: 2797 | CT13: 3929 | CU13: 199 | CV13: 0 | CW13: 0 | CX13: 0 | CY13: 0 | CZ13: 8922 | DA13: 38246 | DB13: 0 | DC13: 3 | DD13: 0 | DE13: 662 | DF13: 0 | DG13: 0 | DH13: 213679 | DI13: 6773 | DJ13: 308353 | DK13: 0 | DL13: 0 | DM13: 0 | DN13: 0 | DO13: -554 | DP13: 314572 | DQ13: 528251 | DR13: 7930 | DS13: 7930 | DT13: 465090 | DU13: 473020 | DV13: 787592 | DW13: 2701521 | DX13: -68482 | DY13: -5224 | DZ13: -5837 | EA13: -79543 | EB13: -345700 | EC13: -425243 | ED13: 362349 | EE13: 576028
A14: 9 | B14: 112 | C14: 飲料 | D14: 0 | E14: 6 | F14: 0 | G14: 0 | H14: 0 | I14: 0 | J14: 0 | K14: 1225 | L14: 6664 | M14: 0 | N14: 0 | O14: 0 | P14: 0 | Q14: 0 | R14: 0 | S14: 0 | T14: 0 | U14: 0 | V14: 0 | W14: 0 | X14: 0 | Y14: 0 | Z14: 0 | AA14: 0 | AB14: 9 | AC14: 0 | AD14: 0 | AE14: 0 | AF14: 0 | AG14: 0 | AH14: 0 | AI14: 0 | AJ14: 0 | AK14: 0 | AL14: 0 | AM14: 0 | AN14: 0 | AO14: 0 | AP14: 0 | AQ14: 0 | AR14: 0 | AS14: 0 | AT14: 0 | AU14: 0 | AV14: 0 | AW14: 0 | AX14: 0 | AY14: 0 | AZ14: 0 | BA14: 0 | BB14: 0 | BC14: 0 | BD14: 0 | BE14: 0 | BF14: 0 | BG14: 0 | BH14: 0 | BI14: 0 | BJ14: 0 | BK14: 0 | BL14: 0 | BM14: 0 | BN14: 0 | BO14: 0 | BP14: 0 | BQ14: 0 | BR14: 0 | BS14: 0 | BT14: 0 | BU14: 99 | BV14: 0 | BW14: 0 | BX14: 0 | BY14: 0 | BZ14: 0 | CA14: 0 | CB14: 0 | CC14: 0 | CD14: 0 | CE14: 0 | CF14: 0 | CG14: 0 | CH14: 0 | CI14: 0 | CJ14: 0 | CK14: 0 | CL14: 0 | CM14: 0 | CN14: 37 | CO14: 26 | CP14: 14 | CQ14: 227 | CR14: 0 | CS14: 232 | CT14: 327 | CU14: 0 | CV14: 0 | CW14: 0 | CX14: 0 | CY14: 3 | CZ14: 2663 | DA14: 14997 | DB14: 0 | DC14: 0 | DD14: 1 | DE14: 153 | DF14: 0 | DG14: 269 | DH14: 26952 | DI14: 3636 | DJ14: 65558 | DK14: 0 | DL14: 0 | DM14: 0 | DN14: 0 | DO14: -1921 | DP14: 67273 | DQ14: 94225 | DR14: 862 | DS14: 862 | DT14: 75855 | DU14: 76717 | DV14: 143990 | DW14: 584563 | DX14: -5375 | DY14: -104 | DZ14: -1361 | EA14: -6840 | EB14: -57732 | EC14: -64572 | ED14: 79418 | EE14: 106370
A15: 10 | B15: 113 | C15: 飼料・有機質肥料（別掲を除く。） | D15: 1346 | E15: 8223 | F15: 365 | G15: 705 | H15: 357 | I15: 0 | J15: 0 | K15: -3 | L15: 0 | M15: 91 | N15: 0 | O15: 0 | P15: 0 | Q15: 0 | R15: 0 | S15: 0 | T15: 0 | U15: 0 | V15: 1 | W15: 0 | X15: 0 | Y15: 0 | Z15: 0 | AA15: 0 | AB15: 0 | AC15: 0 | AD15: 0 | AE15: 0 | AF15: 0 | AG15: 0 | AH15: 0 | AI15: 0 | AJ15: 0 | AK15: 0 | AL15: 0 | AM15: 0 | AN15: 0 | AO15: 0 | AP15: 0 | AQ15: 0 | AR15: 0 | AS15: 0 | AT15: 0 | AU15: 0 | AV15: 0 | AW15: 0 | AX15: 0 | AY15: 0 | AZ15: 0 | BA15: 0 | BB15: 0 | BC15: 0 | BD15: 0 | BE15: 0 | BF15: 0 | BG15: 0 | BH15: 0 | BI15: 0 | BJ15: 0 | BK15: 0 | BL15: 0 | BM15: 0 | BN15: 0 | BO15: 23 | BP15: 0 | BQ15: 0 | BR15: 0 | BS15: 0 | BT15: 0 | BU15: 67 | BV15: 0 | BW15: 0 | BX15: 0 | BY15: 0 | BZ15: 0 | CA15: 0 | CB15: 0 | CC15: 0 | CD15: 0 | CE15: 0 | CF15: 0 | CG15: 0 | CH15: 0 | CI15: 0 | CJ15: 0 | CK15: 0 | CL15: 0 | CM15: 0 | CN15: 0 | CO15: 211 | CP15: 971 | CQ15: 45 | CR15: 0 | CS15: 15 | CT15: 5 | CU15: 0 | CV15: 0 | CW15: 0 | CX15: 0 | CY15: 0 | CZ15: 0 | DA15: 0 | DB15: 0 | DC15: 65 | DD15: 66 | DE15: 0 | DF15: 0 | DG15: 0 | DH15: 12553 | DI15: 0 | DJ15: 3682 | DK15: 0 | DL15: 0 | DM15: 0 | DN15: 0 | DO15: -59 | DP15: 3623 | DQ15: 16176 | DR15: 14 | DS15: 14 | DT15: 2435 | DU15: 2449 | DV15: 6072 | DW15: 81200 | DX15: -1472 | DY15: -9 | DZ15: -148 | EA15: -1629 | EB15: -14522 | EC15: -16151 | ED15: -10079 | EE15: 2474
A16: 11 | B16: 114 | C16: たばこ | D16: 0 | E16: 0 | F16: 0 | G16: 0 | H16: 0 | I16: 0 | J16: 0 | K16: 0 | L16: 0 | M16: 0 | N16: 0 | O16: 0 | P16: 0 | Q16: 0 | R16: 0 | S16: 0 | T16: 0 | U16: 0 | V16: 0 | W16: 0 | X16: 0 | Y16: 0 | Z16: 0 | AA16: 0 | AB16: 0 | AC16: 0 | AD16: 0 | AE16: 0 | AF16: 0 | AG16: 0 | AH16: 0 | AI16: 0 | AJ16: 0 | AK16: 0 | AL16: 0 | AM16: 0 | AN16: 0 | AO16: 0 | AP16: 0 | AQ16: 0 | AR16: 0 | AS16: 0 | AT16: 0 | AU16: 0 | AV16: 0 | AW16: 0 | AX16: 0 | AY16: 0 | AZ16: 0 | BA16: 0 | BB16: 0 | BC16: 0 | BD16: 0 | BE16: 0 | BF16: 0 | BG16: 0 | BH16: 0 | BI16: 0 | BJ16: 0 | BK16: 0 | BL16: 0 | BM16: 0 | BN16: 0 | BO16: 0 | BP16: 0 | BQ16: 0 | BR16: 0 | BS16: 0 | BT16: 0 | BU16: 0 | BV16: 0 | BW16: 0 | BX16: 0 | BY16: 0 | BZ16: 0 | CA16: 0 | CB16: 0 | CC16: 0 | CD16: 0 | CE16: 0 | CF16: 0 | CG16: 0 | CH16: 0 | CI16: 0 | CJ16: 0 | CK16: 0 | CL16: 0 | CM16: 0 | CN16: 0 | CO16: 0 | CP16: 0 | CQ16: 0 | CR16: 0 | CS16: 0 | CT16: 0 | CU16: 0 | CV16: 0 | CW16: 0 | CX16: 0 | CY16: 0 | CZ16: 0 | DA16: 0 | DB16: 0 | DC16: 0 | DD16: 0 | DE16: 0 | DF16: 0 | DG16: 0 | DH16: 0 | DI16: 2418 | DJ16: 41209 | DK16: 0 | DL16: 0 | DM16: 0 | DN16: 0 | DO16: 0 | DP16: 43627 | DQ16: 43627 | DR16: 0 | DS16: 0 | DT16: 0 | DU16: 0 | DV16: 43627 | DW16: 138962 | DX16: -7383 | DY16: -116 | DZ16: -15259 | EA16: -22758 | EB16: -20869 | EC16: -43627 | ED16: 0 | EE16: 0
A17: 12 | B17: 151 | C17: 繊維工業製品 | D17: 14 | E17: 0 | F17: 1 | G17: 169 | H17: 1 | I17: 0 | J17: 0 | K17: 0 | L17: 2 | M17: 0 | N17: 0 | O17: 323 | P17: 2415 | Q17: 14 | R17: 58 | S17: 15 | T17: 9 | U17: 14 | V17: 3 | W17: 0 | X17: 0 | Y17: 0 | Z17: 0 | AA17: 0 | AB17: 0 | AC17: 0 | AD17: 0 | AE17: 0 | AF17: 54 | AG17: 65 | AH17: 159 | AI17: 0 | AJ17: 0 | AK17: 0 | AL17: 126 | AM17: 0 | AN17: 0 | AO17: 0 | AP17: 0 | AQ17: 0 | AR17: 84 | AS17: 9 | AT17: 44 | AU17: 12 | AV17: 369 | AW17: 64 | AX17: 127 | AY17: 33 | AZ17: 0 | BA17: 155 | BB17: 0 | BC17: 7 | BD17: 50 | BE17: 0 | BF17: 0 | BG17: 0 | BH17: 161 | BI17: 0 | BJ17: 5 | BK17: 335 | BL17: 0 | BM17: 229 | BN17: 435 | BO17: 174 | BP17: 45 | BQ17: 0 | BR17: 0 | BS17: 6 | BT17: 7 | BU17: 339 | BV17: 3 | BW17: 0 | BX17: 0 | BY17: 0 | BZ17: 21 | CA17: 16 | CB17: 5 | CC17: 0 | CD17: 0 | CE17: 2 | CF17: 10 | CG17: 33 | CH17: 1 | CI17: 2 | CJ17: 0 | CK17: 48 | CL17: 0 | CM17: 8 | CN17: 31 | CO17: 2 | CP17: 0 | CQ17: 52 | CR17: 107 | CS17: 18 | CT17: 12 | CU17: 15 | CV17: 12 | CW17: 0 | CX17: 7 | CY17: 184 | CZ17: 114 | DA17: 0 | DB17: 14 | DC17: 233 | DD17: 0 | DE17: 34 | DF17: 340 | DG17: 6 | DH17: 7462 | DI17: 16 | DJ17: 933 | DK17: 0 | DL17: 0 | DM17: 9 | DN17: 153 | DO17: -430 | DP17: 681 | DQ17: 8143 | DR17: 682 | DS17: 682 | DT17: 1445 | DU17: 2127 | DV17: 2808 | DW17: 67002 | DX17: -2904 | DY17: -72 | DZ17: -299 | EA17: -3275 | EB17: -4358 | EC17: -7633 | ED17: -4825 | EE17: 2637
... A111: 106 | B111: 679 | C111: その他の対個人サービス | D111: 0 | E111: 0 | F111: 31 | G111: 1 | H111: 0 | I111: 0 | J111: 1 | K111: 209 | L111: 7 | M111: 0 | N111: 0 | O111: 0 | P111: 0 | Q111: 0 | R111: 1 | S111: 0 | T111: 1 | U111: 6 | V111: 1 | W111: 2 | X111: 0 | Y111: 0 | Z111: 0 | AA111: 0 | AB111: 8 | AC111: 7 | AD111: 0 | AE111: 0 | AF111: 8 | AG111: 0 | AH111: 0 | AI111: 0 | AJ111: 4 | AK111: 32 | AL111: 24 | AM111: 0 | AN111: 0 | AO111: 0 | AP111: 0 | AQ111: 2 | AR111: 1 | AS111: 7 | AT111: 6 | AU111: 35 | AV111: 59 | AW111: 23 | AX111: 13 | AY111: 133 | AZ111: 10 | BA111: 11 | BB111: 6 | BC111: 4 | BD111: 59 | BE111: 9 | BF111: 0 | BG111: 0 | BH111: 16 | BI111: 3 | BJ111: 0 | BK111: 19 | BL111: 1 | BM111: 114 | BN111: 21 | BO111: 126 | BP111: 93 | BQ111: 28 | BR111: 1 | BS111: 34 | BT111: 0 | BU111: 646 | BV111: 102 | BW111: 350 | BX111: 106 | BY111: 393 | BZ111: 8 | CA111: 94 | CB111: 0 | CC111: 0 | CD111: 0 | CE111: 1 | CF111: 5 | CG111: 47 | CH111: 5 | CI111: 103 | CJ111: 47 | CK111: 115 | CL111: 1 | CM111: 203 | CN111: 185 | CO111: 1261 | CP111: 766 | CQ111: 189 | CR111: 7 | CS111: 45 | CT111: 52 | CU111: 288 | CV111: 78 | CW111: 65 | CX111: 71 | CY111: 440 | CZ111: 214 | DA111: 112 | DB111: 119 | DC111: 212 | DD111: 11 | DE111: 414 | DF111: 0 | DG111: 102 | DH111: 8034 | DI111: 3238 | DJ111: 84946 | DK111: 0 | DL111: 0 | DM111: 0 | DN111: 0 | DO111: 0 | DP111: 88184 | DQ111: 96218 | DR111: 351 | DS111: 351 | DT111: 1879 | DU111: 2230 | DV111: 90414 | DW111: 54569 | DX111: -959 | DY111: 0 | DZ111: -28 | EA111: -987 | EB111: -8631 | EC111: -9618 | ED111: 80796 | EE111: 88830
A112: 107 | B112: 681 | C112: 事務用品 | D112: 38 | E112: 5 | F112: 11 | G112: 55 | H112: 0 | I112: 0 | J112: 3 | K112: 456 | L112: 27 | M112: 0 | N112: 0 | O112: 2 | P112: 15 | Q112: 27 | R112: 19 | S112: 8 | T112: 31 | U112: 52 | V112: 3 | W112: 4 | X112: 0 | Y112: 0 | Z112: 0 | AA112: 0 | AB112: 78 | AC112: 15 | AD112: 0 | AE112: 2 | AF112: 24 | AG112: 3 | AH112: 6 | AI112: 6 | AJ112: 22 | AK112: 21 | AL112: 102 | AM112: 0 | AN112: 0 | AO112: 3 | AP112: 11 | AQ112: 8 | AR112: 40 | AS112: 124 | AT112: 65 | AU112: 222 | AV112: 614 | AW112: 156 | AX112: 143 | AY112: 1494 | AZ112: 85 | BA112: 30 | BB112: 56 | BC112: 18 | BD112: 275 | BE112: 132 | BF112: 0 | BG112: 0 | BH112: 111 | BI112: 23 | BJ112: 15 | BK112: 231 | BL112: 3 | BM112: 353 | BN112: 4 | BO112: 633 | BP112: 70 | BQ112: 31 | BR112: 3 | BS112: 94 | BT112: 285 | BU112: 2340 | BV112: 1615 | BW112: 267 | BX112: 56 | BY112: 0 | BZ112: 90 | CA112: 368 | CB112: 234 | CC112: 0 | CD112: 1 | CE112: 24 | CF112: 64 | CG112: 173 | CH112: 54 | CI112: 688 | CJ112: 85 | CK112: 77 | CL112: 24 | CM112: 137 | CN112: 1802 | CO112: 664 | CP112: 1975 | CQ112: 954 | CR112: 211 | CS112: 917 | CT112: 986 | CU112: 579 | CV112: 132 | CW112: 47 | CX112: 284 | CY112: 893 | CZ112: 282 | DA112: 152 | DB112: 283 | DC112: 178 | DD112: 24 | DE112: 201 | DF112: 0 | DG112: 19 | DH112: 23247 | DI112: 0 | DJ112: 0 | DK112: 0 | DL112: 0 | DM112: 0 | DN112: 0 | DO112: 0 | DP112: 0 | DQ112: 23247 | DR112: 0 | DS112: 0 | DT112: 0 | DU112: 0 | DV112: 0 | DX112: 0 | DY112: 0 | DZ112: 0 | EA112: 0 | EB112: 0 | EC112: 0 | ED112: 0 | EE112: 23247
A113: 108 | B113: 691 | C113: 分類不明 | D113: 2584 | E113: 6 | F113: 13 | G113: 13 | H113: 41 | I113: 0 | J113: 20 | K113: 1675 | L113: 256 | M113: 5 | N113: 0 | O113: 4 | P113: 37 | Q113: 169 | R113: 25 | S113: 39 | T113: 107 | U113: 126 | V113: 1 | W113: 7 | X113: 0 | Y113: 0 | Z113: 1 | AA113: 0 | AB113: 44 | AC113: 61 | AD113: 0 | AE113: 159 | AF113: 266 | AG113: 54 | AH113: 15 | AI113: 25 | AJ113: 413 | AK113: 21 | AL113: 1136 | AM113: 0 | AN113: 0 | AO113: 229 | AP113: 147 | AQ113: 100 | AR113: 308 | AS113: 336 | AT113: 825 | AU113: 2226 | AV113: 3451 | AW113: 550 | AX113: 212 | AY113: 238 | AZ113: 231 | BA113: 20 | BB113: 63 | BC113: 104 | BD113: 254 | BE113: 299 | BF113: 0 | BG113: 1 | BH113: 162 | BI113: 116 | BJ113: 90 | BK113: 148 | BL113: 24 | BM113: 6521 | BN113: 2943 | BO113: 3590 | BP113: 2831 | BQ113: 723 | BR113: 55 | BS113: 668 | BT113: 756 | BU113: 4874 | BV113: 5002 | BW113: 2428 | BX113: 765 | BY113: 75 | BZ113: 179 | CA113: 358 | CB113: 0 | CC113: 0 | CD113: 2 | CE113: 30 | CF113: 49 | CG113: 106 | CH113: 16 | CI113: 1426 | CJ113: 226 | CK113: 110 | CL113: 147 | CM113: 213 | CN113: 158 | CO113: 4141 | CP113: 137 | CQ113: 991 | CR113: 819 | CS113: 1501 | CT113: 650 | CU113: 1612 | CV113: 330 | CW113: 8 | CX113: 1036 | CY113: 2400 | CZ113: 2411 | DA113: 334 | DB113: 688 | DC113: 116 | DD113: 12 | DE113: 672 | DF113: 11 | DG113: 0 | DH113: 69577 | DI113: 0 | DJ113: 26 | DK113: 0 | DL113: 0 | DM113: 0 | DN113: 0 | DO113: 0 | DP113: 26 | DQ113: 69603 | DR113: 25289 | DS113: 25289 | DT113: 0 | DU113: 25289 | DV113: 25315 | DW113: 259089 | DX113: -23085 | DY113: -27 | DZ113: -2234 | EA113: -25346 | EB113: 0 | EC113: -25346 | ED113: -31 | EE113: 69546
A114: 109 | B114: 700 | C114: 内生部門計 | D114: 116263 | E114: 21994 | F114: 5145 | G114: 38401 | H114: 1248 | I114: 0 | J114: 2519 | K114: 390419 | L114: 66857 | M114: 1767 | N114: 0 | O114: 1502 | P114: 6958 | Q114: 14590 | R114: 10284 | S114: 22427 | T114: 28526 | U114: 23429 | V114: 1870 | W114: 4081 | X114: 0 | Y114: 18 | Z114: 585 | AA114: 6 | AB114: 56504 | AC114: 16186 | AD114: 33 | AE114: 4279 | AF114: 109434 | AG114: 4157 | AH114: 2089 | AI114: 1635 | AJ114: 20721 | AK114: 8621 | AL114: 43799 | AM114: 0 | AN114: 0 | AO114: 9233 | AP114: 10529 | AQ114: 18004 | AR114: 61759 | AS114: 62440 | AT114: 69388 | AU114: 151109 | AV114: 316105 | AW114: 123270 | AX114: 66137 | AY114: 352664 | AZ114: 61091 | BA114: 37786 | BB114: 56762 | BC114: 11613 | BD114: 168084 | BE114: 126969 | BF114: 0 | BG114: 1202 | BH114: 223435 | BI114: 18465 | BJ114: 9625 | BK114: 60518 | BL114: 9424 | BM114: 261504 | BN114: 88969 | BO114: 148775 | BP114: 93829 | BQ114: 114284 | BR114: 20711 | BS114: 53434 | BT114: 36292 | BU114: 375750 | BV114: 184626 | BW114: 65147 | BX114: 40547 | BY114: 99286 | BZ114: 11037 | CA114: 45547 | CB114: 247044 | CC114: 21 | CD114: 493 | CE114: 1516 | CF114: 7835 | CG114: 38278 | CH114: 3616 | CI114: 136571 | CJ114: 21308 | CK114: 45428 | CL114: 7656 | CM114: 33638 | CN114: 173479 | CO114: 82339 | CP114: 127601 | CQ114: 349208 | CR114: 19404 | CS114: 73208 | CT114: 49555 | CU114: 49433 | CV114: 43102 | CW114: 36117 | CX114: 118439 | CY114: 151602 | CZ114: 74730 | DA114: 140443 | DB114: 26878 | DC114: 26580 | DD114: 2561 | DE114: 27477 | DF114: 23247 | DG114: 24600 | DH114: 6855104 | DI114: 142618 | DJ114: 4298372 | DK114: 1607723 | DL114: 323977 | DM114: 590542 | DN114: 1964405 | DO114: -48327 | DP114: 8879310 | DQ114: 15734414 | DR114: 1356785 | DS114: 1356785 | DT114: 3860508 | DU114: 5217293 | DV114: 14096603 | DW114: 55234849 | DX114: -1163759 | DY114: -12120 | DZ114: -113283 | EA114: -1289162 | EB114: -4791255 | EC114: -6080417 | ED114: 8016186 | EE114: 14871290
A115: 110 | B115: 711 | C115: 家計外消費支出（行） | D115: 640 | E115: 46 | F115: 17 | G115: 389 | H115: 26 | I115: 0 | J115: 46 | K115: 3550 | L115: 523 | M115: 7 | N115: 0 | O115: 25 | P115: 102 | Q115: 173 | R115: 182 | S115: 292 | T115: 638 | U115: 770 | V115: 79 | W115: 64 | X115: 0 | Y115: 0 | Z115: 2 | AA115: 0 | AB115: 778 | AC115: 245 | AD115: 0 | AE115: 47 | AF115: 2610 | AG115: 137 | AH115: 31 | AI115: 34 | AJ115: 325 | AK115: 195 | AL115: 1039 | AM115: 0 | AN115: 0 | AO115: 68 | AP115: 34 | AQ115: 92 | AR115: 546 | AS115: 1810 | AT115: 1444 | AU115: 3064 | AV115: 5821 | AW115: 2385 | AX115: 791 | AY115: 5308 | AZ115: 1090 | BA115: 549 | BB115: 1342 | BC115: 219 | BD115: 2445 | BE115: 3934 | BF115: 0 | BG115: 8 | BH115: 1714 | BI115: 201 | BJ115: 133 | BK115: 1065 | BL115: 79 | BM115: 6567 | BN115: 2030 | BO115: 3256 | BP115: 1862 | BQ115: 3207 | BR115: 234 | BS115: 787 | BT115: 1727 | BU115: 15852 | BV115: 12166 | BW115: 1155 | BX115: 399 | BY115: 0 | BZ115: 410 | CA115: 1075 | CB115: 0 | CC115: 0 | CD115: 6 | CE115: 46 | CF115: 227 | CG115: 2073 | CH115: 51 | CI115: 478 | CJ115: 290 | CK115: 1170 | CL115: 48 | CM115: 1139 | CN115: 5255 | CO115: 1106 | CP115: 993 | CQ115: 4210 | CR115: 739 | CS115: 2706 | CT115: 2518 | CU115: 4392 | CV115: 398 | CW115: 391 | CX115: 1100 | CY115: 5984 | CZ115: 2503 | DA115: 2951 | DB115: 1027 | DC115: 1357 | DD115: 135 | DE115: 1305 | DF115: 0 | DG115: 139 | DH115: 142618
A116: 111 | B116: 911 | C116: 雇用者所得 | D116: 50258 | E116: 3237 | F116: 2163 | G116: 14970 | H116: 327 | I116: 0 | J116: 1128 | K116: 84751 | L116: 10271 | M116: 221 | N116: 0 | O116: 809 | P116: 3383 | Q116: 4448 | R116: 3853 | S116: 1835 | T116: 12423 | U116: 16951 | V116: 315 | W116: 898 | X116: 0 | Y116: 2 | Z116: 100 | AA116: 2 | AB116: 9451 | AC116: 3561 | AD116: 1 | AE116: 704 | AF116: 42511 | AG116: 3130 | AH116: 1363 | AI116: 797 | AJ116: 7706 | AK116: 5022 | AL116: 17837 | AM116: 0 | AN116: 0 | AO116: 3374 | AP116: 2078 | AQ116: 1579 | AR116: 13011 | AS116: 27488 | AT116: 51718 | AU116: 78866 | AV116: 163371 | AW116: 58283 | AX116: 26383 | AY116: 139968 | AZ116: 23273 | BA116: 10007 | BB116: 21215 | BC116: 4487 | BD116: 51036 | BE116: 25156 | BF116: 0 | BG116: 150 | BH116: 55501 | BI116: 5701 | BJ116: 3269 | BK116: 27473 | BL116: 2775 | BM116: 160699 | BN116: 57327 | BO116: 94882 | BP116: 78813 | BQ116: 33388 | BR116: 2172 | BS116: 11217 | BT116: 45198 | BU116: 508349 | BV116: 147163 | BW116: 41564 | BX116: 11586 | BY116: 0 | BZ116: 9275 | CA116: 118119 | CB116: 0 | CC116: 14 | CD116: 128 | CE116: 2308 | CF116: 6286 | CG116: 19965 | CH116: 9831 | CI116: 16640 | CJ116: 6356 | CK116: 43012 | CL116: 2511 | CM116: 16358 | CN116: 218994 | CO116: 227609 | CP116: 95717 | CQ116: 331288 | CR116: 21657 | CS116: 159454 | CT116: 135891 | CU116: 66457 | CV116: 11599 | CW116: 4058 | CX116: 52444 | CY116: 253319 | CZ116: 40898 | DA116: 74531 | DB116: 23775 | DC116: 22855 | DD116: 2898 | DE116: 29699 | DF116: 0 | DG116: 516 | DH116: 4317410
A117: 112 | B117: 921 | C117: 営業余剰 | D117: 36309 | E117: 1017 | F117: 2941 | G117: 4486 | H117: 824 | I117: 0 | J117: -154 | K117: 52850 | L117: 10296 | M117: 270 | N117: 0 | O117: -89 | P117: -21 | Q117: 4055 | R117: 1119 | S117: 2154 | T117: 4806 | U117: 7516 | V117: 317 | W117: 2152 | X117: 0 | Y117: 8 | Z117: 63 | AA117: 6 | AB117: 1084 | AC117: 3536 | AD117: 6 | AE117: 1697 | AF117: 11298 | AG117: 581 | AH117: -227 | AI117: 70 | AJ117: 4181 | AK117: 197 | AL117: 5898 | AM117: 0 | AN117: 0 | AO117: 1130 | AP117: 4050 | AQ117: 75 | AR117: -528 | AS117: 12855 | AT117: 4663 | AU117: 27278 | AV117: 40506 | AW117: 1384 | AX117: -1908 | AY117: -50935 | AZ117: -868 | BA117: -2500 | BB117: -209 | BC117: 1019 | BD117: 431 | BE117: -6249 | BF117: 0 | BG117: 52 | BH117: -7126 | BI117: 1833 | BJ117: 775 | BK117: -2493 | BL117: -1489 | BM117: 17847 | BN117: 6042 | BO117: 2595 | BP117: 2840 | BQ117: -49465 | BR117: -969 | BS117: 9638 | BT117: 4272 | BU117: 81100 | BV117: 106640 | BW117: 44384 | BX117: 22091 | BY117: 401850 | BZ117: -6082 | CA117: 983 | CB117: 0 | CC117: 5 | CD117: -307 | CE117: 245 | CF117: 1171 | CG117: 29042 | CH117: 558 | CI117: 41104 | CJ117: 3337 | CK117: 14684 | CL117: 1647 | CM117: 6912 | CN117: -3566 | CO117: -1983 | CP117: 8917 | CQ117: 3274 | CR117: 1244 | CS117: 2006 | CT117: 3241 | CU117: -1900 | CV117: 6189 | CW117: -738 | CX117: 2201 | CY117: 48504 | CZ117: -18815 | DA117: -2535 | DB117: 6016 | DC117: 8261 | DD117: 1766 | DE117: 1813 | DF117: 0 | DG117: 39765 | DH117: 1026816
A118: 113 | B118: 931 | C118: 資本減耗引当 | D118: 39275 | E118: 4651 | F118: 1878 | G118: 5979 | H118: 144 | I118: 0 | J118: 460 | K118: 34107 | L118: 8765 | M118: 122 | N118: 0 | O118: 407 | P118: 1083 | Q118: 2130 | R118: 830 | S118: 958 | T118: 3712 | U118: 7246 | V118: 303 | W118: 765 | X118: 0 | Y118: 4 | Z118: 132 | AA118: 2 | AB118: 25755 | AC118: 2697 | AD118: 1 | AE118: 972 | AF118: 16628 | AG118: 1408 | AH118: 158 | AI118: 530 | AJ118: 3791 | AK118: 2219 | AL118: 8076 | AM118: 0 | AN118: 0 | AO118: 819 | AP118: 477 | AQ118: 679 | AR118: 2159 | AS118: 7851 | AT118: 15469 | AU118: 30583 | AV118: 72026 | AW118: 31432 | AX118: 19126 | AY118: 81040 | AZ118: 16002 | BA118: 11473 | BB118: 17495 | BC118: 3319 | BD118: 49304 | BE118: 41679 | BF118: 0 | BG118: 168 | BH118: 31304 | BI118: 4819 | BJ118: 2052 | BK118: 12775 | BL118: 362 | BM118: 17794 | BN118: 4824 | BO118: 23833 | BP118: 12573 | BQ118: 140628 | BR118: 4410 | BS118: 16852 | BT118: 5097 | BU118: 112742 | BV118: 37199 | BW118: 67886 | BX118: 32014 | BY118: 340673 | BZ118: 17688 | CA118: 21525 | CB118: 0 | CC118: 7 | CD118: 361 | CE118: 543 | CF118: 3333 | CG118: 8501 | CH118: 1159 | CI118: 50195 | CJ118: 7687 | CK118: 12045 | CL118: 692 | CM118: 6908 | CN118: 0 | CO118: 11134 | CP118: 17920 | CQ118: 45884 | CR118: 379 | CS118: 5412 | CT118: 16323 | CU118: 5442 | CV118: 32189 | CW118: 3260 | CX118: 5715 | CY118: 47667 | CZ118: 23612 | DA118: 16294 | DB118: 12331 | DC118: 15768 | DD118: 250 | DE118: 17305 | DF118: 0 | DG118: 2445 | DH118: 1854100
A119: 114 | B119: 932 | C119: 資本減耗引当（社会資本等減耗分） | D119: 0 | E119: 0 | F119: 0 | G119: 0 | H119: 0 | I119: 0 | J119: 0 | K119: 0 | L119: 0 | M119: 0 | N119: 0 | O119: 0 | P119: 0 | Q119: 0 | R119: 0 | S119: 0 | T119: 0 | U119: 0 | V119: 0 | W119: 0 | X119: 0 | Y119: 0 | Z119: 0 | AA119: 0 | AB119: 0 | AC119: 0 | AD119: 0 | AE119: 0 | AF119: 0 | AG119: 0 | AH119: 0 | AI119: 0 | AJ119: 0 | AK119: 0 | AL119: 0 | AM119: 0 | AN119: 0 | AO119: 0 | AP119: 0 | AQ119: 0 | AR119: 0 | AS119: 0 | AT119: 0 | AU119: 0 | AV119: 0 | AW119: 0 | AX119: 0 | AY119: 0 | AZ119: 0 | BA119: 0 | BB119: 0 | BC119: 0 | BD119: 0 | BE119: 0 | BF119: 0 | BG119: 0 | BH119: 0 | BI119: 0 | BJ119: 0 | BK119: 0 | BL119: 0 | BM119: 0 | BN119: 0 | BO119: 0 | BP119: 0 | BQ119: 0 | BR119: 0 | BS119: 2394 | BT119: 2677 | BU119: 0 | BV119: 0 | BW119: 0 | BX119: 0 | BY119: 0 | BZ119: 0 | CA119: 0 | CB119: 0 | CC119: 0 | CD119: 0 | CE119: 0 | CF119: 0 | CG119: 0 | CH119: 0 | CI119: 0 | CJ119: 0 | CK119: 0 | CL119: 0 | CM119: 0 | CN119: 234922 | CO119: 52025 | CP119: 30954 | CQ119: 0 | CR119: 104 | CS119: 901 | CT119: 0 | CU119: 0 | CV119: 0 | CW119: 0 | CX119: 0 | CY119: 0 | CZ119: 0 | DA119: 0 | DB119: 0 | DC119: 0 | DD119: 0 | DE119: 0 | DF119: 0 | DG119: 0 | DH119: 323977
A120: 115 | B120: 941 | C120: 間接税（関税・輸入品商品税を除く。） | D120: 6446 | E120: 711 | F120: 738 | G120: 1752 | H120: 50 | I120: 0 | J120: 220 | K120: 11357 | L120: 9663 | M120: 90 | N120: 0 | O120: -17 | P120: 321 | Q120: 1132 | R120: 589 | S120: 550 | T120: 2652 | U120: 2630 | V120: 120 | W120: 77 | X120: 0 | Y120: 0 | Z120: -58 | AA120: 0 | AB120: 1224 | AC120: 145 | AD120: 18 | AE120: 359 | AF120: 4394 | AG120: 341 | AH120: 62 | AI120: 30 | AJ120: 1978 | AK120: 418 | AL120: 2143 | AM120: 0 | AN120: 0 | AO120: 545 | AP120: 621 | AQ120: 572 | AR120: 322 | AS120: 4864 | AT120: 5807 | AU120: 1772 | AV120: 2777 | AW120: -9472 | AX120: -8424 | AY120: -1663 | AZ120: -2650 | BA120: 495 | BB120: -4864 | BC120: -366 | BD120: -11296 | BE120: -9651 | BF120: 0 | BG120: -24 | BH120: -1148 | BI120: 24 | BJ120: 122 | BK120: -702 | BL120: 169 | BM120: 22836 | BN120: 8057 | BO120: 15631 | BP120: 8432 | BQ120: 13429 | BR120: 63 | BS120: 3605 | BT120: 4292 | BU120: 67073 | BV120: 8408 | BW120: 18670 | BX120: 6684 | BY120: 65154 | BZ120: -206 | CA120: 17001 | CB120: 0 | CC120: 2 | CD120: -33 | CE120: 322 | CF120: 1118 | CG120: 2726 | CH120: 1293 | CI120: 4433 | CJ120: 1313 | CK120: 6509 | CL120: 384 | CM120: 1824 | CN120: 1121 | CO120: 1649 | CP120: 3447 | CQ120: 7960 | CR120: 400 | CS120: 1613 | CT120: 2144 | CU120: 3943 | CV120: 1524 | CW120: 121 | CX120: 6574 | CY120: 37700 | CZ120: 61 | DA120: 8385 | DB120: 5678 | DC120: 4077 | DD120: 603 | DE120: 11231 | DF120: 0 | DG120: 2287 | DH120: 397503
A121: 116 | B121: 951 | C121: （控除）経常補助金 | D121: 2584 | E121: 6 | F121: 13 | G121: 13 | H121: 41 | I121: 0 | J121: 20 | K121: 1675 | L121: 256 | M121: 5 | N121: 0 | O121: 4 | P121: 37 | Q121: 169 | R121: 25 | S121: 39 | T121: 107 | U121: 126 | V121: 1 | W121: 7 | X121: 0 | Y121: 0 | Z121: 1 | AA121: 0 | AB121: 44 | AC121: 61 | AD121: 0 | AE121: 159 | AF121: 266 | AG121: 54 | AH121: 15 | AI121: 25 | AJ121: 413 | AK121: 21 | AL121: 1136 | AM121: 0 | AN121: 0 | AO121: 229 | AP121: 147 | AQ121: 100 | AR121: 308 | AS121: 336 | AT121: 825 | AU121: 2226 | AV121: 3451 | AW121: 550 | AX121: 212 | AY121: 238 | AZ121: 231 | BA121: 20 | BB121: 63 | BC121: 104 | BD121: 254 | BE121: 299 | BF121: 0 | BG121: 1 | BH121: 162 | BI121: 116 | BJ121: 90 | BK121: 148 | BL121: 24 | BM121: 6521 | BN121: 2943 | BO121: 3590 | BP121: 2831 | BQ121: 723 | BR121: 55 | BS121: 668 | BT121: 756 | BU121: 4874 | BV121: 5002 | BW121: 2428 | BX121: 765 | BY121: 75 | BZ121: 179 | CA121: 358 | CB121: 0 | CC121: 0 | CD121: 2 | CE121: 30 | CF121: 49 | CG121: 106 | CH121: 16 | CI121: 1426 | CJ121: 226 | CK121: 110 | CL121: 147 | CM121: 213 | CN121: 158 | CO121: 4141 | CP121: 137 | CQ121: 991 | CR121: 819 | CS121: 1501 | CT121: 650 | CU121: 1612 | CV121: 330 | CW121: 8 | CX121: 1036 | CY121: 2400 | CZ121: 2411 | DA121: 334 | DB121: 688 | DC121: 116 | DD121: 12 | DE121: 672 | DF121: 11 | DG121: 0 | DH121: 0
A122: 117 | B122: 960 | C122: 粗付加価値部門計 | D122: 124177 | E122: 9477 | F122: 7737 | G122: 27404 | H122: 1370 | I122: 0 | J122: 1700 | K122: 185609 | L122: 39513 | M122: 707 | N122: 0 | O122: 1135 | P122: 4868 | Q122: 11938 | R122: 6573 | S122: 5789 | T122: 24231 | U122: 35113 | V122: 1134 | W122: 3956 | X122: 0 | Y122: 14 | Z122: 239 | AA122: 10 | AB122: 38292 | AC122: 10184 | AD122: 26 | AE122: 3779 | AF122: 77441 | AG122: 5597 | AH122: 1387 | AI122: 1461 | AJ122: 17981 | AK122: 8051 | AL122: 34993 | AM122: 0 | AN122: 0 | AO122: 5936 | AP122: 7260 | AQ122: 2997 | AR122: 15510 | AS122: 54867 | AT122: 79100 | AU122: 141562 | AV122: 284500 | AW122: 84011 | AX122: 35968 | AY122: 173714 | AZ122: 36847 | BA122: 20024 | BB122: 34979 | BC122: 8678 | BD122: 91920 | BE122: 54868 | BF122: 0 | BG122: 354 | BH122: 80244 | BI122: 12578 | BJ122: 6350 | BK122: 38118 | BL122: 1896 | BM122: 225741 | BN122: 78278 | BO122: 139441 | BP122: 99758 | BQ122: 141154 | BR122: 5887 | BS122: 41211 | BT122: 63263 | BU122: 784281 | BV122: 305390 | BW122: 173658 | BX122: 72606 | BY122: 807677 | BZ122: 20633 | CA122: 157951 | CB122: 0 | CC122: 27 | CD122: 155 | CE122: 3464 | CF122: 12135 | CG122: 62103 | CH122: 12892 | CI122: 112849 | CJ122: 18983 | CK122: 77419 | CL122: 5282 | CM122: 33141 | CN122: 456726 | CO122: 291497 | CP122: 156804 | CQ122: 378436 | CR122: 24523 | CS122: 172092 | CT122: 159473 | CU122: 75934 | CV122: 51899 | CW122: 7092 | CX122: 68034 | CY122: 393149 | CZ122: 48259 | DA122: 99626 | DB122: 48827 | DC122: 52318 | DD122: 5652 | DE122: 61353 | DF122: 0 | DG122: 44946 | DH122: 8016186
A123: 118 | B123: 970 | C123: 県内生産額 | D123: 240440 | E123: 31471 | F123: 12882 | G123: 65805 | H123: 2618 | I123: 0 | J123: 4219 | K123: 576028 | L123: 106370 | M123: 2474 | N123: 0 | O123: 2637 | P123: 11826 | Q123: 26528 | R123: 16857 | S123: 28216 | T123: 52757 | U123: 58542 | V123: 3004 | W123: 8037 | X123: 0 | Y123: 32 | Z123: 824 | AA123: 16 | AB123: 94796 | AC123: 26370 | AD123: 59 | AE123: 8058 | AF123: 186875 | AG123: 9754 | AH123: 3476 | AI123: 3096 | AJ123: 38702 | AK123: 16672 | AL123: 78792 | AM123: 0 | AN123: 0 | AO123: 15169 | AP123: 17789 | AQ123: 21001 | AR123: 77269 | AS123: 117307 | AT123: 148488 | AU123: 292671 | AV123: 600605 | AW123: 207281 | AX123: 102105 | AY123: 526378 | AZ123: 97938 | BA123: 57810 | BB123: 91741 | BC123: 20291 | BD123: 260004 | BE123: 181837 | BF123: 0 | BG123: 1556 | BH123: 303679 | BI123: 31043 | BJ123: 15975 | BK123: 98636 | BL123: 11320 | BM123: 487245 | BN123: 167247 | BO123: 288216 | BP123: 193587 | BQ123: 255438 | BR123: 26598 | BS123: 94645 | BT123: 99555 | BU123: 1160031 | BV123: 490016 | BW123: 238805 | BX123: 113153 | BY123: 906963 | BZ123: 31670 | CA123: 203498 | CB123: 247044 | CC123: 48 | CD123: 648 | CE123: 4980 | CF123: 19970 | CG123: 100381 | CH123: 16508 | CI123: 249420 | CJ123: 40291 | CK123: 122847 | CL123: 12938 | CM123: 66779 | CN123: 630205 | CO123: 373836 | CP123: 284405 | CQ123: 727644 | CR123: 43927 | CS123: 245300 | CT123: 209028 | CU123: 125367 | CV123: 95001 | CW123: 43209 | CX123: 186473 | CY123: 544751 | CZ123: 122989 | DA123: 240069 | DB123: 75705 | DC123: 78898 | DD123: 8213 | DE123: 88830 | DF123: 23247 | DG123: 69546 | DH123: 14871290

Sheet 投入係数表
A1: 令和２年（2020年）長野県産業連関表
A2: 第２表 投入係数表
D3: 1 | E3: 2 | F3: 3 | G3: 4 | H3: 5 | I3: 6 | J3: 7 | K3: 8 | L3: 9 | M3: 10 | N3: 11 | O3: 12 | P3: 13 | Q3: 14 | R3: 15 | S3: 16 | T3: 17 | U3: 18 | V3: 19 | W3: 20 | X3: 21 | Y3: 22 | Z3: 23 | AA3: 24 | AB3: 25 | AC3: 26 | AD3: 27 | AE3: 28 | AF3: 29 | AG3: 30 | AH3: 31 | AI3: 32 | AJ3: 33 | AK3: 34 | AL3: 35 | AM3: 36 | AN3: 37 | AO3: 38 | AP3: 39 | AQ3: 40 | AR3: 41 | AS3: 42 | AT3: 43 | AU3: 44 | AV3: 45 | AW3: 46 | AX3: 47 | AY3: 48 | AZ3: 49 | BA3: 50 | BB3: 51 | BC3: 52 | BD3: 53 | BE3: 54 | BF3: 55 | BG3: 56 | BH3: 57 | BI3: 58 | BJ3: 59 | BK3: 60 | BL3: 61 | BM3: 62 | BN3: 63 | BO3: 64 | BP3: 65 | BQ3: 66 | BR3: 67 | BS3: 68 | BT3: 69 | BU3: 70 | BV3: 71 | BW3: 72 | BX3: 73 | BY3: 74 | BZ3: 75 | CA3: 76 | CB3: 77 | CC3: 78 | CD3: 79 | CE3: 80 | CF3: 81 | CG3: 82 | CH3: 83 | CI3: 84 | CJ3: 85 | CK3: 86 | CL3: 87 | CM3: 88 | CN3: 89 | CO3: 90 | CP3: 91 | CQ3: 92 | CR3: 93 | CS3: 94 | CT3: 95 | CU3: 96 | CV3: 97 | CW3: 98 | CX3: 99 | CY3: 100 | CZ3: 101 | DA3: 102 | DB3: 103 | DC3: 104 | DD3: 105 | DE3: 106 | DF3: 107 | DG3: 108 | DH3: 109 | DI3: 110 | DJ3: 111 | DK3: 112 | DL3: 113 | DM3: 114 | DN3: 115 | DO3: 116 | DP3: 117 | DQ3: 118 | DR3: 119 | DS3: 120 | DT3: 121 | DU3: 122 | DV3: 123 | DW3: 124 | DX3: 125 | DY3: 126 | DZ3: 127 | EA3: 128 | EB3: 129 | EC3: 130 | ED3: 131 | EE3: 132
D4: 011 | E4: 012 | F4: 013 | G4: 015 | H4: 017 | I4: 061 | J4: 062 | K4: 111 | L4: 112 | M4: 113 | N4: 114 | O4: 151 | P4: 152 | Q4: 161 | R4: 162 | S4: 163 | T4: 164 | U4: 191 | V4: 201 | W4: 202 | X4: 203 | Y4: 204 | Z4: 205 | AA4: 206 | AB4: 207 | AC4: 208 | AD4: 211 | AE4: 212 | AF4: 221 | AG4: 222 | AH4: 231 | AI4: 251 | AJ4: 252 | AK4: 253 | AL4: 259 | AM4: 261 | AN4: 262 | AO4: 263 | AP4: 269 | AQ4: 271 | AR4: 272 | AS4: 281 | AT4: 289 | AU4: 291 | AV4: 301 | AW4: 311 | AX4: 321 | AY4: 329 | AZ4: 331 | BA4: 332 | BB4: 333 | BC4: 339 | BD4: 341 | BE4: 342 | BF4: 351 | BG4: 352 | BH4: 353 | BI4: 354 | BJ4: 359 | BK4: 391 | BL4: 392 | BM4: 411 | BN4: 412 | BO4: 413 | BP4: 419 | BQ4: 461 | BR4: 462 | BS4: 471 | BT4: 481 | BU4: 511 | BV4: 531 | BW4: 551 | BX4: 552 | BY4: 553 | BZ4: 571 | CA4: 572 | CB4: 573 | CC4: 574 | CD4: 575 | CE4: 576 | CF4: 577 | CG4: 578 | CH4: 579 | CI4: 591 | CJ4: 592 | CK4: 593 | CL4: 594 | CM4: 595 | CN4: 611 | CO4: 631 | CP4: 632 | CQ4: 641 | CR4: 642 | CS4: 643 | CT4: 644 | CU4: 659 | CV4: 661 | CW4: 662 | CX4: 663 | CY4: 669 | CZ4: 671 | DA4: 672 | DB4: 673 | DC4: 674 | DD4: 675 | DE4: 679 | DF4: 681 | DG4: 691 | DH4: 700 | DI4: 711 | DJ4: 721 | DK4: 731 | DL4: 732 | DM4: 741 | DN4: 751 | DO4: 761 | DP4: 780 | DQ4: 790 | DR4: 801 | DS4: 810 | DT4: 980 | DU4: 990 | DV4: 820 | DW4: 830 | DX4: 841 | DY4: 851 | DZ4: 861 | EA4: 870 | EB4: 1000 | EC4: 1010 | ED4: 880 | EE4: 970
C5: 統合中分類（108部門） | D5: 耕種農業 | E5: 畜産 | F5: 農業サービス | G5: 林業 | H5: 漁業 | I5: 石炭・原油・天然ガス | J5: その他の鉱業 | K5: 食料品 | L5: 飲料 | M5: 飼料・有機質肥料（別掲を除く。） | N5: たばこ | O5: 繊維工業製品 | P5: 衣服・その他の繊維既製品 | Q5: 木材・木製品 | R5: 家具・装備品 | S5: パルプ・紙・板紙・加工紙 | T5: 紙加工品 | U5: 印刷・製版・製本 | V5: 化学肥料 | W5: 無機化学工業製品 | X5: 石油化学系基礎製品 | Y5: 有機化学工業製品（石油化学系基礎製品・合成樹脂を除く。） | Z5: 合成樹脂 | AA5: 化学繊維 | AB5: 医薬品 | AC5: 化学最終製品（医薬品を除く。） | AD5: 石油製品 | AE5: 石炭製品 | AF5: プラスチック製品 | AG5: ゴム製品 | AH5: なめし革・革製品・毛皮 | AI5: ガラス・ガラス製品 | AJ5: セメント・セメント製品 | AK5: 陶磁器 | AL5: その他の窯業・土石製品 | AM5: 銑鉄・粗鋼 | AN5: 鋼材 | AO5: 鋳鍛造品（鉄） | AP5: その他の鉄鋼製品 | AQ5: 非鉄金属製錬・精製 | AR5: 非鉄金属加工製品 | AS5: 建設用・建築用金属製品 | AT5: その他の金属製品 | AU5: はん用機械 | AV5: 生産用機械 | AW5: 業務用機械 | AX5: 電子デバイス | AY5: その他の電子部品 | AZ5: 産業用電気機器 | BA5: 民生用電気機器 | BB5: 電子応用装置・電気計測器 | BC5: その他の電気機械 | BD5: 通信・映像・音響機器 | BE5: 電子計算機・同附属装置 | BF5: 乗用車 | BG5: その他の自動車 | BH5: 自動車部品・同附属品 | BI5: 船舶・同修理 | BJ5: その他の輸送機械・同修理 | BK5: その他の製造工業製品 | BL5: 再生資源回収・加工処理 | BM5: 建築 | BN5: 建設補修 | BO5: 公共事業 | BP5: その他の土木建設 | BQ5: 電気 | BR5: ガス・熱供給 | BS5: 水道 | BT5: 廃棄物処理 | BU5: 商業 | BV5: 金融・保険 | BW5: 不動産仲介及び賃貸 | BX5: 住宅賃貸料 | BY5: 住宅賃貸料（帰属家賃） | BZ5: 鉄道輸送 | CA5: 道路輸送（自家輸送を除く。） | CB5: 自家輸送 | CC5: 水運 | CD5: 航空輸送 | CE5: 貨物利用運送 | CF5: 倉庫 | CG5: 運輸附帯サービス | CH5: 郵便・信書便 | CI5: 通信 | CJ5: 放送 | CK5: 情報サービス | CL5: インターネット附随サービス | CM5: 映像・音声・文字情報制作 | CN5: 公務 | CO5: 教育 | CP5: 研究 | CQ5: 医療 | CR5: 保健衛生 | CS5: 社会保険・社会福祉 | CT5: 介護 | CU5: 他に分類されない会員制団体 | CV5: 物品賃貸サービス | CW5: 広告 | CX5: 自動車整備・機械修理 | CY5: その他の対事業所サービス | CZ5: 宿泊業 | DA5: 飲食サービス | DB5: 洗濯・理容・美容・浴場業 | DC5: 娯楽サービス | DD5: 獣医業 | DE5: その他の対個人サービス | DF5: 事務用品 | DG5: 分類不明 | DH5: 内生部門計 | DI5: 家計外消費支出（列） | DJ5: 民間消費支出 | DK5: 一般政府消費支出 | DL5: 一般政府消費支出（社会資本等減耗分） | DM5: 県内総固定資本形成（公的） | DN5: 県内総固定資本形成（民間） | DO5: 在庫純増 | DP5: 県内最終需要計 | DQ5: 県内需要合計 | DR5: 輸出 | DS5: 輸出計 | DT5: 移出 | DU5: 移輸出計 | DV5: 最終需要計 | DW5: 需要合計 | DX5: （控除）輸入 | DY5: （控除）関税 | DZ5: （控除）輸入品商品税 | EA5: （控除）輸入計 | EB5: （控除）移入 | EC5: （控除）移輸入 | ED5: 最終需要部門計 | EE5: 県内生産額
A6: 1 | B6: 011 | C6: 耕種農業 | D6: 0.021780902 | E6: 0.10326968 | F6: 0.0094705791 | G6: 0.0031000684 | H6: 0 | I6: 0 | J6: 0 | K6: 0.10172596 | L6: 0.017852778 | M6: 0.20735651 | N6: 0 | O6: 0.04778157 | P6: 0.0016066295 | Q6: 3.7696019e-05 | R6: 0 | S6: 0 | T6: 0 | U6: 0 | V6: 0 | W6: 0 | X6: 0 | Y6: 0 | Z6: 0 | AA6: 0 | AB6: 0.0029537111 | AC6: 0.00045506257 | AD6: 0 | AE6: 0 | AF6: 0 | AG6: 0.013225343 | AH6: 0 | AI6: 0 | AJ6: 0 | AK6: 0 | AL6: 0.00053304904 | AM6: 0 | AN6: 0 | AO6: 0 | AP6: 0 | AQ6: 0 | AR6: 0 | AS6: 0 | AT6: 0 | AU6: 0 | AV6: 0 | AW6: 0 | AX6: 0 | AY6: 0 | AZ6: 0 | BA6: 0 | BB6: 0 | BC6: 0 | BD6: 0 | BE6: 0 | BF6: 0 | BG6: 0 | BH6: 0 | BI6: 0 | BJ6: 0 | BK6: 0.0020682104 | BL6: 0 | BM6: 0.00058286899 | BN6: 1.7937541e-05 | BO6: 0.0017209315 | BP6: 0.0019422792 | BQ6: 0 | BR6: 0 | BS6: 0 | BT6: 0 | BU6: 0.00016034054 | BV6: 0 | BW6: 0 | BX6: 0 | BY6: 6.6154849e-06 | BZ6: 0 | CA6: 0 | CB6: 0 | CC6: 0 | CD6: 0 | CE6: 0 | CF6: 0 | CG6: 0 | CH6: 0 | CI6: 0 | CJ6: 0 | CK6: 0 | CL6: 0 | CM6: 0 | CN6: 7.9339263e-06 | CO6: 0.0014578585 | CP6: 0.0003340307 | CQ6: 0.000695395 | CR6: 0 | CS6: 0.0024092947 | CT6: 0.0038176704 | CU6: 0.0021457002 | CV6: 7.3683435e-05 | CW6: 0 | CX6: 0 | CY6: 1.8357011e-06 | CZ6: 0.01649741 | DA6: 0.016549409 | DB6: 0.00015851001 | DC6: 0.001090015 | DD6: 0.0026786801 | DE6: 0.005088371 | DF6: 0 | DG6: 0 | DH6: 0.0054720875 | DI6: 0.0052517915 | DJ6: 0.010183623 | DK6: 0 | DL6: 0 | DM6: 0 | DN6: 0.0011102598 | DO6: -0.017112587 | DP6: 0.0053528934 | DQ6: 0.0081926788 | DR6: 0.0011239806 | DS6: 0.0011239806 | DT6: 0.047368377 | DU6: 0.035342274 | DV6: 0.016452262 | DW6: 0.01495334 | DX6: 0.01818074 | DY6: 0.03820132 | DZ6: 0.0158541 | EA6: 0.018164513 | EB6: 0.010319008 | EC6: 0.011982402 | ED6: 0.019842728 | EE6: 0.016168066
A7: 2 | B7: 012 | C7: 畜産 | D7: 0.0031608717 | E7: 0.10107718 | F7: 0.034311442 | G7: 3.0392827e-05 | H7: 0 | I7: 0 | J7: 0 | K7: 0.062833751 | L7: 0 | M7: 0.015763945 | N7: 0 | O7: 0.0026545317 | P7: 0.00016911889 | Q7: 0 | R7: 0 | S7: 0 | T7: 0 | U7: 0 | V7: 0.00066577896 | W7: 0 | X7: 0 | Y7: 0 | Z7: 0 | AA7: 0 | AB7: 2.1097937e-05 | AC7: 0 | AD7: 0 | AE7: 0 | AF7: 0 | AG7: 0 | AH7: 0.022151899 | AI7: 0 | AJ7: 0 | AK7: 0 | AL7: 0 | AM7: 0 | AN7: 0 | AO7: 0 | AP7: 0 | AQ7: 0 | AR7: 0 | AS7: 0 | AT7: 0 | AU7: 0 | AV7: 0 | AW7: 0 | AX7: 0 | AY7: 0 | AZ7: 0 | BA7: 0 | BB7: 0 | BC7: 0 | BD7: 0 | BE7: 0 | BF7: 0 | BG7: 0 | BH7: 0 | BI7: 0 | BJ7: 0 | BK7: 0.00010138286 | BL7: 0 | BM7: 0 | BN7: 0 | BO7: 0 | BP7: 0 | BQ7: 0 | BR7: 0 | BS7: 0 | BT7: 0 | BU7: 0 | BV7: 0 | BW7: 0 | BX7: 0 | BY7: 0 | BZ7: 0 | CA7: 0 | CB7: 0 | CC7: 0 | CD7: 0 | CE7: 0 | CF7: 0 | CG7: 0 | CH7: 0 | CI7: 0 | CJ7: 0 | CK7: 0 | CL7: 0 | CM7: 0 | CN7: 1.5867853e-06 | CO7: 0.00017119807 | CP7: 0.0010372532 | CQ7: 8.9329397e-05 | CR7: 0 | CS7: 0.00040766408 | CT7: 0.00070325507 | CU7: 0 | CV7: 0 | CW7: 0 | CX7: 0 | CY7: 0 | CZ7: 0.0019595248 | DA7: 0.0039821885 | DB7: 0 | DC7: 0 | DD7: 0 | DE7: 0.00020263425 | DF7: 0 | DG7: 0 | DH7: 0.0028649162 | DI7: 0 | DJ7: 0.00052903751 | DK7: 0 | DL7: 0 | DM7: 0 | DN7: 0.00059101865 | DO7: -0.0028141619 | DP7: 0.00040217089 | DQ7: 0.0029347137 | DR7: 1.7688875e-05 | DS7: 1.7688875e-05 | DT7: 0.0019715022 | DU7: 0.0014634026 | DV7: 0.00079494329 | DW7: 0.0025683349 | DX7: 0.00052416351 | DY7: 0.0047854785 | DZ7: 0.00058261169 | EA7: 0.00056936211 | EB7: 0.0045094657 | EC7: 0.0036740901 | ED7: -0.0013889398 | EE7: 0.0021162253
A8: 3 | B8: 013 | C8: 農業サービス | D8: 0.049010148 | E8: 0.034889263 | F8: 0 | G8: 0 | H8: 0 | I8: 0 | J8: 0 | K8: 0 | L8: 0 | M8: 0 | N8: 0 | O8: 0 | P8: 0 | Q8: 0 | R8: 0 | S8: 0 | T8: 0 | U8: 0 | V8: 0 | W8: 0 | X8: 0 | Y8: 0 | Z8: 0 | AA8: 0 | AB8: 0 | AC8: 0 | AD8: 0 | AE8: 0 | AF8: 0 | AG8: 0 | AH8: 0 | AI8: 0 | AJ8: 0 | AK8: 0 | AL8: 0 | AM8: 0 | AN8: 0 | AO8: 0 | AP8: 0 | AQ8: 0 | AR8: 0 | AS8: 0 | AT8: 0 | AU8: 0 | AV8: 0 | AW8: 0 | AX8: 0 | AY8: 0 | AZ8: 0 | BA8: 0 | BB8: 0 | BC8: 0 | BD8: 0 | BE8: 0 | BF8: 0 | BG8: 0 | BH8: 0 | BI8: 0 | BJ8: 0 | BK8: 0 | BL8: 0 | BM8: 0 | BN8: 0 | BO8: 0 | BP8: 0 | BQ8: 0 | BR8: 0 | BS8: 0 | BT8: 0 | BU8: 0 | BV8: 0 | BW8: 0 | BX8: 0 | BY8: 0 | BZ8: 0 | CA8: 0 | CB8: 0 | CC8: 0 | CD8: 0 | CE8: 0 | CF8: 0 | CG8: 0 | CH8: 0 | CI8: 0 | CJ8: 0 | CK8: 0 | CL8: 0 | CM8: 0 | CN8: 0 | CO8: 0 | CP8: 0 | CQ8: 0 | CR8: 0 | CS8: 0 | CT8: 0 | CU8: 0 | CV8: 0 | CW8: 0 | CX8: 0 | CY8: 0 | CZ8: 0 | DA8: 0 | DB8: 0 | DC8: 0 | DD8: 0 | DE8: 0 | DF8: 0 | DG8: 0 | DH8: 0.00086623286 | DI8: 0 | DJ8: 0 | DK8: 0 | DL8: 0 | DM8: 0 | DN8: 0 | DO8: 0 | DP8: 0 | DQ8: 0.00081871495 | DR8: 0 | DS8: 0 | DT8: 0 | DU8: 0 | DV8: 0 | DW8: 0.0006148425 | DX8: 0 | DY8: 0 | DZ8: 0 | EA8: 0 | EB8: 0 | EC8: 0 | ED8: 0 | EE8: 0.00086623286
A9: 4 | B9: 015 | C9: 林業 | D9: 0.0009565796 | E9: 0 | F9: 0 | G9: 0.20174759 | H9: 0 | I9: 0 | J9: 0 | K9: 0.00072565917 | L9: 0 | M9: 0.0012126112 | N9: 0 | O9: 0 | P9: 0 | Q9: 0.11580217 | R9: 0 | S9: 0 | T9: 0 | U9: 0 | V9: 0 | W9: 0.00037327361 | X9: 0 | Y9: 0 | Z9: 0 | AA9: 0 | AB9: 0 | AC9: 0.00011376564 | AD9: 0 | AE9: 0 | AF9: 0 | AG9: 0 | AH9: 0.001150748 | AI9: 0 | AJ9: 0 | AK9: 0 | AL9: 0 | AM9: 0 | AN9: 0 | AO9: 0 | AP9: 0 | AQ9: 0 | AR9: 0 | AS9: 0 | AT9: 0 | AU9: 0 | AV9: 0 | AW9: 0 | AX9: 0 | AY9: 0 | AZ9: 0 | BA9: 0 | BB9: 0 | BC9: 0 | BD9: 0 | BE9: 0 | BF9: 0 | BG9: 0 | BH9: 0 | BI9: 0 | BJ9: 0 | BK9: 0.0002940103 | BL9: 0 | BM9: 1.0261778e-05 | BN9: 4.1854263e-05 | BO9: 6.592278e-05 | BP9: 3.0993817e-05 | BQ9: 0 | BR9: 0 | BS9: 0 | BT9: 0 | BU9: 0 | BV9: 0 | BW9: 0 | BX9: 0 | BY9: 0 | BZ9: 0 | CA9: 0 | CB9: 0 | CC9: 0 | CD9: 0 | CE9: 0 | CF9: 0 | CG9: 0 | CH9: 0 | CI9: 0 | CJ9: 0 | CK9: 0 | CL9: 0 | CM9: 0 | CN9: 1.5867853e-06 | CO9: 5.8849335e-05 | CP9: 5.2741689e-05 | CQ9: 6.8714921e-06 | CR9: 0 | CS9: 9.376274e-05 | CT9: 0.00017222573 | CU9: 0 | CV9: 0 | CW9: 0 | CX9: 0 | CY9: 0 | CZ9: 0.0015855076 | DA9: 0.0022160296 | DB9: 0 | DC9: 0 | DD9: 0 | DE9: 0.00016886187 | DF9: 0 | DG9: 0 | DH9: 0.0012049392 | DI9: 0.00032253993 | DJ9: 0.00051670726 | DK9: 0 | DL9: 0 | DM9: 0 | DN9: 0 | DO9: -0.057504087 | DP9: 0.0005682874 | DQ9: 0.0014595396 | DR9: 0.00043042929 | DS9: 0.00043042929 | DT9: 0.013534229 | DU9: 0.010126516 | DV9: 0.0041058828 | DW9: 0.0036177482 | DX9: 0.0026027726 | DY9: 0.0011551155 | DZ9: 0.0026129252 | EA9: 0.0025900546 | EB9: 0.0013887802 | EC9: 0.0016434728 | ED9: 0.0059736638 | EE9: 0.0044249692
A10: 5 | B10: 017 | C10: 漁業 | D10: 0 | E10: 0 | F10: 0 | G10: 0 | H10: 0.09434683 | I10: 0 | J10: 0 | K10: 0.0097182776 | L10: 0 | M10: 0.0016168149 | N10: 0 | O10: 0 | P10: 0 | Q10: 0 | R10: 0 | S10: 0 | T10: 0 | U10: 0 | V10: 0 | W10: 0 | X10: 0 | Y10: 0 | Z10: 0 | AA10: 0 | AB10: 0.00016878349 | AC10: 0 | AD10: 0 | AE10: 0 | AF10: 0 | AG10: 0 | AH10: 0 | AI10: 0 | AJ10: 0 | AK10: 0 | AL10: 0 | AM10: 0 | AN10: 0 | AO10: 0 | AP10: 0 | AQ10: 0 | AR10: 0 | AS10: 0 | AT10: 0 | AU10: 0 | AV10: 0 | AW10: 0 | AX10: 0 | AY10: 0 | AZ10: 0 | BA10: 0 | BB10: 0 | BC10: 0 | BD10: 0 | BE10: 0 | BF10: 0 | BG10: 0 | BH10: 0 | BI10: 0 | BJ10: 0 | BK10: 0.0066709923 | BL10: 0 | BM10: 0 | BN10: 0 | BO10: 0 | BP10: 0 | BQ10: 0 | BR10: 0 | BS10: 0 | BT10: 0 | BU10: 0 | BV10: 0 | BW10: 0 | BX10: 0 | BY10: 0 | BZ10: 0 | CA10: 0 | CB10: 0 | CC10: 0 | CD10: 0 | CE10: 0 | CF10: 0 | CG10: 0 | CH10: 0 | CI10: 0 | CJ10: 0 | CK10: 0 | CL10: 0 | CM10: 0 | CN10: 1.5867853e-06 | CO10: 5.6174365e-05 | CP10: 0.00017580563 | CQ10: 0.00012506116 | CR10: 0 | CS10: 0.00052588667 | CT10: 0.00096637771 | CU10: 0 | CV10: 0 | CW10: 0 | CX10: 0 | CY10: 0 | CZ10: 0.0056427811 | DA10: 0.0070438082 | DB10: 0 | DC10: 2.5349185e-05 | DD10: 0 | DE10: 0.00045029832 | DF10: 0 | DG10: 0 | DH10: 0.00063504915 | DI10: 0.0013532654 | DJ10: 0.00096524917 | DK10: 0 | DL10: 0 | DM10: 0 | DN10: 0 | DO10: 0.0001241542 | DP10: 0.00048832623 | DQ10: 0.0008757873 | DR10: 8.1811046e-05 | DS10: 8.1811046e-05 | DT10: 0.00024167804 | DU10: 0.00020010377 | DV10: 0.00038165223 | DW10: 0.00070753185 | DX10: 0.0012029982 | DY10: 0.0047029703 | DZ10: 0.0010239842 | EA10: 0.0012201725 | EB10: 0.0022192515 | EC10: 0.0020074281 | ED10: -0.00085152715 | EE10: 0.00017604391
A11: 6 | B11: 061 | C11: 石炭・原油・天然ガス | D11: 0 | E11: 0 | F11: 0 | G11: 0.00015196414 | H11: 0 | I11: 0 | J11: 0 | K11: 0.00025693195 | L11: 0.00025383097 | M11: 0 | N11: 0 | O11: 0 | P11: 0 | Q11: 0 | R11: 0 | S11: 0.0027998299 | T11: 1.8954831e-05 | U11: 0 | V11: 0.063581891 | W11: 0.00024884907 | X11: 0 | Y11: 0 | Z11: 0.0012135922 | AA11: 0 | AB11: 0.00016878349 | AC11: 0.00022753129 | AD11: 0.49152542 | AE11: 0.00012410027 | AF11: 2.1404682e-05 | AG11: 0 | AH11: 0 | AI11: 0.0051679587 | AJ11: 0.00025838458 | AK11: 0.0079774472 | AL11: 0.0045055336 | AM11: 0 | AN11: 0 | AO11: 6.5923924e-05 | AP11: 0 | AQ11: 0.00090471882 | AR11: 0.00040119582 | AS11: 3.4098562e-05 | AT11: 7.408006e-05 | AU11: 5.4668894e-05 | AV11: 2.3309829e-05 | AW11: 0 | AX11: 9.7938397e-05 | AY11: 0.00014818248 | AZ11: 3.0631624e-05 | BA11: 0 | BB11: 0 | BC11: 0 | BD11: 0 | BE11: 5.4994308e-06 | BF11: 0 | BG11: 0 | BH11: 0.00012183918 | BI11: 0 | BJ11: 6.2597809e-05 | BK11: 0 | BL11: 0.00017667845 | BM11: 0 | BN11: 0 | BO11: 6.93924e-06 | BP11: 5.1656361e-06 | BQ11: 0.0018321471 | BR11: 0.43777728 | BS11: 0 | BT11: 0 | BU11: 1.7240919e-06 | BV11: 0 | BW11: 0 | BX11: 0 | BY11: 0 | BZ11: 0 | CA11: 0 | CB11: 0 | CC11: 0 | CD11: 0 | CE11: 0 | CF11: 0 | CG11: 9.9620446e-06 | CH11: 0 | CI11: 0 | CJ11: 0 | CK11: 0 | CL11: 0 | CM11: 0 | CN11: 0 | CO11: 2.6749698e-06 | CP11: 9.1418927e-05 | CQ11: 5.4971937e-06 | CR11: 0 | CS11: 4.0766408e-06 | CT11: 9.5680961e-06 | CU11: 3.9882904e-05 | CV11: 3.1578615e-05 | CW11: 0 | CX11: 0 | CY11: 0 | CZ11: 5.6915659e-05 | DA11: 0 | DB11: 5.2836669e-05 | DC11: 0 | DD11: 0 | DE11: 0 | DF11: 0 | DG11: 0 | DH11: 0.00090294789 | DI11: 0 | DJ11: 0 | DK11: 0 | DL11: 0 | DM11: 0 | DN11: 0 | DO11: -0.0062697871 | DP11: 3.4124273e-05 | DQ11: 0.00087267311 | DR11: 0 | DS11: 0 | DT11: 0 | DU11: 0 | DV11: 2.149454e-05 | DW11: 0.00065536426 | DX11: 0.0099780109 | DY11: 0 | DZ11: 0.0154039 | EA11: 0.010360994 | EB11: 7.805888e-05 | EC11: 0.0022582333 | ED11: -0.0016751108 | EE11: 0
A12: 7 | B12: 062 | C12: その他の鉱業 | D12: 0 | E12: 0 | F12: 0 | G12: 9.1178482e-05 | H12: 0 | I12: 0 | J12: 0 | K12: 0 | L12: 0 | M12: 0.0012126112 | N12: 0 | O12: 0 | P12: 0 | Q12: 0 | R12: 0 | S12: 0.00060249504 | T12: 0 | U12: 0 | V12: 0.0046604527 | W12: 0.028119945 | X12: 0 | Y12: 0 | Z12: 0.0012135922 | AA12: 0 | AB12: 0.00012658762 | AC12: 0.00041714069 | AD12: 0 | AE12: 0.045048399 | AF12: 0 | AG12: 0.00020504408 | AH12: 0 | AI12: 0.04618863 | AJ12: 0.030282673 | AK12: 0.041446737 | AL12: 0.012907402 | AM12: 0 | AN12: 0 | AO12: 0.00019777177 | AP12: 0 | AQ12: 0.11132803 | AR12: 0.00010353441 | AS12: 4.2623202e-05 | AT12: 2.6938204e-05 | AU12: 1.3667224e-05 | AV12: 2.4974817e-05 | AW12: 6.2716795e-05 | AX12: 0 | AY12: 0 | AZ12: 0 | BA12: 0 | BB12: 0 | BC12: 0 | BD12: 0 | BE12: 0 | BF12: 0 | BG12: 0 | BH12: 0 | BI12: 0 | BJ12: 0 | BK12: 0.00076037147 | BL12: 0 | BM12: 0.0011103244 | BN12: 0.00015545869 | BO12: 0.0040455769 | BP12: 0.0045354285 | BQ12: 0 | BR12: 0 | BS12: 0 | BT12: 0 | BU12: 0 | BV12: 0 | BW12: 0 | BX12: 0 | BY12: 0 | BZ12: 0 | CA12: 0 | CB12: 0 | CC12: 0 | CD12: 0 | CE12: 0 | CF12: 0 | CG12: 0 | CH12: 0 | CI12: 0 | CJ12: 0 | CK12: 0 | CL12: 0 | CM12: 0 | CN12: 3.1735705e-06 | CO12: 0 | CP12: 0 | CQ12: 0 | CR12: 0 | CS12: 0 | CT12: 0 | CU12: 0 | CV12: 0 | CW12: 0 | CX12: 0 | CY12: 0 | CZ12: -6.5046468e-05 | DA12: -3.7489222e-05 | DB12: 0 | DC12: 2.5349185e-05 | DD12: 0 | DE12: 7.8802206e-05 | DF12: 0 | DG12: 0.00012941075 | DH12: 0.00058885275 | DI12: -0.0004838099 | DJ12: -1.721582e-05 | DK12: 0 | DL12: 0 | DM12: 0 | DN12: -3.56342e-05 | DO12: -0.0026279306 | DP12: -9.6854373e-06 | DQ12: 0.00055108503 | DR12: 3.6851823e-05 | DS12: 3.6851823e-05 | DT12: 3.1861092e-05 | DU12: 3.3158958e-05 | DV12: 6.1716997e-06 | DW12: 0.00042211358 | DX12: 0.0029172707 | DY12: 0 | DZ12: 0.0030013329 | EA12: 0.0028972309 | EB12: 0.00018575509 | EC12: 0.00076063862 | ED12: -0.00056610463 | EE12: 0.00028370101
A13: 8 | B13: 111 | C13: 食料品 | D13: 0 | E13: 0.016078294 | F13: 0 | G13: 0.051637414 | H13: 0.012223071 | I13: 0 | J13: 0 | K13: 0.23039852 | L13: 0.13185109 | M13: 0.25869038 | N13: 0 | O13: 0 | P13: 0.0038897345 | Q13: 0.00030156815 | R13: 0 | S13: 0.0041465835 | T13: 0.00017059348 | U13: 0 | V13: 0 | W13: 0.00024884907 | X13: 0 | Y13: 0 | Z13: 0 | AA13: 0 | AB13: 0.012099667 | AC13: 0.017406143 | AD13: 0 | AE13: 0 | AF13: 2.1404682e-05 | AG13: 0 | AH13: 0.021288838 | AI13: 0.00032299742 | AJ13: 0 | AK13: 0.00077975048 | AL13: 0.00050766575 | AM13: 0 | AN13: 0 | AO13: 0 | AP13: 0 | AQ13: 0 | AR13: 0 | AS13: 0 | AT13: 0 | AU13: 0 | AV13: 0 | AW13: 0 | AX13: 0 | AY13: 0 | AZ13: 0 | BA13: 0 | BB13: 0 | BC13: 0 | BD13: 0 | BE13: 0 | BF13: 0 | BG13: 0 | BH13: 0 | BI13: 0 | BJ13: 0 | BK13: 0.0018553064 | BL13: 0 | BM13: 0 | BN13: 0 | BO13: 0 | BP13: 0 | BQ13: 0 | BR13: 0 | BS13: 0 | BT13: 0 | BU13: 0 | BV13: 0 | BW13: 0 | BX13: 0 | BY13: 0 | BZ13: 0 | CA13: 0 | CB13: 0 | CC13: 0 | CD13: 0 | CE13: 0 | CF13: 0 | CG13: 0 | CH13: 0 | CI13: 0 | CJ13: 0 | CK13: 0 | CL13: 0 | CM13: 0 | CN13: 0.00065375552 | CO13: 0.0068479226 | CP13: 0.0018529913 | CQ13: 0.0027513454 | CR13: 0 | CS13: 0.011402364 | CT13: 0.018796525 | CU13: 0.0015873396 | CV13: 0 | CW13: 0 | CX13: 0 | CY13: 0 | CZ13: 0.072543073 | DA13: 0.15931253 | DB13: 0 | DC13: 3.8023778e-05 | DD13: 0 | DE13: 0.0074524372 | DF13: 0 | DG13: 0 | DH13: 0.014368558 | DI13: 0.047490499 | DJ13: 0.07173716 | DK13: 0 | DL13: 0 | DM13: 0 | DN13: 0 | DO13: 0.011463571 | DP13: 0.035427528 | DQ13: 0.033572969 | DR13: 0.005844699 | DS13: 0.005844699 | DT13: 0.12047378 | DU13: 0.090663875 | DV13: 0.055871049 | DW13: 0.047789471 | DX13: 0.058845517 | DY13: 0.4310231 | DZ13: 0.051525825 | EA13: 0.061701322 | EB13: 0.072152286 | EC13: 0.069936486 | ED13: 0.04520217 | EE13: 0.038734232
A14: 9 | B14: 112 | C14: 飲料 | D14: 0 | E14: 0.00019065171 | F14: 0 | G14: 0 | H14: 0 | I14: 0 | J14: 0 | K14: 0.0021266327 | L14: 0.062649243 | M14: 0 | N14: 0 | O14: 0 | P14: 0 | Q14: 0 | R14: 0 | S14: 0 | T14: 0 | U14: 0 | V14: 0 | W14: 0 | X14: 0 | Y14: 0 | Z14: 0 | AA14: 0 | AB14: 9.4940715e-05 | AC14: 0 | AD14: 0 | AE14: 0 | AF14: 0 | AG14: 0 | AH14: 0 | AI14: 0 | AJ14: 0 | AK14: 0 | AL14: 0 | AM14: 0 | AN14: 0 | AO14: 0 | AP14: 0 | AQ14: 0 | AR14: 0 | AS14: 0 | AT14: 0 | AU14: 0 | AV14: 0 | AW14: 0 | AX14: 0 | AY14: 0 | AZ14: 0 | BA14: 0 | BB14: 0 | BC14: 0 | BD14: 0 | BE14: 0 | BF14: 0 | BG14: 0 | BH14: 0 | BI14: 0 | BJ14: 0 | BK14: 0 | BL14: 0 | BM14: 0 | BN14: 0 | BO14: 0 | BP14: 0 | BQ14: 0 | BR14: 0 | BS14: 0 | BT14: 0 | BU14: 8.5342547e-05 | BV14: 0 | BW14: 0 | BX14: 0 | BY14: 0 | BZ14: 0 | CA14: 0 | CB14: 0 | CC14: 0 | CD14: 0 | CE14: 0 | CF14: 0 | CG14: 0 | CH14: 0 | CI14: 0 | CJ14: 0 | CK14: 0 | CL14: 0 | CM14: 0 | CN14: 5.8711054e-05 | CO14: 6.9549214e-05 | CP14: 4.9225576e-05 | CQ14: 0.00031196574 | CR14: 0 | CS14: 0.00094578068 | CT14: 0.0015643837 | CU14: 0 | CV14: 0 | CW14: 0 | CX14: 0 | CY14: 5.5071032e-06 | CZ14: 0.021652343 | DA14: 0.06246954 | DB14: 0 | DC14: 0 | DD14: 0.00012175819 | DE14: 0.0017223911 | DF14: 0 | DG14: 0.0038679435 | DH14: 0.0018123512 | DI14: 0.025494678 | DJ14: 0.015251821 | DK14: 0 | DL14: 0 | DM14: 0 | DN14: 0 | DO14: 0.039750036 | DP14: 0.007576377 | DQ14: 0.0059884658 | DR14: 0.00063532542 | DS14: 0.00063532542 | DT14: 0.019648968 | DU14: 0.014704369 | DV14: 0.010214518 | DW14: 0.0081588579 | DX14: 0.0046186539 | DY14: 0.0085808581 | DZ14: 0.012014159 | EA14: 0.0053057723 | EB14: 0.012049453 | EC14: 0.010619666 | ED14: 0.0099072052 | EE14: 0.0071527083
A15: 10 | B15: 113 | C15: 飼料・有機質肥料（別掲を除く。） | D15: 0.0055980702 | E15: 0.26128817 | F15: 0.02833411 | G15: 0.010713472 | H15: 0.13636364 | I15: 0 | J15: 0 | K15: -5.2080802e-06 | L15: 0 | M15: 0.036782538 | N15: 0 | O15: 0 | P15: 0 | Q15: 0 | R15: 0 | S15: 0 | T15: 0 | U15: 0 | V15: 0.00033288948 | W15: 0 | X15: 0 | Y15: 0 | Z15: 0 | AA15: 0 | AB15: 0 | AC15: 0 | AD15: 0 | AE15: 0 | AF15: 0 | AG15: 0 | AH15: 0 | AI15: 0 | AJ15: 0 | AK15: 0 | AL15: 0 | AM15: 0 | AN15: 0 | AO15: 0 | AP15: 0 | AQ15: 0 | AR15: 0 | AS15: 0 | AT15: 0 | AU15: 0 | AV15: 0 | AW15: 0 | AX15: 0 | AY15: 0 | AZ15: 0 | BA15: 0 | BB15: 0 | BC15: 0 | BD15: 0 | BE15: 0 | BF15: 0 | BG15: 0 | BH15: 0 | BI15: 0 | BJ15: 0 | BK15: 0 | BL15: 0 | BM15: 0 | BN15: 0 | BO15: 7.980126e-05 | BP15: 0 | BQ15: 0 | BR15: 0 | BS15: 0 | BT15: 0 | BU15: 5.7757077e-05 | BV15: 0 | BW15: 0 | BX15: 0 | BY15: 0 | BZ15: 0 | CA15: 0 | CB15: 0 | CC15: 0 | CD15: 0 | CE15: 0 | CF15: 0 | CG15: 0 | CH15: 0 | CI15: 0 | CJ15: 0 | CK15: 0 | CL15: 0 | CM15: 0 | CN15: 0 | CO15: 0.00056441862 | CP15: 0.0034141453 | CQ15: 6.1843429e-05 | CR15: 0 | CS15: 6.1149613e-05 | CT15: 2.392024e-05 | CU15: 0 | CV15: 0 | CW15: 0 | CX15: 0 | CY15: 0 | CZ15: 0 | DA15: 0 | DB15: 0 | DC15: 0.00082384851 | DD15: 0.0080360404 | DE15: 0 | DF15: 0 | DG15: 0 | DH15: 0.00084410969 | DI15: 0 | DJ15: 0.00085660338 | DK15: 0 | DL15: 0 | DM15: 0 | DN15: 0 | DO15: 0.0012208496 | DP15: 0.0004080272 | DQ15: 0.001028065 | DR15: 1.031851e-05 | DS15: 1.031851e-05 | DT15: 0.00063074601 | DU15: 0.00046940051 | DV15: 0.00043074207 | DW15: 0.00088894905 | DX15: 0.0012648667 | DY15: 0.00074257426 | DZ15: 0.0013064626 | EA15: 0.0012636116 | EB15: 0.0030309387 | EC15: 0.0026562323 | ED15: -0.0012573311 | EE15: 0.00016636082
A16: 11 | B16: 114 | C16: たばこ | D16: 0 | E16: 0 | F16: 0 | G16: 0 | H16: 0 | I16: 0 | J16: 0 | K16: 0 | L16: 0 | M16: 0 | N16: 0 | O16: 0 | P16: 0 | Q16: 0 | R16: 0 | S16: 0 | T16: 0 | U16: 0 | V16: 0 | W16: 0 | X16: 0 | Y16: 0 | Z16: 0 | AA16: 0 | AB16: 0 | AC16: 0 | AD16: 0 | AE16: 0 | AF16: 0 | AG16: 0 | AH16: 0 | AI16: 0 | AJ16: 0 | AK16: 0 | AL16: 0 | AM16: 0 | AN16: 0 | AO16: 0 | AP16: 0 | AQ16: 0 | AR16: 0 | AS16: 0 | AT16: 0 | AU16: 0 | AV16: 0 | AW16: 0 | AX16: 0 | AY16: 0 | AZ16: 0 | BA16: 0 | BB16: 0 | BC16: 0 | BD16: 0 | BE16: 0 | BF16: 0 | BG16: 0 | BH16: 0 | BI16: 0 | BJ16: 0 | BK16: 0 | BL16: 0 | BM16: 0 | BN16: 0 | BO16: 0 | BP16: 0 | BQ16: 0 | BR16: 0 | BS16: 0 | BT16: 0 | BU16: 0 | BV16: 0 | BW16: 0 | BX16: 0 | BY16: 0 | BZ16: 0 | CA16: 0 | CB16: 0 | CC16: 0 | CD16: 0 | CE16: 0 | CF16: 0 | CG16: 0 | CH16: 0 | CI16: 0 | CJ16: 0 | CK16: 0 | CL16: 0 | CM16: 0 | CN16: 0 | CO16: 0 | CP16: 0 | CQ16: 0 | CR16: 0 | CS16: 0 | CT16: 0 | CU16: 0 | CV16: 0 | CW16: 0 | CX16: 0 | CY16: 0 | CZ16: 0 | DA16: 0 | DB16: 0 | DC16: 0 | DD16: 0 | DE16: 0 | DF16: 0 | DG16: 0 | DH16: 0 | DI16: 0.016954382 | DJ16: 0.0095871181 | DK16: 0 | DL16: 0 | DM16: 0 | DN16: 0 | DO16: 0 | DP16: 0.0049133322 | DQ16: 0.0027727121 | DR16: 0 | DS16: 0 | DT16: 0 | DU16: 0 | DV16: 0.0030948591 | DW16: 0.0020822647 | DX16: 0.006344097 | DY16: 0.0095709571 | DZ16: 0.13469806 | EA16: 0.017653328 | EB16: 0.0043556438 | EC16: 0.0071750013 | ED16: 0 | EE16: 0
A17: 12 | B17: 151 | C17: 繊維工業製品 | D17: 5.8226585e-05 | E17: 0 | F17: 7.7627698e-05 | G17: 0.0025681939 | H17: 0.00038197097 | I17: 0 | J17: 0 | K17: 0 | L17: 1.8802294e-05 | M17: 0 | N17: 0 | O17: 0.12248768 | P17: 0.20421106 | Q17: 0.00052774427 | R17: 0.0034407071 | S17: 0.00053161327 | T17: 0.00017059348 | U17: 0.00023914455 | V17: 0.00099866844 | W17: 0 | X17: 0 | Y17: 0 | Z17: 0 | AA17: 0 | AB17: 0 | AC17: 0 | AD17: 0 | AE17: 0 | AF17: 0.00028896321 | AG17: 0.0066639327 | AH17: 0.045742232 | AI17: 0 | AJ17: 0 | AK17: 0 | AL17: 0.0015991471 | AM17: 0 | AN17: 0 | AO17: 0 | AP17: 0 | AQ17: 0 | AR17: 0.0010871113 | AS17: 7.6721764e-05 | AT17: 0.00029632024 | AU17: 4.1001671e-05 | AV17: 0.0006143805 | AW17: 0.00030875961 | AX17: 0.0012438176 | AY17: 6.269259e-05 | AZ17: 0 | BA17: 0.002681197 | BB17: 0 | BC17: 0.00034498053 | BD17: 0.00019230473 | BE17: 0 | BF17: 0 | BG17: 0 | BH17: 0.00053016508 | BI17: 0 | BJ17: 0.00031298905 | BK17: 0.0033963259 | BL17: 0 | BM17: 0.00046998943 | BN17: 0.0026009435 | BO17: 0.00060371388 | BP17: 0.00023245363 | BQ17: 0 | BR17: 0 | BS17: 6.3394791e-05 | BT17: 7.0312892e-05 | BU17: 0.00029223357 | BV17: 6.1222491e-06 | BW17: 0 | BX17: 0 | BY17: 0 | BZ17: 0.0006630881 | CA17: 7.8624851e-05 | CB17: 2.023931e-05 | CC17: 0 | CD17: 0 | CE17: 0.00040160643 | CF17: 0.00050075113 | CG17: 0.00032874747 | CH17: 6.057669e-05 | CI17: 8.0186032e-06 | CJ17: 0 | CK17: 0.00039072993 | CL17: 0 | CM17: 0.00011979814 | CN17: 4.9190343e-05 | CO17: 5.3499395e-06 | CP17: 0 | CQ17: 7.1463518e-05 | CR17: 0.0024358595 | CS17: 7.3379535e-05 | CT17: 5.7408577e-05 | CU17: 0.00011964871 | CV17: 0.00012631446 | CW17: 0 | CX17: 3.7538947e-05 | CY17: 0.000337769 | CZ17: 0.00092691216 | DA17: 0 | DB17: 0.00018492834 | DC17: 0.0029531801 | DD17: 0 | DE17: 0.00038275357 | DF17: 0.014625543 | DG17: 8.6273833e-05 | DH17: 0.00050177221 | DI17: 0.0001121878 | DJ17: 0.00021705892 | DK17: 0 | DL17: 0 | DM17: 1.5240237e-05 | DN17: 7.7886179e-05 | DO17: 0.0088977176 | DP17: 7.6695149e-05 | DQ17: 0.00051752801 | DR17: 0.00050265886 | DS17: 0.00050265886 | DT17: 0.00037430307 | DU17: 0.00040768268 | DV17: 0.00019919693 | DW17: 0.00049017486 | DX17: 0.002495362 | DY17: 0.0059405941 | DZ17: 0.0026394075 | EA17: 0.00254041 | EB17: 0.0009095738 | EC17: 0.0012553415 | ED17: -0.00060190719 | EE17: 0.00017732154
... A114: 109 | B114: 700 | C114: 内生部門計 | D114: 0.48354267 | E114: 0.69886562 | F114: 0.3993945 | G114: 0.58355748 | H114: 0.47669977 | I114: 0 | J114: 0.59706091 | K114: 0.67777782 | L114: 0.62853248 | M114: 0.71422797 | N114: 0 | O114: 0.56958665 | P114: 0.58836462 | Q114: 0.54998492 | R114: 0.61007297 | S114: 0.79483272 | T114: 0.5407055 | U114: 0.4002084 | V114: 0.62250333 | W114: 0.50777653 | X114: 0 | Y114: 0.5625 | Z114: 0.70995146 | AA114: 0.375 | AB114: 0.59605891 | AC114: 0.61380356 | AD114: 0.55932203 | AE114: 0.53102507 | AF114: 0.5856 | AG114: 0.42618413 | AH114: 0.60097814 | AI114: 0.52810078 | AJ114: 0.53539869 | AK114: 0.51709453 | AL114: 0.55588131 | AM114: 0 | AN114: 0 | AO114: 0.60867559 | AP114: 0.59188262 | AQ114: 0.85729251 | AR114: 0.79927267 | AS114: 0.53227855 | AT114: 0.46729702 | AU114: 0.51631012 | AV114: 0.52631097 | AW114: 0.59469995 | AX114: 0.64773517 | AY114: 0.66998241 | AZ114: 0.62377218 | BA114: 0.65362394 | BB114: 0.61872009 | BC114: 0.5723227 | BD114: 0.64646698 | BE114: 0.69825723 | BF114: 0 | BG114: 0.77249357 | BH114: 0.73576046 | BI114: 0.59482009 | BJ114: 0.60250391 | BK114: 0.61354881 | BL114: 0.83250883 | BM114: 0.5366992 | BN114: 0.53196171 | BO114: 0.51619272 | BP114: 0.48468647 | BQ114: 0.44740407 | BR114: 0.77866757 | BS114: 0.56457288 | BT114: 0.36454221 | BU114: 0.32391376 | BV114: 0.37677545 | BW114: 0.27280417 | BX114: 0.35833783 | BY114: 0.10947084 | BZ114: 0.34850016 | CA114: 0.22382038 | CB114: 1 | CC114: 0.4375 | CD114: 0.76080247 | CE114: 0.30441767 | CF114: 0.39233851 | CG114: 0.38132714 | CH114: 0.21904531 | CI114: 0.54755433 | CJ114: 0.5288526 | CK114: 0.36979332 | CL114: 0.59174525 | CM114: 0.50372123 | CN114: 0.27527392 | CO114: 0.22025434 | CP114: 0.44865948 | CQ114: 0.479916 | CR114: 0.44173287 | CS114: 0.29844272 | CT114: 0.2370735 | CU114: 0.39430632 | CV114: 0.45370049 | CW114: 0.83586753 | CX114: 0.63515361 | CY114: 0.27829596 | CZ114: 0.60761532 | DA114: 0.58501098 | DB114: 0.35503599 | DC114: 0.33689067 | DD114: 0.31182272 | DE114: 0.30932118 | DF114: 1 | DG114: 0.35372272 | DH114: 0.4609623 | DI114: 1 | DJ114: 1 | DK114: 1 | DL114: 1 | DM114: 1 | DN114: 1 | DO114: 1 | DP114: 1 | DQ114: 1 | DR114: 1 | DS114: 1 | DT114: 1 | DU114: 1 | DV114: 1 | DW114: 1 | DX114: 1 | DY114: 1 | DZ114: 1 | EA114: 1 | EB114: 1 | EC114: 1 | ED114: 1 | EE114: 1
A115: 110 | B115: 711 | C115: 家計外消費支出（行） | D115: 0.0026617867 | E115: 0.0014616631 | F115: 0.0013196709 | G115: 0.0059114049 | H115: 0.0099312452 | I115: 0 | J115: 0.010903058 | K115: 0.0061628949 | L115: 0.0049167998 | M115: 0.002829426 | N115: 0 | O115: 0.0094804702 | P115: 0.0086250634 | Q115: 0.0065214113 | R115: 0.010796702 | S115: 0.010348738 | T115: 0.012093182 | U115: 0.01315295 | V115: 0.026298269 | W115: 0.0079631703 | X115: 0 | Y115: 0 | Z115: 0.0024271845 | AA115: 0 | AB115: 0.0082070973 | AC115: 0.0092908608 | AD115: 0 | AE115: 0.0058327128 | AF115: 0.013966555 | AG115: 0.01404552 | AH115: 0.0089182969 | AI115: 0.010981912 | AJ115: 0.0083974988 | AK115: 0.011696257 | AL115: 0.013186618 | AM115: 0 | AN115: 0 | AO115: 0.0044828268 | AP115: 0.0019112935 | AQ115: 0.0043807438 | AR115: 0.0070662232 | AS115: 0.015429599 | AT115: 0.0097246916 | AU115: 0.010469093 | AV115: 0.009691894 | AW115: 0.01150612 | AX115: 0.0077469272 | AY115: 0.010084008 | AZ115: 0.01112949 | BA115: 0.0094966269 | BB115: 0.014628138 | BC115: 0.010792962 | BD115: 0.0094037015 | BE115: 0.021634761 | BF115: 0 | BG115: 0.0051413882 | BH115: 0.0056441176 | BI115: 0.0064748897 | BJ115: 0.0083255086 | BK115: 0.010797275 | BL115: 0.0069787986 | BM115: 0.013477819 | BN115: 0.012137736 | BO115: 0.011297083 | BP115: 0.0096184145 | BQ115: 0.012554906 | BR115: 0.008797654 | BS115: 0.0083152834 | BT115: 0.017347195 | BU115: 0.013665152 | BV115: 0.024827761 | BW115: 0.0048365821 | BX115: 0.003526199 | BY115: 0 | BZ115: 0.012946006 | CA115: 0.0052826072 | CB115: 0 | CC115: 0 | CD115: 0.0092592593 | CE115: 0.0092369478 | CF115: 0.011367051 | CG115: 0.020651318 | CH115: 0.0030894112 | CI115: 0.0019164462 | CJ115: 0.0071976372 | CK115: 0.0095240421 | CL115: 0.0037100015 | CM115: 0.01705626 | CN115: 0.0083385565 | CO115: 0.0029585166 | CP115: 0.0034914998 | CQ115: 0.0057857964 | CR115: 0.016823366 | CS115: 0.01103139 | CT115: 0.012046233 | CU115: 0.035033143 | CV115: 0.0041894296 | CW115: 0.0090490407 | CX115: 0.0058989773 | CY115: 0.010984835 | CZ115: 0.020351414 | DA115: 0.012292299 | DB115: 0.013565815 | DC115: 0.017199422 | DD115: 0.016437355 | DE115: 0.014690983 | DF115: 0 | DG115: 0.0019986771 | DH115: 0.0095901566
A116: 111 | B116: 911 | C116: 雇用者所得 | D116: 0.20902512 | E116: 0.1028566 | F116: 0.16790871 | G116: 0.22749031 | H116: 0.12490451 | I116: 0 | J116: 0.26736193 | K116: 0.14713 | L116: 0.09655918 | M116: 0.089329022 | N116: 0 | O116: 0.30678802 | P116: 0.2860646 | Q116: 0.16767189 | R116: 0.22856973 | S116: 0.065034023 | T116: 0.23547586 | U116: 0.2895528 | V116: 0.10486019 | W116: 0.11173323 | X116: 0 | Y116: 0.0625 | Z116: 0.12135922 | AA116: 0.125 | AB116: 0.0996983 | AC116: 0.13503982 | AD116: 0.016949153 | AE116: 0.087366592 | AF116: 0.22748361 | AG116: 0.32089399 | AH116: 0.39211738 | AI116: 0.25742894 | AJ116: 0.19911116 | AK116: 0.30122361 | AL116: 0.22638085 | AM116: 0 | AN116: 0 | AO116: 0.22242732 | AP116: 0.11681376 | AQ116: 0.075186896 | AR116: 0.16838577 | AS116: 0.23432532 | AT116: 0.34829751 | AU116: 0.26946981 | AV116: 0.27201072 | AW116: 0.28117869 | AX116: 0.25839087 | AY116: 0.26590777 | AZ116: 0.23762993 | BA116: 0.17310154 | BB116: 0.23124884 | BC116: 0.22113252 | BD116: 0.19628929 | BE116: 0.13834368 | BF116: 0 | BG116: 0.096401028 | BH116: 0.18276206 | BI116: 0.18364849 | BJ116: 0.20463224 | BK116: 0.27852914 | BL116: 0.24514134 | BM116: 0.32981149 | BN116: 0.34276848 | BO116: 0.32920449 | BP116: 0.40711928 | BQ116: 0.13070882 | BR116: 0.081660275 | BS116: 0.11851656 | BT116: 0.4540003 | BU116: 0.43822019 | BV116: 0.30032285 | BW116: 0.17404996 | BX116: 0.10239234 | BY116: 0 | BZ116: 0.29286391 | CA116: 0.58044305 | CB116: 0 | CC116: 0.29166667 | CD116: 0.19753086 | CE116: 0.46345382 | CF116: 0.31477216 | CG116: 0.19889222 | CH116: 0.59552944 | CI116: 0.066714778 | CJ116: 0.15775235 | CK116: 0.35012658 | CL116: 0.19407946 | CM116: 0.24495725 | CN116: 0.34749645 | CO116: 0.6088472 | CP116: 0.33655175 | CQ116: 0.45528858 | CR116: 0.49302251 | CS116: 0.65003669 | CT116: 0.65010908 | CU116: 0.53009963 | CV116: 0.12209345 | CW116: 0.093915619 | CX116: 0.28124179 | CY116: 0.46501796 | CZ116: 0.3325338 | DA116: 0.31045658 | DB116: 0.31404795 | DC116: 0.28967781 | DD116: 0.35285523 | DE116: 0.33433525 | DF116: 0 | DG116: 0.0074195497 | DH116: 0.29031846
A117: 112 | B117: 921 | C117: 営業余剰 | D117: 0.15101065 | E117: 0.032315465 | F117: 0.22830306 | G117: 0.068171112 | H117: 0.31474408 | I117: 0 | J117: -0.036501541 | K117: 0.091749012 | L117: 0.096794209 | M117: 0.109135 | N117: 0 | O117: -0.033750474 | P117: -0.0017757484 | Q117: 0.15285736 | R117: 0.066381918 | S117: 0.076339665 | T117: 0.091096916 | U117: 0.12838646 | V117: 0.10552597 | W117: 0.2677616 | X117: 0 | Y117: 0.25 | Z117: 0.076456311 | AA117: 0.375 | AB117: 0.011435082 | AC117: 0.13409177 | AD117: 0.10169492 | AE117: 0.21059816 | AF117: 0.060457525 | AG117: 0.059565307 | AH117: -0.065304948 | AI117: 0.022609819 | AJ117: 0.10803059 | AK117: 0.011816219 | AL117: 0.074855315 | AM117: 0 | AN117: 0 | AO117: 0.074494034 | AP117: 0.22766878 | AQ117: 0.0035712585 | AR117: -0.0068332708 | AS117: 0.10958425 | AT117: 0.031403211 | AU117: 0.093203631 | AV117: 0.067441996 | AW117: 0.0066769265 | AX117: -0.018686646 | AY117: -0.096765062 | AZ117: -0.0088627499 | BA117: -0.043245113 | BB117: -0.0022781526 | BC117: 0.050219309 | BD117: 0.0016576668 | BE117: -0.034365943 | BF117: 0 | BG117: 0.033419023 | BH117: -0.023465567 | BI117: 0.059047128 | BJ117: 0.048513302 | BK117: -0.025274748 | BL117: -0.1315371 | BM117: 0.03662839 | BN117: 0.036126209 | BO117: 0.0090036639 | BP117: 0.014670407 | BQ117: -0.19364777 | BR117: -0.036431311 | BS117: 0.10183317 | BT117: 0.042910954 | BU117: 0.069911925 | BV117: 0.21762555 | BW117: 0.18585876 | BX117: 0.19523124 | BY117: 0.4430721 | BZ117: -0.19204294 | CA117: 0.0048305143 | CB117: 0 | CC117: 0.10416667 | CD117: -0.47376543 | CE117: 0.049196787 | CF117: 0.058637957 | CG117: 0.2893177 | CH117: 0.033801793 | CI117: 0.16479833 | CJ117: 0.082822467 | CK117: 0.1195308 | CL117: 0.12729943 | CM117: 0.10350559 | CN117: -0.0056584762 | CO117: -0.0053044651 | CP117: 0.031353176 | CQ117: 0.004499453 | CR117: 0.028319712 | CS117: 0.0081777415 | CT117: 0.0155051 | CU117: -0.015155503 | CV117: 0.065146683 | CW117: -0.017079775 | CX117: 0.011803317 | CY117: 0.089038845 | CZ117: -0.15298116 | DA117: -0.010559464 | DB117: 0.07946635 | DC117: 0.10470481 | DD117: 0.21502496 | DE117: 0.020409771 | DF117: 0 | DG117: 0.57177983 | DH117: 0.069046868
A118: 113 | B118: 931 | C118: 資本減耗引当 | D118: 0.16334636 | E118: 0.14778685 | F118: 0.14578482 | G118: 0.090859357 | H118: 0.05500382 | I118: 0 | J118: 0.10903058 | K118: 0.059210663 | L118: 0.082401053 | M118: 0.049312854 | N118: 0 | O118: 0.15434206 | P118: 0.091577879 | Q118: 0.080292521 | R118: 0.049237705 | S118: 0.033952367 | T118: 0.070360331 | U118: 0.12377438 | V118: 0.10086551 | W118: 0.09518477 | X118: 0 | Y118: 0.125 | Z118: 0.16019417 | AA118: 0.125 | AB118: 0.27168868 | AC118: 0.10227531 | AD118: 0.016949153 | AE118: 0.12062547 | AF118: 0.088979264 | AG118: 0.14435104 | AH118: 0.045454545 | AI118: 0.17118863 | AJ118: 0.097953594 | AK118: 0.13309741 | AL118: 0.10249772 | AM118: 0 | AN118: 0 | AO118: 0.053991694 | AP118: 0.026814323 | AQ118: 0.032331794 | AR118: 0.027941348 | AS118: 0.066926952 | AT118: 0.10417677 | AU118: 0.10449617 | AV118: 0.11992241 | AW118: 0.15163956 | AX118: 0.18731698 | AY118: 0.1539578 | AZ118: 0.16338908 | BA118: 0.19846047 | BB118: 0.19069991 | BC118: 0.16357006 | BD118: 0.18962785 | BE118: 0.22921078 | BF118: 0 | BG118: 0.10796915 | BH118: 0.10308253 | BI118: 0.15523629 | BJ118: 0.1284507 | BK118: 0.12951661 | BL118: 0.031978799 | BM118: 0.036519615 | BN118: 0.028843567 | BO118: 0.082691454 | BP118: 0.064947543 | BQ118: 0.55053673 | BR118: 0.16580194 | BS118: 0.17805484 | BT118: 0.05119783 | BU118: 0.097188782 | BV118: 0.075913848 | BW118: 0.28427378 | BX118: 0.28292666 | BY118: 0.37561951 | BZ118: 0.55850963 | CA118: 0.105775 | CB118: 0 | CC118: 0.14583333 | CD118: 0.55709877 | CE118: 0.10903614 | CF118: 0.16690035 | CG118: 0.084687341 | CH118: 0.070208384 | CI118: 0.20124689 | CJ118: 0.19078702 | CK118: 0.098048792 | CL118: 0.053485856 | CM118: 0.10344569 | CN118: 0 | CO118: 0.029783113 | CP118: 0.063008738 | CQ118: 0.063058309 | CR118: 0.0086279509 | CS118: 0.02206278 | CT118: 0.078090017 | CU118: 0.043408552 | CV118: 0.33882801 | CW118: 0.075447245 | CX118: 0.030647869 | CY118: 0.087502363 | CZ118: 0.19198465 | DA118: 0.067872153 | DB118: 0.16288224 | DC118: 0.19985297 | DD118: 0.030439547 | DE118: 0.19481031 | DF118: 0 | DG118: 0.035156587 | DH118: 0.12467647
A119: 114 | B119: 932 | C119: 資本減耗引当（社会資本等減耗分） | D119: 0 | E119: 0 | F119: 0 | G119: 0 | H119: 0 | I119: 0 | J119: 0 | K119: 0 | L119: 0 | M119: 0 | N119: 0 | O119: 0 | P119: 0 | Q119: 0 | R119: 0 | S119: 0 | T119: 0 | U119: 0 | V119: 0 | W119: 0 | X119: 0 | Y119: 0 | Z119: 0 | AA119: 0 | AB119: 0 | AC119: 0 | AD119: 0 | AE119: 0 | AF119: 0 | AG119: 0 | AH119: 0 | AI119: 0 | AJ119: 0 | AK119: 0 | AL119: 0 | AM119: 0 | AN119: 0 | AO119: 0 | AP119: 0 | AQ119: 0 | AR119: 0 | AS119: 0 | AT119: 0 | AU119: 0 | AV119: 0 | AW119: 0 | AX119: 0 | AY119: 0 | AZ119: 0 | BA119: 0 | BB119: 0 | BC119: 0 | BD119: 0 | BE119: 0 | BF119: 0 | BG119: 0 | BH119: 0 | BI119: 0 | BJ119: 0 | BK119: 0 | BL119: 0 | BM119: 0 | BN119: 0 | BO119: 0 | BP119: 0 | BQ119: 0 | BR119: 0 | BS119: 0.025294522 | BT119: 0.026889659 | BU119: 0 | BV119: 0 | BW119: 0 | BX119: 0 | BY119: 0 | BZ119: 0 | CA119: 0 | CB119: 0 | CC119: 0 | CD119: 0 | CE119: 0 | CF119: 0 | CG119: 0 | CH119: 0 | CI119: 0 | CJ119: 0 | CK119: 0 | CL119: 0 | CM119: 0 | CN119: 0.37277077 | CO119: 0.1391653 | CP119: 0.10883775 | CQ119: 0 | CR119: 0.0023675644 | CS119: 0.0036730534 | CT119: 0 | CU119: 0 | CV119: 0 | CW119: 0 | CX119: 0 | CY119: 0 | CZ119: 0 | DA119: 0 | DB119: 0 | DC119: 0 | DD119: 0 | DE119: 0 | DF119: 0 | DG119: 0 | DH119: 0.0217854
A120: 115 | B120: 941 | C120: 間接税（関税・輸入品商品税を除く。） | D120: 0.026809183 | E120: 0.022592228 | F120: 0.057289241 | G120: 0.026624117 | H120: 0.019098549 | I120: 0 | J120: 0.052145058 | K120: 0.019716055 | L120: 0.090843283 | M120: 0.036378335 | N120: 0 | O120: -0.0064467198 | P120: 0.027143582 | Q120: 0.042671894 | R120: 0.034940974 | S120: 0.019492487 | T120: 0.050268211 | U120: 0.044925011 | V120: 0.039946738 | W120: 0.0095806893 | X120: 0 | Y120: 0 | Z120: -0.07038835 | AA120: 0 | AB120: 0.012911937 | AC120: 0.0054986727 | AD120: 0.30508475 | AE120: 0.044551998 | AF120: 0.023513043 | AG120: 0.034960016 | AH120: 0.017836594 | AI120: 0.0096899225 | AJ120: 0.05110847 | AK120: 0.025071977 | AL120: 0.027198193 | AM120: 0 | AN120: 0 | AO120: 0.035928538 | AP120: 0.034909214 | AQ120: 0.027236798 | AR120: 0.0041672598 | AS120: 0.041463851 | AT120: 0.039107537 | AU120: 0.0060545801 | AV120: 0.0046236711 | AW120: -0.045696422 | AX120: -0.082503305 | AY120: -0.0031593266 | AZ120: -0.027057935 | BA120: 0.0085625324 | BB120: -0.053018825 | BC120: -0.018037554 | BD120: -0.043445485 | BE120: -0.053075007 | BF120: 0 | BG120: -0.015424165 | BH120: -0.0037803075 | BI120: 0.00077312115 | BJ120: 0.0076369327 | BK120: -0.0071170769 | BL120: 0.014929329 | BM120: 0.046867592 | BN120: 0.048174257 | BO120: 0.05423363 | BP120: 0.043556644 | BQ120: 0.052572444 | BR120: 0.0023685991 | BS120: 0.038089704 | BT120: 0.043111848 | BU120: 0.057820007 | BV120: 0.017158623 | BW120: 0.078180943 | BX120: 0.059070462 | BY120: 0.07183755 | BZ120: -0.0065045785 | CA120: 0.083543819 | CB120: 0 | CC120: 0.041666667 | CD120: -0.050925926 | CE120: 0.064658635 | CF120: 0.055983976 | CG120: 0.027156534 | CH120: 0.07832566 | CI120: 0.017773234 | CJ120: 0.032587923 | CK120: 0.052984607 | CL120: 0.029680012 | CM120: 0.027313976 | CN120: 0.0017787863 | CO120: 0.0044110252 | CP120: 0.01212004 | CQ120: 0.010939415 | CR120: 0.0091060168 | CS120: 0.0065756217 | CT120: 0.010256999 | CU120: 0.031451658 | CV120: 0.016041936 | CW120: 0.0028003425 | CX120: 0.035254434 | CY120: 0.069205931 | CZ120: 0.00049597932 | DA120: 0.034927458 | DB120: 0.075001651 | DC120: 0.051674314 | DD120: 0.073420188 | DE120: 0.12643251 | DF120: 0 | DG120: 0.032884709 | DH120: 0.026729557
A121: 116 | B121: 951 | C121: （控除）経常補助金 | D121: -0.036395774 | E121: -0.0058784278 | F121: 0 | G121: -0.0026137831 | H121: -0.00038197097 | I121: 0 | J121: 0 | K121: -0.0017464429 | L121: -4.7005735e-05 | M121: -0.0012126112 | N121: 0 | O121: 0 | P121: 0 | Q121: 0 | R121: 0 | S121: 0 | T121: 0 | U121: 0 | V121: 0 | W121: 0 | X121: 0 | Y121: 0 | Z121: 0 | AA121: 0 | AB121: 0 | AC121: 0 | AD121: 0 | AE121: 0 | AF121: 0 | AG121: 0 | AH121: 0 | AI121: 0 | AJ121: 0 | AK121: 0 | AL121: 0 | AM121: 0 | AN121: 0 | AO121: 0 | AP121: 0 | AQ121: 0 | AR121: 0 | AS121: -8.5246405e-06 | AT121: -6.7345509e-06 | AU121: -3.4168059e-06 | AV121: -1.6649878e-06 | AW121: -4.8243689e-06 | AX121: 0 | AY121: -7.5991018e-06 | AZ121: 0 | BA121: 0 | BB121: 0 | BC121: 0 | BD121: 0 | BE121: -5.4994308e-06 | BF121: 0 | BG121: 0 | BH121: -3.2929508e-06 | BI121: 0 | BJ121: -6.2597809e-05 | BK121: 0 | BL121: 0 | BM121: -4.1047112e-06 | BN121: -1.1958361e-05 | BO121: -0.0026230327 | BP121: -0.024598759 | BQ121: -0.00012918986 | BR121: -0.00086472667 | BS121: -0.034676951 | BT121: 0 | BU121: -0.00071980835 | BV121: -0.012624078 | BW121: -4.187517e-06 | BX121: -0.0014847154 | BY121: 0 | BZ121: -0.014272182 | CA121: -0.003695368 | CB121: 0 | CC121: -0.020833333 | CD121: 0 | CE121: 0 | CF121: 0 | CG121: -0.0020322571 | CH121: 0 | CI121: -4.0093016e-06 | CJ121: 0 | CK121: -8.1402069e-06 | CL121: 0 | CM121: 0 | CN121: 0 | CO121: -0.0001150237 | CP121: -0.0040224328 | CQ121: -0.019487552 | CR121: 0 | CS121: 0 | CT121: -0.003080927 | CU121: -0.019143794 | CV121: 0 | CW121: 0 | CX121: 0 | CY121: -4.5892527e-05 | CZ121: 0 | DA121: 0 | DB121: 0 | DC121: 0 | DD121: 0 | DE121: 0 | DF121: 0 | DG121: -0.0029620683 | DH121: -0.0031092124
A122: 117 | B122: 960 | C122: 粗付加価値部門計 | D122: 0.51645733 | E122: 0.30113438 | F122: 0.6006055 | G122: 0.41644252 | H122: 0.52330023 | I122: 0 | J122: 0.40293909 | K122: 0.32222218 | L122: 0.37146752 | M122: 0.28577203 | N122: 0 | O122: 0.43041335 | P122: 0.41163538 | Q122: 0.45001508 | R122: 0.38992703 | S122: 0.20516728 | T122: 0.4592945 | U122: 0.5997916 | V122: 0.37749667 | W122: 0.49222347 | X122: 0 | Y122: 0.4375 | Z122: 0.29004854 | AA122: 0.625 | AB122: 0.40394109 | AC122: 0.38619644 | AD122: 0.44067797 | AE122: 0.46897493 | AF122: 0.4144 | AG122: 0.57381587 | AH122: 0.39902186 | AI122: 0.47189922 | AJ122: 0.46460131 | AK122: 0.48290547 | AL122: 0.44411869 | AM122: 0 | AN122: 0 | AO122: 0.39132441 | AP122: 0.40811738 | AQ122: 0.14270749 | AR122: 0.20072733 | AS122: 0.46772145 | AT122: 0.53270298 | AU122: 0.48368988 | AV122: 0.47368903 | AW122: 0.40530005 | AX122: 0.35226483 | AY122: 0.33001759 | AZ122: 0.37622782 | BA122: 0.34637606 | BB122: 0.38127991 | BC122: 0.4276773 | BD122: 0.35353302 | BE122: 0.30174277 | BF122: 0 | BG122: 0.22750643 | BH122: 0.26423954 | BI122: 0.40517991 | BJ122: 0.39749609 | BK122: 0.38645119 | BL122: 0.16749117 | BM122: 0.4633008 | BN122: 0.46803829 | BO122: 0.48380728 | BP122: 0.51531353 | BQ122: 0.55259593 | BR122: 0.22133243 | BS122: 0.43542712 | BT122: 0.63545779 | BU122: 0.67608624 | BV122: 0.62322455 | BW122: 0.72719583 | BX122: 0.64166217 | BY122: 0.89052916 | BZ122: 0.65149984 | CA122: 0.77617962 | CB122: 0 | CC122: 0.5625 | CD122: 0.23919753 | CE122: 0.69558233 | CF122: 0.60766149 | CG122: 0.61867286 | CH122: 0.78095469 | CI122: 0.45244567 | CJ122: 0.4711474 | CK122: 0.63020668 | CL122: 0.40825475 | CM122: 0.49627877 | CN122: 0.72472608 | CO122: 0.77974566 | CP122: 0.55134052 | CQ122: 0.520084 | CR122: 0.55826713 | CS122: 0.70155728 | CT122: 0.7629265 | CU122: 0.60569368 | CV122: 0.54629951 | CW122: 0.16413247 | CX122: 0.36484639 | CY122: 0.72170404 | CZ122: 0.39238468 | DA122: 0.41498902 | DB122: 0.64496401 | DC122: 0.66310933 | DD122: 0.68817728 | DE122: 0.69067882 | DF122: 0 | DG122: 0.64627728 | DH122: 0.5390377
A123: 118 | B123: 970 | C123: 県内生産額 | D123: 1 | E123: 1 | F123: 1 | G123: 1 | H123: 1 | I123: 0 | J123: 1 | K123: 1 | L123: 1 | M123: 1 | N123: 0 | O123: 1 | P123: 1 | Q123: 1 | R123: 1 | S123: 1 | T123: 1 | U123: 1 | V123: 1 | W123: 1 | X123: 0 | Y123: 1 | Z123: 1 | AA123: 1 | AB123: 1 | AC123: 1 | AD123: 1 | AE123: 1 | AF123: 1 | AG123: 1 | AH123: 1 | AI123: 1 | AJ123: 1 | AK123: 1 | AL123: 1 | AM123: 0 | AN123: 0 | AO123: 1 | AP123: 1 | AQ123: 1 | AR123: 1 | AS123: 1 | AT123: 1 | AU123: 1 | AV123: 1 | AW123: 1 | AX123: 1 | AY123: 1 | AZ123: 1 | BA123: 1 | BB123: 1 | BC123: 1 | BD123: 1 | BE123: 1 | BF123: 0 | BG123: 1 | BH123: 1 | BI123: 1 | BJ123: 1 | BK123: 1 | BL123: 1 | BM123: 1 | BN123: 1 | BO123: 1 | BP123: 1 | BQ123: 1 | BR123: 1 | BS123: 1 | BT123: 1 | BU123: 1 | BV123: 1 | BW123: 1 | BX123: 1 | BY123: 1 | BZ123: 1 | CA123: 1 | CB123: 1 | CC123: 1 | CD123: 1 | CE123: 1 | CF123: 1 | CG123: 1 | CH123: 1 | CI123: 1 | CJ123: 1 | CK123: 1 | CL123: 1 | CM123: 1 | CN123: 1 | CO123: 1 | CP123: 1 | CQ123: 1 | CR123: 1 | CS123: 1 | CT123: 1 | CU123: 1 | CV123: 1 | CW123: 1 | CX123: 1 | CY123: 1 | CZ123: 1 | DA123: 1 | DB123: 1 | DC123: 1 | DD123: 1 | DE123: 1 | DF123: 1 | DG123: 1 | DH123: 1

Sheet 逆行列係数表（閉鎖型）
A1: 令和２年（2020年）長野県産業連関表
A2: 第３表 逆行列係数表 (I-A)-1型
D3: 1 | E3: 2 | F3: 3 | G3: 4 | H3: 5 | I3: 6 | J3: 7 | K3: 8 | L3: 9 | M3: 10 | N3: 11 | O3: 12 | P3: 13 | Q3: 14 | R3: 15 | S3: 16 | T3: 17 | U3: 18 | V3: 19 | W3: 20 | X3: 21 | Y3: 22 | Z3: 23 | AA3: 24 | AB3: 25 | AC3: 26 | AD3: 27 | AE3: 28 | AF3: 29 | AG3: 30 | AH3: 31 | AI3: 32 | AJ3: 33 | AK3: 34 | AL3: 35 | AM3: 36 | AN3: 37 | AO3: 38 | AP3: 39 | AQ3: 40 | AR3: 41 | AS3: 42 | AT3: 43 | AU3: 44 | AV3: 45 | AW3: 46 | AX3: 47 | AY3: 48 | AZ3: 49 | BA3: 50 | BB3: 51 | BC3: 52 | BD3: 53 | BE3: 54 | BF3: 55 | BG3: 56 | BH3: 57 | BI3: 58 | BJ3: 59 | BK3: 60 | BL3: 61 | BM3: 62 | BN3: 63 | BO3: 64 | BP3: 65 | BQ3: 66 | BR3: 67 | BS3: 68 | BT3: 69 | BU3: 70 | BV3: 71 | BW3: 72 | BX3: 73 | BY3: 74 | BZ3: 75 | CA3: 76 | CB3: 77 | CC3: 78 | CD3: 79 | CE3: 80 | CF3: 81 | CG3: 82 | CH3: 83 | CI3: 84 | CJ3: 85 | CK3: 86 | CL3: 87 | CM3: 88 | CN3: 89 | CO3: 90 | CP3: 91 | CQ3: 92 | CR3: 93 | CS3: 94 | CT3: 95 | CU3: 96 | CV3: 97 | CW3: 98 | CX3: 99 | CY3: 100 | CZ3: 101 | DA3: 102 | DB3: 103 | DC3: 104 | DD3: 105 | DE3: 106 | DF3: 107 | DG3: 108
D4: 011 | E4: 012 | F4: 013 | G4: 015 | H4: 017 | I4: 061 | J4: 062 | K4: 111 | L4: 112 | M4: 113 | N4: 114 | O4: 151 | P4: 152 | Q4: 161 | R4: 162 | S4: 163 | T4: 164 | U4: 191 | V4: 201 | W4: 202 | X4: 203 | Y4: 204 | Z4: 205 | AA4: 206 | AB4: 207 | AC4: 208 | AD4: 211 | AE4: 212 | AF4: 221 | AG4: 222 | AH4: 231 | AI4: 251 | AJ4: 252 | AK4: 253 | AL4: 259 | AM4: 261 | AN4: 262 | AO4: 263 | AP4: 269 | AQ4: 271 | AR4: 272 | AS4: 281 | AT4: 289 | AU4: 291 | AV4: 301 | AW4: 311 | AX4: 321 | AY4: 329 | AZ4: 331 | BA4: 332 | BB4: 333 | BC4: 339 | BD4: 341 | BE4: 342 | BF4: 351 | BG4: 352 | BH4: 353 | BI4: 354 | BJ4: 359 | BK4: 391 | BL4: 392 | BM4: 411 | BN4: 412 | BO4: 413 | BP4: 419 | BQ4: 461 | BR4: 462 | BS4: 471 | BT4: 481 | BU4: 511 | BV4: 531 | BW4: 551 | BX4: 552 | BY4: 553 | BZ4: 571 | CA4: 572 | CB4: 573 | CC4: 574 | CD4: 575 | CE4: 576 | CF4: 577 | CG4: 578 | CH4: 579 | CI4: 591 | CJ4: 592 | CK4: 593 | CL4: 594 | CM4: 595 | CN4: 611 | CO4: 631 | CP4: 632 | CQ4: 641 | CR4: 642 | CS4: 643 | CT4: 644 | CU4: 659 | CV4: 661 | CW4: 662 | CX4: 663 | CY4: 669 | CZ4: 671 | DA4: 672 | DB4: 673 | DC4: 674 | DD4: 675 | DE4: 679 | DF4: 681 | DG4: 691
C5: 統合中分類（108部門） | D5: 耕種農業 | E5: 畜産 | F5: 農業サービス | G5: 林業 | H5: 漁業 | I5: 石炭・原油・天然ガス | J5: その他の鉱業 | K5: 食料品 | L5: 飲料 | M5: 飼料・有機質肥料（別掲を除く。） | N5: たばこ | O5: 繊維工業製品 | P5: 衣服・その他の繊維既製品 | Q5: 木材・木製品 | R5: 家具・装備品 | S5: パルプ・紙・板紙・加工紙 | T5: 紙加工品 | U5: 印刷・製版・製本 | V5: 化学肥料 | W5: 無機化学工業製品 | X5: 石油化学系基礎製品 | Y5: 有機化学工業製品（石油化学系基礎製品・合成樹脂を除く。） | Z5: 合成樹脂 | AA5: 化学繊維 | AB5: 医薬品 | AC5: 化学最終製品（医薬品を除く。） | AD5: 石油製品 | AE5: 石炭製品 | AF5: プラスチック製品 | AG5: ゴム製品 | AH5: なめし革・革製品・毛皮 | AI5: ガラス・ガラス製品 | AJ5: セメント・セメント製品 | AK5: 陶磁器 | AL5: その他の窯業・土石製品 | AM5: 銑鉄・粗鋼 | AN5: 鋼材 | AO5: 鋳鍛造品（鉄） | AP5: その他の鉄鋼製品 | AQ5: 非鉄金属製錬・精製 | AR5: 非鉄金属加工製品 | AS5: 建設用・建築用金属製品 | AT5: その他の金属製品 | AU5: はん用機械 | AV5: 生産用機械 | AW5: 業務用機械 | AX5: 電子デバイス | AY5: その他の電子部品 | AZ5: 産業用電気機器 | BA5: 民生用電気機器 | BB5: 電子応用装置・電気計測器 | BC5: その他の電気機械 | BD5: 通信・映像・音響機器 | BE5: 電子計算機・同附属装置 | BF5: 乗用車 | BG5: その他の自動車 | BH5: 自動車部品・同附属品 | BI5: 船舶・同修理 | BJ5: その他の輸送機械・同修理 | BK5: その他の製造工業製品 | BL5: 再生資源回収・加工処理 | BM5: 建築 | BN5: 建設補修 | BO5: 公共事業 | BP5: その他の土木建設 | BQ5: 電気 | BR5: ガス・熱供給 | BS5: 水道 | BT5: 廃棄物処理 | BU5: 商業 | BV5: 金融・保険 | BW5: 不動産仲介及び賃貸 | BX5: 住宅賃貸料 | BY5: 住宅賃貸料（帰属家賃） | BZ5: 鉄道輸送 | CA5: 道路輸送（自家輸送を除く。） | CB5: 自家輸送 | CC5: 水運 | CD5: 航空輸送 | CE5: 貨物利用運送 | CF5: 倉庫 | CG5: 運輸附帯サービス | CH5: 郵便・信書便 | CI5: 通信 | CJ5: 放送 | CK5: 情報サービス | CL5: インターネット附随サービス | CM5: 映像・音声・文字情報制作 | CN5: 公務 | CO5: 教育 | CP5: 研究 | CQ5: 医療 | CR5: 保健衛生 | CS5: 社会保険・社会福祉 | CT5: 介護 | CU5: 他に分類されない会員制団体 | CV5: 物品賃貸サービス | CW5: 広告 | CX5: 自動車整備・機械修理 | CY5: その他の対事業所サービス | CZ5: 宿泊業 | DA5: 飲食サービス | DB5: 洗濯・理容・美容・浴場業 | DC5: 娯楽サービス | DD5: 獣医業 | DE5: その他の対個人サービス | DF5: 事務用品 | DG5: 分類不明 | DH5: 行和 | DI5: 感応度係数
A6: 1 | B6: 011 | C6: 耕種農業 | D6: 1.0260423 | E6: 0.19889787 | F6: 0.024351892 | G6: 0.017956154 | H6: 0.042163737 | I6: 0 | J6: 0.00038197587 | K6: 0.15267455 | L6: 0.04119373 | M6: 0.26532195 | N6: 0 | O6: 0.056655616 | P6: 0.014441575 | Q6: 0.0028290486 | R6: 0.00076122258 | S6: 0.0014574713 | T6: 0.00069719959 | U6: 0.00037746332 | V6: 0.00061266662 | W6: 0.00029223645 | X6: 0 | Y6: 6.3826839e-05 | Z6: 0.00010719663 | AA6: 5.1668435e-05 | AB6: 0.0056257901 | AC6: 0.0037787677 | AD6: 3.1222598e-06 | AE6: 0.00024350322 | AF6: 0.00018604372 | AG6: 0.015021421 | AH6: 0.012713421 | AI6: 0.0003061132 | AJ6: 0.00021937375 | AK6: 0.00047134274 | AL6: 0.00099681926 | AM6: 0 | AN6: 0 | AO6: 0.00015672057 | AP6: 5.1280644e-05 | AQ6: 0.00031535626 | AR6: 0.00035938999 | AS6: 0.00018657273 | AT6: 0.00014307535 | AU6: 0.00029641972 | AV6: 0.00042456211 | AW6: 0.00041531045 | AX6: 0.00037497721 | AY6: 0.00031085463 | AZ6: 0.00035384851 | BA6: 0.00059976368 | BB6: 0.00025287704 | BC6: 0.00026038756 | BD6: 0.00036418812 | BE6: 0.0002844451 | BF6: 0 | BG6: 0.00076071572 | BH6: 0.0006506191 | BI6: 0.00028860674 | BJ6: 0.00030809594 | BK6: 0.0037513076 | BL6: 0.00024883637 | BM6: 0.0010432263 | BN6: 0.00043806314 | BO6: 0.0020653569 | BP6: 0.0022553239 | BQ6: 0.00017381702 | BR6: 0.00020802028 | BS6: 0.00025262484 | BT6: 0.0004717214 | BU6: 0.00035420079 | BV6: 0.00012920466 | BW6: 6.4503244e-05 | BX6: 6.184189e-05 | BY6: 2.8511839e-05 | BZ6: 0.00017870112 | CA6: 0.00012416095 | CB6: 0.00048563741 | CC6: 7.3637055e-05 | CD6: 0.00017411544 | CE6: 0.00011135006 | CF6: 0.00017484655 | CG6: 0.00018114267 | CH6: 8.7851672e-05 | CI6: 0.00017010868 | CJ6: 0.00025484868 | CK6: 0.00020434704 | CL6: 0.00017561774 | CM6: 0.00035990084 | CN6: 0.00029086012 | CO6: 0.0034308333 | CP6: 0.0020191026 | CQ6: 0.0030470549 | CR6: 0.00064861837 | CS6: 0.0053525286 | CT6: 0.008521658 | CU6: 0.0030277023 | CV6: 0.00041117511 | CW6: 0.00027279818 | CX6: 0.0010038263 | CY6: 0.00015773779 | CZ6: 0.030022823 | DA6: 0.045394366 | DB6: 0.00058556929 | DC6: 0.0018081881 | DD6: 0.0058095665 | DE6: 0.0067771799 | DF6: 0.0020994812 | DG6: 0.00028581684 | DH6: 2.0293248 | DI6: 1.0123117
A7: 2 | B7: 012 | C7: 畜産 | D7: 0.0060587464 | E7: 1.1294441 | F7: 0.040130209 | G7: 0.006812685 | H7: 0.0080302803 | I7: 0 | J7: 0.00010974276 | K7: 0.093188185 | L7: 0.013265684 | M7: 0.044856703 | N7: 0 | O7: 0.0037877114 | P7: 0.0015967388 | Q7: 0.0010385295 | R7: 0.00022294761 | S7: 0.00075839483 | T7: 0.00033318658 | U7: 0.00015875608 | V7: 0.00099171334 | W7: 9.421154e-05 | X7: 0 | Y7: 4.4971522e-06 | Z7: 2.4213785e-05 | AA7: 5.595527e-06 | AB7: 0.0013545573 | AC7: 0.001923259 | AD7: 4.5247312e-07 | AE7: 9.0945203e-05 | AF7: 3.7043548e-05 | AG7: 0.00016535235 | AH7: 0.032548539 | AI7: 9.6774615e-05 | AJ7: 3.9620515e-05 | AK7: 0.00018090694 | AL7: 0.00011270119 | AM7: 0 | AN7: 0 | AO7: 3.8556493e-05 | AP7: 6.7678773e-06 | AQ7: 5.1854485e-05 | AR7: 5.6656651e-05 | AS7: 4.7409659e-05 | AT7: 2.7712781e-05 | AU7: 2.9569617e-05 | AV7: 4.056341e-05 | AW7: 0.00020025363 | AX7: 5.9986042e-05 | AY7: 6.8934173e-05 | AZ7: 4.7986096e-05 | BA7: 6.5546437e-05 | BB7: 4.6778901e-05 | BC7: 4.9769964e-05 | BD7: 6.6694492e-05 | BE7: 5.6339964e-05 | BF7: 0 | BG7: 6.0784428e-05 | BH7: 6.9083524e-05 | BI7: 2.7224749e-05 | BJ7: 2.9526552e-05 | BK7: 0.00065306421 | BL7: 2.4687624e-05 | BM7: 0.00012120139 | BN7: 7.3505124e-05 | BO7: 4.9919357e-05 | BP7: 4.9351835e-05 | BQ7: 1.9860583e-05 | BR7: 0.00021181081 | BS7: 3.8237668e-05 | BT7: 4.6358012e-05 | BU7: 3.1962607e-05 | BV7: 2.5510226e-05 | BW7: 1.1492255e-05 | BX7: 1.1003247e-05 | BY7: 3.9864542e-06 | BZ7: 2.9629663e-05 | CA7: 1.3240312e-05 | CB7: 3.5955214e-05 | CC7: 9.5999004e-06 | CD7: 2.4056155e-05 | CE7: 1.4918206e-05 | CF7: 2.5338495e-05 | CG7: 3.2467423e-05 | CH7: 2.5395521e-05 | CI7: 5.0442189e-05 | CJ7: 4.681883e-05 | CK7: 3.7891745e-05 | CL7: 4.2101813e-05 | CM7: 9.4062568e-05 | CN7: 9.4810799e-05 | CO7: 0.001157008 | CP7: 0.0015820948 | CQ7: 0.00089072939 | CR7: 0.00011965775 | CS7: 0.0019293057 | CT7: 0.0032207172 | CU7: 0.00028298818 | CV7: 5.9750267e-05 | CW7: 6.0475472e-05 | CX7: 5.6108462e-05 | CY7: 3.3248337e-05 | CZ7: 0.0095237944 | DA7: 0.020483307 | DB7: 9.9328327e-05 | DC7: 0.00010272857 | DD7: 0.00053977546 | DE7: 0.0010617736 | DF7: 0.00038222399 | DG7: 9.2473256e-05 | DH7: 1.4322372 | DI7: 0.71445952
A8: 3 | B8: 013 | C8: 農業サービス | D8: 0.050497868 | E8: 0.049153488 | F8: 1.0025936 | G8: 0.0011177233 | H8: 0.0023466215 | I8: 0 | J8: 2.2549538e-05 | K8: 0.010733869 | L8: 0.0024817407 | M8: 0.014568485 | N8: 0 | O8: 0.0029088506 | P8: 0.00076349278 | Q8: 0.00017488562 | R8: 4.5086109e-05 | S8: 9.7890723e-05 | T8: 4.5794489e-05 | U8: 2.4038416e-05 | V8: 6.4627029e-05 | W8: 1.7609523e-05 | X8: 0 | Y8: 3.2850652e-06 | Z8: 6.0985241e-06 | AA8: 2.7275015e-06 | AB8: 0.00032298031 | AC8: 0.00025229905 | AD8: 1.6880887e-07 | AE8: 1.510714e-05 | AF8: 1.0410452e-05 | AG8: 0.00074197107 | AH8: 0.0017586812 | AI8: 1.8379048e-05 | AJ8: 1.213387e-05 | AK8: 2.9412287e-05 | AL8: 5.2786321e-05 | AM8: 0 | AN8: 0 | AO8: 9.0261062e-06 | AP8: 2.7493982e-06 | AQ8: 1.7264822e-05 | AR8: 1.9590465e-05 | AS8: 1.0798045e-05 | AT8: 7.9790226e-06 | AU8: 1.5559236e-05 | AV8: 2.2223079e-05 | AW8: 2.7341128e-05 | AX8: 2.0470558e-05 | AY8: 1.7640094e-05 | AZ8: 1.9016367e-05 | BA8: 3.1681374e-05 | BB8: 1.4025622e-05 | BC8: 1.449807e-05 | BD8: 2.0175835e-05 | BE8: 1.5906356e-05 | BF8: 0 | BG8: 3.9403514e-05 | BH8: 3.4297212e-05 | BI8: 1.509451e-05 | BJ8: 1.6129987e-05 | BK8: 0.00020663707 | BL8: 1.305684e-05 | BM8: 5.5357302e-05 | BN8: 2.4034079e-05 | BO8: 0.0001029651 | BP8: 0.00011225561 | BQ8: 9.2117188e-06 | BR8: 1.7585028e-05 | BS8: 1.3715265e-05 | BT8: 2.4736533e-05 | BU8: 1.8474585e-05 | BV8: 7.2223725e-06 | BW8: 3.5622698e-06 | BX8: 3.4147754e-06 | BY8: 1.5364539e-06 | BZ8: 9.7919255e-06 | CA8: 6.5470912e-06 | CB8: 2.5055612e-05 | CC8: 3.9438964e-06 | CD8: 9.3727251e-06 | CE8: 5.9777679e-06 | CF8: 9.4532968e-06 | CG8: 1.0010594e-05 | CH8: 5.1916545e-06 | CI8: 1.0096942e-05 | CJ8: 1.4123646e-05 | CK8: 1.1337094e-05 | CL8: 1.0075953e-05 | CM8: 2.0920567e-05 | CN8: 1.7562976e-05 | CO8: 0.0002085128 | CP8: 0.00015415464 | CQ8: 0.0001804135 | CR8: 3.5963653e-05 | CS8: 0.00032964027 | CT8: 0.00053001617 | CU8: 0.00015826139 | CV8: 2.2236396e-05 | CW8: 1.5479824e-05 | CX8: 5.115526e-05 | CY8: 8.8907623e-06 | CZ8: 0.0018037012 | DA8: 0.0029394321 | DB8: 3.216433e-05 | DC8: 9.2203689e-05 | DD8: 0.00030356008 | DE8: 0.00036919509 | DF8: 0.0001162314 | DG8: 1.7234249e-05 | DH8: 1.1494272 | DI8: 0.57338212
A9: 4 | B9: 015 | C9: 林業 | D9: 0.0014832124 | E9: 0.0031945993 | F9: 0.00033978449 | G9: 1.2673042 | H9: 0.00074181608 | I9: 0 | J9: 0.00021889234 | K9: 0.0018139613 | L9: 0.00040865671 | M9: 0.0044458847 | N9: 0 | O9: 0.0001812035 | P9: 0.0002498909 | Q9: 0.17231122 | R9: 0.014241258 | S9: 0.00018229154 | T9: 0.0004782007 | U9: 9.1273356e-05 | V9: 0.00018890375 | W9: 0.00065231083 | X9: 0 | Y9: 1.8735923e-05 | Z9: 6.2425623e-05 | AA9: 2.7450849e-05 | AB9: 0.00017895658 | AC9: 0.00035043226 | AD9: 4.3793585e-06 | AE9: 8.4086334e-05 | AF9: 0.00016300013 | AG9: 0.00012769554 | AH9: 0.0020518406 | AI9: 0.00065363691 | AJ9: 0.00010452819 | AK9: 0.0038517156 | AL9: 0.00032808741 | AM9: 0 | AN9: 0 | AO9: 0.00011600371 | AP9: 2.9721319e-05 | AQ9: 0.00018172649 | AR9: 0.00038331267 | AS9: 0.00026630182 | AT9: 0.00015652186 | AU9: 0.00011481058 | AV9: 0.00010917908 | AW9: 0.00029696929 | AX9: 0.00025908973 | AY9: 0.00043411042 | AZ9: 0.00019380736 | BA9: 0.00022964668 | BB9: 0.00020666459 | BC9: 0.00016956591 | BD9: 0.00023490146 | BE9: 0.00024167726 | BF9: 0 | BG9: 0.0001350337 | BH9: 0.00016248579 | BI9: 8.0530575e-05 | BJ9: 0.00019104379 | BK9: 0.0042864844 | BL9: 7.7074364e-05 | BM9: 0.012186186 | BN9: 0.0030968607 | BO9: 0.00041545394 | BP9: 0.00069106716 | BQ9: 0.00013312009 | BR9: 0.00022332824 | BS9: 0.00029771685 | BT9: 0.00011456992 | BU9: 0.00018746011 | BV9: 0.00011655545 | BW9: 5.6088808e-05 | BX9: 0.00010906632 | BY9: 6.1821264e-05 | BZ9: 0.00011977025 | CA9: 5.0406786e-05 | CB9: 0.00024397864 | CC9: 0.00011195543 | CD9: 0.00028511158 | CE9: 7.2905096e-05 | CF9: 0.00024524408 | CG9: 0.00080138788 | CH9: 4.8440846e-05 | CI9: 0.00015049502 | CJ9: 0.00016780763 | CK9: 0.00014624341 | CL9: 0.00015123074 | CM9: 0.00014072966 | CN9: 9.3194178e-05 | CO9: 0.00023634105 | CP9: 0.00029415935 | CQ9: 0.00016243298 | CR9: 0.00013338753 | CS9: 0.00036845261 | CT9: 0.00045684344 | CU9: 0.00032682271 | CV9: 0.00015347831 | CW9: 0.0001447903 | CX9: 0.00012908196 | CY9: 0.00012984181 | CZ9: 0.002381038 | DA9: 0.0033977668 | DB9: 0.00015208094 | DC9: 0.00027471571 | DD9: 9.6295908e-05 | DE9: 0.00049025117 | DF9: 0.00081010933 | DG9: 0.000103549 | DH9: 1.5158508 | DI9: 0.75616946
A10: 5 | B10: 017 | C10: 漁業 | D10: 7.6595741e-05 | E10: 0.0019452044 | F10: 0.00024657202 | G10: 0.0010185389 | H10: 1.1052397 | I10: 0 | J10: 2.6586367e-05 | K10: 0.014148641 | L10: 0.002018977 | M10: 0.0057138685 | N10: 0 | O10: 3.2441883e-05 | P10: 0.00022246633 | Q10: 0.00018114936 | R10: 0.00010955089 | S10: 0.00014306228 | T10: 6.509447e-05 | U10: 3.2929472e-05 | V10: 1.740684e-05 | W10: 1.9796198e-05 | X10: 0 | Y10: 2.537803e-06 | Z10: 7.0261324e-06 | AA10: 2.9434718e-06 | AB10: 0.00041356073 | AC10: 0.00030120115 | AD10: 3.0093451e-07 | AE10: 1.9496561e-05 | AF10: 1.3179249e-05 | AG10: 1.5380814e-05 | AH10: 0.00044091277 | AI10: 3.7028017e-05 | AJ10: 1.6384464e-05 | AK10: 6.8809165e-05 | AL10: 3.7285085e-05 | AM10: 0 | AN10: 0 | AO10: 4.0592285e-05 | AP10: 4.6371276e-06 | AQ10: 1.9121269e-05 | AR10: 3.3634808e-05 | AS10: 1.329198e-05 | AT10: 1.0843941e-05 | AU10: 1.3890455e-05 | AV10: 2.3917699e-05 | AW10: 3.4632072e-05 | AX10: 2.7397499e-05 | AY10: 3.7043372e-05 | AZ10: 4.9086922e-05 | BA10: 2.1395686e-05 | BB10: 5.9290146e-05 | BC10: 2.1379402e-05 | BD10: 4.1432416e-05 | BE10: 3.3017586e-05 | BF10: 0 | BG10: 2.5977064e-05 | BH10: 2.5916358e-05 | BI10: 1.4622698e-05 | BJ10: 1.6063037e-05 | BK10: 0.008161323 | BL10: 1.6114122e-05 | BM10: 4.1938444e-05 | BN10: 5.5310155e-05 | BO10: 4.1381754e-05 | BP10: 4.3510697e-05 | BQ10: 1.4383593e-05 | BR10: 1.5546541e-05 | BS10: 2.9531972e-05 | BT10: 2.082308e-05 | BU10: 1.8072414e-05 | BV10: 2.1780276e-05 | BW10: 1.0026153e-05 | BX10: 9.3839291e-06 | BY10: 3.0451341e-06 | BZ10: 1.4308805e-05 | CA10: 1.0031893e-05 | CB10: 3.3177978e-05 | CC10: 6.6554257e-06 | CD10: 1.9718404e-05 | CE10: 1.3204072e-05 | CF10: 1.6852333e-05 | CG10: 2.0028169e-05 | CH10: 9.3524821e-06 | CI10: 3.7753812e-05 | CJ10: 4.5789866e-05 | CK10: 0.0001288698 | CL10: 3.8264203e-05 | CM10: 7.01293e-05 | CN10: 3.4321537e-05 | CO10: 0.00032774972 | CP10: 0.0003494508 | CQ10: 0.00037852284 | CR10: 3.6540174e-05 | CS10: 0.00095099286 | CT10: 0.001661808 | CU10: 8.9883426e-05 | CV10: 0.00010317998 | CW10: 5.915091e-05 | CX10: 2.8451264e-05 | CY10: 3.6077478e-05 | CZ10: 0.0073856072 | DA10: 0.010260484 | DB10: 5.5119144e-05 | DC10: 0.00010740206 | DD10: 9.8265581e-05 | DE10: 0.00069170992 | DF10: 0.0011026835 | DG10: 2.337601e-05 | DH10: 1.1659489 | DI10: 0.58162382
A11: 6 | B11: 061 | C11: 石炭・原油・天然ガス | D11: 0.030928657 | E11: 0.01605637 | F11: 0.01055184 | G11: 0.023001514 | H11: 0.020891289 | I11: 1 | J11: 0.072775686 | K11: 0.01414458 | L11: 0.014180069 | M11: 0.017180207 | N11: 0 | O11: 0.016370776 | P11: 0.010866561 | Q11: 0.013736531 | R11: 0.0089670407 | S11: 0.019059873 | T11: 0.010856223 | U11: 0.0083869901 | V11: 0.12527246 | W11: 0.023686761 | X11: 0 | Y11: 0.0011662257 | Z11: 0.0045473433 | AA11: 0.0016375963 | AB11: 0.0088734565 | AC11: 0.0096608002 | AD11: 0.51794447 | AE11: 0.13081945 | AF11: 0.0054460683 | AG11: 0.0063066633 | AH11: 0.010308864 | AI11: 0.041036052 | AJ11: 0.022762165 | AK11: 0.052704506 | AL11: 0.030059962 | AM11: 0 | AN11: 0 | AO11: 0.013917452 | AP11: 0.0031930655 | AQ11: 0.03491182 | AR11: 0.028511731 | AS11: 0.0091855738 | AT11: 0.0096590081 | AU11: 0.0071641121 | AV11: 0.006558853 | AW11: 0.011211699 | AX11: 0.010286972 | AY11: 0.01164678 | AZ11: 0.0089511831 | BA11: 0.0075887383 | BB11: 0.007562409 | BC11: 0.011295045 | BD11: 0.0081832873 | BE11: 0.0085488248 | BF11: 0 | BG11: 0.0093284759 | BH11: 0.010613232 | BI11: 0.014567085 | BJ11: 0.010878348 | BK11: 0.014510817 | BL11: 0.030750283 | BM11: 0.011170946 | BN11: 0.011964153 | BO11: 0.018168296 | BP11: 0.012045542 | BQ11: 0.0066260978 | BR11: 0.4668291 | BS11: 0.013578182 | BT11: 0.015706341 | BU11: 0.011529423 | BV11: 0.0049506297 | BW11: 0.0034904521 | BX11: 0.0028579481 | BY11: 0.0008134024 | BZ11: 0.0053169701 | CA11: 0.028433727 | CB11: 0.15493061 | CC11: 0.060796406 | CD11: 0.090547895 | CE11: 0.013104217 | CF11: 0.0048901145 | CG11: 0.0047491041 | CH11: 0.0093283633 | CI11: 0.0056559486 | CJ11: 0.0063783497 | CK11: 0.0057355899 | CL11: 0.0039633972 | CM11: 0.0095892782 | CN11: 0.0096792767 | CO11: 0.0066758618 | CP11: 0.008615963 | CQ11: 0.0069514645 | CR11: 0.011914939 | CS11: 0.0066739765 | CT11: 0.0067876539 | CU11: 0.0083483212 | CV11: 0.006810411 | CW11: 0.008106175 | CX11: 0.0098338947 | CY11: 0.0043829747 | CZ11: 0.02350079 | DA11: 0.013882085 | DB11: 0.014032938 | DC11: 0.015195753 | DD11: 0.0061765902 | DE11: 0.012618841 | DF11: 0.01342642 | DG11: 0.010307047 | DH11: 3.7762837 | DI11: 1.8837675
A12: 7 | B12: 062 | C12: その他の鉱業 | D12: 0.00098204558 | E12: 0.00097449697 | F12: 0.0007407461 | G12: 0.00053915143 | H12: 0.00052428844 | I12: 0 | J12: 1.0006952 | K12: 0.001052528 | L12: 0.0016972461 | M12: 0.0019664517 | N12: 0 | O12: 0.00064012167 | P12: 0.00054317344 | Q12: 0.00066975995 | R12: 0.0037917679 | S12: 0.0016110187 | T12: 0.0007717967 | U12: 0.00050817224 | V12: 0.0085467035 | W12: 0.041425009 | X12: 0 | Y12: 0.00021832365 | Z12: 0.0018186959 | AA12: 0.0002133523 | AB12: 0.0031194648 | AC12: 0.0038582879 | AD12: 4.9316382e-06 | AE12: 0.045844097 | AF12: 0.0013603571 | AG12: 0.0013224301 | AH12: 0.00090559687 | AI12: 0.053013438 | AJ12: 0.036292701 | AK12: 0.049449836 | AL12: 0.01796117 | AM12: 0 | AN12: 0 | AO12: 0.0024958867 | AP12: 3.4042717e-05 | AQ12: 0.19188226 | AR12: 0.10618815 | AS12: 0.0041482528 | AT12: 0.007569348 | AU12: 0.0050652853 | AV12: 0.0040954702 | AW12: 0.011339136 | AX12: 0.0063737758 | AY12: 0.016832862 | AZ12: 0.013511791 | BA12: 0.0071239026 | BB12: 0.0074780913 | BC12: 0.022251603 | BD12: 0.011033681 | BE12: 0.0070116046 | BF12: 0 | BG12: 0.0071865598 | BH12: 0.010164609 | BI12: 0.0035053197 | BJ12: 0.0044848548 | BK12: 0.0069253348 | BL12: 0.00035211982 | BM12: 0.0042566937 | BN12: 0.0040485967 | BO12: 0.0084816145 | BP12: 0.0098878045 | BQ12: 0.00071253338 | BR12: 0.00036264153 | BS12: 0.0010966295 | BT12: 0.0006103881 | BU12: 0.0002274366 | BV12: 0.00016995075 | BW12: 0.00011257771 | BX12: 0.00015479469 | BY12: 8.7787355e-05 | BZ12: 0.00057828676 | CA12: 0.00021649909 | CB12: 0.001177265 | CC12: 0.00037608869 | CD12: 0.00087858776 | CE12: 0.00016694718 | CF12: 0.00027617174 | CG12: 0.00030980176 | CH12: 0.0001115988 | CI12: 0.00024885353 | CJ12: 0.00037109962 | CK12: 0.00031678733 | CL12: 0.00025583428 | CM12: 0.00052353063 | CN12: 0.0003649383 | CO12: 0.00025219684 | CP12: 0.00084344857 | CQ12: 0.0013196981 | CR12: 0.0016226746 | CS12: 0.00039237172 | CT12: 0.00032329997 | CU12: 0.00037246175 | CV12: 0.00084592539 | CW12: 0.00037022489 | CX12: 0.0042997977 | CY12: 0.00016666874 | CZ12: 0.00057028268 | DA12: 0.00055722772 | DB12: 0.0005135343 | DC12: 0.00048830506 | DD12: 0.00069658781 | DE12: 0.00049537733 | DF12: 0.0025166442 | DG12: 0.00079003069 | DH12: 1.7939348 | DI12: 0.89488931
A13: 8 | B13: 111 | C13: 食料品 | D13: 0.0046260174 | E13: 0.12858317 | F13: 0.01504594 | G13: 0.091002142 | H13: 0.071468395 | I13: 0 | J13: 0.00036927646 | K13: 1.3122948 | L13: 0.18515733 | M13: 0.35598766 | N13: 0 | O13: 0.0011036725 | P13: 0.0061922942 | Q13: 0.013759689 | R13: 0.0024055875 | S13: 0.010442966 | T13: 0.0044727555 | U13: 0.0021007589 | V13: 0.00063660353 | W13: 0.0010402229 | X13: 0 | Y13: 3.7324665e-05 | Z13: 0.0002937423 | AA13: 4.9897117e-05 | AB13: 0.018278862 | AC13: 0.026835004 | AD13: 4.0388282e-06 | AE13: 0.0010048453 | AF13: 0.00038656817 | AG13: 0.00062824894 | AH13: 0.037412914 | AI13: 0.0011382748 | AJ13: 0.00040375948 | AK13: 0.0019047552 | AL13: 0.0012332439 | AM13: 0 | AN13: 0 | AO13: 0.00033220724 | AP13: 5.5644057e-05 | AQ13: 0.00033041845 | AR13: 0.00039305742 | AS13: 0.00037637597 | AT13: 0.00027970922 | AU13: 0.00026668672 | AV13: 0.00027328863 | AW13: 0.00059159655 | AX13: 0.00046110545 | AY13: 0.00057964448 | AZ13: 0.00044596864 | BA13: 0.00048744283 | BB13: 0.00041138808 | BC13: 0.00051196376 | BD13: 0.00055260204 | BE13: 0.00053465297 | BF13: 0 | BG13: 0.0006283307 | BH13: 0.00069674974 | BI13: 0.00026170226 | BJ13: 0.00027053121 | BK13: 0.0046186199 | BL13: 0.00016964843 | BM13: 0.0013919042 | BN13: 0.00070591454 | BO13: 0.00033732786 | BP13: 0.0003279208 | BQ13: 0.00017073774 | BR13: 0.00051667429 | BS13: 0.00031467494 | BT13: 0.0003718322 | BU13: 0.00022189985 | BV13: 0.00021067519 | BW13: 0.00010422549 | BX13: 0.00010263666 | BY13: 3.611767e-05 | BZ13: 0.00021993342 | CA13: 0.00010470044 | CB13: 0.00027659838 | CC13: 8.6585467e-05 | CD13: 0.00020094801 | CE13: 0.0001268608 | CF13: 0.00022617438 | CG13: 0.0003139026 | CH13: 0.00011353236 | CI13: 0.0003337901 | CJ13: 0.00041409658 | CK13: 0.00034318392 | CL13: 0.00034894991 | CM13: 0.0011259338 | CN13: 0.0010462978 | CO13: 0.012356467 | CP13: 0.0044702994 | CQ13: 0.01012111 | CR13: 0.0011517253 | CS13: 0.019269011 | CT13: 0.031894865 | CU13: 0.0026628489 | CV13: 0.00035780018 | CW13: 0.00062906966 | CX13: 0.00050315437 | CY13: 0.00030247695 | CZ13: 0.10107511 | DA13: 0.22339918 | DB13: 0.00097090772 | DC13: 0.00068483029 | DD13: 0.0048523703 | DE13: 0.01072415 | DF13: 0.0036906062 | DG13: 0.001001231 | DH13: 2.7500413 | DI13: 1.371835
A14: 9 | B14: 112 | C14: 飲料 | D14: 8.0041386e-05 | E14: 0.00056004428 | F14: 7.1967678e-05 | G14: 0.00023443792 | H14: 0.00025847581 | I14: 0 | J14: 4.6452402e-05 | K14: 0.0030473436 | L14: 1.0673012 | M14: 0.00086699576 | N14: 0 | O14: 3.3924155e-05 | P14: 5.5145658e-05 | Q14: 8.4430151e-05 | R14: 4.2023507e-05 | S14: 7.337486e-05 | T14: 4.8658079e-05 | U14: 3.4015599e-05 | V14: 2.0319617e-05 | W14: 2.7525771e-05 | X14: 0 | Y14: 8.9662163e-06 | Z14: 1.9512699e-05 | AA14: 1.2817157e-05 | AB14: 0.00017962166 | AC14: 9.5430372e-05 | AD14: 5.4426376e-07 | AE14: 9.7522215e-05 | AF14: 2.9328077e-05 | AG14: 4.2195616e-05 | AH14: 0.00014079604 | AI14: 5.914972e-05 | AJ14: 7.4474263e-05 | AK14: 3.8626146e-05 | AL14: 8.9264985e-05 | AM14: 0 | AN14: 0 | AO14: 8.2688897e-05 | AP14: 4.2485342e-05 | AQ14: 7.0673456e-05 | AR14: 6.8709098e-05 | AS14: 3.392191e-05 | AT14: 4.224295e-05 | AU14: 5.9702913e-05 | AV14: 5.1553357e-05 | AW14: 4.2415387e-05 | AX14: 3.9615609e-05 | AY14: 3.6274885e-05 | AZ14: 4.3542037e-05 | BA14: 3.5704043e-05 | BB14: 3.3242036e-05 | BC14: 5.3540146e-05 | BD14: 3.9957425e-05 | BE14: 3.8855618e-05 | BF14: 0 | BG14: 3.1934673e-05 | BH14: 3.7702067e-05 | BI14: 4.8504734e-05 | BJ14: 5.4887796e-05 | BK14: 5.1830804e-05 | BL14: 2.787256e-05 | BM14: 8.6521243e-05 | BN14: 0.0001017049 | BO14: 7.9821738e-05 | BP14: 8.6180493e-05 | BQ14: 3.3131661e-05 | BR14: 2.6146021e-05 | BS14: 5.8956164e-05 | BT14: 4.8516837e-05 | BU14: 0.0001255315 | BV14: 6.0770059e-05 | BW14: 5.9174425e-05 | BX14: 5.044526e-05 | BY14: 8.3856033e-06 | BZ14: 4.869644e-05 | CA14: 1.7210084e-05 | CB14: 4.057838e-05 | CC14: 1.5007521e-05 | CD14: 3.5405207e-05 | CE14: 3.9879765e-05 | CF14: 3.047877e-05 | CG14: 2.4141267e-05 | CH14: 1.2308775e-05 | CI14: 6.0690839e-05 | CJ14: 5.209934e-05 | CK14: 2.8073253e-05 | CL14: 8.738404e-05 | CM14: 4.488416e-05 | CN14: 7.9477732e-05 | CO14: 0.0010497812 | CP14: 9.095562e-05 | CQ14: 0.0010084189 | CR14: 0.00010430198 | CS14: 0.0021410726 | CT14: 0.003691521 | CU14: 8.2312827e-05 | CV14: 4.1324807e-05 | CW14: 5.2555202e-05 | CX14: 5.6526033e-05 | CY14: 3.9486846e-05 | CZ14: 0.023622384 | DA14: 0.067576374 | DB14: 6.2430251e-05 | DC14: 2.9171991e-05 | DD14: 0.00017685247 | DE14: 0.0019181088 | DF14: 6.9870383e-05 | DG14: 0.0041544969 | DH14: 1.182252 | DI14: 0.58975649
A15: 10 | B15: 113 | C15: 飼料・有機質肥料（別掲を除く。） | D15: 0.0091403402 | E15: 0.30936696 | F15: 0.040566504 | G15: 0.016232298 | H15: 0.15897783 | I15: 0 | J15: 4.3740544e-05 | K15: 0.028514545 | L15: 0.0042111516 | M15: 1.0531969 | N15: 0 | O15: 0.001457114 | P15: 0.00058327705 | Q15: 0.0022524315 | R15: 0.00024740266 | S15: 0.0002533453 | T15: 0.00011998858 | U15: 5.7607277e-05 | V15: 0.00070802441 | W15: 4.6123864e-05 | X15: 0 | Y15: 5.2895503e-06 | Z15: 1.3321421e-05 | AA15: 7.5438105e-06 | AB15: 0.00047955294 | AC15: 0.00060638772 | AD15: 2.7497559e-07 | AE15: 3.2910081e-05 | AF15: 2.1892009e-05 | AG15: 0.0001621801 | AH15: 0.0090513004 | AI15: 4.5724823e-05 | AJ15: 2.0258601e-05 | AK15: 0.00011127698 | AL15: 5.2101241e-05 | AM15: 0 | AN15: 0 | AO15: 2.2572918e-05 | AP15: 6.1120258e-06 | AQ15: 2.6541015e-05 | AR15: 3.3352786e-05 | AS15: 2.3232731e-05 | AT15: 1.5177663e-05 | AU15: 1.8271005e-05 | AV15: 2.3537719e-05 | AW15: 7.2455171e-05 | AX15: 3.3439017e-05 | AY15: 3.87121e-05 | AZ15: 3.1941103e-05 | BA15: 3.6848558e-05 | BB15: 3.2744143e-05 | BC15: 2.6955772e-05 | BD15: 3.8655038e-05 | BE15: 3.2257921e-05 | BF15: 0 | BG15: 3.3502894e-05 | BH15: 3.7119134e-05 | BI15: 1.7816066e-05 | BJ15: 1.9166808e-05 | BK15: 0.0014184863 | BL15: 1.4123296e-05 | BM15: 0.00018818054 | BN15: 7.1662897e-05 | BO15: 0.00012654142 | BP15: 4.7990912e-05 | BQ15: 1.2823257e-05 | BR15: 6.6628173e-05 | BS15: 2.3803076e-05 | BT15: 2.3152554e-05 | BU15: 7.8687638e-05 | BV15: 1.5491251e-05 | BW15: 7.3578491e-06 | BX15: 7.8600873e-06 | BY15: 2.833504e-06 | BZ15: 1.8245089e-05 | CA15: 8.2545452e-06 | CB15: 2.9378749e-05 | CC15: 7.8329293e-06 | CD15: 1.6423834e-05 | CE15: 9.5954377e-06 | CF15: 1.5398633e-05 | CG15: 2.4300845e-05 | CH15: 1.0640647e-05 | CI15: 3.0693564e-05 | CJ15: 6.6285423e-05 | CK15: 3.7513983e-05 | CL15: 2.962096e-05 | CM15: 8.1709689e-05 | CN15: 3.5935392e-05 | CO15: 0.00098204259 | CP15: 0.0040474791 | CQ15: 0.00039155163 | CR15: 4.8328596e-05 | CS15: 0.00076997553 | CT15: 0.0012068852 | CU15: 0.00012052287 | CV15: 4.0029646e-05 | CW15: 6.396987e-05 | CX15: 3.5438312e-05 | CY15: 1.946417e-05 | CZ15: 0.003892399 | DA15: 0.0074082017 | DB15: 4.6043354e-05 | DC15: 0.00093090809 | DD15: 0.0085710781 | DE15: 0.00044659153 | DF15: 0.00030656903 | DG15: 3.5549173e-05 | DH15: 1.6690965 | DI15: 0.8326148
A16: 11 | B16: 114 | C16: たばこ | D16: 0 | E16: 0 | F16: 0 | G16: 0 | H16: 0 | I16: 0 | J16: 0 | K16: 0 | L16: 0 | M16: 0 | N16: 1 | O16: 0 | P16: 0 | Q16: 0 | R16: 0 | S16: 0 | T16: 0 | U16: 0 | V16: 0 | W16: 0 | X16: 0 | Y16: 0 | Z16: 0 | AA16: 0 | AB16: 0 | AC16: 0 | AD16: 0 | AE16: 0 | AF16: 0 | AG16: 0 | AH16: 0 | AI16: 0 | AJ16: 0 | AK16: 0 | AL16: 0 | AM16: 0 | AN16: 0 | AO16: 0 | AP16: 0 | AQ16: 0 | AR16: 0 | AS16: 0 | AT16: 0 | AU16: 0 | AV16: 0 | AW16: 0 | AX16: 0 | AY16: 0 | AZ16: 0 | BA16: 0 | BB16: 0 | BC16: 0 | BD16: 0 | BE16: 0 | BF16: 0 | BG16: 0 | BH16: 0 | BI16: 0 | BJ16: 0 | BK16: 0 | BL16: 0 | BM16: 0 | BN16: 0 | BO16: 0 | BP16: 0 | BQ16: 0 | BR16: 0 | BS16: 0 | BT16: 0 | BU16: 0 | BV16: 0 | BW16: 0 | BX16: 0 | BY16: 0 | BZ16: 0 | CA16: 0 | CB16: 0 | CC16: 0 | CD16: 0 | CE16: 0 | CF16: 0 | CG16: 0 | CH16: 0 | CI16: 0 | CJ16: 0 | CK16: 0 | CL16: 0 | CM16: 0 | CN16: 0 | CO16: 0 | CP16: 0 | CQ16: 0 | CR16: 0 | CS16: 0 | CT16: 0 | CU16: 0 | CV16: 0 | CW16: 0 | CX16: 0 | CY16: 0 | CZ16: 0 | DA16: 0 | DB16: 0 | DC16: 0 | DD16: 0 | DE16: 0 | DF16: 0 | DG16: 0 | DH16: 1 | DI16: 0.49884161
A17: 12 | B17: 151 | C17: 繊維工業製品 | D17: 0.0014781646 | E17: 0.00088235916 | F17: 0.0018593317 | G17: 0.0043634639 | H17: 0.0013981113 | I17: 0 | J17: 0.0015625646 | K17: 0.0010260893 | L17: 0.00089050962 | M17: 0.00088708949 | N17: 0 | O17: 1.1406882 | P17: 0.23817596 | Q17: 0.0020754059 | R17: 0.0051934473 | S17: 0.0024591252 | T17: 0.0016379373 | U17: 0.0010451532 | V17: 0.003608442 | W17: 0.0008474453 | X17: 0 | Y17: 0.00016991844 | Z17: 0.00028086826 | AA17: 0.00019505886 | AB17: 0.0011063097 | AC17: 0.00068435476 | AD17: 2.6645816e-05 | AE17: 0.00054381656 | AF17: 0.0011275956 | AG17: 0.0090879615 | AH17: 0.064430208 | AI17: 0.001449644 | AJ17: 0.00078936244 | AK17: 0.0018663155 | AL17: 0.0030162082 | AM17: 0 | AN17: 0 | AO17: 0.00069836915 | AP17: 0.00033668675 | AQ17: 0.0014282715 | AR17: 0.0027388669 | AS17: 0.00084455675 | AT17: 0.00098294532 | AU17: 0.001031115 | AV17: 0.00171135 | AW17: 0.0019816232 | AX17: 0.0032211438 | AY17: 0.0024587422 | AZ17: 0.0014104275 | BA17: 0.0059815235 | BB17: 0.0016338606 | BC17: 0.001486844 | BD17: 0.0019736645 | BE17: 0.0017416721 | BF17: 0 | BG17: 0.0015540148 | BH17: 0.0021322971 | BI17: 0.00069323689 | BJ17: 0.0012704674 | BK17: 0.0071905968 | BL17: 0.0010457118 | BM17: 0.0022183394 | BN17: 0.004129344 | BO17: 0.0017548601 | BP17: 0.0013501548 | BQ17: 0.00062562048 | BR17: 0.00099186382 | BS17: 0.0011756073 | BT17: 0.0013346106 | BU17: 0.0017046978 | BV17: 0.00083302699 | BW17: 0.00032196602 | BX17: 0.00031487036 | BY17: 0.00013696015 | BZ17: 0.0014534804 | CA17: 0.0005722913 | CB17: 0.0013742401 | CC17: 0.00035368443 | CD17: 0.0011939025 | CE17: 0.00089314385 | CF17: 0.0014921657 | CG17: 0.0013915184 | CH17: 0.00069579687 | CI17: 0.00072832049 | CJ17: 0.00099582809 | CK17: 0.0011693345 | CL17: 0.00084936374 | CM17: 0.0012411703 | CN17: 0.0015519987 | CO17: 0.00037001612 | CP17: 0.001025223 | CQ17: 0.0014244485 | CR17: 0.0064249681 | CS17: 0.0018181423 | CT17: 0.0011770181 | CU17: 0.0063067648 | CV17: 0.0016857452 | CW17: 0.0009736094 | CX17: 0.0017477244 | CY17: 0.0011813808 | CZ17: 0.0031449839 | DA17: 0.00096155351 | DB17: 0.0035470754 | DC17: 0.0048131585 | DD17: 0.0025748839 | DE17: 0.0016758247 | DF17: 0.020455913 | DG17: 0.00060891595 | DH17: 1.6351666 | DI17: 0.81568914
... A113: 108 | B113: 691 | C113: 分類不明 | D113: 0.013849281 | E113: 0.0060616335 | F113: 0.0042226405 | G113: 0.0038221408 | H113: 0.020328286 | I113: 0 | J113: 0.0090020591 | K113: 0.0086843447 | L113: 0.0071801607 | M113: 0.0088267102 | N113: 0 | O113: 0.0047007169 | P113: 0.0064341183 | Q113: 0.010221518 | R113: 0.0061115131 | S113: 0.0066841851 | T113: 0.0056697518 | U113: 0.0047526234 | V113: 0.0030424664 | W113: 0.004481865 | X113: 0 | Y113: 0.00099648927 | Z113: 0.0029462727 | AA113: 0.0012169115 | AB113: 0.0040657891 | AC113: 0.0055908933 | AD113: 0.00010788358 | AE113: 0.021995169 | AF113: 0.0043222334 | AG113: 0.008213075 | AH113: 0.008420729 | AI113: 0.011900099 | AJ113: 0.015938847 | AK113: 0.0051985379 | AL113: 0.018743967 | AM113: 0 | AN113: 0 | AO113: 0.018273723 | AP113: 0.0091384879 | AQ113: 0.014724885 | AR113: 0.013916483 | AS113: 0.0063939812 | AT113: 0.0087488786 | AU113: 0.012383514 | AV113: 0.010425032 | AW113: 0.007326381 | AX113: 0.0062516102 | AY113: 0.0052912492 | AZ113: 0.0074577134 | BA113: 0.0048691601 | BB113: 0.0048610505 | BC113: 0.010090231 | BD113: 0.0056144575 | BE113: 0.0061659486 | BF113: 0 | BG113: 0.0050584658 | BH113: 0.0056435872 | BI113: 0.0094680017 | BJ113: 0.011379711 | BK113: 0.0060987745 | BL113: 0.0054871375 | BM113: 0.01763183 | BN113: 0.021761031 | BO113: 0.01698782 | BP113: 0.018729613 | BQ113: 0.0066306903 | BR113: 0.0050281799 | BS113: 0.012200402 | BT113: 0.010197184 | BU113: 0.0069041524 | BV113: 0.01344787 | BW113: 0.013065472 | BX113: 0.01104691 | BY113: 0.0016474604 | BZ113: 0.0093859756 | CA113: 0.0032147953 | CB113: 0.0062251022 | CC113: 0.0025511639 | CD113: 0.0073802966 | CE113: 0.0085950419 | CF113: 0.0060414803 | CG113: 0.0043037467 | CH113: 0.0022730235 | CI113: 0.010966829 | CJ113: 0.0099329734 | CK113: 0.0038498926 | CL113: 0.017238608 | CM113: 0.0066165104 | CN113: 0.002498526 | CO113: 0.012822619 | CP113: 0.0036964653 | CQ113: 0.0043959581 | CR113: 0.022162487 | CS113: 0.0084260377 | CT113: 0.0050083593 | CU113: 0.015644966 | CV113: 0.0076934844 | CW113: 0.0089755025 | CX113: 0.0103809 | CY113: 0.0065016804 | CZ113: 0.024590055 | DA113: 0.0065478287 | DB113: 0.01201741 | DC113: 0.0041430843 | DD113: 0.0037637613 | DE113: 0.010054613 | DF113: 0.0065796871 | DG113: 1.0027341 | DH113: 1.871293 | DI113: 0.93347882
C114: 列和 | D114: 2.0557377 | E114: 2.5853527 | F114: 1.8543328 | G114: 2.2617386 | H114: 1.975465 | I114: 1 | J114: 2.4696309 | K114: 2.4651168 | L114: 2.3627341 | M114: 2.5450879 | N114: 1 | O114: 2.1017277 | P114: 2.1397915 | Q114: 2.1447256 | R114: 2.1830304 | S114: 2.9518124 | T114: 2.3653757 | U114: 1.8673339 | V114: 2.1630549 | W114: 2.0505168 | X114: 1 | Y114: 1.8699872 | Z114: 2.2985067 | AA114: 1.7106819 | AB114: 2.2362825 | AC114: 2.2396738 | AD114: 1.601194 | AE114: 1.9386979 | AF114: 2.2144804 | AG114: 1.8063494 | AH114: 2.2476544 | AI114: 2.0665573 | AJ114: 2.0584377 | AK114: 2.0603758 | AL114: 2.0813952 | AM114: 1 | AN114: 1 | AO114: 1.9295771 | AP114: 1.6867051 | AQ114: 3.3271853 | AR114: 3.322337 | AS114: 1.8946603 | AT114: 1.8320835 | AU114: 1.9838321 | AV114: 2.0131911 | AW114: 2.2965137 | AX114: 2.4389837 | AY114: 2.5539895 | AZ114: 2.3591829 | BA114: 2.4093459 | BB114: 2.4140884 | BC114: 2.3200903 | BD114: 2.4784758 | BE114: 2.5799075 | BF114: 1 | BG114: 2.9435683 | BH114: 2.7831354 | BI114: 2.1979241 | BJ114: 2.2887877 | BK114: 2.3027206 | BL114: 2.3177084 | BM114: 2.0241886 | BN114: 2.0247988 | BO114: 1.9535387 | BP114: 1.9224253 | BQ114: 1.8333385 | BR114: 2.0538106 | BS114: 2.0579192 | BT114: 1.6848298 | BU114: 1.6291034 | BV114: 1.6828353 | BW114: 1.4786671 | BX114: 1.5943086 | BY114: 1.1873965 | BZ114: 1.6627312 | CA114: 1.4052984 | CB114: 2.8431727 | CC114: 1.7896421 | CD114: 2.3868142 | CE114: 1.5125385 | CF114: 1.6668664 | CG114: 1.6604603 | CH114: 1.3809129 | CI114: 2.0479245 | CJ114: 2.0098248 | CK114: 1.6766157 | CL114: 2.0625189 | CM114: 2.0221791 | CN114: 1.5118824 | CO114: 1.4235199 | CP114: 1.8169795 | CQ114: 1.9674604 | CR114: 1.8292641 | CS114: 1.5661946 | CT114: 1.4711297 | CU114: 1.732304 | CV114: 1.8958009 | CW114: 2.6684268 | CX114: 2.4172518 | CY114: 1.4924287 | CZ114: 2.2242505 | DA114: 2.1906215 | DB114: 1.686908 | DC114: 1.6786791 | DD114: 1.625119 | DE114: 1.6062473 | DF114: 3.1845609 | DG114: 1.6110625
C115: 影響力係数 | D115: 1.0254875 | E115: 1.2896815 | F115: 0.92501835 | G115: 1.1282494 | H115: 0.98544413 | I115: 0.49884161 | J115: 1.2319547 | K115: 1.2297028 | L115: 1.1786301 | M115: 1.2695957 | N115: 0.49884161 | O115: 1.0484293 | P115: 1.067417 | Q115: 1.0698784 | R115: 1.0889864 | S115: 1.4724868 | T115: 1.1799478 | U115: 0.93150387 | V115: 1.0790218 | W115: 1.0228831 | X115: 0.49884161 | Y115: 0.93282745 | Z115: 1.1465908 | AA115: 0.85335932 | AB115: 1.1155508 | AC115: 1.1172425 | AD115: 0.79874222 | AE115: 0.96710319 | AF115: 1.104675 | AG115: 0.90108223 | AH115: 1.1212236 | AI115: 1.0308848 | AJ115: 1.0268344 | AK115: 1.0278012 | AL115: 1.0382865 | AM115: 0.49884161 | AN115: 0.49884161 | AO115: 0.96255336 | AP115: 0.84139868 | AQ115: 1.6597385 | AR115: 1.6573199 | AS115: 0.94513542 | AT115: 0.91391951 | AU115: 0.98961799 | AV115: 1.0042635 | AW115: 1.1455966 | AX115: 1.2166666 | AY115: 1.2740363 | AZ115: 1.1768586 | BA115: 1.201882 | BB115: 1.2042477 | BC115: 1.1573576 | BD115: 1.2363669 | BE115: 1.2869652 | BF115: 0.49884161 | BG115: 1.4683743 | BH115: 1.3883438 | BI115: 1.096416 | BJ115: 1.1417425 | BK115: 1.1486929 | BL115: 1.1561694 | BM115: 1.0097495 | BN115: 1.0100539 | BO115: 0.97450642 | BP115: 0.95898573 | BQ115: 0.91454555 | BR115: 1.0245262 | BS115: 1.0265757 | BT115: 0.84046319 | BU115: 0.81266457 | BV115: 0.83946826 | BW115: 0.7376207 | BX115: 0.7953075 | BY115: 0.59232277 | BZ115: 0.82943953 | CA115: 0.70102133 | CB115: 1.4182929 | CC115: 0.89274796 | CD115: 1.1906422 | CE115: 0.75451715 | CF115: 0.83150231 | CG115: 0.82830672 | CH115: 0.6888568 | CI115: 1.02159 | CJ115: 1.0025842 | CK115: 0.83636569 | CL115: 1.0288703 | CM115: 1.0087471 | CN115: 0.75418983 | CO115: 0.71011097 | CP115: 0.90638501 | CQ115: 0.9814511 | CR115: 0.91251303 | CS115: 0.78128304 | CT115: 0.73386069 | CU115: 0.86414531 | CV115: 0.94570439 | CW115: 1.3311223 | CX115: 1.2058258 | CY115: 0.74448554 | CZ115: 1.1095487 | DA115: 1.0927732 | DB115: 0.8414999 | DC115: 0.837395 | DD115: 0.81067697 | DE115: 0.80126301 | DF115: 1.5885915 | DG115: 0.80366503

Sheet 逆行列係数表（開放型）
A1: 令和２年（2020年）長野県産業連関表
A2: 第４表 逆行列係数表 [I-(I-M)A]-1型
D3: 1 | E3: 2 | F3: 3 | G3: 4 | H3: 5 | I3: 6 | J3: 7 | K3: 8 | L3: 9 | M3: 10 | N3: 11 | O3: 12 | P3: 13 | Q3: 14 | R3: 15 | S3: 16 | T3: 17 | U3: 18 | V3: 19 | W3: 20 | X3: 21 | Y3: 22 | Z3: 23 | AA3: 24 | AB3: 25 | AC3: 26 | AD3: 27 | AE3: 28 | AF3: 29 | AG3: 30 | AH3: 31 | AI3: 32 | AJ3: 33 | AK3: 34 | AL3: 35 | AM3: 36 | AN3: 37 | AO3: 38 | AP3: 39 | AQ3: 40 | AR3: 41 | AS3: 42 | AT3: 43 | AU3: 44 | AV3: 45 | AW3: 46 | AX3: 47 | AY3: 48 | AZ3: 49 | BA3: 50 | BB3: 51 | BC3: 52 | BD3: 53 | BE3: 54 | BF3: 55 | BG3: 56 | BH3: 57 | BI3: 58 | BJ3: 59 | BK3: 60 | BL3: 61 | BM3: 62 | BN3: 63 | BO3: 64 | BP3: 65 | BQ3: 66 | BR3: 67 | BS3: 68 | BT3: 69 | BU3: 70 | BV3: 71 | BW3: 72 | BX3: 73 | BY3: 74 | BZ3: 75 | CA3: 76 | CB3: 77 | CC3: 78 | CD3: 79 | CE3: 80 | CF3: 81 | CG3: 82 | CH3: 83 | CI3: 84 | CJ3: 85 | CK3: 86 | CL3: 87 | CM3: 88 | CN3: 89 | CO3: 90 | CP3: 91 | CQ3: 92 | CR3: 93 | CS3: 94 | CT3: 95 | CU3: 96 | CV3: 97 | CW3: 98 | CX3: 99 | CY3: 100 | CZ3: 101 | DA3: 102 | DB3: 103 | DC3: 104 | DD3: 105 | DE3: 106 | DF3: 107 | DG3: 108
D4: 011 | E4: 012 | F4: 013 | G4: 015 | H4: 017 | I4: 061 | J4: 062 | K4: 111 | L4: 112 | M4: 113 | N4: 114 | O4: 151 | P4: 152 | Q4: 161 | R4: 162 | S4: 163 | T4: 164 | U4: 191 | V4: 201 | W4: 202 | X4: 203 | Y4: 204 | Z4: 205 | AA4: 206 | AB4: 207 | AC4: 208 | AD4: 211 | AE4: 212 | AF4: 221 | AG4: 222 | AH4: 231 | AI4: 251 | AJ4: 252 | AK4: 253 | AL4: 259 | AM4: 261 | AN4: 262 | AO4: 263 | AP4: 269 | AQ4: 271 | AR4: 272 | AS4: 281 | AT4: 289 | AU4: 291 | AV4: 301 | AW4: 311 | AX4: 321 | AY4: 329 | AZ4: 331 | BA4: 332 | BB4: 333 | BC4: 339 | BD4: 341 | BE4: 342 | BF4: 351 | BG4: 352 | BH4: 353 | BI4: 354 | BJ4: 359 | BK4: 391 | BL4: 392 | BM4: 411 | BN4: 412 | BO4: 413 | BP4: 419 | BQ4: 461 | BR4: 462 | BS4: 471 | BT4: 481 | BU4: 511 | BV4: 531 | BW4: 551 | BX4: 552 | BY4: 553 | BZ4: 571 | CA4: 572 | CB4: 573 | CC4: 574 | CD4: 575 | CE4: 576 | CF4: 577 | CG4: 578 | CH4: 579 | CI4: 591 | CJ4: 592 | CK4: 593 | CL4: 594 | CM4: 595 | CN4: 611 | CO4: 631 | CP4: 632 | CQ4: 641 | CR4: 642 | CS4: 643 | CT4: 644 | CU4: 659 | CV4: 661 | CW4: 662 | CX4: 663 | CY4: 669 | CZ4: 671 | DA4: 672 | DB4: 673 | DC4: 674 | DD4: 675 | DE4: 679 | DF4: 681 | DG4: 691
C5: 統合中分類（108部門） | D5: 耕種農業 | E5: 畜産 | F5: 農業サービス | G5: 林業 | H5: 漁業 | I5: 石炭・原油・天然ガス | J5: その他の鉱業 | K5: 食料品 | L5: 飲料 | M5: 飼料・有機質肥料（別掲を除く。） | N5: たばこ | O5: 繊維工業製品 | P5: 衣服・その他の繊維既製品 | Q5: 木材・木製品 | R5: 家具・装備品 | S5: パルプ・紙・板紙・加工紙 | T5: 紙加工品 | U5: 印刷・製版・製本 | V5: 化学肥料 | W5: 無機化学工業製品 | X5: 石油化学系基礎製品 | Y5: 有機化学工業製品（石油化学系基礎製品・合成樹脂を除く。） | Z5: 合成樹脂 | AA5: 化学繊維 | AB5: 医薬品 | AC5: 化学最終製品（医薬品を除く。） | AD5: 石油製品 | AE5: 石炭製品 | AF5: プラスチック製品 | AG5: ゴム製品 | AH5: なめし革・革製品・毛皮 | AI5: ガラス・ガラス製品 | AJ5: セメント・セメント製品 | AK5: 陶磁器 | AL5: その他の窯業・土石製品 | AM5: 銑鉄・粗鋼 | AN5: 鋼材 | AO5: 鋳鍛造品（鉄） | AP5: その他の鉄鋼製品 | AQ5: 非鉄金属製錬・精製 | AR5: 非鉄金属加工製品 | AS5: 建設用・建築用金属製品 | AT5: その他の金属製品 | AU5: はん用機械 | AV5: 生産用機械 | AW5: 業務用機械 | AX5: 電子デバイス | AY5: その他の電子部品 | AZ5: 産業用電気機器 | BA5: 民生用電気機器 | BB5: 電子応用装置・電気計測器 | BC5: その他の電気機械 | BD5: 通信・映像・音響機器 | BE5: 電子計算機・同附属装置 | BF5: 乗用車 | BG5: その他の自動車 | BH5: 自動車部品・同附属品 | BI5: 船舶・同修理 | BJ5: その他の輸送機械・同修理 | BK5: その他の製造工業製品 | BL5: 再生資源回収・加工処理 | BM5: 建築 | BN5: 建設補修 | BO5: 公共事業 | BP5: その他の土木建設 | BQ5: 電気 | BR5: ガス・熱供給 | BS5: 水道 | BT5: 廃棄物処理 | BU5: 商業 | BV5: 金融・保険 | BW5: 不動産仲介及び賃貸 | BX5: 住宅賃貸料 | BY5: 住宅賃貸料（帰属家賃） | BZ5: 鉄道輸送 | CA5: 道路輸送（自家輸送を除く。） | CB5: 自家輸送 | CC5: 水運 | CD5: 航空輸送 | CE5: 貨物利用運送 | CF5: 倉庫 | CG5: 運輸附帯サービス | CH5: 郵便・信書便 | CI5: 通信 | CJ5: 放送 | CK5: 情報サービス | CL5: インターネット附随サービス | CM5: 映像・音声・文字情報制作 | CN5: 公務 | CO5: 教育 | CP5: 研究 | CQ5: 医療 | CR5: 保健衛生 | CS5: 社会保険・社会福祉 | CT5: 介護 | CU5: 他に分類されない会員制団体 | CV5: 物品賃貸サービス | CW5: 広告 | CX5: 自動車整備・機械修理 | CY5: その他の対事業所サービス | CZ5: 宿泊業 | DA5: 飲食サービス | DB5: 洗濯・理容・美容・浴場業 | DC5: 娯楽サービス | DD5: 獣医業 | DE5: その他の対個人サービス | DF5: 事務用品 | DG5: 分類不明 | DH5: 行和 | DI5: 感応度係数
A6: 1 | B6: 011 | C6: 耕種農業 | D6: 1.0099035 | E6: 0.04824497 | F6: 0.0050278898 | G6: 0.0021008714 | H6: 0.00014190801 | I6: 0 | J6: 1.1958781e-05 | K6: 0.048424953 | L6: 0.00927537 | M6: 0.093899836 | N6: 0 | O6: 0.021216172 | P6: 0.0010316613 | Q6: 0.00016819263 | R6: 1.5301571e-05 | S6: 5.5767104e-05 | T6: 1.3263614e-05 | U6: 8.0703094e-06 | V6: 2.5486331e-05 | W6: 1.5134062e-05 | X6: 0 | Y6: 2.0007278e-06 | Z6: 3.7815726e-06 | AA6: 3.4285548e-06 | AB6: 0.0014213101 | AC6: 0.00037384188 | AD6: 8.6417425e-08 | AE6: 7.196497e-06 | AF6: 5.9817082e-06 | AG6: 0.0058242255 | AH6: 0.0008289925 | AI6: 1.0121783e-05 | AJ6: 1.2560996e-05 | AK6: 2.1727169e-05 | AL6: 0.00025428515 | AM6: 0 | AN6: 0 | AO6: 7.0758265e-06 | AP6: 3.8964904e-06 | AQ6: 1.0876897e-05 | AR6: 8.1491067e-06 | AS6: 5.759967e-06 | AT6: 4.1740709e-06 | AU6: 1.0129253e-05 | AV6: 6.7754361e-06 | AW6: 7.0247542e-06 | AX6: 9.7280945e-06 | AY6: 7.0712668e-06 | AZ6: 7.9482404e-06 | BA6: 1.1208836e-05 | BB6: 7.0003512e-06 | BC6: 6.4443571e-06 | BD6: 8.726429e-06 | BE6: 5.1058448e-06 | BF6: 0 | BG6: 3.1551147e-06 | BH6: 6.2058866e-06 | BI6: 5.9437215e-06 | BJ6: 3.9883236e-06 | BK6: 0.00096363654 | BL6: 9.1260384e-06 | BM6: 0.00026682171 | BN6: 2.2757383e-05 | BO6: 0.00076657023 | BP6: 0.00086360759 | BQ6: 8.121899e-06 | BR6: 1.52285e-05 | BS6: 2.3575318e-05 | BT6: 8.7056648e-06 | BU6: 7.6977575e-05 | BV6: 1.0000505e-05 | BW6: 6.4570573e-06 | BX6: 6.1392656e-06 | BY6: 4.9706128e-06 | BZ6: 1.0736127e-05 | CA6: 6.4051144e-06 | CB6: 1.3741863e-05 | CC6: 3.3219526e-06 | CD6: 5.2175515e-06 | CE6: 5.8521338e-06 | CF6: 1.1617157e-05 | CG6: 1.1065294e-05 | CH6: 2.7303969e-06 | CI6: 1.4720981e-05 | CJ6: 2.8169379e-05 | CK6: 1.2698098e-05 | CL6: 1.2864241e-05 | CM6: 3.1426671e-05 | CN6: 1.3891297e-05 | CO6: 0.00082807568 | CP6: 0.0002119168 | CQ6: 0.0004198488 | CR6: 1.0279751e-05 | CS6: 0.0013117443 | CT6: 0.002115236 | CU6: 0.00096908854 | CV6: 4.4261718e-05 | CW6: 2.2284911e-05 | CX6: 1.1626204e-05 | CY6: 1.0949035e-05 | CZ6: 0.008081202 | DA6: 0.009112432 | DB6: 8.4733821e-05 | DC6: 0.00051270181 | DD6: 0.0011929151 | DE6: 0.002336937 | DF6: 6.5983973e-05 | DG6: 2.0936674e-05 | DH6: 1.2790965 | DI6: 0.99320393
A7: 2 | B7: 012 | C7: 畜産 | D7: 0.0026684226 | E7: 1.0559873 | F7: 0.018715354 | G7: 0.00043272932 | H7: 8.914469e-05 | I7: 0 | J7: 1.8963862e-06 | K7: 0.035986725 | L7: 0.0009653279 | M7: 0.010649952 | N7: 0 | O7: 0.0015142725 | P7: 0.0001450011 | Q7: 3.1614346e-05 | R7: 1.7902593e-06 | S7: 3.4346745e-05 | T7: 5.2577938e-06 | U7: 1.5541659e-06 | V7: 0.00037525615 | W7: 2.8535807e-06 | X7: 0 | Y7: 3.0100749e-08 | Z7: 1.3329391e-07 | AA7: 4.4403926e-08 | AB7: 0.00010047053 | AC7: 0.00012422043 | AD7: 3.6682604e-09 | AE7: 6.7659059e-07 | AF7: 4.1775898e-07 | AG7: 1.6394659e-05 | AH7: 0.012334104 | AI7: 2.8719663e-06 | AJ7: 4.4226222e-07 | AK7: 7.2893283e-06 | AL7: 4.9668322e-06 | AM7: 0 | AN7: 0 | AO7: 5.7090542e-07 | AP7: 9.2239821e-08 | AQ7: 3.7944114e-07 | AR7: 3.9118245e-07 | AS7: 6.7835561e-07 | AT7: 2.4433113e-07 | AU7: 3.8810119e-07 | AV7: 4.6323837e-07 | AW7: 3.2051801e-06 | AX7: 5.6706251e-07 | AY7: 7.8013123e-07 | AZ7: 5.5725209e-07 | BA7: 9.2730088e-07 | BB7: 4.3522698e-07 | BC7: 4.6781232e-07 | BD7: 1.099842e-06 | BE7: 2.8857819e-07 | BF7: 0 | BG7: 1.2169015e-07 | BH7: 3.4073678e-07 | BI7: 3.8589703e-07 | BJ7: 1.5784408e-07 | BK7: 7.5897905e-05 | BL7: 3.4127377e-07 | BM7: 1.4571283e-06 | BN7: 7.9424772e-07 | BO7: 2.5065971e-06 | BP7: 2.7538525e-06 | BQ7: 4.4336461e-07 | BR7: 4.1167176e-06 | BS7: 7.129104e-07 | BT7: 5.1055807e-07 | BU7: 6.5790993e-07 | BV7: 4.5431731e-07 | BW7: 3.8001999e-07 | BX7: 3.1959459e-07 | BY7: 1.2432581e-07 | BZ7: 1.4979105e-06 | CA7: 2.8463191e-07 | CB7: 4.1339626e-07 | CC7: 1.1624173e-07 | CD7: 2.246946e-07 | CE7: 3.7669498e-07 | CF7: 4.9312688e-07 | CG7: 4.9996443e-07 | CH7: 4.6917344e-07 | CI7: 2.2813872e-06 | CJ7: 1.129829e-06 | CK7: 1.4816654e-06 | CL7: 1.9424045e-06 | CM7: 1.8121128e-06 | CN7: 5.9085561e-06 | CO7: 0.00018331 | CP7: 0.00058041304 | CQ7: 9.6492459e-05 | CR7: 8.3512368e-07 | CS7: 0.00035237646 | CT7: 0.00060625576 | CU7: 1.5458585e-05 | CV7: 1.1874167e-06 | CW7: 1.0550815e-06 | CX7: 3.2167718e-07 | CY7: 6.5276771e-07 | CZ7: 0.001611484 | DA7: 0.0033446954 | DB7: 1.344526e-06 | DC7: 2.9718292e-06 | DD7: 3.888058e-06 | DE7: 0.00017114202 | DF7: 6.014536e-06 | DG7: 2.9050684e-06 | DH7: 1.1473066 | DI7: 0.89087055
A8: 3 | B8: 013 | C8: 農業サービス | D8: 0.049588618 | E8: 0.039207111 | F8: 1.0008994 | G8: 0.00011806162 | H8: 1.0065125e-05 | I8: 0 | J8: 6.5226517e-07 | K8: 0.0036288644 | L8: 0.00048826683 | M8: 0.0049736139 | N8: 0 | O8: 0.0010926396 | P8: 5.5620857e-05 | Q8: 9.3461468e-06 | R8: 8.1239309e-07 | S8: 3.9314866e-06 | T8: 8.3349222e-07 | U8: 4.4975076e-07 | V8: 1.43415e-05 | W8: 8.4128193e-07 | X8: 0 | Y8: 9.9106159e-08 | Z8: 1.8998596e-07 | AA8: 1.695832e-07 | AB8: 7.316396e-05 | AC8: 2.2656005e-05 | AD8: 4.3633137e-09 | AE8: 3.7630713e-07 | AF8: 3.0773971e-07 | AG8: 0.00028601815 | AH8: 0.00047095684 | AI8: 5.9627088e-07 | AJ8: 6.3104649e-07 | AK8: 1.3191711e-06 | AL8: 1.2635842e-05 | AM8: 0 | AN8: 0 | AO8: 3.6670578e-07 | AP8: 1.9418575e-07 | AQ8: 5.4631677e-07 | AR8: 4.1303699e-07 | AS8: 3.0596416e-07 | AT8: 2.1309637e-07 | AU8: 5.0997675e-07 | AV8: 3.4822717e-07 | AW8: 4.5611062e-07 | AX8: 4.9655974e-07 | AY8: 3.7378204e-07 | AZ8: 4.0898656e-07 | BA8: 5.8169955e-07 | BB8: 3.58273e-07 | BC8: 3.3216052e-07 | BD8: 4.6605625e-07 | BE8: 2.6030649e-07 | BF8: 0 | BG8: 1.5887832e-07 | BH8: 3.1603947e-07 | BI8: 3.0476634e-07 | BJ8: 2.0097539e-07 | BK8: 4.9875991e-05 | BL8: 4.5917528e-07 | BM8: 1.3127809e-05 | BN8: 1.1430534e-06 | BO8: 3.7657174e-05 | BP8: 4.2421616e-05 | BQ8: 4.1352414e-07 | BR8: 8.8998028e-07 | BS8: 1.1803028e-06 | BT8: 4.4447892e-07 | BU8: 3.7956364e-06 | BV8: 5.0597703e-07 | BW8: 3.2971995e-07 | BX8: 3.1203674e-07 | BY8: 2.4794811e-07 | BZ8: 5.7844015e-07 | CA8: 3.238462e-07 | CB8: 6.8791384e-07 | CC8: 1.6686498e-07 | CD8: 2.635524e-07 | CE8: 2.9995656e-07 | CF8: 5.8656341e-07 | CG8: 5.5975507e-07 | CH8: 1.5018627e-07 | CI8: 8.0107339e-07 | CJ8: 1.4200043e-06 | CK8: 6.7402989e-07 | CL8: 6.9824741e-07 | CM8: 1.6034491e-06 | CN8: 8.869597e-07 | CO8: 4.6979662e-05 | CP8: 3.0636257e-05 | CQ8: 2.3943402e-05 | CR8: 5.3294897e-07 | CS8: 7.658294e-05 | CT8: 0.00012481985 | CU8: 4.8034511e-05 | CV8: 2.2107015e-06 | CW8: 1.1289978e-06 | CX8: 5.8102507e-07 | CY8: 5.5938842e-07 | CZ8: 0.0004522844 | DA8: 0.0005632956 | DB8: 4.1997266e-06 | DC8: 2.5231276e-05 | DD8: 5.8600597e-05 | DE8: 0.00012050465 | DF8: 3.443727e-06 | DG8: 1.1274652e-06 | DH8: 1.1027174 | DI8: 0.85624754
A9: 4 | B9: 015 | C9: 林業 | D9: 0.00062459744 | E9: 0.00012721566 | F9: 8.0650354e-06 | G9: 1.1294009 | H9: 2.5806201e-06 | I9: 0 | J9: 9.9983522e-06 | K9: 0.00052300177 | L9: 2.1597423e-05 | M9: 0.00097165139 | N9: 0 | O9: 1.5516112e-05 | P9: 7.1639556e-06 | Q9: 0.075411255 | R9: 0.00083905297 | S9: 4.0883829e-06 | T9: 2.3114834e-05 | U9: 1.9951755e-06 | V9: 5.5590049e-06 | W9: 0.00024092102 | X9: 0 | Y9: 3.1536826e-07 | Z9: 2.1367732e-06 | AA9: 5.5967965e-07 | AB9: 4.2259703e-06 | AC9: 7.8906495e-05 | AD9: 8.4064549e-08 | AE9: 2.3847207e-06 | AF9: 5.2842428e-06 | AG9: 6.396322e-06 | AH9: 0.00074886541 | AI9: 3.3128022e-05 | AJ9: 2.9708731e-06 | AK9: 0.00022314511 | AL9: 1.5437927e-05 | AM9: 0 | AN9: 0 | AO9: 3.6511879e-06 | AP9: 1.0241323e-06 | AQ9: 2.6778684e-06 | AR9: 1.3752832e-05 | AS9: 1.3079413e-05 | AT9: 6.5664243e-06 | AU9: 2.9131719e-06 | AV9: 2.4263116e-06 | AW9: 8.6660942e-06 | AX9: 3.0617087e-06 | AY9: 6.2577164e-06 | AZ9: 3.7085698e-06 | BA9: 6.0104918e-06 | BB9: 1.9786039e-06 | BC9: 2.6915086e-06 | BD9: 3.2224086e-06 | BE9: 2.340538e-06 | BF9: 0 | BG9: 8.117704e-07 | BH9: 2.4107872e-06 | BI9: 1.6322857e-06 | BJ9: 4.9970685e-06 | BK9: 0.00040207921 | BL9: 1.4222848e-06 | BM9: 0.00072627945 | BN9: 0.00018913514 | BO9: 5.8765105e-05 | BP9: 5.5065095e-05 | BQ9: 5.1008886e-06 | BR9: 1.1370792e-05 | BS9: 1.1852466e-05 | BT9: 2.2393524e-06 | BU9: 8.7543842e-06 | BV9: 3.0150959e-06 | BW9: 1.9186619e-06 | BX9: 4.2384168e-06 | BY9: 3.3319779e-06 | BZ9: 5.1923786e-06 | CA9: 1.5975594e-06 | CB9: 9.8144073e-06 | CC9: 4.6081751e-06 | CD9: 1.1479004e-05 | CE9: 2.6207571e-06 | CF9: 1.1300858e-05 | CG9: 4.3843087e-05 | CH9: 1.5752155e-06 | CI9: 4.1458827e-06 | CJ9: 6.4489021e-06 | CK9: 3.130875e-06 | CL9: 3.6848498e-06 | CM9: 3.6903377e-06 | CN9: 4.0506913e-06 | CO9: 5.9211897e-05 | CP9: 3.8940272e-05 | CQ9: 1.806639e-05 | CR9: 3.9708395e-06 | CS9: 8.5075973e-05 | CT9: 0.00015211189 | CU9: 5.8517485e-06 | CV9: 3.401906e-06 | CW9: 3.3246241e-06 | CX9: 1.5042504e-06 | CY9: 4.564305e-06 | CZ9: 0.0010336333 | DA9: 0.0014515203 | DB9: 6.0621171e-06 | DC9: 1.0122284e-05 | DD9: 1.861245e-06 | DE9: 0.00012105853 | DF9: 1.7180163e-05 | DG9: 4.7811632e-06 | DH9: 1.21408 | DI9: 0.94271936
A10: 5 | B10: 017 | C10: 漁業 | D10: 1.4970714e-07 | E10: 4.0695662e-06 | F10: 3.2682437e-07 | G10: 1.3503344e-05 | H10: 1.0108971 | I10: 0 | J10: 3.425774e-07 | K10: 0.0011752975 | L10: 3.1163974e-05 | M10: 0.00024616135 | N10: 0 | O10: 2.8556549e-07 | P10: 4.1464988e-06 | Q10: 1.443799e-06 | R10: 1.6958803e-06 | S10: 1.4655437e-06 | T10: 2.9692269e-07 | U10: 1.444389e-07 | V10: 9.7145147e-08 | W10: 1.498492e-07 | X10: 0 | Y10: 1.5349283e-08 | Z10: 3.2291846e-08 | AA10: 1.5918605e-08 | AB10: 2.2400565e-05 | AC10: 4.1558929e-06 | AD10: 1.6929372e-09 | AE10: 1.2160173e-07 | AF10: 9.9275077e-08 | AG10: 9.781711e-08 | AH10: 5.2806922e-06 | AI10: 4.8966452e-07 | AJ10: 1.5518799e-07 | AK10: 1.1990621e-06 | AL10: 5.4043542e-07 | AM10: 0 | AN10: 0 | AO10: 7.4996392e-07 | AP10: 5.4938794e-08 | AQ10: 9.5002797e-08 | AR10: 3.9841041e-07 | AS10: 1.075639e-07 | AT10: 8.7207919e-08 | AU10: 1.0670027e-07 | AV10: 2.8429743e-07 | AW10: 3.9806001e-07 | AX10: 2.0215515e-07 | AY10: 3.7696103e-07 | AZ10: 7.1837142e-07 | BA10: 1.5689002e-07 | BB10: 9.0702713e-07 | BC10: 1.6946404e-07 | BD10: 5.5972982e-07 | BE10: 2.2129489e-07 | BF10: 0 | BG10: 1.4615855e-07 | BH10: 1.228964e-07 | BI10: 1.0735297e-07 | BJ10: 9.9063903e-08 | BK10: 0.0007871636 | BL10: 1.6654032e-07 | BM10: 4.2109064e-07 | BN10: 9.0713035e-07 | BO10: 6.9594934e-07 | BP10: 7.3729834e-07 | BQ10: 1.5731417e-07 | BR10: 1.4031027e-07 | BS10: 3.9529945e-07 | BT10: 2.5703805e-07 | BU10: 2.3818949e-07 | BV10: 2.5515379e-07 | BW10: 1.7808678e-07 | BX10: 1.5258982e-07 | BY10: 5.6062143e-08 | BZ10: 2.8306672e-07 | CA10: 1.6749734e-07 | CB10: 3.5713155e-07 | CC10: 6.0311261e-08 | CD10: 1.8920967e-07 | CE10: 2.1421181e-07 | CF10: 2.2758277e-07 | CG10: 2.4051268e-07 | CH10: 1.454865e-07 | CI10: 6.9307307e-07 | CJ10: 8.2457958e-07 | CK10: 2.7238392e-06 | CL10: 5.3657088e-07 | CM10: 1.2727535e-06 | CN10: 7.0828606e-07 | CO10: 1.8826916e-05 | CP10: 2.2888762e-05 | CQ10: 2.2182943e-05 | CR10: 2.6607356e-07 | CS10: 7.6011929e-05 | CT10: 0.00013831115 | CU10: 1.5702308e-06 | CV10: 2.0936303e-06 | CW10: 9.352654e-07 | CX10: 2.9750815e-07 | CY10: 6.4519195e-07 | CZ10: 0.00067109902 | DA10: 0.00085526989 | DB10: 9.5903267e-07 | DC10: 4.5052006e-06 | DD10: 2.1396865e-07 | DE10: 5.5569719e-05 | DF10: 2.351864e-05 | DG10: 3.5737264e-07 | DH10: 1.0151146 | DI10: 0.78822496
A11: 6 | B11: 061 | C11: 石炭・原油・天然ガス | D11: 0 | E11: 0 | F11: 0 | G11: 0 | H11: 0 | I11: 1 | J11: 0 | K11: 0 | L11: 0 | M11: 0 | N11: 0 | O11: 0 | P11: 0 | Q11: 0 | R11: 0 | S11: 0 | T11: 0 | U11: 0 | V11: 0 | W11: 0 | X11: 0 | Y11: 0 | Z11: 0 | AA11: 0 | AB11: 0 | AC11: 0 | AD11: 0 | AE11: 0 | AF11: 0 | AG11: 0 | AH11: 0 | AI11: 0 | AJ11: 0 | AK11: 0 | AL11: 0 | AM11: 0 | AN11: 0 | AO11: 0 | AP11: 0 | AQ11: 0 | AR11: 0 | AS11: 0 | AT11: 0 | AU11: 0 | AV11: 0 | AW11: 0 | AX11: 0 | AY11: 0 | AZ11: 0 | BA11: 0 | BB11: 0 | BC11: 0 | BD11: 0 | BE11: 0 | BF11: 0 | BG11: 0 | BH11: 0 | BI11: 0 | BJ11: 0 | BK11: 0 | BL11: 0 | BM11: 0 | BN11: 0 | BO11: 0 | BP11: 0 | BQ11: 0 | BR11: 0 | BS11: 0 | BT11: 0 | BU11: 0 | BV11: 0 | BW11: 0 | BX11: 0 | BY11: 0 | BZ11: 0 | CA11: 0 | CB11: 0 | CC11: 0 | CD11: 0 | CE11: 0 | CF11: 0 | CG11: 0 | CH11: 0 | CI11: 0 | CJ11: 0 | CK11: 0 | CL11: 0 | CM11: 0 | CN11: 0 | CO11: 0 | CP11: 0 | CQ11: 0 | CR11: 0 | CS11: 0 | CT11: 0 | CU11: 0 | CV11: 0 | CW11: 0 | CX11: 0 | CY11: 0 | CZ11: 0 | DA11: 0 | DB11: 0 | DC11: 0 | DD11: 0 | DE11: 0 | DF11: 0 | DG11: 0 | DH11: 1 | DI11: 0.77648865
A12: 7 | B12: 062 | C12: その他の鉱業 | D12: 3.1200435e-05 | E12: 7.0841931e-06 | F12: 2.7335237e-05 | G12: 5.1422566e-05 | H12: 2.8627015e-06 | I12: 0 | J12: 1.0000072 | K12: 7.7535429e-06 | L12: 1.3519312e-05 | M12: 0.00057152082 | N12: 0 | O12: 6.4939618e-06 | P12: 5.094108e-06 | Q12: 7.3822031e-06 | R12: 2.0557643e-05 | S12: 0.00033662161 | T12: 3.9148243e-05 | U12: 1.3215284e-05 | V12: 0.0023330593 | W12: 0.013244376 | X12: 0 | Y12: 6.1600363e-07 | Z12: 0.00057330153 | AA12: 1.7086384e-06 | AB12: 9.4878902e-05 | AC12: 0.0002220518 | AD12: 5.6423767e-08 | AE12: 0.021096712 | AF12: 1.2409105e-05 | AG12: 0.0001046715 | AH12: 3.239416e-06 | AI12: 0.02168382 | AJ12: 0.015307352 | AK12: 0.019435349 | AL12: 0.0064297604 | AM12: 0 | AN12: 0 | AO12: 0.00044614246 | AP12: 3.5630917e-06 | AQ12: 0.052173628 | AR12: 0.00014406848 | AS12: 4.7388529e-05 | AT12: 3.0637698e-05 | AU12: 3.5344096e-05 | AV12: 2.9193825e-05 | AW12: 9.9848809e-05 | AX12: 6.2167601e-05 | AY12: 0.00021066946 | AZ12: 3.7480473e-05 | BA12: 1.1957925e-05 | BB12: 1.3350763e-05 | BC12: 7.0780261e-05 | BD12: 1.6191581e-05 | BE12: 1.077346e-05 | BF12: 0 | BG12: 1.0106653e-05 | BH12: 1.2720566e-05 | BI12: 9.6313841e-06 | BJ12: 1.7863014e-05 | BK12: 0.00038961302 | BL12: 6.1839506e-06 | BM12: 0.00080216169 | BN12: 0.00039449541 | BO12: 0.0027365015 | BP12: 0.002582135 | BQ12: 1.1930618e-05 | BR12: 2.3083232e-05 | BS12: 4.1540797e-05 | BT12: 1.0370881e-05 | BU12: 4.105186e-06 | BV12: 3.4577137e-06 | BW12: 3.5909591e-06 | BX12: 8.5238425e-06 | BY12: 7.3223535e-06 | BZ12: 1.0174638e-05 | CA12: 1.7324052e-06 | CB12: 1.2276374e-05 | CC12: 2.0805271e-06 | CD12: 3.7107694e-06 | CE12: 3.9830601e-06 | CF12: 7.5850876e-06 | CG12: 1.1505134e-05 | CH12: 1.5963689e-06 | CI12: 5.2163278e-06 | CJ12: 1.0477181e-05 | CK12: 3.3931212e-06 | CL12: 5.6743512e-06 | CM12: 1.0061226e-05 | CN12: 7.4396986e-06 | CO12: 9.0300563e-06 | CP12: 1.086761e-05 | CQ12: 4.0109143e-06 | CR12: 2.1655553e-05 | CS12: 7.8558629e-06 | CT12: 5.3680959e-06 | CU12: 7.8506831e-06 | CV12: 4.8517689e-06 | CW12: 5.695109e-06 | CX12: 1.1848672e-05 | CY12: 2.5310083e-06 | CZ12: -1.8901221e-05 | DA12: -3.3477338e-06 | DB12: 5.7437182e-06 | DC12: 2.0644937e-05 | DD12: 3.1476158e-06 | DE12: 4.6698815e-05 | DF12: 4.7299874e-05 | DG12: 7.8178611e-05 | DH12: 1.1625782 | DI12: 0.90272879
A13: 8 | B13: 111 | C13: 食料品 | D13: 3.0448932e-05 | E13: 0.0034961193 | F13: 7.3449399e-05 | G13: 0.011913365 | H13: 0.0025360877 | I13: 0 | J13: 5.4410841e-06 | K13: 1.0471933 | L13: 0.027471669 | M13: 0.052870824 | N13: 0 | O13: 9.4226777e-06 | P13: 0.00080326249 | Q13: 0.00086653709 | R13: 2.1183286e-05 | S13: 0.00099319578 | T13: 0.00014716139 | U13: 4.0742182e-05 | V13: 5.2998942e-06 | W13: 6.134307e-05 | X13: 0 | Y13: 3.0869867e-07 | Z13: 2.6597848e-06 | AA13: 4.0199758e-07 | AB13: 0.0024826693 | AC13: 0.0035876603 | AD13: 5.1766917e-08 | AE13: 9.6197404e-06 | AF13: 7.7523822e-06 | AG13: 5.9339184e-06 | AH13: 0.0044360162 | AI13: 7.8356595e-05 | AJ13: 6.9027196e-06 | AK13: 0.00017802566 | AL13: 0.00011273031 | AM13: 0 | AN13: 0 | AO13: 5.3884587e-06 | AP13: 1.3113961e-06 | AQ13: 4.5787356e-06 | AR13: 3.4287044e-06 | AS13: 5.4166003e-06 | AT13: 3.2065416e-06 | AU13: 5.3556893e-06 | AV13: 3.1341243e-06 | AW13: 4.7418561e-06 | AX13: 4.5796315e-06 | AY13: 8.6348582e-06 | AZ13: 7.064913e-06 | BA13: 8.0145696e-06 | BB13: 4.5738935e-06 | BC13: 6.6746288e-06 | BD13: 1.014841e-05 | BE13: 3.7865449e-06 | BF13: 0 | BG13: 1.9997123e-06 | BH13: 4.050333e-06 | BI13: 4.3989737e-06 | BJ13: 1.7625321e-06 | BK13: 0.0004043687 | BL13: 3.7480079e-06 | BM13: 1.5061133e-05 | BN13: 9.1066184e-06 | BO13: 5.4945104e-06 | BP13: 5.5957177e-06 | BQ13: 5.186106e-06 | BR13: 9.1068216e-06 | BS13: 9.7161241e-06 | BT13: 4.5886414e-06 | BU13: 4.7272253e-06 | BV13: 5.7529146e-06 | BW13: 4.1105335e-06 | BX13: 3.5831925e-06 | BY13: 1.2252919e-06 | BZ13: 1.3851831e-05 | CA13: 3.2555041e-06 | CB13: 4.1017817e-06 | CC13: 1.4577733e-06 | CD13: 2.7923379e-06 | CE13: 4.2465681e-06 | CF13: 6.959064e-06 | CG13: 7.340523e-06 | CH13: 2.1594431e-06 | CI13: 1.994092e-05 | CJ13: 1.238697e-05 | CK13: 1.4480456e-05 | CL13: 1.8762374e-05 | CM13: 3.1231851e-05 | CN13: 0.0001366412 | CO13: 0.0017994817 | CP13: 0.00039564796 | CQ13: 0.00083959327 | CR13: 8.4920611e-06 | CS13: 0.0028063859 | CT13: 0.0047109426 | CU13: 0.00033339847 | CV13: 7.2010114e-06 | CW13: 1.2984568e-05 | CX13: 4.4175326e-06 | CY13: 7.6179802e-06 | CZ13: 0.015096271 | DA13: 0.033268266 | DB13: 1.3538758e-05 | DC13: 2.0297402e-05 | DD13: 8.7398179e-06 | DE13: 0.0015521171 | DF13: 7.6130188e-05 | DG13: 5.5488365e-05 | DH13: 1.2213381 | DI13: 0.9483552
A14: 9 | B14: 112 | C14: 飲料 | D14: 1.1452156e-05 | E14: 6.9541546e-05 | F14: 5.3419867e-06 | G14: 1.0545828e-05 | H14: 1.6230633e-05 | I14: 0 | J14: 7.0913312e-06 | K14: 0.00072264471 | L14: 1.0201356 | M14: 4.1376279e-05 | N14: 0 | O14: 3.7347959e-06 | P14: 5.8039439e-06 | Q14: 7.9389692e-06 | R14: 3.6501035e-06 | S14: 5.5792032e-06 | T14: 4.0812935e-06 | U14: 3.7529066e-06 | V14: 1.929435e-06 | W14: 2.4858489e-06 | X14: 0 | Y14: 9.2561627e-07 | Z14: 2.2213239e-06 | AA14: 1.5164618e-06 | AB14: 3.4690402e-05 | AC14: 6.3956787e-06 | AD14: 3.5181964e-08 | AE14: 1.6969832e-05 | AF14: 3.0982331e-06 | AG14: 5.9353648e-06 | AH14: 9.7533039e-06 | AI14: 8.3848205e-06 | AJ14: 1.1517695e-05 | AK14: 4.5869448e-06 | AL14: 1.4325651e-05 | AM14: 0 | AN14: 0 | AO14: 1.4225302e-05 | AP14: 7.7432614e-06 | AQ14: 5.9933159e-06 | AR14: 4.682143e-06 | AS14: 4.1683167e-06 | AT14: 5.9089743e-06 | AU14: 7.925361e-06 | AV14: 6.3188048e-06 | AW14: 4.1200187e-06 | AX14: 3.7491559e-06 | AY14: 2.611458e-06 | AZ14: 4.0984074e-06 | BA14: 2.8732052e-06 | BB14: 2.3925467e-06 | BC14: 5.9781205e-06 | BD14: 3.5381637e-06 | BE14: 2.9586428e-06 | BF14: 0 | BG14: 1.1805744e-06 | BH14: 2.1493541e-06 | BI14: 5.6023653e-06 | BJ14: 5.7206024e-06 | BK14: 4.8280819e-06 | BL14: 3.5437374e-06 | BM14: 1.3301196e-05 | BN14: 1.6542036e-05 | BO14: 1.2923396e-05 | BP14: 1.4059616e-05 | BQ14: 4.795365e-06 | BR14: 3.890407e-06 | BS14: 9.3012193e-06 | BT14: 7.8052279e-06 | BU14: 3.2829834e-05 | BV14: 1.0267347e-05 | BW14: 1.0707967e-05 | BX14: 8.9460492e-06 | BY14: 1.3962098e-06 | BZ14: 8.1782628e-06 | CA14: 2.7497117e-06 | CB14: 5.0330147e-06 | CC14: 1.7955966e-06 | CD14: 4.063733e-06 | CE14: 6.905468e-06 | CF14: 4.7295367e-06 | CG14: 3.338763e-06 | CH14: 1.7533636e-06 | CI14: 1.0234546e-05 | CJ14: 8.1981092e-06 | CK14: 4.1824162e-06 | CL14: 1.3891799e-05 | CM14: 6.5256569e-06 | CN14: 2.0815492e-05 | CO14: 0.00027295793 | CP14: 2.0259857e-05 | CQ14: 0.00026508311 | CR14: 1.738919e-05 | CS14: 0.00059328981 | CT14: 0.0010261141 | CU14: 1.3682436e-05 | CV14: 6.1056225e-06 | CW14: 5.1680232e-06 | CX14: 6.7941703e-06 | CY14: 7.1529977e-06 | CZ14: 0.0070239561 | DA14: 0.020184379 | DB14: 1.0637783e-05 | DC14: 4.5636875e-06 | DD14: 4.2863677e-05 | DE14: 0.00056440762 | DF14: 6.6027827e-06 | DG14: 0.0012467545 | DH14: 1.0528588 | DI14: 0.81753291
A15: 10 | B15: 113 | C15: 飼料・有機質肥料（別掲を除く。） | D15: 1.2005778e-05 | E15: 0.00042868532 | F15: 5.1438853e-05 | G15: 1.8906464e-05 | H15: 0.0002131005 | I15: 0 | J15: 4.7297559e-09 | K15: 1.5367429e-05 | L15: 5.0300738e-07 | M15: 1.0000623 | N15: 0 | O15: 8.4805932e-07 | P15: 7.6902812e-08 | Q15: 1.2680492e-06 | R15: 1.9714921e-08 | S15: 2.2697268e-08 | T15: 7.6803138e-09 | U15: 4.408406e-09 | V15: 6.8587952e-07 | W15: 8.3302616e-09 | X15: 0 | Y15: 2.0075944e-09 | Z15: 2.2829991e-09 | AA15: 3.8031427e-09 | AB15: 6.5361693e-08 | AC15: 6.0929303e-08 | AD15: 1.4353428e-11 | AE15: 2.1531163e-09 | AF15: 4.3478384e-09 | AG15: 7.2357359e-08 | AH15: 5.0290814e-06 | AI15: 4.5844832e-09 | AJ15: 3.5192668e-09 | AK15: 1.1566303e-08 | AL15: 8.6768571e-09 | AM15: 0 | AN15: 0 | AO15: 3.7091546e-09 | AP15: 2.6518661e-09 | AQ15: 2.3178352e-09 | AR15: 3.1125222e-09 | AS15: 3.7085065e-09 | AT15: 2.4934073e-09 | AU15: 3.4505962e-09 | AV15: 3.2479216e-09 | AW15: 5.3449796e-09 | AX15: 4.485988e-09 | AY15: 4.9060064e-09 | AZ15: 4.9923416e-09 | BA15: 6.5318486e-09 | BB15: 4.4242428e-09 | BC15: 4.0932212e-09 | BD15: 7.1713863e-09 | BE15: 3.5295727e-09 | BF15: 0 | BG15: 1.2589755e-09 | BH15: 3.9027611e-09 | BI15: 3.9592157e-09 | BJ15: 2.1607561e-09 | BK15: 2.2074084e-07 | BL15: 1.5001257e-09 | BM15: 1.9762154e-08 | BN15: 8.2326248e-09 | BO15: 1.3694393e-07 | BP15: 1.4343117e-08 | BQ15: 2.1680263e-09 | BR15: 3.9121843e-09 | BS15: 3.1713791e-09 | BT15: 2.374482e-09 | BU15: 9.2256099e-08 | BV15: 1.9064139e-09 | BW15: 9.7955391e-10 | BX15: 1.1426754e-09 | BY15: 3.9614972e-10 | BZ15: 7.1289353e-09 | CA15: 1.5029321e-09 | CB15: 7.2054278e-09 | CC15: 1.9460475e-09 | CD15: 1.2915189e-09 | CE15: 1.8326083e-09 | CF15: 1.9295416e-09 | CG15: 2.3988453e-09 | CH15: 1.1162334e-09 | CI15: 1.0237718e-08 | CJ15: 3.7836183e-08 | CK15: 6.8681553e-09 | CL15: 1.0153718e-08 | CM15: 3.735051e-08 | CN15: 4.0804249e-09 | CO15: 9.6934111e-07 | CP15: 5.5229572e-06 | CQ15: 1.4884758e-07 | CR15: 3.2743769e-09 | CS15: 2.713371e-07 | CT15: 3.3915111e-07 | CU15: 2.0510146e-08 | CV15: 4.3212992e-09 | CW15: 2.8162387e-08 | CX15: 4.3359191e-09 | CY15: 2.2721117e-09 | CZ15: 9.0572718e-07 | DA15: 1.666127e-06 | DB15: 5.826416e-09 | DC15: 1.2966249e-06 | DD15: 1.2466825e-05 | DE15: 1.1192459e-07 | DF15: 2.3754885e-08 | DG15: 5.0658267e-09 | DH15: 1.000835 | DI15: 0.77713702
A16: 11 | B16: 114 | C16: たばこ | D16: 0 | E16: 0 | F16: 0 | G16: 0 | H16: 0 | I16: 0 | J16: 0 | K16: 0 | L16: 0 | M16: 0 | N16: 1 | O16: 0 | P16: 0 | Q16: 0 | R16: 0 | S16: 0 | T16: 0 | U16: 0 | V16: 0 | W16: 0 | X16: 0 | Y16: 0 | Z16: 0 | AA16: 0 | AB16: 0 | AC16: 0 | AD16: 0 | AE16: 0 | AF16: 0 | AG16: 0 | AH16: 0 | AI16: 0 | AJ16: 0 | AK16: 0 | AL16: 0 | AM16: 0 | AN16: 0 | AO16: 0 | AP16: 0 | AQ16: 0 | AR16: 0 | AS16: 0 | AT16: 0 | AU16: 0 | AV16: 0 | AW16: 0 | AX16: 0 | AY16: 0 | AZ16: 0 | BA16: 0 | BB16: 0 | BC16: 0 | BD16: 0 | BE16: 0 | BF16: 0 | BG16: 0 | BH16: 0 | BI16: 0 | BJ16: 0 | BK16: 0 | BL16: 0 | BM16: 0 | BN16: 0 | BO16: 0 | BP16: 0 | BQ16: 0 | BR16: 0 | BS16: 0 | BT16: 0 | BU16: 0 | BV16: 0 | BW16: 0 | BX16: 0 | BY16: 0 | BZ16: 0 | CA16: 0 | CB16: 0 | CC16: 0 | CD16: 0 | CE16: 0 | CF16: 0 | CG16: 0 | CH16: 0 | CI16: 0 | CJ16: 0 | CK16: 0 | CL16: 0 | CM16: 0 | CN16: 0 | CO16: 0 | CP16: 0 | CQ16: 0 | CR16: 0 | CS16: 0 | CT16: 0 | CU16: 0 | CV16: 0 | CW16: 0 | CX16: 0 | CY16: 0 | CZ16: 0 | DA16: 0 | DB16: 0 | DC16: 0 | DD16: 0 | DE16: 0 | DF16: 0 | DG16: 0 | DH16: 1 | DI16: 0.77648865
A17: 12 | B17: 151 | C17: 繊維工業製品 | D17: 1.0953069e-05 | E17: 3.8097823e-06 | F17: 1.2747058e-05 | G17: 0.00018751605 | H17: 2.7557294e-05 | I17: 0 | J17: 9.8713869e-06 | K17: 5.1819901e-06 | L17: 5.3911763e-06 | M17: 4.0496394e-06 | N17: 0 | O17: 1.0077362 | P17: 0.012903567 | Q17: 5.1223229e-05 | R17: 0.00022439836 | S17: 4.6050265e-05 | T17: 1.9773345e-05 | U17: 2.0999141e-05 | V17: 7.1893134e-05 | W17: 4.6483002e-06 | X17: 0 | Y17: 8.7982108e-07 | Z17: 2.7689925e-06 | AA17: 1.3382816e-06 | AB17: 5.0499014e-06 | AC17: 3.9642748e-06 | AD17: 3.1565094e-07 | AE17: 4.7758285e-06 | AF17: 2.2533171e-05 | AG17: 0.00042522517 | AH17: 0.0029192882 | AI17: 8.216925e-06 | AJ17: 7.1702721e-06 | AK17: 8.9785712e-06 | AL17: 0.00011063296 | AM17: 0 | AN17: 0 | AO17: 5.3169092e-06 | AP17: 2.7924275e-06 | AQ17: 6.7876555e-06 | AR17: 7.2935137e-05 | AS17: 9.7196995e-06 | AT17: 2.2846256e-05 | AU17: 7.2524848e-06 | AV17: 4.4118419e-05 | AW17: 2.5248476e-05 | AX17: 8.4734935e-05 | AY17: 1.2607767e-05 | AZ17: 5.6167482e-06 | BA17: 0.0001764558 | BB17: 4.3812963e-06 | BC17: 2.6265284e-05 | BD17: 1.7918863e-05 | BE17: 4.7675916e-06 | BF17: 0 | BG17: 3.4367819e-06 | BH17: 3.7910787e-05 | BI17: 3.9720406e-06 | BJ17: 2.3409072e-05 | BK17: 0.00022968079 | BL17: 6.743067e-06 | BM17: 3.7404472e-05 | BN17: 0.00017056115 | BO17: 4.63732e-05 | BP17: 2.0355329e-05 | BQ17: 6.9838051e-06 | BR17: 1.3059695e-05 | BS17: 1.9964193e-05 | BT17: 1.2396262e-05 | BU17: 2.6207807e-05 | BV17: 8.6935554e-06 | BW17: 4.3371643e-06 | BX17: 5.7097878e-06 | BY17: 3.3853993e-06 | BZ17: 5.0894219e-05 | CA17: 9.2903271e-06 | CB17: 1.4276423e-05 | CC17: 4.5766177e-06 | CD17: 1.1666734e-05 | CE17: 3.3803505e-05 | CF17: 4.2433183e-05 | CG17: 3.1867735e-05 | CH17: 9.6053796e-06 | CI17: 1.0034131e-05 | CJ17: 1.5877915e-05 | CK17: 3.0506e-05 | CL17: 8.8069056e-06 | CM17: 2.049259e-05 | CN17: 1.2475114e-05 | CO17: 6.0721658e-06 | CP17: 1.3512626e-05 | CQ17: 1.1568363e-05 | CR17: 0.00017261587 | CS17: 1.4800177e-05 | CT17: 1.2322551e-05 | CU17: 2.7479517e-05 | CV17: 1.6264721e-05 | CW17: 1.1977084e-05 | CX17: 8.55056e-06 | CY17: 2.754487e-05 | CZ17: 7.0191653e-05 | DA17: 5.8859699e-06 | DB17: 2.4958755e-05 | DC17: 0.00019634298 | DD17: 9.1549093e-06 | DE17: 3.2139373e-05 | DF17: 0.00094230474 | DG17: 1.184572e-05 | DH17: 1.0279994 | DI17: 0.79822989
... A113: 108 | B113: 691 | C113: 分類不明 | D113: 0.0077030854 | E113: 0.00099478093 | F113: 0.0015464595 | G113: 0.0008223467 | H113: 0.010584791 | I113: 0 | J113: 0.0046191252 | K113: 0.0028888461 | L113: 0.0023237383 | M113: 0.0025251684 | N113: 0 | O113: 0.0017452995 | P113: 0.0026860324 | Q113: 0.0047673152 | R113: 0.0017175739 | S113: 0.0019481497 | T113: 0.0019312074 | U113: 0.0019973151 | V113: 0.00090142991 | W113: 0.0012871687 | X113: 0 | Y113: 0.00024315023 | Z113: 0.0012263493 | AA113: 0.00027622881 | AB113: 0.00094693604 | AC113: 0.0020360151 | AD113: 2.3348944e-05 | AE113: 0.013166495 | AF113: 0.0014336437 | AG113: 0.0040647299 | AH113: 0.003340998 | AI113: 0.0059685221 | AJ113: 0.0083368176 | AK113: 0.0016975765 | AL113: 0.010377228 | AM113: 0 | AN113: 0 | AO113: 0.010591546 | AP113: 0.005567721 | AQ113: 0.0042298276 | AR113: 0.0030843001 | AS113: 0.0025211985 | AT113: 0.0041379275 | AU113: 0.0055072481 | AV113: 0.0042855274 | AW113: 0.0023001309 | AX113: 0.0018882236 | AY113: 0.00086964528 | AZ113: 0.0021042516 | BA113: 0.00075647184 | BB113: 0.00088392593 | BC113: 0.0037647312 | BD113: 0.0011235239 | BE113: 0.001508528 | BF113: 0 | BG113: 0.00065347073 | BH113: 0.00077438508 | BI113: 0.0035111147 | BJ113: 0.0040691794 | BK113: 0.0018213493 | BL113: 0.00237918 | BM113: 0.0094493285 | BN113: 0.012099891 | BO113: 0.0092592179 | BP113: 0.010316715 | BQ113: 0.0032003304 | BR113: 0.0025929656 | BS113: 0.0065515457 | BT113: 0.0057010799 | BU113: 0.0036360828 | BV113: 0.007722878 | BW113: 0.0077826937 | BX113: 0.0064679994 | BY113: 0.00086740374 | BZ113: 0.0049177392 | CA113: 0.0016689978 | CB113: 0.0022402419 | CC113: 0.00092439059 | CD113: 0.0029204641 | CE113: 0.0049667632 | CF113: 0.0031388154 | CG113: 0.0019592779 | CH113: 0.0010468141 | CI113: 0.0057369436 | CJ113: 0.005139723 | CK113: 0.0015003564 | CL113: 0.008825012 | CM113: 0.0029798891 | CN113: 0.00099469153 | CO113: 0.007681775 | CP113: 0.0013803769 | CQ113: 0.0016826612 | CR113: 0.013135301 | CS113: 0.0046795286 | CT113: 0.0026130669 | CU113: 0.0090560753 | CV113: 0.0037374166 | CW113: 0.0025165248 | CX113: 0.0042572104 | CY113: 0.0034512957 | CZ113: 0.01410121 | DA113: 0.0022741461 | DB113: 0.0068822748 | DC113: 0.0019170183 | DD113: 0.0016155216 | DE113: 0.0057278412 | DF113: 0.0014043294 | DG113: 1.0010654 | DH113: 1.3982485 | DI113: 1.0857241
C114: 列和 | D114: 1.4310764 | E114: 1.340693 | F114: 1.3146191 | G114: 1.4122754 | H114: 1.202855 | I114: 1 | J114: 1.8146277 | K114: 1.3654153 | L114: 1.3163576 | M114: 1.3664954 | N114: 1 | O114: 1.2603465 | P114: 1.2423648 | Q114: 1.3528084 | R114: 1.2510193 | S114: 1.5121921 | T114: 1.3069903 | U114: 1.2619111 | V114: 1.2686859 | W114: 1.2397715 | X114: 1 | Y114: 1.0854821 | Z114: 1.1163402 | AA114: 1.1106548 | AB114: 1.2328626 | AC114: 1.1996251 | AD114: 1.0102036 | AE114: 1.2095375 | AF114: 1.1968122 | AG114: 1.1745827 | AH114: 1.2483897 | AI114: 1.3080276 | AJ114: 1.4549362 | AK114: 1.2950272 | AL114: 1.3449467 | AM114: 1 | AN114: 1 | AO114: 1.6014737 | AP114: 1.1169962 | AQ114: 1.4410583 | AR114: 1.2015408 | AS114: 1.1953607 | AT114: 1.1844951 | AU114: 1.1913313 | AV114: 1.1905671 | AW114: 1.2210007 | AX114: 1.2085301 | AY114: 1.206742 | AZ114: 1.1966558 | BA114: 1.1840175 | BB114: 1.1569304 | BC114: 1.1672326 | BD114: 1.1776781 | BE114: 1.1768973 | BF114: 1 | BG114: 1.1353 | BH114: 1.1812801 | BI114: 1.3589051 | BJ114: 1.1527946 | BK114: 1.3218856 | BL114: 1.5933736 | BM114: 1.3164376 | BN114: 1.3102198 | BO114: 1.3768559 | BP114: 1.3021023 | BQ114: 1.4019173 | BR114: 1.2709035 | BS114: 1.4901536 | BT114: 1.307229 | BU114: 1.3087001 | BV114: 1.3297437 | BW114: 1.2783595 | BX114: 1.392098 | BY114: 1.1296124 | BZ114: 1.290484 | CA114: 1.1621674 | CB114: 1.6743938 | CC114: 1.3321581 | CD114: 1.4723338 | CE114: 1.2838925 | CF114: 1.3714635 | CG114: 1.3246301 | CH114: 1.1784933 | CI114: 1.598467 | CJ114: 1.5111728 | CK114: 1.2874229 | CL114: 1.4175606 | CM114: 1.3943822 | CN114: 1.2444367 | CO114: 1.2090614 | CP114: 1.3438393 | CQ114: 1.2236426 | CR114: 1.3415265 | CS114: 1.2499537 | CT114: 1.2079217 | CU114: 1.3028567 | CV114: 1.4083822 | CW114: 1.7692059 | CX114: 1.2505489 | CY114: 1.2113515 | CZ114: 1.5559344 | DA114: 1.4026742 | DB114: 1.3226374 | DC114: 1.3220474 | DD114: 1.186851 | DE114: 1.2933301 | DF114: 1.5629118 | DG114: 1.3552265
C115: 影響力係数 | D115: 1.1112146 | E115: 1.0410329 | F115: 1.0207868 | G115: 1.0966158 | H115: 0.93400329 | I115: 0.77648865 | J115: 1.4090378 | K115: 1.0602295 | L115: 1.0221367 | M115: 1.0610682 | N115: 0.77648865 | O115: 0.97864476 | P115: 0.9646822 | Q115: 1.0504404 | R115: 0.97140228 | S115: 1.1742 | T115: 1.0148631 | U115: 0.97985961 | V115: 0.9851202 | W115: 0.96266849 | X115: 0.77648865 | Y115: 0.84286454 | Z115: 0.86682553 | AA115: 0.86241081 | AB115: 0.95730381 | AC115: 0.93149529 | AD115: 0.7844116 | AE115: 0.93919211 | AF115: 0.92931111 | AG115: 0.9120501 | AH115: 0.9693604 | AI115: 1.0156686 | AJ115: 1.1297414 | AK115: 1.0055739 | AL115: 1.0443359 | AM115: 0.77648865 | AN115: 0.77648865 | AO115: 1.2435261 | AP115: 0.86733489 | AQ115: 1.1189654 | AR115: 0.9329828 | AS115: 0.92818403 | AT115: 0.91974702 | AU115: 0.92505526 | AV115: 0.92446184 | AW115: 0.94809316 | AX115: 0.93840989 | AY115: 0.93702143 | AZ115: 0.92918966 | BA115: 0.91937615 | BB115: 0.89834331 | BC115: 0.90634288 | BD115: 0.91445369 | BE115: 0.91384737 | BF115: 0.77648865 | BG115: 0.8815476 | BH115: 0.91725059 | BI115: 1.0551744 | BJ115: 0.8951319 | BK115: 1.0264292 | BL115: 1.2372365 | BM115: 1.0221988 | BN115: 1.0173708 | BO115: 1.069113 | BP115: 1.0110676 | BQ115: 1.0885729 | BR115: 0.98684215 | BS115: 1.1570873 | BT115: 1.0150485 | BU115: 1.0161908 | BV115: 1.0325309 | BW115: 0.9926316 | BX115: 1.0809483 | BY115: 0.87713121 | BZ115: 1.0020462 | CA115: 0.90240977 | CB115: 1.3001478 | CC115: 1.0344056 | CD115: 1.1432505 | CE115: 0.99692797 | CF115: 1.0649258 | CG115: 1.0285602 | CH115: 0.91508665 | CI115: 1.2411915 | CJ115: 1.1734085 | CK115: 0.99966924 | CL115: 1.1007197 | CM115: 1.082722 | CN115: 0.96629095 | CO115: 0.93882245 | CP115: 1.043476 | CQ115: 0.95014455 | CR115: 1.0416801 | CS115: 0.97057483 | CT115: 0.93793751 | CU115: 1.0116534 | CV115: 1.0935928 | CW115: 1.3737683 | CX115: 0.97103699 | CY115: 0.94060065 | CZ115: 1.2081654 | DA115: 1.0891606 | DB115: 1.027013 | DC115: 1.0265548 | DD115: 0.9215763 | DE115: 1.0042561 | DF115: 1.2135833 | DG115: 1.052318

Sheet 各種係数表
A1: 令和２年（2020年）長野県産業連関表 | I1: 令和２年（2020年）長野県産業連関表
A2: 第８表（その１）県内自給率・移輸入率表 | I2: 第８表（その２）就業・雇用係数表
D3: (百万円) | E3: (百万円) | L3: （就業地ベース） | N3: (百万円) | O3: （人／百万円）
C4: 統合中分類（108部門） | D4: 県内需要合計 | E4: 移輸入計 | F4: 移輸入率 | G4: 県内自給率 | K4: 統合中分類（108部門） | L4: 就業者数 | M4: 雇用者数 | N4: 県内生産額 | O4: 就業係数 | P4: 雇用係数
D5: A | E5: B | F5: C=B/A | G5: D=1-C | L5: A | M5: B | N5: C | O5: D=A/C | P5: E=B/C
A6: 1 | B6: 011 | C6: 耕種農業 | D6: =取引基本表!DQ6 -> 128907 | E6: =-取引基本表!EC6 -> 72858 | F6: =IFERROR(E6/D6,0) -> 0.56519817 | G6: =1-F6 -> 0.43480183 | I6: 1 | J6: 011 | K6: 耕種農業 | L6: 71583 | M6: 20423 | N6: =取引基本表!EE6 -> 240440 | O6: =IFERROR(L6/N6,0) -> 0.29771669 | P6: =IFERROR(M6/N6,0) -> 0.08494011
A7: 2 | B7: 012 | C7: 畜産 | D7: =取引基本表!DQ7 -> 46176 | E7: =-取引基本表!EC7 -> 22340 | F7: =IFERROR(E7/D7,0) -> 0.48380111 | G7: =1-F7 -> 0.51619889 | I7: 2 | J7: 012 | K7: 畜産 | L7: 4935 | M7: 1408 | N7: =取引基本表!EE7 -> 31471 | O7: =IFERROR(L7/N7,0) -> 0.15681103 | P7: =IFERROR(M7/N7,0) -> 0.044739602
A8: 3 | B8: 013 | C8: 農業サービス | D8: =取引基本表!DQ8 -> 12882 | E8: =-取引基本表!EC8 -> 0 | F8: =IFERROR(E8/D8,0) -> 0 | G8: =1-F8 -> 1 | I8: 3 | J8: 013 | K8: 農業サービス | L8: 15908 | M8: 4538 | N8: =取引基本表!EE8 -> 12882 | O8: =IFERROR(L8/N8,0) -> 1.2349014 | P8: =IFERROR(M8/N8,0) -> 0.35227449
A9: 4 | B9: 015 | C9: 林業 | D9: =取引基本表!DQ9 -> 22965 | E9: =-取引基本表!EC9 -> 9993 | F9: =IFERROR(E9/D9,0) -> 0.43514043 | G9: =1-F9 -> 0.56485957 | I9: 4 | J9: 015 | K9: 林業 | L9: 3538 | M9: 2312 | N9: =取引基本表!EE9 -> 65805 | O9: =IFERROR(L9/N9,0) -> 0.053764911 | P9: =IFERROR(M9/N9,0) -> 0.035134108
A10: 5 | B10: 017 | C10: 漁業 | D10: =取引基本表!DQ10 -> 13780 | E10: =-取引基本表!EC10 -> 12206 | F10: =IFERROR(E10/D10,0) -> 0.88577649 | G10: =1-F10 -> 0.11422351 | I10: 5 | J10: 017 | K10: 漁業 | L10: 263 | M10: 142 | N10: =取引基本表!EE10 -> 2618 | O10: =IFERROR(L10/N10,0) -> 0.10045837 | P10: =IFERROR(M10/N10,0) -> 0.054239878
A11: 6 | B11: 061 | C11: 石炭・原油・天然ガス | D11: =取引基本表!DQ11 -> 13731 | E11: =-取引基本表!EC11 -> 13731 | F11: =IFERROR(E11/D11,0) -> 1 | G11: =1-F11 -> 0 | I11: 6 | J11: 061 | K11: 石炭・原油・天然ガス | L11: 0 | M11: 0 | N11: =取引基本表!EE11 -> 0 | O11: =IFERROR(L11/N11,0) -> 0 | P11: =IFERROR(M11/N11,0) -> 0
A12: 7 | B12: 062 | C12: その他の鉱業 | D12: =取引基本表!DQ12 -> 8671 | E12: =-取引基本表!EC12 -> 4625 | F12: =IFERROR(E12/D12,0) -> 0.53338715 | G12: =1-F12 -> 0.46661285 | I12: 7 | J12: 062 | K12: その他の鉱業 | L12: 332 | M12: 258 | N12: =取引基本表!EE12 -> 4219 | O12: =IFERROR(L12/N12,0) -> 0.078691633 | P12: =IFERROR(M12/N12,0) -> 0.061151932
A13: 8 | B13: 111 | C13: 食料品 | D13: =取引基本表!DQ13 -> 528251 | E13: =-取引基本表!EC13 -> 425243 | F13: =IFERROR(E13/D13,0) -> 0.80500179 | G13: =1-F13 -> 0.19499821 | I13: 8 | J13: 111 | K13: 食料品 | L13: 24076 | M13: 21484 | N13: =取引基本表!EE13 -> 576028 | O13: =IFERROR(L13/N13,0) -> 0.041796579 | P13: =IFERROR(M13/N13,0) -> 0.037296798
A14: 9 | B14: 112 | C14: 飲料 | D14: =取引基本表!DQ14 -> 94225 | E14: =-取引基本表!EC14 -> 64572 | F14: =IFERROR(E14/D14,0) -> 0.68529583 | G14: =1-F14 -> 0.31470417 | I14: 9 | J14: 112 | K14: 飲料 | L14: 3688 | M14: 3298 | N14: =取引基本表!EE14 -> 106370 | O14: =IFERROR(L14/N14,0) -> 0.03467143 | P14: =IFERROR(M14/N14,0) -> 0.031004983
A15: 10 | B15: 113 | C15: 飼料・有機質肥料（別掲を除く。） | D15: =取引基本表!DQ15 -> 16176 | E15: =-取引基本表!EC15 -> 16151 | F15: =IFERROR(E15/D15,0) -> 0.9984545 | G15: =1-F15 -> 0.0015454995 | I15: 10 | J15: 113 | K15: 飼料・有機質肥料（別掲を除く。） | L15: 239 | M15: 214 | N15: =取引基本表!EE15 -> 2474 | O15: =IFERROR(L15/N15,0) -> 0.096604689 | P15: =IFERROR(M15/N15,0) -> 0.086499596
A16: 11 | B16: 114 | C16: たばこ | D16: =取引基本表!DQ16 -> 43627 | E16: =-取引基本表!EC16 -> 43627 | F16: =IFERROR(E16/D16,0) -> 1 | G16: =1-F16 -> 0 | I16: 11 | J16: 114 | K16: たばこ | L16: 0 | M16: 0 | N16: =取引基本表!EE16 -> 0 | O16: =IFERROR(L16/N16,0) -> 0 | P16: =IFERROR(M16/N16,0) -> 0
A17: 12 | B17: 151 | C17: 繊維工業製品 | D17: =取引基本表!DQ17 -> 8143 | E17: =-取引基本表!EC17 -> 7633 | F17: =IFERROR(E17/D17,0) -> 0.93736952 | G17: =1-F17 -> 0.06263048 | I17: 12 | J17: 151 | K17: 繊維工業製品 | L17: 427 | M17: 268 | N17: =取引基本表!EE17 -> 2637 | O17: =IFERROR(L17/N17,0) -> 0.16192643 | P17: =IFERROR(M17/N17,0) -> 0.10163064
... A113: 108 | B113: 691 | C113: 分類不明 | D113: =取引基本表!DQ113 -> 69603 | E113: =-取引基本表!EC113 -> 25346 | F113: =IFERROR(E113/D113,0) -> 0.36415097 | G113: =1-F113 -> 0.63584903 | I113: 108 | J113: 691 | K113: 分類不明 | L113: 120 | M113: 109 | N113: =取引基本表!EE113 -> 69546 | O113: =IFERROR(L113/N113,0) -> 0.0017254767 | P113: =IFERROR(M113/N113,0) -> 0.001567308
C114: 合計 | D114: =取引基本表!DQ114 -> 15734414 | E114: =-取引基本表!EC114 -> 6080417 | F114: =IFERROR(E114/D114,0) -> 0.38644064 | G114: =1-F114 -> 0.61355936 | K114: 合計 | L114: 1163637 | M114: 909803 | N114: =取引基本表!EE114 -> 14871290 | O114: =IFERROR(L114/N114,0) -> 0.078247213 | P114: =IFERROR(M114/N114,0) -> 0.061178486

Sheet 雇用表
A1: 令和２年（2020年）長野県産業連関表
A2: 第９表 雇用表（付帯表） | M2: （単位：人）
D3: 従業者総数
E4: 個人業主 | F4: 家族従業者 | G4: 有給役員 ・雇用者
H5: 有給役員 | I5: 雇用者
J6: 常用雇用者 | M6: 臨時雇用者
C7: 統合中分類（108部門） | K7: 正社員 ・正職員 | L7: 正社員 ・正職員以外
A8: 1 | B8: 011 | C8: 耕種農業 | D8: 71583 | E8: 31851 | F8: 16331 | G8: 23401 | H8: 2978 | I8: 20423 | J8: 18581 | K8: 12907 | L8: 5674 | M8: 1842
A9: 2 | B9: 012 | C9: 畜産 | D9: 4935 | E9: 2196 | F9: 1126 | G9: 1613 | H9: 205 | I9: 1408 | J9: 1281 | K9: 890 | L9: 391 | M9: 127
A10: 3 | B10: 013 | C10: 農業サービス | D10: 15908 | E10: 7079 | F10: 3629 | G10: 5200 | H10: 662 | I10: 4538 | J10: 4129 | K10: 2868 | L10: 1261 | M10: 409
A11: 4 | B11: 015 | C11: 林業 | D11: 3538 | E11: 616 | F11: 137 | G11: 2785 | H11: 473 | I11: 2312 | J11: 1929 | K11: 1642 | L11: 287 | M11: 383
A12: 5 | B12: 017 | C12: 漁業 | D12: 263 | E12: 79 | F12: 11 | G12: 173 | H12: 31 | I12: 142 | J12: 136 | K12: 110 | L12: 26 | M12: 6
A13: 6 | B13: 061 | C13: 石炭・原油・天然ガス | D13: 0 | E13: 0 | F13: 0 | G13: 0 | H13: 0 | I13: 0 | J13: 0 | K13: 0 | L13: 0 | M13: 0
A14: 7 | B14: 062 | C14: その他の鉱業 | D14: 332 | E14: 15 | F14: 4 | G14: 313 | H14: 55 | I14: 258 | J14: 245 | K14: 189 | L14: 56 | M14: 13
A15: 8 | B15: 111 | C15: 食料品 | D15: 24076 | E15: 799 | F15: 274 | G15: 23003 | H15: 1519 | I15: 21484 | J15: 21059 | K15: 12864 | L15: 8195 | M15: 425
A16: 9 | B16: 112 | C16: 飲料 | D16: 3688 | E16: 77 | F16: 14 | G16: 3597 | H16: 299 | I16: 3298 | J16: 3209 | K16: 2476 | L16: 733 | M16: 89
A17: 10 | B17: 113 | C17: 飼料・有機質肥料（別掲を除く。） | D17: 239 | E17: 5 | F17: 1 | G17: 233 | H17: 19 | I17: 214 | J17: 208 | K17: 160 | L17: 48 | M17: 6
A18: 11 | B18: 114 | C18: たばこ | D18: 0 | E18: 0 | F18: 0 | G18: 0 | H18: 0 | I18: 0 | J18: 0 | K18: 0 | L18: 0 | M18: 0
A19: 12 | B19: 151 | C19: 繊維工業製品 | D19: 427 | E19: 105 | F19: 29 | G19: 293 | H19: 25 | I19: 268 | J19: 259 | K19: 155 | L19: 104 | M19: 9
... A115: 108 | B115: 691 | C115: 分類不明 | D115: 120 | E115: 7 | F115: 1 | G115: 112 | H115: 3 | I115: 109 | J115: 106 | K115: 42 | L115: 64 | M115: 3
C116: 合計 | D116: 1163637 | E116: 131404 | F116: 43119 | G116: 989114 | H116: 79311 | I116: 909803 | J116: 885382 | K116: 589125 | L116: 296257 | M116: 24421
