Workbook

Sheet 統計表30
B1: 統 計 表
B3: (規模30人以上) | C3: 第１表 産 業 大 分 類 別 賃 金 指 数 （現金給与総額） | I3: (R2=100 以下同じ）
B4: 年 月 | C4: 調査産業計 | D4: 建 設 業 | E4: 製 造 業 | F4: 情報通信業 | G4: 運輸業,郵便業 | H4: 卸売業，小売業 | I4: 医療，福祉
B7: 令和４年平均 | C7: 101.6 | D7: 103.9 | E7: 103.3 | F7: 90.9 | G7: 96 | H7: 109.2 | I7: 99.3
B8: 令和５年 | C8: 102.8 | D8: 107.4 | E8: 100.7 | F8: 87.8 | G8: 123.6 | H8: 108.8 | I8: 100
B10: 令和５年12月 | C10: 185 | D10: 217.4 | E10: 184.6 | F10: 199.6 | G10: 229.4 | H10: 167.2 | I10: 178.8
B11: 令和６年１月 | C11: 85.8 | D11: 87.7 | E11: 80.8 | F11: 68.9 | G11: 86.4 | H11: 91.1 | I11: 84.9
B12: ２ | C12: 84.5 | D12: 82 | E12: 79.8 | F12: 67 | G12: 88.7 | H12: 94.8 | I12: 86.6
B13: ３ | C13: 89.5 | D13: 84.3 | E13: 86.5 | F13: 79.4 | G13: 90.8 | H13: 103.4 | I13: 90.1
B14: ４ | C14: 85.1 | D14: 81.3 | E14: 81.1 | F14: 69.1 | G14: 89 | H14: 95.1 | I14: 85.8
B15: ５ | C15: 88.4 | D15: 82.9 | E15: 86.3 | F15: 68.2 | G15: 85.6 | H15: 98.8 | I15: 92.9
B16: ６ | C16: 150.4 | D16: 147 | E16: 156.4 | F16: 144.8 | G16: 93.2 | H16: 109.5 | I16: 136.6
B17: ７ | C17: 120.7 | D17: 186.3 | E17: 128.5 | F17: 86.1 | G17: 129.8 | H17: 136.1 | I17: 114.8
B18: ８ | C18: 90 | D18: 84.7 | E18: 87.9 | F18: 68.2 | G18: 97.4 | H18: 127 | I18: 84.4
B19: ９ | C19: 87.7 | D19: 82.7 | E19: 88.2 | F19: 79.1 | G19: 107.2 | H19: 96.1 | I19: 84
... B24: 前 年 同 月 比 | C24: 4.2 | D24: -13.7 | E24: 9.8 | F24: -22.5 | G24: -27.6 | H24: 9.5 | I24: -0.2
B26: (規模30人以上) | C26: 第２表 産 業 大 分 類 別 賃 金 指 数 （きまって支給する給与）
B27: 年 月 | C27: 調査産業計 | D27: 建 設 業 | E27: 製 造 業 | F27: 情報通信業 | G27: 運輸業,郵便業 | H27: 卸売業，小売業 | I27: 医療，福祉
B30: 令和４年平均 | C30: 100.8 | D30: 103.5 | E30: 99.9 | F30: 92.3 | G30: 96.7 | H30: 107.5 | I30: 101.8
B31: 令和５年 | C31: 101.6 | D31: 108.4 | E31: 97.4 | F31: 91.4 | G31: 118.1 | H31: 107.3 | I31: 101.3
B33: 令和５年12月 | C33: 102.5 | D33: 111.6 | E33: 98.5 | F33: 93.2 | G33: 124.8 | H33: 110.3 | I33: 101.3
B34: 令和６年１月 | C34: 102 | D34: 113.9 | E34: 97.6 | F34: 91.3 | G34: 99.8 | H34: 104.4 | I34: 104
B35: ２ | C35: 102.6 | D35: 106.5 | E35: 98.6 | F35: 89 | G35: 102.7 | H35: 105.3 | I35: 105.4
B36: ３ | C36: 103.4 | D36: 108.9 | E36: 98.8 | F36: 89.8 | G36: 105.3 | H36: 107.8 | I36: 106.9
B37: ４ | C37: 103.6 | D37: 105.5 | E37: 100.2 | F37: 91.7 | G37: 102.9 | H37: 108.6 | I37: 104.7
B38: ５ | C38: 101.9 | D38: 104.5 | E38: 100.1 | F38: 90.3 | G38: 98.5 | H38: 110.2 | I38: 102.1
B39: ６ | C39: 103.3 | D39: 108.3 | E39: 102.2 | F39: 91.5 | G39: 97.9 | H39: 110.9 | I39: 103.9
B40: ７ | C40: 104.2 | D40: 108.5 | E40: 102.4 | F40: 91.9 | G40: 111.3 | H40: 110.9 | I40: 102.7
B41: ８ | C41: 103.3 | D41: 107.3 | E41: 100.9 | F41: 90.4 | G41: 112.8 | H41: 112.8 | I41: 104.3
B42: ９ | C42: 104.4 | D42: 107.3 | E42: 102.9 | F42: 90.4 | G42: 124.3 | H42: 111 | I42: 103.7
... B47: 前 年 同 月 比 | C47: 1.6 | D47: -2.2 | E47: 2.5 | F47: -3 | G47: -17.4 | H47: 3.5 | I47: 4.6
B49: (規模30人以上) | C49: 第３表 産 業 大 分 類 別 実 質 賃 金 指 数 （現金給与総額）
B50: 年 月 | C50: 調査産業計 | D50: 建 設 業 | E50: 製 造 業 | F50: 情報通信業 | G50: 運輸業,郵便業 | H50: 卸売業，小売業 | I50: 医療，福祉
B53: 令和４年平均 | C53: 98 | D53: 100.2 | E53: 99.6 | F53: 87.7 | G53: 92.6 | H53: 105.3 | I53: 95.8
B54: 令和５年 | C54: 95.2 | D54: 99.4 | E54: 93.2 | F54: 81.3 | G54: 114.4 | H54: 100.7 | I54: 92.6
B56: 令和５年12月 | C56: 169.3 | D56: 198.9 | E56: 168.9 | F56: 182.6 | G56: 209.9 | H56: 153 | I56: 163.6
B57: 令和６年１月 | C57: 78.1 | D57: 79.9 | E57: 73.6 | F57: 62.8 | G57: 78.7 | H57: 83 | I57: 77.3
B58: ２ | C58: 77 | D58: 74.7 | E58: 72.7 | F58: 61.1 | G58: 80.9 | H58: 86.4 | I58: 78.9
B59: ３ | C59: 81.4 | D59: 76.6 | E59: 78.6 | F59: 72.2 | G59: 82.5 | H59: 94 | I59: 81.9
B60: ４ | C60: 76.7 | D60: 73.3 | E60: 73.1 | F60: 62.3 | G60: 80.3 | H60: 85.8 | I60: 77.4
B61: ５ | C61: 79.3 | D61: 74.3 | E61: 77.4 | F61: 61.2 | G61: 76.8 | H61: 88.6 | I61: 83.3
B62: ６ | C62: 134.9 | D62: 131.8 | E62: 140.3 | F62: 129.9 | G62: 83.6 | H62: 98.2 | I62: 122.5
B63: ７ | C63: 107.8 | D63: 166.3 | E63: 114.7 | F63: 76.9 | G63: 115.9 | H63: 121.5 | I63: 102.5
B64: ８ | C64: 79.7 | D64: 75 | E64: 77.9 | F64: 60.4 | G64: 86.3 | H64: 112.5 | I64: 74.8
B65: ９ | C65: 78.2 | D65: 73.8 | E65: 78.7 | F65: 70.6 | G65: 95.6 | H65: 85.7 | I65: 74.9
... B70: 前 年 同 月 比 | C70: 0 | D70: -17.2 | E70: 5.3 | F70: -25.7 | G70: -30.5 | H70: 5 | I70: -4.1
B77: (規模30人以上) | C77: 第４表 産 業 大 分 類 別 労 働 時 間 指 数 （総実労働時間）
B78: 年 月 | C78: 調査産業計 | D78: 建 設 業 | E78: 製 造 業 | F78: 情報通信業 | G78: 運輸業,郵便業 | H78: 卸売業，小売業 | I78: 医療，福祉
B81: 令和４年平均 | C81: 102 | D81: 91.4 | E81: 102.3 | F81: 98.6 | G81: 93.7 | H81: 107.9 | I81: 97.5
B82: 令和５年 | C82: 102 | D82: 92.3 | E82: 100 | F82: 98.6 | G82: 102.2 | H82: 106 | I82: 96.6
B84: 令和５年12月 | C84: 102 | D84: 95.9 | E84: 101.6 | F84: 98.7 | G84: 104.7 | H84: 106.9 | I84: 97.5
B85: 令和６年１月 | C85: 94 | D85: 85.6 | E85: 90.4 | F85: 92.3 | G85: 91.3 | H85: 97.7 | I85: 93.2
B86: ２ | C86: 97.3 | D86: 85.9 | E86: 98.6 | F86: 90.9 | G86: 94.4 | H86: 100.2 | I86: 92.2
B87: ３ | C87: 99 | D87: 87.9 | E87: 100.3 | F87: 96.3 | G87: 96 | H87: 99.3 | I87: 95.7
B88: ４ | C88: 103.6 | D88: 90.8 | E88: 102.7 | F88: 103.5 | G88: 101.9 | H88: 103 | I88: 99.5
B89: ５ | C89: 98.8 | D89: 86.6 | E89: 95.6 | F89: 98.6 | G89: 96.3 | H89: 101.8 | I89: 97.4
B90: ６ | C90: 101.7 | D90: 87.1 | E90: 104.3 | F90: 94.5 | G90: 101.1 | H90: 103.5 | I90: 96.3
B91: ７ | C91: 103.5 | D91: 92.3 | E91: 104.7 | F91: 104.3 | G91: 95 | H91: 101.9 | I91: 97.6
B92: ８ | C92: 95.8 | D92: 82.8 | E92: 92.7 | F92: 94.5 | G92: 96.9 | H92: 104.3 | I92: 97.2
B93: ９ | C93: 98.8 | D93: 82.1 | E93: 102.4 | F93: 90.2 | G93: 99.3 | H93: 99.7 | I93: 93.9
... B98: 前 年 同 月 比 | C98: -1.9 | D98: -10.6 | E98: 1.9 | F98: 2.1 | G98: -14.1 | H98: -2.6 | I98: -2.8
B100: (規模30人以上) | C100: 第５表 産 業 大 分 類 別 労 働 時 間 指 数 （所定外労働時間）
B101: 年 月 | C101: 調査産業計 | D101: 建 設 業 | E101: 製 造 業 | F101: 情報通信業 | G101: 運輸業,郵便業 | H101: 卸売業，小売業 | I101: 医療，福祉
B104: 令和４年平均 | C104: 129.1 | D104: 77.9 | E104: 131.4 | F104: 87.8 | G104: 92.8 | H104: 216 | I104: 89.7
B105: 令和５年 | C105: 124.6 | D105: 79.5 | E105: 100.9 | F105: 72.4 | G105: 113.4 | H105: 192.2 | I105: 108.7
B107: 令和５年12月 | C107: 128.9 | D107: 104.3 | E107: 102.8 | F107: 70.1 | G107: 129.1 | H107: 214.3 | I107: 124
B108: 令和６年１月 | C108: 110 | D108: 82.3 | E108: 94.4 | F108: 67.5 | G108: 78.2 | H108: 159.2 | I108: 144
B109: ２ | C109: 108.9 | D109: 74.4 | E109: 88.9 | F109: 62.4 | G109: 100.9 | H109: 149 | I109: 136
B110: ３ | C110: 115.6 | D110: 68.9 | E110: 99.1 | F110: 73.1 | G110: 110.5 | H110: 163.3 | I110: 146
B111: ４ | C111: 120 | D111: 61 | E111: 100.9 | F111: 70.1 | G111: 119.5 | H111: 175.5 | I111: 134
B112: ５ | C112: 112.2 | D112: 50.6 | E112: 93.5 | F112: 70.6 | G112: 93.6 | H112: 165.3 | I112: 130
B113: ６ | C113: 115.6 | D113: 48.2 | E113: 100.9 | F113: 64.5 | G113: 116.4 | H113: 153.1 | I113: 128
B114: ７ | C114: 113.3 | D114: 53.7 | E114: 103.7 | F114: 70.6 | G114: 112.7 | H114: 144.9 | I114: 118
B115: ８ | C115: 107.8 | D115: 47.6 | E115: 95.4 | F115: 52.8 | G115: 114.5 | H115: 167.3 | I115: 134
B116: ９ | C116: 115.6 | D116: 56.1 | E116: 103.7 | F116: 59.9 | G116: 145.9 | H116: 159.2 | I116: 136
... B121: 前 年 同 月 比 | C121: -9.5 | D121: -38.6 | E121: 3.6 | F121: 2.1 | G121: -40 | H121: -11.4 | I121: 11.3
B123: (規模30人以上) | C123: 第６表 産 業 大 分 類 別 常 用 雇 用 指 数
B124: 年 月 | C124: 調査産業計 | D124: 建 設 業 | E124: 製 造 業 | F124: 情報通信業 | G124: 運輸業,郵便業 | H124: 卸売業，小売業 | I124: 医療，福祉
B127: 令和４年平均 | C127: 99 | D127: 100.6 | E127: 103 | F127: 106 | G127: 58.9 | H127: 97.4 | I127: 103.2
B128: 令和５年 | C128: 102.3 | D128: 101.9 | E128: 106.9 | F128: 107.7 | G128: 96.4 | H128: 93.6 | I128: 103.2
B130: 令和５年12月 | C130: 102.2 | D130: 102.1 | E130: 106.3 | F130: 107.2 | G130: 97.3 | H130: 93.5 | I130: 102.8
B131: 令和６年１月 | C131: 101.6 | D131: 102.2 | E131: 106.9 | F131: 107 | G131: 96.4 | H131: 93.1 | I131: 102.9
B132: ２ | C132: 101.5 | D132: 102.2 | E132: 106.5 | F132: 107 | G132: 96.5 | H132: 92.4 | I132: 102.9
B133: ３ | C133: 101.2 | D133: 101.9 | E133: 106.4 | F133: 106.6 | G133: 95.3 | H133: 92.5 | I133: 101.8
B134: ４ | C134: 103.2 | D134: 102.2 | E134: 108.1 | F134: 111.4 | G134: 95.1 | H134: 93.2 | I134: 103.5
B135: ５ | C135: 103.4 | D135: 99.4 | E135: 108.2 | F135: 110.9 | G135: 95.3 | H135: 93.3 | I135: 104
B136: ６ | C136: 103.2 | D136: 98.4 | E136: 108.1 | F136: 111 | G136: 95.2 | H136: 94 | I136: 104.5
B137: ７ | C137: 103.8 | D137: 100.2 | E137: 107.7 | F137: 112.7 | G137: 94.4 | H137: 94.1 | I137: 104.6
B138: ８ | C138: 103.8 | D138: 99.8 | E138: 107.4 | F138: 112.1 | G138: 94.6 | H138: 94.8 | I138: 104.2
B139: ９ | C139: 103.6 | D139: 99.5 | E139: 107.7 | F139: 111.8 | G139: 95 | H139: 95.3 | I139: 103.6
... B144: 前 年 同 月 比 | C144: 0.1 | D144: -0.7 | E144: 1.1 | F144: 4.3 | G144: 1.4 | H144: 1.3 | I144: 0.3
B145: ※常用雇用指数を過去に遡って改訂しています。詳細は、15ページ「利用上の留意点」２『常用雇用指数等の指数改訂』参照

Sheet 表30
B1: ＜令和６年12月分 事業所規模30人以上＞
B3: 表１ 常用労働者の一人平均月間現金給与額
B4: 産 業
C5: 現金給与総額 | F5: きまって支給する | M5: 特別に支
F6: 給 与 | I6: 所 定 内 | L6: 所 定 外 | M6: 払われた
D7: 指数 | E7: 前年比 | G7: 指数 | H7: 前年比 | I7: 給 与 | J7: 指数 | K7: 前年比 | L7: 給 与 | M7: 給 与
C8: 円 | E8: % | F8: 円 | H8: % | I8: 円 | K8: % | L8: 円 | M8: 円
B9: 調査産業計 | C9: 653332 | D9: =[1]統計表30!C22 -> 195 | E9: =[1]統計表30!C$24 -> 4.2 | F9: 285621 | G9: =[1]統計表30!C45 -> 104.8 | H9: =[1]統計表30!C$47 -> 1.6 | I9: 265488 | J9: =[1]統計表30!C174 -> 104.9 | K9: =[1]統計表30!C$176 -> 2.7 | L9: 20133 | M9: 367711
B10: 建設業 | C10: 838669 | D10: =[1]統計表30!D22 -> 191.6 | E10: =[1]統計表30!D$24 -> -13.7 | F10: 373615 | G10: =[1]統計表30!D45 -> 110.8 | H10: =[1]統計表30!D$47 -> -2.2 | I10: 350859 | J10: =[1]統計表30!D174 -> 112.4 | K10: =[1]統計表30!D$176 -> 3.1 | L10: 22756 | M10: 465054
B11: 製造業 | C11: 793767 | D11: =[1]統計表30!E22 -> 209 | E11: =[1]統計表30!E$24 -> 9.8 | F11: 311559 | G11: =[1]統計表30!E45 -> 102.5 | H11: =[1]統計表30!E$47 -> 2.5 | I11: 285588 | J11: =[1]統計表30!E174 -> 102.3 | K11: =[1]統計表30!E$176 -> 2.5 | L11: 25971 | M11: 482208
B12: 情報通信業 | C12: 817985 | D12: =[1]統計表30!F22 -> 154.5 | E12: =[1]統計表30!F$24 -> -22.5 | F12: 360523 | G12: =[1]統計表30!F45 -> 90.4 | H12: =[1]統計表30!F$47 -> -3 | I12: 333893 | J12: =[1]統計表30!F174 -> 94.1 | K12: =[1]統計表30!F$176 -> -1.8 | L12: 26630 | M12: 457462
B13: 運輸業,郵便業 | C13: 462037 | D13: =[1]統計表30!G22 -> 164.5 | E13: =[1]統計表30!G$24 -> -27.6 | F13: 248170 | G13: =[1]統計表30!G45 -> 102.6 | H13: =[1]統計表30!G$47 -> -17.4 | I13: 221463 | J13: =[1]統計表30!G174 -> 107.3 | K13: =[1]統計表30!G$176 -> -14.8 | L13: 26707 | M13: 213867
B14: 卸売業，小売業 | C14: 387230 | D14: =[1]統計表30!H22 -> 178.3 | E14: =[1]統計表30!H$24 -> 9.5 | F14: 211121 | G14: =[1]統計表30!H45 -> 112.3 | H14: =[1]統計表30!H$47 -> 3.5 | I14: 197827 | J14: =[1]統計表30!H174 -> 108.9 | K14: =[1]統計表30!H$176 -> 4 | L14: 13294 | M14: 176109
B15: 医療，福祉 | C15: 630570 | D15: =[1]統計表30!I22 -> 176.5 | E15: =[1]統計表30!I$24 -> -0.2 | F15: 303601 | G15: =[1]統計表30!I45 -> 105.1 | H15: =[1]統計表30!I$47 -> 4.6 | I15: 283562 | J15: =[1]統計表30!I174 -> 105 | K15: =[1]統計表30!I$176 -> 3.7 | L15: 20039 | M15: 326969
B17: 注）前年比は、令和２年平均値を基準とする指数比較による対前年同月増減率であり、実数から計算したものとは必ずしも一致しない。
B18: 指数、前年比及びパートタイム労働者比率の前年差は、事業所の抽出替えに伴い改訂されることがある。
B19: (以下同じ)
B21: 参考１ 就業形態別集計結果
B23: 産 業 | K23: 時間当たり給与
C24: 現金給与総額 | E24: きまって支給する | J24: 特別に支
E25: 給 与 | G25: 所 定 内 | I25: 所 定 外 | J25: 払われた
D26: 前年比 | F26: 前年比 | G26: 給 与 | H26: 前年比 | I26: 給 与 | J26: 給 与 | L26: 前年比
B27: 一 般 労 働 者 | C27: 円 | D27: % | E27: 円 | F27: % | G27: 円 | H27: % | I27: 円 | J27: 円
B28: 調査産業計 | C28: 823169 | D28: 6.7 | E28: 340136 | F28: 3.4 | G28: 314716 | H28: 4.6 | I28: 25420 | J28: 483033
B29: 建 設 業 | C29: 856938 | D29: -14 | E29: 379900 | F29: -2.8 | G29: 356606 | H29: 2.5 | I29: 23294 | J29: 477038
B30: 製 造 業 | C30: 850655 | D30: 8.9 | E30: 326950 | F30: 1.9 | G30: 299535 | H30: 2.1 | I30: 27415 | J30: 523705
B31: 情報通信業 | C31: 896872 | D31: -23.3 | E31: 388472 | F31: -3.5 | G31: 358796 | H31: -2.2 | I31: 29676 | J31: 508400
B32: 運輸業,郵便業 | C32: 673160 | D32: -14.9 | E32: 331408 | F32: -6.8 | G32: 289331 | H32: -5.5 | I32: 42077 | J32: 341752
B33: 卸売業,小売業 | C33: 748795 | D33: 10.9 | E33: 330786 | F33: 5.7 | G33: 302798 | H33: 6.3 | I33: 27988 | J33: 418009
B34: 医療,福祉 | C34: 769925 | D34: 6.2 | E34: 353390 | F34: 9.3 | G34: 328870 | H34: 8.4 | I34: 24520 | J34: 416535
B35: パートタイム労働者 | C35: 円 | D35: % | E35: 円 | F35: % | G35: 円 | H35: % | I35: 円 | J35: 円 | K35: 円 | L35: %
B36: 調査産業計 | C36: 144945 | D36: 4.6 | E36: 122437 | F36: 2.8 | G36: 118131 | H36: 2.6 | I36: 4306 | J36: 22508 | K36: 1275.7127 | L36: 4.5850143
B37: 建 設 業 | C37: 164765 | D37: -48.8 | E37: 141800 | F37: -5.6 | G37: 138878 | H37: -1.6 | I37: 2922 | J37: 22965 | K37: 1372.3123 | L37: 2.8655692
B38: 製 造 業 | C38: 202264 | D38: 9.8 | E38: 151529 | F38: 3.4 | G38: 140563 | H38: -0.2 | I38: 10966 | J38: 50735 | K38: 1222.287 | L38: 0.71213147
B39: 情報通信業 | C39: 201570 | D39: -2.8 | E39: 142133 | F39: 1.4 | G39: 139308 | H39: 1.9 | I39: 2825 | J39: 59437 | K39: 1266.4364 | L39: 1.9816839
B40: 運輸業,郵便業 | C40: 117526 | D40: 3.6 | E40: 112342 | F40: 2.1 | G40: 110717 | H40: 9.3 | I40: 1625 | J40: 5184 | K40: 1174.0933 | L40: 3.8135882
B41: 卸売業,小売業 | C41: 137257 | D41: 1 | E41: 128389 | F41: -1.4 | G41: 125254 | H41: -0.9 | I41: 3135 | J41: 8868 | K41: 1200.9012 | L41: 6.7776264
B42: 医療,福祉 | C42: 184424 | D42: 3.4 | E42: 144201 | F42: 11.2 | G42: 138508 | H42: 8.3 | I42: 5693 | J42: 40223 | K42: 1540.6897 | L42: 1.527559
B43: 注) 時間当たり給与は、所定内給与を所定内労働時間で除して算出している。
B45: 表２ 常用労働者の一人平均月間労働時間及び出勤日数
B47: 産 業 | C47: 総実労働時間 | F47: 所 定 内 労 働 | I47: 所 定 外 労 働 | L47: 出勤日数
D48: 指数 | E48: 前年比 | F48: 時 間 | G48: 指数 | H48: 前年比 | I48: 時 間 | J48: 指数 | K48: 前年比 | M48: 前年差
C49: 時間 | E49: % | F49: 時間 | H49: % | I49: 時間 | K49: % | L49: 日 | M49: 日
B50: 調査産業計 | C50: 145.5 | D50: =[1]統計表30!C96 -> 100.8 | E50: =[1]統計表30!C$98 -> -1.9 | F50: 135 | G50: =[1]統計表30!C198 -> 99.7 | H50: =[1]統計表30!C$200 -> -1.3 | I50: 10.5 | J50: =[1]統計表30!C119 -> 116.7 | K50: =[1]統計表30!C$121 -> -9.5 | L50: 18.6 | M50: 0.1
B51: 建設業 | C51: 153.8 | D51: =[1]統計表30!D96 -> 86.1 | E51: =[1]統計表30!D$98 -> -10.6 | F51: 143.3 | G51: =[1]統計表30!D198 -> 88.3 | H51: =[1]統計表30!D$200 -> -7.4 | I51: 10.5 | J51: =[1]統計表30!D119 -> 64 | K51: =[1]統計表30!D$121 -> -38.6 | L51: 18.9 | M51: -1.2
B52: 製造業 | C52: 160.7 | D52: =[1]統計表30!E96 -> 103.9 | E52: =[1]統計表30!E$98 -> 1.9 | F52: 149.1 | G52: =[1]統計表30!E198 -> 103.6 | H52: =[1]統計表30!E$200 -> 1.7 | I52: 11.6 | J52: =[1]統計表30!E119 -> 107.4 | K52: =[1]統計表30!E$121 -> 3.6 | L52: 19.3 | M52: 0.2
B53: 情報通信業 | C53: 163.4 | D53: =[1]統計表30!F96 -> 100.7 | E53: =[1]統計表30!F$98 -> 2.1 | F53: 149.2 | G53: =[1]統計表30!F198 -> 104.7 | H53: =[1]統計表30!F$200 -> 2.1 | I53: 14.2 | J53: =[1]統計表30!F119 -> 72.1 | K53: =[1]統計表30!F$121 -> 2.1 | L53: 19.2 | M53: 0.5
B54: 運輸業,郵便業 | C54: 145.3 | D54: =[1]統計表30!G96 -> 90.1 | E54: =[1]統計表30!G$98 -> -14.1 | F54: 128.2 | G54: =[1]統計表30!G198 -> 92.2 | H54: =[1]統計表30!G$200 -> -8.7 | I54: 17.1 | J54: =[1]統計表30!G119 -> 77.7 | K54: =[1]統計表30!G$121 -> -40 | L54: 18 | M54: -0.7
B55: 卸売業，小売業 | C55: 133.1 | D55: =[1]統計表30!H96 -> 103.7 | E55: =[1]統計表30!H$98 -> -2.6 | F55: 123.8 | G55: =[1]統計表30!H198 -> 100.2 | H55: =[1]統計表30!H$200 -> -2.1 | I55: 9.3 | J55: =[1]統計表30!H119 -> 189.8 | K55: =[1]統計表30!H$121 -> -11.4 | L55: 19.1 | M55: 0
B56: 医療，福祉 | C56: 139.6 | D56: =[1]統計表30!I96 -> 94.7 | E56: =[1]統計表30!I$98 -> -2.8 | F56: 132.7 | G56: =[1]統計表30!I198 -> 93.2 | H56: =[1]統計表30!I$200 -> -3.4 | I56: 6.9 | J56: =[1]統計表30!I119 -> 138 | K56: =[1]統計表30!I$121 -> 11.3 | L56: 18.3 | M56: -0.6
B58: 参考２ 就業形態別集計結果
B61: 産 業 | C61: 総実労働時間 | E61: 所 定 内 労 働 | G61: 所 定 外 労 働 | I61: 出勤日数
D62: 前年比 | E62: 時 間 | F62: 前年比 | G62: 時 間 | H62: 前年比 | J62: 前年差
B63: 一 般 労 働 者 | C63: 時間 | D63: % | E63: 時間 | F63: % | G63: 時間 | H63: % | I63: 日 | J63: 日
B64: 調査産業計 | C64: 162 | D64: -0.8 | E64: 149.1 | F64: -0.2 | G64: 12.9 | H64: -7.2 | I64: 19.4 | J64: 0.1
B65: 建 設 業 | C65: 155.2 | D65: -11.1 | E65: 144.4 | F65: -7.9 | G65: 10.8 | H65: -38.6 | I65: 19 | J65: -1.2
B66: 製 造 業 | C66: 164.5 | D66: 1.7 | E66: 152.4 | F66: 1.7 | G66: 12.1 | H66: 2.5 | I66: 19.5 | J66: 0.4
B67: 情報通信業 | C67: 169.8 | D67: 2.2 | E67: 154.3 | F67: 2.2 | G67: 15.5 | H67: 2.8 | I67: 19.7 | J67: 0.5
B68: 運輸業,郵便業 | C68: 175.5 | D68: -7.5 | E68: 149.1 | F68: -4.1 | G68: 26.4 | H68: -22.8 | I68: 19.2 | J68: -0.7
B69: 卸売業,小売業 | C69: 169.7 | D69: 2.6 | E69: 151.8 | F69: 3.6 | G69: 17.9 | H69: -4.8 | I69: 19.4 | J69: 0.3
B70: 医療,福祉 | C70: 154.2 | D70: -0.8 | E70: 146 | F70: -1.5 | G70: 8.2 | H70: 13.9 | I70: 19.4 | J70: -0.5
B71: パートタイム労働者 | C71: 時間 | D71: % | E71: 時間 | F71: % | G71: 時間 | H71: % | I71: 日 | J71: 日
B72: 調査産業計 | C72: 95.9 | D72: -2.4 | E72: 92.6 | F72: -1.5 | G72: 3.3 | H72: -19.5 | I72: 16.3 | J72: 0.3
B73: 建 設 業 | C73: 102.8 | D73: -6.7 | E73: 101.2 | F73: -5.9 | G73: 1.6 | H73: -38.5 | I73: 16.6 | J73: -0.7
B74: 製 造 業 | C74: 121.7 | D74: 0.2 | E74: 115 | F74: -0.8 | G74: 6.7 | H74: 21.8 | I74: 18 | J74: -0.5
B75: 情報通信業 | C75: 114 | D75: -0.8 | E75: 110 | F75: 0.1 | G75: 4 | H75: -20 | I75: 15.4 | J75: 0.7
B76: 運輸業,郵便業 | C76: 96.4 | D76: -2.1 | E76: 94.3 | F76: 5.2 | G76: 2.1 | H76: -76.4 | I76: 16.1 | J76: 1.5
B77: 卸売業,小売業 | C77: 107.7 | D77: -8.4 | E77: 104.3 | F77: -7.3 | G77: 3.4 | H77: -30.6 | I77: 18.8 | J77: -0.3
B78: 医療,福祉 | C78: 92.6 | D78: 8.2 | E78: 89.9 | F78: 6 | G78: 2.7 | H78: 200 | I78: 14.7 | J78: 0.9
B81: 表３ 常用労働者数及び労働異動率
B83: 産 業 | C83: 常用労働者数 | F83: パートタイム労働者 | H83: 入 職 率 | J83: 離 職 率
D84: 指数 | E84: 前年比 | F84: 比 率 | G84: 前年差 | I84: 前年差 | K84: 前年差
C85: 人 | E85: % | F85: % | G85: ﾎﾟｲﾝﾄ | H85: % | I85: ﾎﾟｲﾝﾄ | J85: % | K85: ﾎﾟｲﾝﾄ
B86: 調査産業計 | C86: 445993 | D86: =[1]統計表30!C142 -> 102.3 | E86: =[1]統計表30!C144 -> 0.1 | F86: 25.1 | G86: 2.3 | H86: 1.27 | I86: 0.31 | J86: 1.1 | K86: -0.7
B87: 建設業 | C87: 11357 | D87: =[1]統計表30!D142 -> 101.4 | E87: =[1]統計表30!D144 -> -0.7 | F87: 2.4 | G87: -1.3 | H87: 0.93 | I87: 0.57 | J87: 1.43 | K87: 0.9
B88: 製造業 | C88: 155545 | D88: =[1]統計表30!E142 -> 107.5 | E88: =[1]統計表30!E144 -> 1.1 | F88: 8.8 | G88: -0.8 | H88: 0.66 | I88: 0.15 | J88: 0.86 | K88: 0.2
B89: 情報通信業 | C89: 8158 | D89: =[1]統計表30!F142 -> 111.8 | E89: =[1]統計表30!F144 -> 4.3 | F89: 11.4 | G89: -0.4 | H89: 0.38 | I89: 0.36 | J89: 1.22 | K89: 0.49
B90: 運輸業,郵便業 | C90: 24545 | D90: =[1]統計表30!G142 -> 98.7 | E90: =[1]統計表30!G144 -> 1.4 | F90: 38.8 | G90: 16.7 | H90: 4.03 | I90: 1.54 | J90: 1.78 | K90: 0.62
B91: 卸売業，小売業 | C91: 52608 | D91: =[1]統計表30!H142 -> 94.7 | E91: =[1]統計表30!H144 -> 1.3 | F91: 59.1 | G91: -0.5 | H91: 0.9 | I91: -0.2 | J91: 0.71 | K91: -0.22
B92: 医療，福祉 | C92: 87347 | D92: =[1]統計表30!I142 -> 103.1 | E92: =[1]統計表30!I144 -> 0.3 | F92: 23.8 | G92: 6.6 | H92: 0.45 | I92: 0.14 | J92: 0.38 | K92: -1.29
B94: 注) パートタイム労働者比率とは、常用労働者に占めるパートタイム労働者の割合（％）のことである。
B95: 入職（離職）率とは、前月末労働者数に対する月間の入職（離職）者の割合（％）のことである。
B96: 入職（離職）率の前年差は、対前年同月差のことである。
B98: 参考３ 就業形態別集計結果
B100: 産 業
C101: 常用労働者数 | E101: 入 職 率 | G101: 離 職 率
D102: 前年比 | F102: 前年差 | H102: 前年差
B103: 一 般 労 働 者 | C103: 人 | D103: % | E103: % | F103: ﾎﾟｲﾝﾄ | G103: % | H103: ﾎﾟｲﾝﾄ
B104: 調査産業計 | C104: 333939 | D104: -2.4 | E104: 0.8 | F104: 0.15 | G104: 0.84 | H104: -0.45
B105: 建 設 業 | C105: 11080 | D105: 0.6 | E105: 0.96 | F105: 0.72 | G105: 1.06 | H105: 0.51
B106: 製 造 業 | C106: 141883 | D106: 3.4 | E106: 0.54 | F106: 0.15 | G106: 0.77 | H106: 0.34
B107: 情報通信業 | C107: 7230 | D107: 4.4 | E107: 0.42 | F107: 0.39 | G107: 1.33 | H107: 0.68
B108: 運輸業,郵便業 | C108: 15027 | D108: -20.8 | E108: 0.38 | F108: -2.69 | G108: 0.69 | H108: 0.16
B109: 卸売業,小売業 | C109: 21497 | D109: -0.7 | E109: 0.26 | F109: -0.56 | G109: 0.14 | H109: -0.39
B110: 医療,福祉 | C110: 66593 | D110: -7.8 | E110: 0.38 | F110: 0.18 | G110: 0.21 | H110: -1.5
B111: パートタイム労働者 | C111: 人 | D111: % | E111: % | F111: ﾎﾟｲﾝﾄ | G111: % | H111: ﾎﾟｲﾝﾄ
B112: 調査産業計 | C112: 112054 | D112: 8.4 | E112: 2.69 | F112: 0.74 | G112: 1.86 | H112: -1.6
B113: 建 設 業 | C113: 277 | D113: -32.8 | E113: 0 | F113: -3.63 | G113: 14.2 | H113: 14.2
B114: 製 造 業 | C114: 13662 | D114: -17.9 | E114: 1.9 | F114: 0.43 | G114: 1.81 | H114: -0.77
B115: 情報通信業 | C115: 928 | D115: 2.8 | E115: 0 | F115: 0 | G115: 0.32 | H115: -1.07
...

Sheet 13
A1: 令和６年12月 | H1: 第13-2表 産業、性別常用労働者の１人平均月間現金給与額（長野県）
A2: 毎 月 勤 労 統 計 調 査 地 方 調 査
C4: 事業所規模 ＝ 30人以上 | O4: （単位：円）
E5: 現金給与総額 | H5: きまって支給する給与 | K5: 所定内給与 | L5: 超過労働給与 | M5: 特別に支払われた給与
A6: 産 業 | E6: 計 | F6: 男 | G6: 女 | H6: 計 | I6: 男 | J6: 女 | M6: 計 | N6: 男 | O6: 女
A8: TL | C8: 調査産業計 | E8: 653332 | F8: 808523 | G8: 457786 | H8: 285621 | I8: 337712 | J8: 219985 | K8: 265488 | L8: 20133 | M8: 367711 | N8: 470811 | O8: 237801
A9: C | C9: 鉱業，採石業，砂利採取業 | E9: － | F9: － | G9: － | H9: － | I9: － | J9: － | K9: － | L9: － | M9: － | N9: － | O9: －
A10: D | C10: 建設業 | E10: 838669 | F10: 879158 | G10: 590231 | H10: 373615 | I10: 393459 | J10: 251854 | K10: 350859 | L10: 22756 | M10: 465054 | N10: 485699 | O10: 338377
A11: E | C11: 製造業 | E11: 793767 | F11: 923232 | G11: 515507 | H11: 311559 | I11: 351462 | J11: 225796 | K11: 285588 | L11: 25971 | M11: 482208 | N11: 571770 | O11: 289711
A12: F | C12: 電気・ガス・熱供給・水道業 | E12: 646115 | F12: 711432 | G12: 378380 | H12: 420322 | I12: 464837 | J12: 237857 | K12: 361316 | L12: 59006 | M12: 225793 | N12: 246595 | O12: 140523
A13: G | C13: 情報通信業 | E13: 817985 | F13: 918318 | G13: 613827 | H13: 360523 | I13: 399386 | J13: 281445 | K13: 333893 | L13: 26630 | M13: 457462 | N13: 518932 | O13: 332382
A14: H | C14: 運輸業，郵便業 | E14: 462037 | F14: 509877 | G14: 279031 | H14: 248170 | I14: 271523 | J14: 158836 | K14: 221463 | L14: 26707 | M14: 213867 | N14: 238354 | O14: 120195
A15: I | C15: 卸売業，小売業 | E15: 387230 | F15: 589824 | G15: 193552 | H15: 211121 | I15: 280051 | J15: 145225 | K15: 197827 | L15: 13294 | M15: 176109 | N15: 309773 | O15: 48327
A16: J | C16: 金融業，保険業 | E16: 1064241 | F16: 1311881 | G16: 750071 | H16: 364166 | I16: 435329 | J16: 273884 | K16: 336826 | L16: 27340 | M16: 700075 | N16: 876552 | O16: 476187
A17: K | C17: 不動産業，物品賃貸業 | E17: 408643 | F17: 490127 | G17: 309530 | H17: 224937 | I17: 244163 | J17: 201551 | K17: 217172 | L17: 7765 | M17: 183706 | N17: 245964 | O17: 107979
A18: L | C18: 学術研究，専門・技術サービス業 | E18: 698303 | F18: 909808 | G18: 426454 | H18: 325684 | I18: 403939 | J18: 225102 | K18: 307438 | L18: 18246 | M18: 372619 | N18: 505869 | O18: 201352
A19: M | C19: 宿泊業，飲食サービス業 | E19: 207639 | F19: 281292 | G19: 152979 | H19: 149247 | I19: 188048 | J19: 120452 | K19: 138328 | L19: 10919 | M19: 58392 | N19: 93244 | O19: 32527
A20: N | C20: 生活関連サービス業，娯楽業 | E20: 295272 | F20: 464683 | G20: 173756 | H20: 156322 | I20: 213730 | J20: 115144 | K20: 152658 | L20: 3664 | M20: 138950 | N20: 250953 | O20: 58612
A21: O | C21: 教育，学習支援業 | E21: 1107430 | F21: 1195038 | G21: 961475 | H21: 378164 | I21: 408706 | J21: 327282 | K21: 377013 | L21: 1151 | M21: 729266 | N21: 786332 | O21: 634193
... A26: E11 | C26: 繊維工業 | E26: 359486 | F26: 535733 | G26: 295239 | H26: 213910 | I26: 307995 | J26: 179613 | K26: 208948 | L26: 4962 | M26: 145576 | N26: 227738 | O26: 115626
A27: E12 | C27: 木材・木製品 | E27: － | F27: － | G27: － | H27: － | I27: － | J27: － | K27: － | L27: － | M27: － | N27: － | O27: －
A28: E13 | C28: 家具・装備品 | E28: － | F28: － | G28: － | H28: － | I28: － | J28: － | K28: － | L28: － | M28: － | N28: － | O28: －
A29: E14 | C29: パルプ・紙 | E29: 708793 | F29: 803425 | G29: 570438 | H29: 285560 | I29: 319945 | J29: 235289 | K29: 259576 | L29: 25984 | M29: 423233 | N29: 483480 | O29: 335149
A30: E15 | C30: 印刷・同関連業 | E30: 339412 | F30: 386161 | G30: 244907 | H30: 281191 | I30: 314014 | J30: 214839 | K30: 248441 | L30: 32750 | M30: 58221 | N30: 72147 | O30: 30068
A31: E16.17 | C31: 化学、石油・石炭 | E31: 778220 | F31: 918233 | G31: 607570 | H31: 327305 | I31: 393563 | J31: 246549 | K31: 304076 | L31: 23229 | M31: 450915 | N31: 524670 | O31: 361021
A32: E18 | C32: プラスチック製品 | E32: 408334 | F32: 532915 | G32: 259428 | H32: 245210 | I32: 294848 | J32: 185880 | K32: 213685 | L32: 31525 | M32: 163124 | N32: 238067 | O32: 73548
A33: E19 | C33: ゴム製品 | E33: － | F33: － | G33: － | H33: － | I33: － | J33: － | K33: － | L33: － | M33: － | N33: － | O33: －
A34: E21 | C34: 窯業・土石製品 | E34: 833521 | F34: 876062 | G34: 652236 | H34: 332115 | I34: 353218 | J34: 242185 | K34: 301913 | L34: 30202 | M34: 501406 | N34: 522844 | O34: 410051
A35: E22 | C35: 鉄鋼業 | E35: － | F35: － | G35: － | H35: － | I35: － | J35: － | K35: － | L35: － | M35: － | N35: － | O35: －
A36: E23 | C36: 非鉄金属製造業 | E36: － | F36: － | G36: － | H36: － | I36: － | J36: － | K36: － | L36: － | M36: － | N36: － | O36: －
A37: E24 | C37: 金属製品製造業 | E37: 778687 | F37: 865869 | G37: 542527 | H37: 321788 | I37: 352139 | J37: 239574 | K37: 284812 | L37: 36976 | M37: 456899 | N37: 513730 | O37: 302953
A38: E25 | C38: はん用機械器具 | E38: 736014 | F38: 792493 | G38: 572516 | H38: 307195 | I38: 331489 | J38: 236868 | K38: 292260 | L38: 14935 | M38: 428819 | N38: 461004 | O38: 335648
A39: E26 | C39: 生産用機械器具 | E39: 700982 | F39: 754146 | G39: 522505 | H39: 297420 | I39: 320452 | J39: 220098 | K39: 277409 | L39: 20011 | M39: 403562 | N39: 433694 | O39: 302407
A40: E27 | C40: 業務用機械器具 | E40: 962130 | F40: 1119562 | G40: 665566 | H40: 314886 | I40: 359553 | J40: 230744 | K40: 293154 | L40: 21732 | M40: 647244 | N40: 760009 | O40: 434822
A41: E28 | C41: 電子・デバイス | E41: 1043658 | F41: 1211723 | G41: 583786 | H41: 344002 | I41: 387030 | J41: 226265 | K41: 316031 | L41: 27971 | M41: 699656 | N41: 824693 | O41: 357521
A42: E29 | C42: 電気機械器具 | E42: 915950 | F42: 1103691 | G42: 609848 | H42: 302903 | I42: 356709 | J42: 215175 | K42: 284221 | L42: 18682 | M42: 613047 | N42: 746982 | O42: 394673
A43: E30 | C43: 情報通信機械器具 | E43: 1209611 | F43: 1325892 | G43: 817196 | H43: 397119 | I43: 430462 | J43: 284598 | K43: 358367 | L43: 38752 | M43: 812492 | N43: 895430 | O43: 532598
A44: E31 | C44: 輸送用機械器具 | E44: 531636 | F44: 573890 | G44: 404652 | H44: 306022 | I44: 332669 | J44: 225940 | K44: 282448 | L44: 23574 | M44: 225614 | N44: 241221 | O44: 178712
A45: E32.20 | C45: その他の製造業 | E45: － | F45: － | G45: － | H45: － | I45: － | J45: － | K45: － | L45: － | M45: － | N45: － | O45: －
A46: ES1 | C46: Ｅ一括分１ | E46: 667031 | F46: 717763 | G46: 516337 | H46: 306329 | I46: 334046 | J46: 224000 | K46: 295991 | L46: 10338 | M46: 360702 | N46: 383717 | O46: 292337
A47: ES2 | C47: Ｅ一括分２ | E47: 490300 | F47: 511882 | G47: 394434 | H47: 308774 | I47: 329213 | J47: 217984 | K47: 270550 | L47: 38224 | M47: 181526 | N47: 182669 | O47: 176450
A48: ES3 | C48: Ｅ一括分３ | E48: 793586 | F48: 847734 | G48: 591303 | H48: 318808 | I48: 339572 | J48: 241240 | K48: 297307 | L48: 21501 | M48: 474778 | N48: 508162 | O48: 350063
A49: I-1 | C49: 卸売業 | E49: 694492 | F49: 763407 | G49: 433431 | H49: 336893 | I49: 366350 | J49: 225304 | K49: 315502 | L49: 21391 | M49: 357599 | N49: 397057 | O49: 208127
A50: I-2 | C50: 小売業 | E50: 276647 | F50: 459729 | G50: 164474 | H50: 165856 | I50: 215373 | J50: 135517 | K50: 155476 | L50: 10380 | M50: 110791 | N50: 244356 | O50: 28957
A51: M75 | C51: 宿泊業 | E51: 288238 | F51: 396099 | G51: 200721 | H51: 192505 | I51: 251528 | J51: 144615 | K51: 178121 | L51: 14384 | M51: 95733 | N51: 144571 | O51: 56106
A52: MS | C52: Ｍ一括分 | E52: 114525 | F52: 132998 | G52: 102175 | H52: 99272 | I52: 106052 | J52: 94739 | K52: 92356 | L52: 6916 | M52: 15253 | N52: 26946 | O52: 7436
A53: P83 | C53: 医療業 | E53: 747955 | F53: 1004640 | G53: 642640 | H53: 355928 | I53: 486831 | J53: 302220 | K53: 329103 | L53: 26825 | M53: 392027 | N53: 517809 | O53: 340420
A54: PS | C54: Ｐ一括分 | E54: 499312 | F54: 592625 | G54: 470143 | H54: 245089 | I54: 286070 | J54: 232279 | K54: 232637 | L54: 12452 | M54: 254223 | N54: 306555 | O54: 237864
A55: R91 | C55: 職業紹介・派遣業 | E55: 419695 | F55: 497803 | G55: 297003 | H55: 248947 | I55: 277353 | J55: 204327 | K55: 230306 | L55: 18641 | M55: 170748 | N55: 220450 | O55: 92676
A56: R92 | C56: 他の事業サービス | E56: 267190 | F56: 368683 | G56: 165883 | H56: 160282 | I56: 210934 | J56: 109723 | K56: 147506 | L56: 12776 | M56: 106908 | N56: 157749 | O56: 56160
A57: RS | C57: Ｒ一括分 | E57: 842826 | F57: 915605 | G57: 596542 | H57: 300814 | I57: 326831 | J57: 212772 | K57: 280349 | L57: 20465 | M57: 542012 | N57: 588774 | O57: 383770

Sheet 14
A1: 令和６年12月 | H1: 第14-2表 産業、性別常用労働者の１人平均月間出勤日数及び実労働時間（長野県）
A2: 毎 月 勤 労 統 計 調 査 地 方 調 査
C4: 事業所規模 ＝ 30人以上
E5: 出勤日数 | H5: 総実労働時間 | K5: 所定内労働時間 | N5: 所定外労働時間
A6: 産 業 | E6: 計 | F6: 男 | G6: 女 | H6: 計 | I6: 男 | J6: 女 | K6: 計 | L6: 男 | M6: 女 | N6: 計 | O6: 男 | P6: 女
E7: 日 | F7: 日 | G7: 日 | H7: 時間 | I7: 時間 | J7: 時間 | K7: 時間 | L7: 時間 | M7: 時間 | N7: 時間 | O7: 時間 | P7: 時間
A8: TL | C8: 調査産業計 | E8: 18.6 | F8: 19 | G8: 18.1 | H8: 145.5 | I8: 155.6 | J8: 132.5 | K8: 135 | L8: 142.5 | M8: 125.4 | N8: 10.5 | O8: 13.1 | P8: 7.1
A9: C | C9: 鉱業，採石業，砂利採取業 | E9: － | F9: － | G9: － | H9: － | I9: － | J9: － | K9: － | L9: － | M9: － | N9: － | O9: － | P9: －
A10: D | C10: 建設業 | E10: 18.9 | F10: 19.2 | G10: 17.2 | H10: 153.8 | I10: 156.8 | J10: 135.2 | K10: 143.3 | L10: 145.7 | M10: 128.1 | N10: 10.5 | O10: 11.1 | P10: 7.1
A11: E | C11: 製造業 | E11: 19.3 | F11: 19.5 | G11: 18.9 | H11: 160.7 | I11: 164.8 | J11: 152.1 | K11: 149.1 | L11: 152.1 | M11: 142.8 | N11: 11.6 | O11: 12.7 | P11: 9.3
A12: F | C12: 電気・ガス・熱供給・水道業 | E12: 18.4 | F12: 18.4 | G12: 18.2 | H12: 148.8 | I12: 151.4 | J12: 138.1 | K12: 134.5 | L12: 134 | M12: 136.5 | N12: 14.3 | O12: 17.4 | P12: 1.6
A13: G | C13: 情報通信業 | E13: 19.2 | F13: 19.7 | G13: 18.4 | H13: 163.4 | I13: 170.3 | J13: 149.6 | K13: 149.2 | L13: 153.6 | M13: 140.4 | N13: 14.2 | O13: 16.7 | P13: 9.2
A14: H | C14: 運輸業，郵便業 | E14: 18 | F14: 18.2 | G14: 17.5 | H14: 145.3 | I14: 151.1 | J14: 123.1 | K14: 128.2 | L14: 132.3 | M14: 112.6 | N14: 17.1 | O14: 18.8 | P14: 10.5
A15: I | C15: 卸売業，小売業 | E15: 19.1 | F15: 19.8 | G15: 18.4 | H15: 133.1 | I15: 150.7 | J15: 116.1 | K15: 123.8 | L15: 135.8 | M15: 112.2 | N15: 9.3 | O15: 14.9 | P15: 3.9
A16: J | C16: 金融業，保険業 | E16: 19.2 | F16: 19.6 | G16: 18.6 | H16: 150.8 | I16: 158.7 | J16: 140.9 | K16: 140.2 | L16: 147.2 | M16: 131.4 | N16: 10.6 | O16: 11.5 | P16: 9.5
A17: K | C17: 不動産業，物品賃貸業 | E17: 16.8 | F17: 18 | G17: 15.3 | H17: 140.4 | I17: 151.6 | J17: 126.7 | K17: 130.9 | L17: 142.4 | M17: 116.9 | N17: 9.5 | O17: 9.2 | P17: 9.8
A18: L | C18: 学術研究，専門・技術サービス業 | E18: 19.3 | F18: 19.5 | G18: 19.1 | H18: 149.7 | I18: 160.8 | J18: 135.5 | K18: 139.9 | L18: 147.4 | M18: 130.3 | N18: 9.8 | O18: 13.4 | P18: 5.2
A19: M | C19: 宿泊業，飲食サービス業 | E19: 15 | F19: 15.6 | G19: 14.6 | H19: 105.6 | I19: 119.3 | J19: 95.5 | K19: 98.2 | L19: 109.2 | M19: 90.1 | N19: 7.4 | O19: 10.1 | P19: 5.4
A20: N | C20: 生活関連サービス業，娯楽業 | E20: 17.9 | F20: 18.5 | G20: 17.4 | H20: 114.2 | I20: 129.5 | J20: 103.3 | K20: 112 | L20: 126.4 | M20: 101.8 | N20: 2.2 | O20: 3.1 | P20: 1.5
A21: O | C21: 教育，学習支援業 | E21: 17.9 | F21: 18.1 | G21: 17.6 | H21: 146.6 | I21: 152.1 | J21: 137.5 | K21: 128.1 | L21: 133 | M21: 120.1 | N21: 18.5 | O21: 19.1 | P21: 17.4
... A26: E11 | C26: 繊維工業 | E26: 17.6 | F26: 17.8 | G26: 17.5 | H26: 139.1 | I26: 148.5 | J26: 135.7 | K26: 135.9 | L26: 142.3 | M26: 133.6 | N26: 3.2 | O26: 6.2 | P26: 2.1
A27: E12 | C27: 木材・木製品 | E27: － | F27: － | G27: － | H27: － | I27: － | J27: － | K27: － | L27: － | M27: － | N27: － | O27: － | P27: －
A28: E13 | C28: 家具・装備品 | E28: － | F28: － | G28: － | H28: － | I28: － | J28: － | K28: － | L28: － | M28: － | N28: － | O28: － | P28: －
A29: E14 | C29: パルプ・紙 | E29: 21.7 | F29: 20.6 | G29: 23.2 | H29: 186 | I29: 177.3 | J29: 198.8 | K29: 172.5 | L29: 163.3 | M29: 186 | N29: 13.5 | O29: 14 | P29: 12.8
A30: E15 | C30: 印刷・同関連業 | E30: 20.4 | F30: 20.6 | G30: 20 | H30: 168.7 | I30: 173.6 | J30: 158.9 | K30: 156.6 | L30: 161.4 | M30: 146.9 | N30: 12.1 | O30: 12.2 | P30: 12
A31: E16.17 | C31: 化学、石油・石炭 | E31: 19.2 | F31: 19.9 | G31: 18.4 | H31: 158.2 | I31: 166 | J31: 148.6 | K31: 148 | L31: 155 | M31: 139.5 | N31: 10.2 | O31: 11 | P31: 9.1
A32: E18 | C32: プラスチック製品 | E32: 19.1 | F32: 19.3 | G32: 18.9 | H32: 171.1 | I32: 174.1 | J32: 167.5 | K32: 147.9 | L32: 152.9 | M32: 141.9 | N32: 23.2 | O32: 21.2 | P32: 25.6
A33: E19 | C33: ゴム製品 | E33: － | F33: － | G33: － | H33: － | I33: － | J33: － | K33: － | L33: － | M33: － | N33: － | O33: － | P33: －
A34: E21 | C34: 窯業・土石製品 | E34: 18.8 | F34: 19 | G34: 17.8 | H34: 150.8 | I34: 153.9 | J34: 137.2 | K34: 141.2 | L34: 143.3 | M34: 132.1 | N34: 9.6 | O34: 10.6 | P34: 5.1
A35: E22 | C35: 鉄鋼業 | E35: － | F35: － | G35: － | H35: － | I35: － | J35: － | K35: － | L35: － | M35: － | N35: － | O35: － | P35: －
A36: E23 | C36: 非鉄金属製造業 | E36: － | F36: － | G36: － | H36: － | I36: － | J36: － | K36: － | L36: － | M36: － | N36: － | O36: － | P36: －
A37: E24 | C37: 金属製品製造業 | E37: 19.4 | F37: 19.8 | G37: 18.4 | H37: 167.6 | I37: 171.4 | J37: 157.4 | K37: 154.1 | L37: 156.6 | M37: 147.3 | N37: 13.5 | O37: 14.8 | P37: 10.1
A38: E25 | C38: はん用機械器具 | E38: 19.4 | F38: 19.9 | G38: 17.9 | H38: 161.4 | I38: 167.6 | J38: 143.7 | K38: 150.8 | L38: 155.5 | M38: 137.5 | N38: 10.6 | O38: 12.1 | P38: 6.2
A39: E26 | C39: 生産用機械器具 | E39: 19 | F39: 19.3 | G39: 18.1 | H39: 155.1 | I39: 159.3 | J39: 141 | K39: 146.5 | L39: 149.7 | M39: 135.9 | N39: 8.6 | O39: 9.6 | P39: 5.1
A40: E27 | C40: 業務用機械器具 | E40: 19.2 | F40: 19.5 | G40: 18.6 | H40: 158.7 | I40: 162.7 | J40: 151.1 | K40: 148.5 | L40: 150.5 | M40: 144.6 | N40: 10.2 | O40: 12.2 | P40: 6.5
A41: E28 | C41: 電子・デバイス | E41: 19.2 | F41: 19.4 | G41: 18.7 | H41: 156.9 | I41: 162.4 | J41: 142.2 | K41: 148 | L41: 151.7 | M41: 138.1 | N41: 8.9 | O41: 10.7 | P41: 4.1
A42: E29 | C42: 電気機械器具 | E42: 19.1 | F42: 19.2 | G42: 19.1 | H42: 156.3 | I42: 162 | J42: 147 | K42: 148.3 | L42: 151.7 | M42: 142.7 | N42: 8 | O42: 10.3 | P42: 4.3
A43: E30 | C43: 情報通信機械器具 | E43: 19.5 | F43: 19.6 | G43: 19 | H43: 167.4 | I43: 170.4 | J43: 157.2 | K43: 152.6 | L43: 154.6 | M43: 145.9 | N43: 14.8 | O43: 15.8 | P43: 11.3
A44: E31 | C44: 輸送用機械器具 | E44: 18.9 | F44: 19.1 | G44: 18.4 | H44: 157 | I44: 160.7 | J44: 146 | K44: 147.4 | L44: 149.5 | M44: 141.1 | N44: 9.6 | O44: 11.2 | P44: 4.9
A45: E32.20 | C45: その他の製造業 | E45: － | F45: － | G45: － | H45: － | I45: － | J45: － | K45: － | L45: － | M45: － | N45: － | O45: － | P45: －
A46: ES1 | C46: Ｅ一括分１ | E46: 19.7 | F46: 20.2 | G46: 18 | H46: 161.9 | I46: 168.8 | J46: 141.7 | K46: 156.2 | L46: 162.3 | M46: 138.3 | N46: 5.7 | O46: 6.5 | P46: 3.4
A47: ES2 | C47: Ｅ一括分２ | E47: 19.2 | F47: 19.5 | G47: 18.2 | H47: 172.5 | I47: 179.7 | J47: 140.4 | K47: 152.4 | L47: 156.3 | M47: 135 | N47: 20.1 | O47: 23.4 | P47: 5.4
A48: ES3 | C48: Ｅ一括分３ | E48: 20.7 | F48: 20.8 | G48: 20.1 | H48: 172.5 | I48: 176.1 | J48: 159.2 | K48: 162 | L48: 164.7 | M48: 151.9 | N48: 10.5 | O48: 11.4 | P48: 7.3
A49: I-1 | C49: 卸売業 | E49: 19.9 | F49: 20.1 | G49: 19.2 | H49: 167.8 | I49: 172.7 | J49: 149 | K49: 152.9 | L49: 155.6 | M49: 142.5 | N49: 14.9 | O49: 17.1 | P49: 6.5
A50: I-2 | C50: 小売業 | E50: 18.8 | F50: 19.5 | G50: 18.3 | H50: 120.6 | I50: 134.3 | J50: 112.2 | K50: 113.3 | L50: 121 | M50: 108.6 | N50: 7.3 | O50: 13.3 | P50: 3.6
A51: M75 | C51: 宿泊業 | E51: 16.4 | F51: 17.7 | G51: 15.4 | H51: 126.4 | I51: 149.5 | J51: 107.6 | K51: 117.6 | L51: 136.7 | M51: 102.1 | N51: 8.8 | O51: 12.8 | P51: 5.5
A52: MS | C52: Ｍ一括分 | E52: 13.3 | F52: 12.9 | G52: 13.6 | H52: 81.6 | I52: 80.1 | J52: 82.6 | K52: 75.8 | L52: 73.6 | M52: 77.3 | N52: 5.8 | O52: 6.5 | P52: 5.3
A53: P83 | C53: 医療業 | E53: 18.8 | F53: 18.7 | G53: 18.9 | H53: 148.2 | I53: 150.9 | J53: 147 | K53: 140.5 | L53: 140.2 | M53: 140.6 | N53: 7.7 | O53: 10.7 | P53: 6.4
A54: PS | C54: Ｐ一括分 | E54: 17.6 | F54: 17.9 | G54: 17.5 | H54: 129.9 | I54: 136.9 | J54: 127.8 | K54: 123.9 | L54: 131.5 | M54: 121.6 | N54: 6 | O54: 5.4 | P54: 6.2
A55: R91 | C55: 職業紹介・派遣業 | E55: 17.3 | F55: 16.9 | G55: 17.9 | H55: 141.7 | I55: 147.4 | J55: 132.9 | K55: 133.2 | L55: 137.2 | M55: 127 | N55: 8.5 | O55: 10.2 | P55: 5.9
A56: R92 | C56: 他の事業サービス | E56: 17.9 | F56: 18.7 | G56: 17.2 | H56: 107.9 | I56: 135.9 | J56: 79.9 | K56: 100.5 | L56: 124.1 | M56: 77 | N56: 7.4 | O56: 11.8 | P56: 2.9
A57: RS | C57: Ｒ一括分 | E57: 19.7 | F57: 19.9 | G57: 19 | H57: 152 | I57: 155.1 | J57: 141.1 | K57: 144.2 | L57: 145.9 | M57: 138.3 | N57: 7.8 | O57: 9.2 | P57: 2.8

Sheet 15
A1: 令和６年12月 | H1: 第15-2表 産業、性別常用労働者数及びパートタイム労働者比率（長野県）
A2: 毎 月 勤 労 統 計 調 査 地 方 調 査
C4: 事業所規模 ＝ 30人以上
E5: 前月末労働者数 | H5: 本月中の増加労働者数 | K5: 本月中の減少労働者数 | N5: 本月末労働者数 | Q5: パートタイム労働者比率
A6: 産 業 | E6: 計 | F6: 男 | G6: 女 | H6: 計 | I6: 男 | J6: 女 | K6: 計 | L6: 男 | M6: 女 | N6: 計 | O6: 男 | P6: 女 | Q6: 計 | R6: 男 | S6: 女
E7: 人 | F7: 人 | G7: 人 | H7: 人 | I7: 人 | J7: 人 | K7: 人 | L7: 人 | M7: 人 | N7: 人 | O7: 人 | P7: 人 | Q7: ％ | R7: ％ | S7: ％
A8: TL | C8: 調査産業計 | E8: 445215 | F8: 248577 | G8: 196638 | H8: 5658 | I8: 1979 | J8: 3679 | K8: 4880 | L8: 2260 | M8: 2620 | N8: 445993 | O8: 248296 | P8: 197697 | Q8: 25.1 | R8: 13.8 | S8: 39.3
A9: C | C9: 鉱業，採石業，砂利採取業 | E9: － | F9: － | G9: － | H9: － | I9: － | J9: － | K9: － | L9: － | M9: － | N9: － | O9: － | P9: － | Q9: － | R9: － | S9: －
A10: D | C10: 建設業 | E10: 11414 | F10: 9788 | G10: 1626 | H10: 106 | I10: 106 | J10: 0 | K10: 163 | L10: 102 | M10: 61 | N10: 11357 | O10: 9792 | P10: 1565 | Q10: 2.4 | R10: 0.9 | S10: 12.3
A11: E | C11: 製造業 | E11: 155852 | F11: 106259 | G11: 49593 | H11: 1028 | I11: 502 | J11: 526 | K11: 1335 | L11: 501 | M11: 834 | N11: 155545 | O11: 106260 | P11: 49285 | Q11: 8.8 | R11: 3.3 | S11: 20.5
A12: F | C12: 電気・ガス・熱供給・水道業 | E12: 2398 | F12: 1928 | G12: 470 | H12: 0 | I12: 0 | J12: 0 | K12: 3 | L12: 3 | M12: 0 | N12: 2395 | O12: 1925 | P12: 470 | Q12: 16.5 | R12: 4.2 | S12: 66.8
A13: G | C13: 情報通信業 | E13: 8227 | F13: 5515 | G13: 2712 | H13: 31 | I13: 31 | J13: 0 | K13: 100 | L13: 75 | M13: 25 | N13: 8158 | O13: 5471 | P13: 2687 | Q13: 11.4 | R13: 3.5 | S13: 27.4
A14: H | C14: 運輸業，郵便業 | E14: 24004 | F14: 19369 | G14: 4635 | H14: 968 | I14: 158 | J14: 810 | K14: 427 | L14: 408 | M14: 19 | N14: 24545 | O14: 19119 | P14: 5426 | Q14: 38.8 | R14: 31.5 | S14: 64.4
A15: I | C15: 卸売業，小売業 | E15: 52507 | F15: 25672 | G15: 26835 | H15: 472 | I15: 175 | J15: 297 | K15: 371 | L15: 144 | M15: 227 | N15: 52608 | O15: 25703 | P15: 26905 | Q15: 59.1 | R15: 34 | S15: 83.2
A16: J | C16: 金融業，保険業 | E16: 8339 | F16: 4668 | G16: 3671 | H16: 27 | I16: 11 | J16: 16 | K16: 78 | L16: 49 | M16: 29 | N16: 8288 | O16: 4630 | P16: 3658 | Q16: 15.7 | R16: 4.9 | S16: 29.3
A17: K | C17: 不動産業，物品賃貸業 | E17: 2028 | F17: 1123 | G17: 905 | H17: 19 | I17: 0 | J17: 19 | K17: 59 | L17: 42 | M17: 17 | N17: 1988 | O17: 1081 | P17: 907 | Q17: 32.2 | R17: 25.3 | S17: 40.5
A18: L | C18: 学術研究，専門・技術サービス業 | E18: 6566 | F18: 3701 | G18: 2865 | H18: 12 | I18: 8 | J18: 4 | K18: 40 | L18: 40 | M18: 0 | N18: 6538 | O18: 3669 | P18: 2869 | Q18: 25 | R18: 9 | S18: 45.4
A19: M | C19: 宿泊業，飲食サービス業 | E19: 19419 | F19: 8271 | G19: 11148 | H19: 1081 | I19: 449 | J19: 632 | K19: 540 | L19: 216 | M19: 324 | N19: 19960 | O19: 8504 | P19: 11456 | Q19: 65.1 | R19: 54 | S19: 73.4
A20: N | C20: 生活関連サービス業，娯楽業 | E20: 6777 | F20: 2825 | G20: 3952 | H20: 0 | I20: 0 | J20: 0 | K20: 75 | L20: 20 | M20: 55 | N20: 6702 | O20: 2805 | P20: 3897 | Q20: 60.6 | R20: 39.3 | S20: 76
A21: O | C21: 教育，学習支援業 | E21: 24826 | F21: 15499 | G21: 9327 | H21: 12 | I21: 6 | J21: 6 | K21: 60 | L21: 6 | M21: 54 | N21: 24778 | O21: 15499 | P21: 9279 | Q21: 14.6 | R21: 9.6 | S21: 23.1
... A26: E11 | C26: 繊維工業 | E26: 1385 | F26: 370 | G26: 1015 | H26: 4 | I26: 2 | J26: 2 | K26: 4 | L26: 2 | M26: 2 | N26: 1385 | O26: 370 | P26: 1015 | Q26: 14.7 | R26: 3.2 | S26: 18.8
A27: E12 | C27: 木材・木製品 | E27: － | F27: － | G27: － | H27: － | I27: － | J27: － | K27: － | L27: － | M27: － | N27: － | O27: － | P27: － | Q27: － | R27: － | S27: －
A28: E13 | C28: 家具・装備品 | E28: － | F28: － | G28: － | H28: － | I28: － | J28: － | K28: － | L28: － | M28: － | N28: － | O28: － | P28: － | Q28: － | R28: － | S28: －
A29: E14 | C29: パルプ・紙 | E29: 1487 | F29: 887 | G29: 600 | H29: 24 | I29: 12 | J29: 12 | K29: 14 | L29: 14 | M29: 0 | N29: 1497 | O29: 885 | P29: 612 | Q29: 6.1 | R29: 7.2 | S29: 4.6
A30: E15 | C30: 印刷・同関連業 | E30: 1968 | F30: 1316 | G30: 652 | H30: 5 | I30: 5 | J30: 0 | K30: 7 | L30: 5 | M30: 2 | N30: 1966 | O30: 1316 | P30: 650 | Q30: 12.4 | R30: 4.4 | S30: 28.5
A31: E16.17 | C31: 化学、石油・石炭 | E31: 1369 | F31: 752 | G31: 617 | H31: 0 | I31: 0 | J31: 0 | K31: 0 | L31: 0 | M31: 0 | N31: 1369 | O31: 752 | P31: 617 | Q31: 9.1 | R31: 2.8 | S31: 16.7
A32: E18 | C32: プラスチック製品 | E32: 7447 | F32: 4028 | G32: 3419 | H32: 54 | I32: 0 | J32: 54 | K32: 152 | L32: 0 | M32: 152 | N32: 7349 | O32: 4028 | P32: 3321 | Q32: 13 | R32: 3 | S32: 25
A33: E19 | C33: ゴム製品 | E33: － | F33: － | G33: － | H33: － | I33: － | J33: － | K33: － | L33: － | M33: － | N33: － | O33: － | P33: － | Q33: － | R33: － | S33: －
A34: E21 | C34: 窯業・土石製品 | E34: 2988 | F34: 2418 | G34: 570 | H34: 7 | I34: 7 | J34: 0 | K34: 6 | L34: 2 | M34: 4 | N34: 2989 | O34: 2423 | P34: 566 | Q34: 6 | R34: 0.7 | S34: 28.6
A35: E22 | C35: 鉄鋼業 | E35: － | F35: － | G35: － | H35: － | I35: － | J35: － | K35: － | L35: － | M35: － | N35: － | O35: － | P35: － | Q35: － | R35: － | S35: －
A36: E23 | C36: 非鉄金属製造業 | E36: － | F36: － | G36: － | H36: － | I36: － | J36: － | K36: － | L36: － | M36: － | N36: － | O36: － | P36: － | Q36: － | R36: － | S36: －
A37: E24 | C37: 金属製品製造業 | E37: 7716 | F37: 5643 | G37: 2073 | H37: 36 | I37: 13 | J37: 23 | K37: 6 | L37: 6 | M37: 0 | N37: 7746 | O37: 5650 | P37: 2096 | Q37: 4.4 | R37: 0.3 | S37: 15.2
A38: E25 | C38: はん用機械器具 | E38: 10972 | F38: 8152 | G38: 2820 | H38: 70 | I38: 60 | J38: 10 | K38: 98 | L38: 75 | M38: 23 | N38: 10944 | O38: 8137 | P38: 2807 | Q38: 1.8 | R38: 1.1 | S38: 3.8
A39: E26 | C39: 生産用機械器具 | E39: 16815 | F39: 12955 | G39: 3860 | H39: 122 | I39: 80 | J39: 42 | K39: 76 | L39: 43 | M39: 33 | N39: 16861 | O39: 12992 | P39: 3869 | Q39: 7.5 | R39: 5.3 | S39: 15.1
A40: E27 | C40: 業務用機械器具 | E40: 9413 | F40: 6146 | G40: 3267 | H40: 44 | I40: 34 | J40: 10 | K40: 39 | L40: 25 | M40: 14 | N40: 9418 | O40: 6155 | P40: 3263 | Q40: 5.7 | R40: 2.5 | S40: 11.7
A41: E28 | C41: 電子・デバイス | E41: 26647 | F41: 19428 | G41: 7219 | H41: 128 | I41: 26 | J41: 102 | K41: 535 | L41: 150 | M41: 385 | N41: 26240 | O41: 19304 | P41: 6936 | Q41: 4.2 | R41: 0.8 | S41: 13.5
A42: E29 | C42: 電気機械器具 | E42: 12022 | F42: 7474 | G42: 4548 | H42: 104 | I42: 8 | J42: 96 | K42: 32 | L42: 8 | M42: 24 | N42: 12094 | O42: 7474 | P42: 4620 | Q42: 9.4 | R42: 1.5 | S42: 22.2
A43: E30 | C43: 情報通信機械器具 | E43: 14969 | F43: 11554 | G43: 3415 | H43: 130 | I43: 93 | J43: 37 | K43: 88 | L43: 74 | M43: 14 | N43: 15011 | O43: 11573 | P43: 3438 | Q43: 1.1 | R43: 0.3 | S43: 3.6
A44: E31 | C44: 輸送用機械器具 | E44: 12113 | F44: 9079 | G44: 3034 | H44: 0 | I44: 0 | J44: 0 | K44: 114 | L44: 66 | M44: 48 | N44: 11999 | O44: 9013 | P44: 2986 | Q44: 2.1 | R44: 0.6 | S44: 6.8
A45: E32.20 | C45: その他の製造業 | E45: － | F45: － | G45: － | H45: － | I45: － | J45: － | K45: － | L45: － | M45: － | N45: － | O45: － | P45: － | Q45: － | R45: － | S45: －
A46: ES1 | C46: Ｅ一括分１ | E46: 671 | F46: 502 | G46: 169 | H46: 0 | I46: 0 | J46: 0 | K46: 0 | L46: 0 | M46: 0 | N46: 671 | O46: 502 | P46: 169 | Q46: 4.5 | R46: 0 | S46: 17.8
A47: ES2 | C47: Ｅ一括分２ | E47: 3109 | F47: 2535 | G47: 574 | H47: 5 | I47: 3 | J47: 2 | K47: 30 | L47: 18 | M47: 12 | N47: 3084 | O47: 2520 | P47: 564 | Q47: 7.7 | R47: 5.4 | S47: 18.1
A48: ES3 | C48: Ｅ一括分３ | E48: 4927 | F48: 3889 | G48: 1038 | H48: 22 | I48: 9 | J48: 13 | K48: 21 | L48: 13 | M48: 8 | N48: 4928 | O48: 3885 | P48: 1043 | Q48: 6.4 | R48: 1.3 | S48: 25.2
A49: I-1 | C49: 卸売業 | E49: 13912 | F49: 11002 | G49: 2910 | H49: 26 | I49: 16 | J49: 10 | K49: 31 | L49: 11 | M49: 20 | N49: 13907 | O49: 11007 | P49: 2900 | Q49: 10.4 | R49: 5.8 | S49: 28
A50: I-2 | C50: 小売業 | E50: 38595 | F50: 14670 | G50: 23925 | H50: 446 | I50: 159 | J50: 287 | K50: 340 | L50: 133 | M50: 207 | N50: 38701 | O50: 14696 | P50: 24005 | Q50: 76.7 | R50: 55.1 | S50: 89.8
A51: M75 | C51: 宿泊業 | E51: 10488 | F51: 4698 | G51: 5790 | H51: 448 | I51: 166 | J51: 282 | K51: 316 | L51: 107 | M51: 209 | N51: 10620 | O51: 4757 | P51: 5863 | Q51: 47.9 | R51: 31.6 | S51: 61.2
A52: MS | C52: Ｍ一括分 | E52: 8931 | F52: 3573 | G52: 5358 | H52: 633 | I52: 283 | J52: 350 | K52: 224 | L52: 109 | M52: 115 | N52: 9340 | O52: 3747 | P52: 5593 | Q52: 84.7 | R52: 82.4 | S52: 86.2
A53: P83 | C53: 医療業 | E53: 46102 | F53: 13424 | G53: 32678 | H53: 191 | I53: 39 | J53: 152 | K53: 207 | L53: 67 | M53: 140 | N53: 46086 | O53: 13396 | P53: 32690 | Q53: 15.3 | R53: 10.7 | S53: 17.2
A54: PS | C54: Ｐ一括分 | E54: 41183 | F54: 9784 | G54: 31399 | H54: 201 | I54: 84 | J54: 117 | K54: 123 | L54: 18 | M54: 105 | N54: 41261 | O54: 9850 | P54: 31411 | Q54: 33.2 | R54: 23.1 | S54: 36.3
A55: R91 | C55: 職業紹介・派遣業 | E55: 10889 | F55: 6787 | G55: 4102 | H55: 1199 | I55: 267 | J55: 932 | K55: 925 | L55: 367 | M55: 558 | N55: 11163 | O55: 6687 | P55: 4476 | Q55: 9.6 | R55: 7.3 | S55: 12.9
A56: R92 | C56: 他の事業サービス | E56: 16290 | F56: 8143 | G56: 8147 | H56: 269 | I56: 117 | J56: 152 | K56: 301 | L56: 144 | M56: 157 | N56: 16258 | O56: 8116 | P56: 8142 | Q56: 57.8 | R56: 38.3 | S56: 77.3
A57: RS | C57: Ｒ一括分 | E57: 3531 | F57: 2727 | G57: 804 | H57: 9 | I57: 9 | J57: 0 | K57: 61 | L57: 52 | M57: 9 | N57: 3479 | O57: 2684 | P57: 795 | Q57: 7.7 | R57: 4.7 | S57: 17.9
