Workbook
Name PRINT_AREA_MI: #REF!

Sheet 市町村別
B1: 市町村別汚水処理人口普及率
B2: （下水道、農業集落排水施設等、浄化槽及びコミュニティ・プラント） | P2: （平成30年度末）
B3: 市町村 | C3: 普 及 率 （％） | G3: 市町村 | H3: 普 及 率 （％） | L3: 市町村 | M3: 普 及 率 （％）
C4: 下水道 | D4: 農集排 | E4: 浄化槽 ｺﾐﾌﾟﾗ | F4: 計 | H4: 下水道 | I4: 農集排 | J4: 浄化槽 ｺﾐﾌﾟﾗ | K4: 計 | M4: 下水道 | N4: 農集排 | O4: 浄化槽 ｺﾐﾌﾟﾗ | P4: 計
B5: 長野市 | C5: =VLOOKUP($B5,様式【国から送付データ】!$H:$AD,8,FALSE)*100 -> 93.852904 | D5: =VLOOKUP($B5,様式【国から送付データ】!$H:$AD,14,FALSE)*100 -> 1.9245905 | E5: =VLOOKUP($B5,様式【国から送付データ】!$H:$AD,23,FALSE)*100 -> 1.8339183 | F5: =VLOOKUP($B5,様式【国から送付データ】!$H:$AD,4,FALSE)*100 -> 97.611412 | G5: 御代田町 | H5: =VLOOKUP($G5,様式【国から送付データ】!$H:$AD,8,FALSE)*100 -> 90.836653 | I5: =VLOOKUP($G5,様式【国から送付データ】!$H:$AD,14,FALSE)*100 -> 3.1679733 | J5: =VLOOKUP($G5,様式【国から送付データ】!$H:$AD,23,FALSE)*100 -> 4.247526 | K5: =VLOOKUP($G5,様式【国から送付データ】!$H:$AD,4,FALSE)*100 -> 98.252153 | L5: 上松町 | M5: =VLOOKUP($L5,様式【国から送付データ】!$H:$AD,8,FALSE)*100 -> 70.456077 | O5: =VLOOKUP($L5,様式【国から送付データ】!$H:$AD,23,FALSE)*100 -> 14.850595 | P5: =VLOOKUP($L5,様式【国から送付データ】!$H:$AD,4,FALSE)*100 -> 85.306673 | U5: （参考）汚水処理人口普及率の推移
B6: 松本市 | C6: =VLOOKUP($B6,様式【国から送付データ】!$H:$AD,8,FALSE)*100 -> 96.845131 | D6: =VLOOKUP($B6,様式【国から送付データ】!$H:$AD,14,FALSE)*100 -> 0.29290123 | E6: =VLOOKUP($B6,様式【国から送付データ】!$H:$AD,23,FALSE)*100 -> 2.6310827 | F6: =VLOOKUP($B6,様式【国から送付データ】!$H:$AD,4,FALSE)*100 -> 99.769115 | G6: 立科町 | H6: =VLOOKUP($G6,様式【国から送付データ】!$H:$AD,8,FALSE)*100 -> 46.587782 | I6: =VLOOKUP($G6,様式【国から送付データ】!$H:$AD,14,FALSE)*100 -> 44.523941 | J6: =VLOOKUP($G6,様式【国から送付データ】!$H:$AD,23,FALSE)*100 -> 7.1408916 | K6: =VLOOKUP($G6,様式【国から送付データ】!$H:$AD,4,FALSE)*100 -> 98.252614 | L6: 南木曽町 | M6: =VLOOKUP($L6,様式【国から送付データ】!$H:$AD,8,FALSE)*100 -> 7.4677694 | N6: =VLOOKUP($L6,様式【国から送付データ】!$H:$AD,14,FALSE)*100 -> 17.222087 | O6: =VLOOKUP($L6,様式【国から送付データ】!$H:$AD,23,FALSE)*100 -> 59.085381 | P6: =VLOOKUP($L6,様式【国から送付データ】!$H:$AD,4,FALSE)*100 -> 83.775237 | U6: 年度末現在 | V6: Ｈ８ | W6: Ｈ９ | X6: Ｈ10 | Y6: Ｈ11 | Z6: Ｈ12 | AA6: Ｈ13 | AB6: Ｈ14 | AC6: Ｈ15 | AD6: Ｈ16 | AE6: Ｈ17 | AF6: Ｈ18 | AG6: Ｈ19 | AH6: Ｈ20 | AI6: Ｈ21 | AJ6: Ｈ22 | AK6: Ｈ23 | AL6: Ｈ24 | AM6: Ｈ25 | AN6: Ｈ26 | AO6: Ｈ27 | AP6: Ｈ28 | AQ6: Ｈ29 | AR6: H30
B7: 上田市 | C7: =VLOOKUP($B7,様式【国から送付データ】!$H:$AD,8,FALSE)*100 -> 80.428129 | D7: =VLOOKUP($B7,様式【国から送付データ】!$H:$AD,14,FALSE)*100 -> 16.325662 | E7: =VLOOKUP($B7,様式【国から送付データ】!$H:$AD,23,FALSE)*100 -> 2.5610252 | F7: =VLOOKUP($B7,様式【国から送付データ】!$H:$AD,4,FALSE)*100 -> 99.314816 | G7: 青木村 | H7: =VLOOKUP($G7,様式【国から送付データ】!$H:$AD,8,FALSE)*100 -> 91.293419 | J7: =VLOOKUP($G7,様式【国から送付データ】!$H:$AD,23,FALSE)*100 -> 6.0786106 | K7: =VLOOKUP($G7,様式【国から送付データ】!$H:$AD,4,FALSE)*100 -> 97.372029 | L7: 木祖村 | M7: =VLOOKUP($L7,様式【国から送付データ】!$H:$AD,8,FALSE)*100 -> 65.172054 | N7: =VLOOKUP($L7,様式【国から送付データ】!$H:$AD,14,FALSE)*100 -> 11.50504 | O7: =VLOOKUP($L7,様式【国から送付データ】!$H:$AD,23,FALSE)*100 -> 17.970108 | P7: =VLOOKUP($L7,様式【国から送付データ】!$H:$AD,4,FALSE)*100 -> 94.647202 | U7: 実施市町村数 | V7: 120 | W7: 120 | X7: 120 | Y7: 120 | Z7: 120 | AA7: 120 | AB7: 120 | AC7: 118 | AD7: 111 | AE7: 81 | AF7: 81 | AG7: 81 | AH7: 80 | AI7: 77 | AJ7: 77 | AK7: 77 | AL7: 77 | AM7: 77 | AN7: 77 | AO7: 77 | AP7: 77 | AQ7: 77 | AR7: 77
B8: 岡谷市 | C8: =VLOOKUP($B8,様式【国から送付データ】!$H:$AD,8,FALSE)*100 -> 99.486612 | E8: =VLOOKUP($B8,様式【国から送付データ】!$H:$AD,23,FALSE)*100 -> 0.29997987 | F8: =VLOOKUP($B8,様式【国から送付データ】!$H:$AD,4,FALSE)*100 -> 99.786592 | G8: 長和町 | H8: =VLOOKUP($G8,様式【国から送付データ】!$H:$AD,8,FALSE)*100 -> 88.666229 | I8: =VLOOKUP($G8,様式【国から送付データ】!$H:$AD,14,FALSE)*100 -> 1.0183968 | J8: =VLOOKUP($G8,様式【国から送付データ】!$H:$AD,23,FALSE)*100 -> 6.9480946 | K8: =VLOOKUP($G8,様式【国から送付データ】!$H:$AD,4,FALSE)*100 -> 96.63272 | L8: 王滝村 | N8: =VLOOKUP($L8,様式【国から送付データ】!$H:$AD,14,FALSE)*100 -> 85.524568 | O8: =VLOOKUP($L8,様式【国から送付データ】!$H:$AD,23,FALSE)*100 -> 11.686587 | P8: =VLOOKUP($L8,様式【国から送付データ】!$H:$AD,4,FALSE)*100 -> 97.211155 | U8: 供用開始市町村数 | V8: 113 | W8: 116 | X8: 118 | Y8: 120 | Z8: 120 | AA8: 120 | AB8: 120 | AC8: 118 | AD8: 111 | AE8: 81 | AF8: 81 | AG8: 81 | AH8: 80 | AI8: 77 | AJ8: 77 | AK8: 77 | AL8: 77 | AM8: 77 | AN8: 77 | AO8: 77 | AP8: 77 | AQ8: 77 | AR8: 77
B9: 飯田市 | C9: =VLOOKUP($B9,様式【国から送付データ】!$H:$AD,8,FALSE)*100 -> 83.094817 | D9: =VLOOKUP($B9,様式【国から送付データ】!$H:$AD,14,FALSE)*100 -> 5.8767098 | E9: =VLOOKUP($B9,様式【国から送付データ】!$H:$AD,23,FALSE)*100 -> 8.022866 | F9: =VLOOKUP($B9,様式【国から送付データ】!$H:$AD,4,FALSE)*100 -> 96.994392 | G9: 下諏訪町 | H9: =VLOOKUP($G9,様式【国から送付データ】!$H:$AD,8,FALSE)*100 -> 99.950137 | K9: =VLOOKUP($G9,様式【国から送付データ】!$H:$AD,4,FALSE)*100 -> 99.950137 | L9: 大桑村 | M9: =VLOOKUP($L9,様式【国から送付データ】!$H:$AD,8,FALSE)*100 -> 32.737612 | N9: =VLOOKUP($L9,様式【国から送付データ】!$H:$AD,14,FALSE)*100 -> 45.735175 | O9: =VLOOKUP($L9,様式【国から送付データ】!$H:$AD,23,FALSE)*100 -> 17.573788 | P9: =VLOOKUP($L9,様式【国から送付データ】!$H:$AD,4,FALSE)*100 -> 96.046575 | U9: 長野県普及率（％） | V9: 52.1 | W9: 56.8 | X9: 62.3 | Y9: 67.9 | Z9: 73.6 | AA9: 77.6 | AB9: 81.3 | AC9: 84.7 | AD9: 87.7 | AE9: 89.6 | AF9: 91.5 | AG9: 93.1 | AH9: 94 | AI9: 94.5 | AJ9: 95.3 | AK9: 95.9 | AL9: 96.6 | AM9: 96.8 | AN9: 97.3 | AO9: 97.4 | AP9: 97.6 | AQ9: 97.8 | AR9: 98
B10: 諏訪市 | C10: =VLOOKUP($B10,様式【国から送付データ】!$H:$AD,8,FALSE)*100 -> 99.114366 | E10: =VLOOKUP($B10,様式【国から送付データ】!$H:$AD,23,FALSE)*100 -> 0.54469527 | F10: =VLOOKUP($B10,様式【国から送付データ】!$H:$AD,4,FALSE)*100 -> 99.659061 | G10: 富士見町 | H10: =VLOOKUP($G10,様式【国から送付データ】!$H:$AD,8,FALSE)*100 -> 78.72972 | I10: =VLOOKUP($G10,様式【国から送付データ】!$H:$AD,14,FALSE)*100 -> 12.115982 | J10: =VLOOKUP($G10,様式【国から送付データ】!$H:$AD,23,FALSE)*100 -> 6.779427 | K10: =VLOOKUP($G10,様式【国から送付データ】!$H:$AD,4,FALSE)*100 -> 97.625129 | L10: 木曽町 | M10: =VLOOKUP($L10,様式【国から送付データ】!$H:$AD,8,FALSE)*100 -> 68.98144 | N10: =VLOOKUP($L10,様式【国から送付データ】!$H:$AD,14,FALSE)*100 -> 10.647352 | O10: =VLOOKUP($L10,様式【国から送付データ】!$H:$AD,23,FALSE)*100 -> 16.505206 | P10: =VLOOKUP($L10,様式【国から送付データ】!$H:$AD,4,FALSE)*100 -> 96.133997 | U10: 下水道（％） | V10: 39.6 | W10: 43 | X10: 46.8 | Y10: 51.3 | Z10: 56.2 | AA10: 59.9 | AB10: 63.6 | AC10: 67.2 | AD10: 69.9 | AE10: 72.1 | AF10: 74.2 | AG10: 76 | AH10: 77.4 | AI10: 78.5 | AJ10: 79.3 | AK10: 80.2 | AL10: 80.9 | AM10: 81.5 | AN10: 82.3 | AO10: 82.7 | AP10: 83.1 | AQ10: 83.7 | AR10: 83.8
B11: 須坂市 | C11: =VLOOKUP($B11,様式【国から送付データ】!$H:$AD,8,FALSE)*100 -> 97.833672 | D11: =VLOOKUP($B11,様式【国から送付データ】!$H:$AD,14,FALSE)*100 -> 1.9376712 | E11: =VLOOKUP($B11,様式【国から送付データ】!$H:$AD,23,FALSE)*100 -> 0.19514695 | F11: =VLOOKUP($B11,様式【国から送付データ】!$H:$AD,4,FALSE)*100 -> 99.96649 | G11: 原村 | H11: =VLOOKUP($G11,様式【国から送付データ】!$H:$AD,8,FALSE)*100 -> 82.162638 | J11: =VLOOKUP($G11,様式【国から送付データ】!$H:$AD,23,FALSE)*100 -> 16.868077 | K11: =VLOOKUP($G11,様式【国から送付データ】!$H:$AD,4,FALSE)*100 -> 99.030715 | L11: 麻績村 | M11: =VLOOKUP($L11,様式【国から送付データ】!$H:$AD,8,FALSE)*100 -> 79.460051 | N11: =VLOOKUP($L11,様式【国から送付データ】!$H:$AD,14,FALSE)*100 -> 5.8737687 | O11: =VLOOKUP($L11,様式【国から送付データ】!$H:$AD,23,FALSE)*100 -> 11.929953 | P11: =VLOOKUP($L11,様式【国から送付データ】!$H:$AD,4,FALSE)*100 -> 97.263772 | U11: 農集排（％） | V11: 4.5 | W11: 5.5 | X11: 6.6 | Y11: 7.4 | Z11: 8.2 | AA11: 9.1 | AB11: 9.4 | AC11: 9.8 | AD11: 10.1 | AE11: 10.1 | AF11: 10.4 | AG11: 10.4 | AH11: 10.5 | AI11: 10.3 | AJ11: 10.1 | AK11: 10 | AL11: 9.8 | AM11: 9.6 | AN11: 9.3 | AO11: 9 | AP11: 8.8 | AQ11: 8.6 | AR11: 8.5
B12: 小諸市 | C12: =VLOOKUP($B12,様式【国から送付データ】!$H:$AD,8,FALSE)*100 -> 67.56093 | D12: =VLOOKUP($B12,様式【国から送付データ】!$H:$AD,14,FALSE)*100 -> 17.041375 | E12: =VLOOKUP($B12,様式【国から送付データ】!$H:$AD,23,FALSE)*100 -> 13.702059 | F12: =VLOOKUP($B12,様式【国から送付データ】!$H:$AD,4,FALSE)*100 -> 98.304364 | G12: 辰野町 | H12: =VLOOKUP($G12,様式【国から送付データ】!$H:$AD,8,FALSE)*100 -> 88.520069 | I12: =VLOOKUP($G12,様式【国から送付データ】!$H:$AD,14,FALSE)*100 -> 8.1554489 | J12: =VLOOKUP($G12,様式【国から送付データ】!$H:$AD,23,FALSE)*100 -> 2.9363701 | K12: =VLOOKUP($G12,様式【国から送付データ】!$H:$AD,4,FALSE)*100 -> 99.611888 | L12: 生坂村 | N12: =VLOOKUP($L12,様式【国から送付データ】!$H:$AD,14,FALSE)*100 -> 50.400916 | O12: =VLOOKUP($L12,様式【国から送付データ】!$H:$AD,23,FALSE)*100 -> 36.597938 | P12: =VLOOKUP($L12,様式【国から送付データ】!$H:$AD,4,FALSE)*100 -> 86.998855 | U12: 浄化槽・コミブラ（％） | V12: 8 | W12: 8.3 | X12: 8.9 | Y12: 9.1 | Z12: 9.2 | AA12: 8.7 | AB12: 8.2 | AC12: 7.7 | AD12: 7.6 | AE12: 7.4 | AF12: 7 | AG12: 6.7 | AH12: 6.1 | AI12: 5.7 | AJ12: 5.9 | AK12: 5.7 | AL12: 5.9 | AM12: 5.8 | AN12: 5.7 | AO12: 5.7 | AP12: 5.7 | AQ12: 5.6 | AR12: 5.7
B13: 伊那市 | C13: =VLOOKUP($B13,様式【国から送付データ】!$H:$AD,8,FALSE)*100 -> 74.351661 | D13: =VLOOKUP($B13,様式【国から送付データ】!$H:$AD,14,FALSE)*100 -> 17.807998 | E13: =VLOOKUP($B13,様式【国から送付データ】!$H:$AD,23,FALSE)*100 -> 6.5127904 | F13: =VLOOKUP($B13,様式【国から送付データ】!$H:$AD,4,FALSE)*100 -> 98.672449 | G13: 箕輪町 | H13: =VLOOKUP($G13,様式【国から送付データ】!$H:$AD,8,FALSE)*100 -> 80.336114 | I13: =VLOOKUP($G13,様式【国から送付データ】!$H:$AD,14,FALSE)*100 -> 16.590156 | J13: =VLOOKUP($G13,様式【国から送付データ】!$H:$AD,23,FALSE)*100 -> 1.2494511 | K13: =VLOOKUP($G13,様式【国から送付データ】!$H:$AD,4,FALSE)*100 -> 98.175722 | L13: 山形村 | M13: =VLOOKUP($L13,様式【国から送付データ】!$H:$AD,8,FALSE)*100 -> 99.78226 | P13: =VLOOKUP($L13,様式【国から送付データ】!$H:$AD,4,FALSE)*100 -> 99.80518 | U13: 全国普及率（％） | V13: 62 | W13: 64 | X13: 66 | Y13: 69 | Z13: 71 | AA13: 73.7 | AB13: 75.8 | AC13: 77.7 | AD13: 79.4 | AE13: 80.9 | AF13: 82.4 | AG13: 83.7 | AH13: 84.8 | AI13: 85.7 | AJ13: 86.9 | AK13: 87.6 | AL13: 88.1 | AM13: 88.9 | AN13: 89.5 | AO13: 89.9 | AP13: 90.4 | AQ13: 90.9 | AR13: 91.4
B14: 駒ヶ根市 | C14: =VLOOKUP($B14,様式【国から送付データ】!$H:$AD,8,FALSE)*100 -> 58.936209 | D14: =VLOOKUP($B14,様式【国から送付データ】!$H:$AD,14,FALSE)*100 -> 34.2295 | E14: =VLOOKUP($B14,様式【国から送付データ】!$H:$AD,23,FALSE)*100 -> 4.466577 | F14: =VLOOKUP($B14,様式【国から送付データ】!$H:$AD,4,FALSE)*100 -> 97.632286 | G14: 飯島町 | H14: =VLOOKUP($G14,様式【国から送付データ】!$H:$AD,8,FALSE)*100 -> 56.616557 | I14: =VLOOKUP($G14,様式【国から送付データ】!$H:$AD,14,FALSE)*100 -> 19.722634 | J14: =VLOOKUP($G14,様式【国から送付データ】!$H:$AD,23,FALSE)*100 -> 20.18844 | K14: =VLOOKUP($G14,様式【国から送付データ】!$H:$AD,4,FALSE)*100 -> 96.527631 | L14: 朝日村 | M14: =VLOOKUP($L14,様式【国から送付データ】!$H:$AD,8,FALSE)*100 -> 100 | P14: =VLOOKUP($L14,様式【国から送付データ】!$H:$AD,4,FALSE)*100 -> 100 | U14: 全国順位 | V14: 19 | W14: 18 | X14: 14 | Y14: 12 | Z14: 10 | AA14: 9 | AB14: 8 | AC14: 8 | AD14: 8 | AE14: 8 | AF14: 8 | AG14: 6 | AH14: 6 | AI14: 7 | AJ14: 7 | AK14: 7 | AL14: 5 | AM14: 5 | AN14: 5 | AO14: 6 | AP14: 6 | AQ14: 6 | AR14: 6
B15: 中野市 | C15: =VLOOKUP($B15,様式【国から送付データ】!$H:$AD,8,FALSE)*100 -> 68.577976 | D15: =VLOOKUP($B15,様式【国から送付データ】!$H:$AD,14,FALSE)*100 -> 26.566607 | E15: =VLOOKUP($B15,様式【国から送付データ】!$H:$AD,23,FALSE)*100 -> 1.2537354 | F15: =VLOOKUP($B15,様式【国から送付データ】!$H:$AD,4,FALSE)*100 -> 96.398319 | G15: 南箕輪村 | H15: =VLOOKUP($G15,様式【国から送付データ】!$H:$AD,8,FALSE)*100 -> 98.234495 | J15: =VLOOKUP($G15,様式【国から送付データ】!$H:$AD,23,FALSE)*100 -> 1.6038285 | K15: =VLOOKUP($G15,様式【国から送付データ】!$H:$AD,4,FALSE)*100 -> 99.838324 | L15: 筑北村 | N15: =VLOOKUP($L15,様式【国から送付データ】!$H:$AD,14,FALSE)*100 -> 57.067255 | O15: =VLOOKUP($L15,様式【国から送付データ】!$H:$AD,23,FALSE)*100 -> 35.788313 | P15: =VLOOKUP($L15,様式【国から送付データ】!$H:$AD,4,FALSE)*100 -> 92.855568 | U15: ※全国の汚水処理人口普及率（下水道等普及率）は、平成８年度から国において集計、公表されている。
B16: 大町市 | C16: =VLOOKUP($B16,様式【国から送付データ】!$H:$AD,8,FALSE)*100 -> 71.510377 | D16: =VLOOKUP($B16,様式【国から送付データ】!$H:$AD,14,FALSE)*100 -> 3.3008717 | E16: =VLOOKUP($B16,様式【国から送付データ】!$H:$AD,23,FALSE)*100 -> 18.521355 | F16: =VLOOKUP($B16,様式【国から送付データ】!$H:$AD,4,FALSE)*100 -> 93.332604 | G16: 中川村 | H16: =VLOOKUP($G16,様式【国から送付データ】!$H:$AD,8,FALSE)*100 -> 56.395112 | I16: =VLOOKUP($G16,様式【国から送付データ】!$H:$AD,14,FALSE)*100 -> 25.295316 | J16: =VLOOKUP($G16,様式【国から送付データ】!$H:$AD,23,FALSE)*100 -> 14.949084 | K16: =VLOOKUP($G16,様式【国から送付データ】!$H:$AD,4,FALSE)*100 -> 96.639511 | L16: 池田町 | M16: =VLOOKUP($L16,様式【国から送付データ】!$H:$AD,8,FALSE)*100 -> 94.485857 | O16: =VLOOKUP($L16,様式【国から送付データ】!$H:$AD,23,FALSE)*100 -> 4.0641274 | P16: =VLOOKUP($L16,様式【国から送付データ】!$H:$AD,4,FALSE)*100 -> 98.549985
B17: 飯山市 | C17: =VLOOKUP($B17,様式【国から送付データ】!$H:$AD,8,FALSE)*100 -> 78.236559 | D17: =VLOOKUP($B17,様式【国から送付データ】!$H:$AD,14,FALSE)*100 -> 20.200717 | E17: =VLOOKUP($B17,様式【国から送付データ】!$H:$AD,23,FALSE)*100 -> 0.7646356 | F17: =VLOOKUP($B17,様式【国から送付データ】!$H:$AD,4,FALSE)*100 -> 99.201912 | G17: 宮田村 | H17: =VLOOKUP($G17,様式【国から送付データ】!$H:$AD,8,FALSE)*100 -> 74.058115 | I17: =VLOOKUP($G17,様式【国から送付データ】!$H:$AD,14,FALSE)*100 -> 25.267926 | J17: =VLOOKUP($G17,様式【国から送付データ】!$H:$AD,23,FALSE)*100 -> 0.67395868 | K17: =VLOOKUP($G17,様式【国から送付データ】!$H:$AD,4,FALSE)*100 -> 100 | L17: 松川村 | M17: =VLOOKUP($L17,様式【国から送付データ】!$H:$AD,8,FALSE)*100 -> 98.905976 | O17: =VLOOKUP($L17,様式【国から送付データ】!$H:$AD,23,FALSE)*100 -> 0.49540716 | P17: =VLOOKUP($L17,様式【国から送付データ】!$H:$AD,4,FALSE)*100 -> 99.401383
B18: 茅野市 | C18: =VLOOKUP($B18,様式【国から送付データ】!$H:$AD,8,FALSE)*100 -> 96.800244 | E18: =VLOOKUP($B18,様式【国から送付データ】!$H:$AD,23,FALSE)*100 -> 2.3132279 | F18: =VLOOKUP($B18,様式【国から送付データ】!$H:$AD,4,FALSE)*100 -> 99.113472 | G18: 松川町 | H18: =VLOOKUP($G18,様式【国から送付データ】!$H:$AD,8,FALSE)*100 -> 41.781909 | I18: =VLOOKUP($G18,様式【国から送付データ】!$H:$AD,14,FALSE)*100 -> 42.824756 | J18: =VLOOKUP($G18,様式【国から送付データ】!$H:$AD,23,FALSE)*100 -> 12.521726 | K18: =VLOOKUP($G18,様式【国から送付データ】!$H:$AD,4,FALSE)*100 -> 97.128391 | L18: 白馬村 | M18: =VLOOKUP($L18,様式【国から送付データ】!$H:$AD,8,FALSE)*100 -> 76.440546 | N18: =VLOOKUP($L18,様式【国から送付データ】!$H:$AD,14,FALSE)*100 -> 0.56622627 | O18: =VLOOKUP($L18,様式【国から送付データ】!$H:$AD,23,FALSE)*100 -> 21.050294 | P18: =VLOOKUP($L18,様式【国から送付データ】!$H:$AD,4,FALSE)*100 -> 98.057067
B19: 塩尻市 | C19: =VLOOKUP($B19,様式【国から送付データ】!$H:$AD,8,FALSE)*100 -> 90.223268 | D19: =VLOOKUP($B19,様式【国から送付データ】!$H:$AD,14,FALSE)*100 -> 8.8666796 | E19: =VLOOKUP($B19,様式【国から送付データ】!$H:$AD,23,FALSE)*100 -> 0.68514574 | F19: =VLOOKUP($B19,様式【国から送付データ】!$H:$AD,4,FALSE)*100 -> 99.775093 | G19: 高森町 | H19: =VLOOKUP($G19,様式【国から送付データ】!$H:$AD,8,FALSE)*100 -> 53.807301 | I19: =VLOOKUP($G19,様式【国から送付データ】!$H:$AD,14,FALSE)*100 -> 35.601133 | J19: =VLOOKUP($G19,様式【国から送付データ】!$H:$AD,23,FALSE)*100 -> 9.8951557 | K19: =VLOOKUP($G19,様式【国から送付データ】!$H:$AD,4,FALSE)*100 -> 99.303589 | L19: 小谷村 | M19: =VLOOKUP($L19,様式【国から送付データ】!$H:$AD,8,FALSE)*100 -> 12.314591 | N19: =VLOOKUP($L19,様式【国から送付データ】!$H:$AD,14,FALSE)*100 -> 24.180752 | O19: =VLOOKUP($L19,様式【国から送付データ】!$H:$AD,23,FALSE)*100 -> 43.73922 | P19: =VLOOKUP($L19,様式【国から送付データ】!$H:$AD,4,FALSE)*100 -> 80.234564
B20: 佐久市 | C20: =VLOOKUP($B20,様式【国から送付データ】!$H:$AD,8,FALSE)*100 -> 79.890155 | D20: =VLOOKUP($B20,様式【国から送付データ】!$H:$AD,14,FALSE)*100 -> 5.3769205 | E20: =VLOOKUP($B20,様式【国から送付データ】!$H:$AD,23,FALSE)*100 -> 14.023891 | F20: =VLOOKUP($B20,様式【国から送付データ】!$H:$AD,4,FALSE)*100 -> 99.290967 | G20: 阿南町 | I20: =VLOOKUP($G20,様式【国から送付データ】!$H:$AD,14,FALSE)*100 -> 53.359511 | J20: =VLOOKUP($G20,様式【国から送付データ】!$H:$AD,23,FALSE)*100 -> 34.184119 | K20: =VLOOKUP($G20,様式【国から送付データ】!$H:$AD,4,FALSE)*100 -> 87.54363 | L20: 坂城町 | M20: =VLOOKUP($L20,様式【国から送付データ】!$H:$AD,8,FALSE)*100 -> 81.603993 | O20: =VLOOKUP($L20,様式【国から送付データ】!$H:$AD,23,FALSE)*100 -> 8.2595674 | P20: =VLOOKUP($L20,様式【国から送付データ】!$H:$AD,4,FALSE)*100 -> 89.863561
B21: 千曲市 | C21: =VLOOKUP($B21,様式【国から送付データ】!$H:$AD,8,FALSE)*100 -> 92.14195 | D21: =VLOOKUP($B21,様式【国から送付データ】!$H:$AD,14,FALSE)*100 -> 7.5759326 | E21: =VLOOKUP($B21,様式【国から送付データ】!$H:$AD,23,FALSE)*100 -> 0.23427318 | F21: =VLOOKUP($B21,様式【国から送付データ】!$H:$AD,4,FALSE)*100 -> 99.952155 | G21: 阿智村 | H21: =VLOOKUP($G21,様式【国から送付データ】!$H:$AD,8,FALSE)*100 -> 49.286722 | I21: =VLOOKUP($G21,様式【国から送付データ】!$H:$AD,14,FALSE)*100 -> 16.24079 | J21: =VLOOKUP($G21,様式【国から送付データ】!$H:$AD,23,FALSE)*100 -> 28.938705 | K21: =VLOOKUP($G21,様式【国から送付データ】!$H:$AD,4,FALSE)*100 -> 94.466217 | L21: 小布施町 | M21: =VLOOKUP($L21,様式【国から送付データ】!$H:$AD,8,FALSE)*100 -> 80.098191 | N21: =VLOOKUP($L21,様式【国から送付データ】!$H:$AD,14,FALSE)*100 -> 19.901809 | P21: =VLOOKUP($L21,様式【国から送付データ】!$H:$AD,4,FALSE)*100 -> 100
B22: 東御市 | C22: =VLOOKUP($B22,様式【国から送付データ】!$H:$AD,8,FALSE)*100 -> 62.380668 | D22: =VLOOKUP($B22,様式【国から送付データ】!$H:$AD,14,FALSE)*100 -> 28.046274 | E22: =VLOOKUP($B22,様式【国から送付データ】!$H:$AD,23,FALSE)*100 -> 8.121188 | F22: =VLOOKUP($B22,様式【国から送付データ】!$H:$AD,4,FALSE)*100 -> 98.54813 | G22: 平谷村 | I22: =VLOOKUP($G22,様式【国から送付データ】!$H:$AD,14,FALSE)*100 -> 91.78744 | J22: =VLOOKUP($G22,様式【国から送付データ】!$H:$AD,23,FALSE)*100 -> 6.5217391 | K22: =VLOOKUP($G22,様式【国から送付データ】!$H:$AD,4,FALSE)*100 -> 98.309179 | L22: 高山村 | M22: =VLOOKUP($L22,様式【国から送付データ】!$H:$AD,8,FALSE)*100 -> 67.058158 | N22: =VLOOKUP($L22,様式【国から送付データ】!$H:$AD,14,FALSE)*100 -> 31.074006 | O22: =VLOOKUP($L22,様式【国から送付データ】!$H:$AD,23,FALSE)*100 -> 1.4574784 | P22: =VLOOKUP($L22,様式【国から送付データ】!$H:$AD,4,FALSE)*100 -> 99.589642
B23: 安曇野市 | C23: =VLOOKUP($B23,様式【国から送付データ】!$H:$AD,8,FALSE)*100 -> 88.890255 | D23: =VLOOKUP($B23,様式【国から送付データ】!$H:$AD,14,FALSE)*100 -> 2.9145018 | E23: =VLOOKUP($B23,様式【国から送付データ】!$H:$AD,23,FALSE)*100 -> 4.876974 | F23: =VLOOKUP($B23,様式【国から送付データ】!$H:$AD,4,FALSE)*100 -> 96.681731 | G23: 根羽村 | I23: =VLOOKUP($G23,様式【国から送付データ】!$H:$AD,14,FALSE)*100 -> 74.583796 | J23: =VLOOKUP($G23,様式【国から送付データ】!$H:$AD,23,FALSE)*100 -> 22.419534 | K23: =VLOOKUP($G23,様式【国から送付データ】!$H:$AD,4,FALSE)*100 -> 97.00333 | L23: 山ノ内町 | M23: =VLOOKUP($L23,様式【国から送付データ】!$H:$AD,8,FALSE)*100 -> 69.080061 | N23: =VLOOKUP($L23,様式【国から送付データ】!$H:$AD,14,FALSE)*100 -> 23.397565 | O23: =VLOOKUP($L23,様式【国から送付データ】!$H:$AD,23,FALSE)*100 -> 4.9665404 | P23: =VLOOKUP($L23,様式【国から送付データ】!$H:$AD,4,FALSE)*100 -> 97.444167
B24: 小海町 | C24: =VLOOKUP($B24,様式【国から送付データ】!$H:$AD,8,FALSE)*100 -> 75.940975 | E24: =VLOOKUP($B24,様式【国から送付データ】!$H:$AD,23,FALSE)*100 -> 22.882806 | F24: =VLOOKUP($B24,様式【国から送付データ】!$H:$AD,4,FALSE)*100 -> 98.823781 | G24: 下條村 | J24: =VLOOKUP($G24,様式【国から送付データ】!$H:$AD,23,FALSE)*100 -> 96.451441 | K24: =VLOOKUP($G24,様式【国から送付データ】!$H:$AD,4,FALSE)*100 -> 96.451441 | L24: 木島平村 | M24: =VLOOKUP($L24,様式【国から送付データ】!$H:$AD,8,FALSE)*100 -> 95.435334 | N24: =VLOOKUP($L24,様式【国から送付データ】!$H:$AD,14,FALSE)*100 -> 2.8106509 | O24: =VLOOKUP($L24,様式【国から送付データ】!$H:$AD,23,FALSE)*100 -> 1.5638208 | P24: =VLOOKUP($L24,様式【国から送付データ】!$H:$AD,4,FALSE)*100 -> 99.809806
B25: 川上村 | C25: =VLOOKUP($B25,様式【国から送付データ】!$H:$AD,8,FALSE)*100 -> 46.545273 | D25: =VLOOKUP($B25,様式【国から送付データ】!$H:$AD,14,FALSE)*100 -> 49.887753 | E25: =VLOOKUP($B25,様式【国から送付データ】!$H:$AD,23,FALSE)*100 -> 1.6462958 | F25: =VLOOKUP($B25,様式【国から送付データ】!$H:$AD,4,FALSE)*100 -> 98.079322 | G25: 売木村 | I25: =VLOOKUP($G25,様式【国から送付データ】!$H:$AD,14,FALSE)*100 -> 66.484517 | J25: =VLOOKUP($G25,様式【国から送付データ】!$H:$AD,23,FALSE)*100 -> 32.058288 | K25: =VLOOKUP($G25,様式【国から送付データ】!$H:$AD,4,FALSE)*100 -> 98.542805 | L25: 野沢温泉村 | M25: =VLOOKUP($L25,様式【国から送付データ】!$H:$AD,8,FALSE)*100 -> 77.333698 | N25: =VLOOKUP($L25,様式【国から送付データ】!$H:$AD,14,FALSE)*100 -> 22.666302 | P25: =VLOOKUP($L25,様式【国から送付データ】!$H:$AD,4,FALSE)*100 -> 100
B26: 南牧村 | C26: =VLOOKUP($B26,様式【国から送付データ】!$H:$AD,8,FALSE)*100 -> 22.370415 | D26: =VLOOKUP($B26,様式【国から送付データ】!$H:$AD,14,FALSE)*100 -> 8.3055471 | E26: =VLOOKUP($B26,様式【国から送付データ】!$H:$AD,23,FALSE)*100 -> 67.626554 | F26: =VLOOKUP($B26,様式【国から送付データ】!$H:$AD,4,FALSE)*100 -> 98.302516 | G26: 天龍村 | H26: =VLOOKUP($G26,様式【国から送付データ】!$H:$AD,8,FALSE)*100 -> 64.156863 | J26: =VLOOKUP($G26,様式【国から送付データ】!$H:$AD,23,FALSE)*100 -> 22.117647 | K26: =VLOOKUP($G26,様式【国から送付データ】!$H:$AD,4,FALSE)*100 -> 86.27451 | L26: 信濃町 | M26: =VLOOKUP($L26,様式【国から送付データ】!$H:$AD,8,FALSE)*100 -> 45.832834 | N26: =VLOOKUP($L26,様式【国から送付データ】!$H:$AD,14,FALSE)*100 -> 26.25015 | O26: =VLOOKUP($L26,様式【国から送付データ】!$H:$AD,23,FALSE)*100 -> 18.275573 | P26: =VLOOKUP($L26,様式【国から送付データ】!$H:$AD,4,FALSE)*100 -> 90.358556
B27: 南相木村 | E27: =VLOOKUP($B27,様式【国から送付データ】!$H:$AD,23,FALSE)*100 -> 91.347099 | F27: =VLOOKUP($B27,様式【国から送付データ】!$H:$AD,4,FALSE)*100 -> 91.347099 | G27: 泰阜村 | J27: =VLOOKUP($G27,様式【国から送付データ】!$H:$AD,23,FALSE)*100 -> 73.181258 | K27: =VLOOKUP($G27,様式【国から送付データ】!$H:$AD,4,FALSE)*100 -> 73.181258 | L27: 小川村 | M27: =VLOOKUP($L27,様式【国から送付データ】!$H:$AD,8,FALSE)*100 -> 81.292654 | O27: =VLOOKUP($L27,様式【国から送付データ】!$H:$AD,23,FALSE)*100 -> 14.411883 | P27: =VLOOKUP($L27,様式【国から送付データ】!$H:$AD,4,FALSE)*100 -> 95.704536
B28: 北相木村 | E28: =VLOOKUP($B28,様式【国から送付データ】!$H:$AD,23,FALSE)*100 -> 83.156499 | F28: =VLOOKUP($B28,様式【国から送付データ】!$H:$AD,4,FALSE)*100 -> 83.156499 | G28: 喬木村 | H28: =VLOOKUP($G28,様式【国から送付データ】!$H:$AD,8,FALSE)*100 -> 58.298006 | I28: =VLOOKUP($G28,様式【国から送付データ】!$H:$AD,14,FALSE)*100 -> 24.273826 | J28: =VLOOKUP($G28,様式【国から送付データ】!$H:$AD,23,FALSE)*100 -> 15.402732 | K28: =VLOOKUP($G28,様式【国から送付データ】!$H:$AD,4,FALSE)*100 -> 97.974564 | L28: 飯綱町 | M28: =VLOOKUP($L28,様式【国から送付データ】!$H:$AD,8,FALSE)*100 -> 58.308592 | N28: =VLOOKUP($L28,様式【国から送付データ】!$H:$AD,14,FALSE)*100 -> 34.979757 | O28: =VLOOKUP($L28,様式【国から送付データ】!$H:$AD,23,FALSE)*100 -> 4.5074224 | P28: =VLOOKUP($L28,様式【国から送付データ】!$H:$AD,4,FALSE)*100 -> 97.795771
B29: 佐久穂町 | C29: =VLOOKUP($B29,様式【国から送付データ】!$H:$AD,8,FALSE)*100 -> 84.714698 | D29: =VLOOKUP($B29,様式【国から送付データ】!$H:$AD,14,FALSE)*100 -> 7.8999639 | E29: =VLOOKUP($B29,様式【国から送付データ】!$H:$AD,23,FALSE)*100 -> 4.3968942 | F29: =VLOOKUP($B29,様式【国から送付データ】!$H:$AD,4,FALSE)*100 -> 97.011557 | G29: 豊丘村 | H29: =VLOOKUP($G29,様式【国から送付データ】!$H:$AD,8,FALSE)*100 -> 51.417064 | I29: =VLOOKUP($G29,様式【国から送付データ】!$H:$AD,14,FALSE)*100 -> 31.264916 | J29: =VLOOKUP($G29,様式【国から送付データ】!$H:$AD,23,FALSE)*100 -> 16.631862 | K29: =VLOOKUP($G29,様式【国から送付データ】!$H:$AD,4,FALSE)*100 -> 99.313842 | L29: 栄村 | N29: =VLOOKUP($L29,様式【国から送付データ】!$H:$AD,14,FALSE)*100 -> 10.667396 | O29: =VLOOKUP($L29,様式【国から送付データ】!$H:$AD,23,FALSE)*100 -> 69.63895 | P29: =VLOOKUP($L29,様式【国から送付データ】!$H:$AD,4,FALSE)*100 -> 80.306346
B30: 軽井沢町 | C30: =VLOOKUP($B30,様式【国から送付データ】!$H:$AD,8,FALSE)*100 -> 47.839369 | D30: =VLOOKUP($B30,様式【国から送付データ】!$H:$AD,14,FALSE)*100 -> 3.0007391 | E30: =VLOOKUP($B30,様式【国から送付データ】!$H:$AD,23,FALSE)*100 -> 29.302784 | F30: =VLOOKUP($B30,様式【国から送付データ】!$H:$AD,4,FALSE)*100 -> 80.142892 | G30: 大鹿村 | J30: =VLOOKUP($G30,様式【国から送付データ】!$H:$AD,23,FALSE)*100 -> 52.40481 | K30: =VLOOKUP($G30,様式【国から送付データ】!$H:$AD,4,FALSE)*100 -> 52.40481 | L30: 長野県計 | M30: =VLOOKUP($L30,様式【国から送付データ】!$H:$AD,8,FALSE)*100 -> 83.840578 | N30: =VLOOKUP($L30,様式【国から送付データ】!$H:$AD,14,FALSE)*100 -> 8.508421 | O30: =VLOOKUP($L30,様式【国から送付データ】!$H:$AD,23,FALSE)*100 -> 5.6509599 | P30: =VLOOKUP($L30,様式【国から送付データ】!$H:$AD,4,FALSE)*100 -> 97.999959
B31: 注）１ 普及率は、個々の種別の普及率で四捨五入しているため、合計が合わないことがある。 ２ 下水道及び農業集落排水施設等の網掛け部は、当該種別で汚水処理を行う予定のない市町村 ３ 事業種別ごとの実施市町村数は、下水道64市町村、農業集落排水56市町村、浄化槽・コミュニティプラント73市町村
B34: （参考）汚水処理人口普及率の推移
B44: 注） 全国の汚水処理人口普及率（下水道等普及率）は、平成８年度から国において集計、公表されている。
U46: （参考）汚水処理人口普及率の推移
U47: 年度末現在 | V47: Ｈ８ | W47: Ｈ９ | X47: Ｈ10 | Y47: Ｈ11 | Z47: Ｈ12 | AA47: Ｈ13 | AB47: Ｈ14 | AC47: Ｈ15 | AD47: Ｈ16 | AE47: Ｈ17 | AF47: Ｈ18 | AG47: Ｈ19 | AH47: Ｈ20 | AI47: Ｈ21 | AJ47: Ｈ22 | AK47: Ｈ23 | AL47: Ｈ24 | AM47: Ｈ25 | AN47: Ｈ26 | AO47: Ｈ27 | AP47: Ｈ28 | AQ47: Ｈ29 | AR47: H30
U48: 実施市町村数 | V48: 120 | W48: 120 | X48: 120 | Y48: 120 | Z48: 120 | AA48: 120 | AB48: 120 | AC48: 118 | AD48: 111 | AE48: 81 | AF48: 81 | AG48: 81 | AH48: 80 | AI48: 77 | AJ48: 77 | AK48: 77 | AL48: 77 | AM48: 77 | AN48: 77 | AO48: 77 | AP48: 77 | AQ48: 77 | AR48: 77
U49: 供用開始市町村数 | V49: 113 | W49: 116 | X49: 118 | Y49: 120 | Z49: 120 | AA49: 120 | AB49: 120 | AC49: 118 | AD49: 111 | AE49: 81 | AF49: 81 | AG49: 81 | AH49: 80 | AI49: 77 | AJ49: 77 | AK49: 77 | AL49: 77 | AM49: 77 | AN49: 77 | AO49: 77 | AP49: 77 | AQ49: 77 | AR49: 77
U50: 長野県普及率（％） | V50: 52.1 | W50: 56.8 | X50: 62.3 | Y50: 67.9 | Z50: 73.6 | AA50: 77.6 | AB50: 81.3 | AC50: 84.7 | AD50: 87.7 | AE50: 89.6 | AF50: 91.5 | AG50: 93.1 | AH50: 94 | AI50: 94.5 | AJ50: 95.3 | AK50: 95.9 | AL50: 96.6 | AM50: 96.8 | AN50: 97.3 | AO50: 97.4 | AP50: 97.6 | AQ50: 97.8 | AR50: 98
U51: 下水道（％） | V51: 39.6 | W51: 43 | X51: 46.8 | Y51: 51.3 | Z51: 56.2 | AA51: 59.9 | AB51: 63.6 | AC51: 67.2 | AD51: 69.9 | AE51: 72.1 | AF51: 74.2 | AG51: 76 | AH51: 77.4 | AI51: 78.5 | AJ51: 79.3 | AK51: 80.2 | AL51: 80.9 | AM51: 81.5 | AN51: 82.3 | AO51: 82.7 | AP51: 83.1 | AQ51: 83.7 | AR51: 83.8
U52: 農集排（％） | V52: 4.5 | W52: 5.5 | X52: 6.6 | Y52: 7.4 | Z52: 8.2 | AA52: 9.1 | AB52: 9.4 | AC52: 9.8 | AD52: 10.1 | AE52: 10.1 | AF52: 10.4 | AG52: 10.4 | AH52: 10.5 | AI52: 10.3 | AJ52: 10.1 | AK52: 10 | AL52: 9.8 | AM52: 9.6 | AN52: 9.3 | AO52: 9 | AP52: 8.8 | AQ52: 8.6 | AR52: 8.5
...

Sheet 目標との差
B1: 市町村別汚水処理人口普及率
B2: （下水道、農業集落排水施設等、浄化槽及びコミュニティ・プラント） | T2: （平成29年度末）
B3: 市町村 | C3: 普 及 率 （％） | I3: 市町村 | J3: 普 及 率 （％） | P3: 市町村 | Q3: 普 及 率 （％）
C4: 下水道 | D4: 農集排 | E4: 浄化槽 ｺﾐﾌﾟﾗ | F4: 計 | G4: 目標 | H4: 差 | J4: 下水道 | K4: 農集排 | L4: 浄化槽 ｺﾐﾌﾟﾗ | M4: 計 | N4: 目標 | O4: 差 | Q4: 下水道 | R4: 農集排 | S4: 浄化槽 ｺﾐﾌﾟﾗ | T4: 計 | U4: 計画 | V4: 差
B5: 長野市 | C5: =VLOOKUP($B5,様式【国から送付データ】!$H:$AD,8,FALSE)*100 -> 93.852904 | D5: =VLOOKUP($B5,様式【国から送付データ】!$H:$AD,14,FALSE)*100 -> 1.9245905 | E5: =VLOOKUP($B5,様式【国から送付データ】!$H:$AD,23,FALSE)*100 -> 1.8339183 | F5: =VLOOKUP($B5,様式【国から送付データ】!$H:$AD,4,FALSE)*100 -> 97.611412 | G5: =VLOOKUP(B5,'共通指数 '!$B:$I,6,FALSE) -> 100 | H5: =F5-G5 -> -2.3885875 | I5: 御代田町 | J5: =VLOOKUP($I5,様式【国から送付データ】!$H:$AD,8,FALSE)*100 -> 90.836653 | K5: =VLOOKUP($I5,様式【国から送付データ】!$H:$AD,14,FALSE)*100 -> 3.1679733 | L5: =VLOOKUP($I5,様式【国から送付データ】!$H:$AD,23,FALSE)*100 -> 4.247526 | M5: =VLOOKUP($I5,様式【国から送付データ】!$H:$AD,4,FALSE)*100 -> 98.252153 | N5: =VLOOKUP(I5,'共通指数 '!$B:$I,6,FALSE) -> 97.717342 | O5: =M5-N5 -> 0.534811 | P5: 上松町 | Q5: =VLOOKUP($P5,様式【国から送付データ】!$H:$AD,8,FALSE)*100 -> 70.456077 | R5: =VLOOKUP($P5,様式【国から送付データ】!$H:$AD,14,FALSE)*100 -> 0 | S5: =VLOOKUP($P5,様式【国から送付データ】!$H:$AD,23,FALSE)*100 -> 14.850595 | T5: =VLOOKUP($P5,様式【国から送付データ】!$H:$AD,4,FALSE)*100 -> 85.306673 | U5: =VLOOKUP(P5,'共通指数 '!$B:$I,6,FALSE) -> 84.669604 | V5: =T5-U5 -> 0.63706913
B6: 松本市 | C6: =VLOOKUP($B6,様式【国から送付データ】!$H:$AD,8,FALSE)*100 -> 96.845131 | D6: =VLOOKUP($B6,様式【国から送付データ】!$H:$AD,14,FALSE)*100 -> 0.29290123 | E6: =VLOOKUP($B6,様式【国から送付データ】!$H:$AD,23,FALSE)*100 -> 2.6310827 | F6: =VLOOKUP($B6,様式【国から送付データ】!$H:$AD,4,FALSE)*100 -> 99.769115 | G6: =VLOOKUP(B6,'共通指数 '!$B:$I,6,FALSE) -> 99.870803 | H6: =F6-G6 -> -0.1016876 | I6: 立科町 | J6: =VLOOKUP($I6,様式【国から送付データ】!$H:$AD,8,FALSE)*100 -> 46.587782 | K6: =VLOOKUP($I6,様式【国から送付データ】!$H:$AD,14,FALSE)*100 -> 44.523941 | L6: =VLOOKUP($I6,様式【国から送付データ】!$H:$AD,23,FALSE)*100 -> 7.1408916 | M6: =VLOOKUP($I6,様式【国から送付データ】!$H:$AD,4,FALSE)*100 -> 98.252614 | N6: =VLOOKUP(I6,'共通指数 '!$B:$I,6,FALSE) -> 97.89595 | O6: =M6-N6 -> 0.35666377 | P6: 南木曽町 | Q6: =VLOOKUP($P6,様式【国から送付データ】!$H:$AD,8,FALSE)*100 -> 7.4677694 | R6: =VLOOKUP($P6,様式【国から送付データ】!$H:$AD,14,FALSE)*100 -> 17.222087 | S6: =VLOOKUP($P6,様式【国から送付データ】!$H:$AD,23,FALSE)*100 -> 59.085381 | T6: =VLOOKUP($P6,様式【国から送付データ】!$H:$AD,4,FALSE)*100 -> 83.775237 | U6: =VLOOKUP(P6,'共通指数 '!$B:$I,6,FALSE) -> 83.657775 | V6: =T6-U6 -> 0.1174626
B7: 上田市 | C7: =VLOOKUP($B7,様式【国から送付データ】!$H:$AD,8,FALSE)*100 -> 80.428129 | D7: =VLOOKUP($B7,様式【国から送付データ】!$H:$AD,14,FALSE)*100 -> 16.325662 | E7: =VLOOKUP($B7,様式【国から送付データ】!$H:$AD,23,FALSE)*100 -> 2.5610252 | F7: =VLOOKUP($B7,様式【国から送付データ】!$H:$AD,4,FALSE)*100 -> 99.314816 | G7: =VLOOKUP(B7,'共通指数 '!$B:$I,6,FALSE) -> 99.855289 | H7: =F7-G7 -> -0.54047255 | I7: 青木村 | J7: =VLOOKUP($I7,様式【国から送付データ】!$H:$AD,8,FALSE)*100 -> 91.293419 | K7: =VLOOKUP($I7,様式【国から送付データ】!$H:$AD,14,FALSE)*100 -> 0 | L7: =VLOOKUP($I7,様式【国から送付データ】!$H:$AD,23,FALSE)*100 -> 6.0786106 | M7: =VLOOKUP($I7,様式【国から送付データ】!$H:$AD,4,FALSE)*100 -> 97.372029 | N7: =VLOOKUP(I7,'共通指数 '!$B:$I,6,FALSE) -> 99.051062 | O7: =M7-N7 -> -1.6790327 | P7: 木祖村 | Q7: =VLOOKUP($P7,様式【国から送付データ】!$H:$AD,8,FALSE)*100 -> 65.172054 | R7: =VLOOKUP($P7,様式【国から送付データ】!$H:$AD,14,FALSE)*100 -> 11.50504 | S7: =VLOOKUP($P7,様式【国から送付データ】!$H:$AD,23,FALSE)*100 -> 17.970108 | T7: =VLOOKUP($P7,様式【国から送付データ】!$H:$AD,4,FALSE)*100 -> 94.647202 | U7: =VLOOKUP(P7,'共通指数 '!$B:$I,6,FALSE) -> 97.116412 | V7: =T7-U7 -> -2.4692096
B8: 岡谷市 | C8: =VLOOKUP($B8,様式【国から送付データ】!$H:$AD,8,FALSE)*100 -> 99.486612 | D8: =VLOOKUP($B8,様式【国から送付データ】!$H:$AD,14,FALSE)*100 -> 0 | E8: =VLOOKUP($B8,様式【国から送付データ】!$H:$AD,23,FALSE)*100 -> 0.29997987 | F8: =VLOOKUP($B8,様式【国から送付データ】!$H:$AD,4,FALSE)*100 -> 99.786592 | G8: =VLOOKUP(B8,'共通指数 '!$B:$I,6,FALSE) -> 99.726216 | H8: =F8-G8 -> 0.060375195 | I8: 長和町 | J8: =VLOOKUP($I8,様式【国から送付データ】!$H:$AD,8,FALSE)*100 -> 88.666229 | K8: =VLOOKUP($I8,様式【国から送付データ】!$H:$AD,14,FALSE)*100 -> 1.0183968 | L8: =VLOOKUP($I8,様式【国から送付データ】!$H:$AD,23,FALSE)*100 -> 6.9480946 | M8: =VLOOKUP($I8,様式【国から送付データ】!$H:$AD,4,FALSE)*100 -> 96.63272 | N8: =VLOOKUP(I8,'共通指数 '!$B:$I,6,FALSE) -> 98.813291 | O8: =M8-N8 -> -2.180571 | P8: 王滝村 | Q8: =VLOOKUP($P8,様式【国から送付データ】!$H:$AD,8,FALSE)*100 -> 0 | R8: =VLOOKUP($P8,様式【国から送付データ】!$H:$AD,14,FALSE)*100 -> 85.524568 | S8: =VLOOKUP($P8,様式【国から送付データ】!$H:$AD,23,FALSE)*100 -> 11.686587 | T8: =VLOOKUP($P8,様式【国から送付データ】!$H:$AD,4,FALSE)*100 -> 97.211155 | U8: =VLOOKUP(P8,'共通指数 '!$B:$I,6,FALSE) -> 99.375 | V8: =T8-U8 -> -2.1638446
B9: 飯田市 | C9: =VLOOKUP($B9,様式【国から送付データ】!$H:$AD,8,FALSE)*100 -> 83.094817 | D9: =VLOOKUP($B9,様式【国から送付データ】!$H:$AD,14,FALSE)*100 -> 5.8767098 | E9: =VLOOKUP($B9,様式【国から送付データ】!$H:$AD,23,FALSE)*100 -> 8.022866 | F9: =VLOOKUP($B9,様式【国から送付データ】!$H:$AD,4,FALSE)*100 -> 96.994392 | G9: =VLOOKUP(B9,'共通指数 '!$B:$I,6,FALSE) -> 96.982776 | H9: =F9-G9 -> 0.011616614 | I9: 下諏訪町 | J9: =VLOOKUP($I9,様式【国から送付データ】!$H:$AD,8,FALSE)*100 -> 99.950137 | K9: =VLOOKUP($I9,様式【国から送付データ】!$H:$AD,14,FALSE)*100 -> 0 | L9: =VLOOKUP($I9,様式【国から送付データ】!$H:$AD,23,FALSE)*100 -> 0 | M9: =VLOOKUP($I9,様式【国から送付データ】!$H:$AD,4,FALSE)*100 -> 99.950137 | N9: =VLOOKUP(I9,'共通指数 '!$B:$I,6,FALSE) -> 99.926525 | O9: =M9-N9 -> 0.023612509 | P9: 大桑村 | Q9: =VLOOKUP($P9,様式【国から送付データ】!$H:$AD,8,FALSE)*100 -> 32.737612 | R9: =VLOOKUP($P9,様式【国から送付データ】!$H:$AD,14,FALSE)*100 -> 45.735175 | S9: =VLOOKUP($P9,様式【国から送付データ】!$H:$AD,23,FALSE)*100 -> 17.573788 | T9: =VLOOKUP($P9,様式【国から送付データ】!$H:$AD,4,FALSE)*100 -> 96.046575 | U9: =VLOOKUP(P9,'共通指数 '!$B:$I,6,FALSE) -> 98.093923 | V9: =T9-U9 -> -2.0473481
B10: 諏訪市 | C10: =VLOOKUP($B10,様式【国から送付データ】!$H:$AD,8,FALSE)*100 -> 99.114366 | D10: =VLOOKUP($B10,様式【国から送付データ】!$H:$AD,14,FALSE)*100 -> 0 | E10: =VLOOKUP($B10,様式【国から送付データ】!$H:$AD,23,FALSE)*100 -> 0.54469527 | F10: =VLOOKUP($B10,様式【国から送付データ】!$H:$AD,4,FALSE)*100 -> 99.659061 | G10: =VLOOKUP(B10,'共通指数 '!$B:$I,6,FALSE) -> 99.147117 | H10: =F10-G10 -> 0.51194381 | I10: 富士見町 | J10: =VLOOKUP($I10,様式【国から送付データ】!$H:$AD,8,FALSE)*100 -> 78.72972 | K10: =VLOOKUP($I10,様式【国から送付データ】!$H:$AD,14,FALSE)*100 -> 12.115982 | L10: =VLOOKUP($I10,様式【国から送付データ】!$H:$AD,23,FALSE)*100 -> 6.779427 | M10: =VLOOKUP($I10,様式【国から送付データ】!$H:$AD,4,FALSE)*100 -> 97.625129 | N10: =VLOOKUP(I10,'共通指数 '!$B:$I,6,FALSE) -> 98.77551 | O10: =M10-N10 -> -1.1503808 | P10: 木曽町 | Q10: =VLOOKUP($P10,様式【国から送付データ】!$H:$AD,8,FALSE)*100 -> 68.98144 | R10: =VLOOKUP($P10,様式【国から送付データ】!$H:$AD,14,FALSE)*100 -> 10.647352 | S10: =VLOOKUP($P10,様式【国から送付データ】!$H:$AD,23,FALSE)*100 -> 16.505206 | T10: =VLOOKUP($P10,様式【国から送付データ】!$H:$AD,4,FALSE)*100 -> 96.133997 | U10: =VLOOKUP(P10,'共通指数 '!$B:$I,6,FALSE) -> 94.783314 | V10: =T10-U10 -> 1.3506835
B11: 須坂市 | C11: =VLOOKUP($B11,様式【国から送付データ】!$H:$AD,8,FALSE)*100 -> 97.833672 | D11: =VLOOKUP($B11,様式【国から送付データ】!$H:$AD,14,FALSE)*100 -> 1.9376712 | E11: =VLOOKUP($B11,様式【国から送付データ】!$H:$AD,23,FALSE)*100 -> 0.19514695 | F11: =VLOOKUP($B11,様式【国から送付データ】!$H:$AD,4,FALSE)*100 -> 99.96649 | G11: =VLOOKUP(B11,'共通指数 '!$B:$I,6,FALSE) -> 99.9 | H11: =F11-G11 -> 0.066489917 | I11: 原村 | J11: =VLOOKUP($I11,様式【国から送付データ】!$H:$AD,8,FALSE)*100 -> 82.162638 | K11: =VLOOKUP($I11,様式【国から送付データ】!$H:$AD,14,FALSE)*100 -> 0 | L11: =VLOOKUP($I11,様式【国から送付データ】!$H:$AD,23,FALSE)*100 -> 16.868077 | M11: =VLOOKUP($I11,様式【国から送付データ】!$H:$AD,4,FALSE)*100 -> 99.030715 | N11: =VLOOKUP(I11,'共通指数 '!$B:$I,6,FALSE) -> 99.273608 | O11: =M11-N11 -> -0.24289274 | P11: 麻績村 | Q11: =VLOOKUP($P11,様式【国から送付データ】!$H:$AD,8,FALSE)*100 -> 79.460051 | R11: =VLOOKUP($P11,様式【国から送付データ】!$H:$AD,14,FALSE)*100 -> 5.8737687 | S11: =VLOOKUP($P11,様式【国から送付データ】!$H:$AD,23,FALSE)*100 -> 11.929953 | T11: =VLOOKUP($P11,様式【国から送付データ】!$H:$AD,4,FALSE)*100 -> 97.263772 | U11: =VLOOKUP(P11,'共通指数 '!$B:$I,6,FALSE) -> 98.821429 | V11: =T11-U11 -> -1.5576562
B12: 小諸市 | C12: =VLOOKUP($B12,様式【国から送付データ】!$H:$AD,8,FALSE)*100 -> 67.56093 | D12: =VLOOKUP($B12,様式【国から送付データ】!$H:$AD,14,FALSE)*100 -> 17.041375 | E12: =VLOOKUP($B12,様式【国から送付データ】!$H:$AD,23,FALSE)*100 -> 13.702059 | F12: =VLOOKUP($B12,様式【国から送付データ】!$H:$AD,4,FALSE)*100 -> 98.304364 | G12: =VLOOKUP(B12,'共通指数 '!$B:$I,6,FALSE) -> 96.62381 | H12: =F12-G12 -> 1.6805547 | I12: 辰野町 | J12: =VLOOKUP($I12,様式【国から送付データ】!$H:$AD,8,FALSE)*100 -> 88.520069 | K12: =VLOOKUP($I12,様式【国から送付データ】!$H:$AD,14,FALSE)*100 -> 8.1554489 | L12: =VLOOKUP($I12,様式【国から送付データ】!$H:$AD,23,FALSE)*100 -> 2.9363701 | M12: =VLOOKUP($I12,様式【国から送付データ】!$H:$AD,4,FALSE)*100 -> 99.611888 | N12: =VLOOKUP(I12,'共通指数 '!$B:$I,6,FALSE) -> 99.730094 | O12: =M12-N12 -> -0.118206 | P12: 生坂村 | Q12: =VLOOKUP($P12,様式【国から送付データ】!$H:$AD,8,FALSE)*100 -> 0 | R12: =VLOOKUP($P12,様式【国から送付データ】!$H:$AD,14,FALSE)*100 -> 50.400916 | S12: =VLOOKUP($P12,様式【国から送付データ】!$H:$AD,23,FALSE)*100 -> 36.597938 | T12: =VLOOKUP($P12,様式【国から送付データ】!$H:$AD,4,FALSE)*100 -> 86.998855 | U12: =VLOOKUP(P12,'共通指数 '!$B:$I,6,FALSE) -> 89.175824 | V12: =T12-U12 -> -2.1769697
B13: 伊那市 | C13: =VLOOKUP($B13,様式【国から送付データ】!$H:$AD,8,FALSE)*100 -> 74.351661 | D13: =VLOOKUP($B13,様式【国から送付データ】!$H:$AD,14,FALSE)*100 -> 17.807998 | E13: =VLOOKUP($B13,様式【国から送付データ】!$H:$AD,23,FALSE)*100 -> 6.5127904 | F13: =VLOOKUP($B13,様式【国から送付データ】!$H:$AD,4,FALSE)*100 -> 98.672449 | G13: =VLOOKUP(B13,'共通指数 '!$B:$I,6,FALSE) -> 95.765582 | H13: =F13-G13 -> 2.9068671 | I13: 箕輪町 | J13: =VLOOKUP($I13,様式【国から送付データ】!$H:$AD,8,FALSE)*100 -> 80.336114 | K13: =VLOOKUP($I13,様式【国から送付データ】!$H:$AD,14,FALSE)*100 -> 16.590156 | L13: =VLOOKUP($I13,様式【国から送付データ】!$H:$AD,23,FALSE)*100 -> 1.2494511 | M13: =VLOOKUP($I13,様式【国から送付データ】!$H:$AD,4,FALSE)*100 -> 98.175722 | N13: =VLOOKUP(I13,'共通指数 '!$B:$I,6,FALSE) -> 97.991887 | O13: =M13-N13 -> 0.1838343 | P13: 山形村 | Q13: =VLOOKUP($P13,様式【国から送付データ】!$H:$AD,8,FALSE)*100 -> 99.78226 | R13: =VLOOKUP($P13,様式【国から送付データ】!$H:$AD,14,FALSE)*100 -> 0 | S13: =VLOOKUP($P13,様式【国から送付データ】!$H:$AD,23,FALSE)*100 -> 0.022920009 | T13: =VLOOKUP($P13,様式【国から送付データ】!$H:$AD,4,FALSE)*100 -> 99.80518 | U13: =VLOOKUP(P13,'共通指数 '!$B:$I,6,FALSE) -> 99.828767 | V13: =T13-U13 -> -0.023587201
B14: 駒ヶ根市 | C14: =VLOOKUP($B14,様式【国から送付データ】!$H:$AD,8,FALSE)*100 -> 58.936209 | D14: =VLOOKUP($B14,様式【国から送付データ】!$H:$AD,14,FALSE)*100 -> 34.2295 | E14: =VLOOKUP($B14,様式【国から送付データ】!$H:$AD,23,FALSE)*100 -> 4.466577 | F14: =VLOOKUP($B14,様式【国から送付データ】!$H:$AD,4,FALSE)*100 -> 97.632286 | G14: =VLOOKUP(B14,'共通指数 '!$B:$I,6,FALSE) -> 98.348339 | H14: =F14-G14 -> -0.71605258 | I14: 飯島町 | J14: =VLOOKUP($I14,様式【国から送付データ】!$H:$AD,8,FALSE)*100 -> 56.616557 | K14: =VLOOKUP($I14,様式【国から送付データ】!$H:$AD,14,FALSE)*100 -> 19.722634 | L14: =VLOOKUP($I14,様式【国から送付データ】!$H:$AD,23,FALSE)*100 -> 20.18844 | M14: =VLOOKUP($I14,様式【国から送付データ】!$H:$AD,4,FALSE)*100 -> 96.527631 | N14: =VLOOKUP(I14,'共通指数 '!$B:$I,6,FALSE) -> 97.434676 | O14: =M14-N14 -> -0.907045 | P14: 朝日村 | Q14: =VLOOKUP($P14,様式【国から送付データ】!$H:$AD,8,FALSE)*100 -> 100 | R14: =VLOOKUP($P14,様式【国から送付データ】!$H:$AD,14,FALSE)*100 -> 0 | S14: =VLOOKUP($P14,様式【国から送付データ】!$H:$AD,23,FALSE)*100 -> 0 | T14: =VLOOKUP($P14,様式【国から送付データ】!$H:$AD,4,FALSE)*100 -> 100 | U14: =VLOOKUP(P14,'共通指数 '!$B:$I,6,FALSE) -> 100 | V14: =T14-U14 -> 0
B15: 中野市 | C15: =VLOOKUP($B15,様式【国から送付データ】!$H:$AD,8,FALSE)*100 -> 68.577976 | D15: =VLOOKUP($B15,様式【国から送付データ】!$H:$AD,14,FALSE)*100 -> 26.566607 | E15: =VLOOKUP($B15,様式【国から送付データ】!$H:$AD,23,FALSE)*100 -> 1.2537354 | F15: =VLOOKUP($B15,様式【国から送付データ】!$H:$AD,4,FALSE)*100 -> 96.398319 | G15: =VLOOKUP(B15,'共通指数 '!$B:$I,6,FALSE) -> 95.498241 | H15: =F15-G15 -> 0.90007839 | I15: 南箕輪村 | J15: =VLOOKUP($I15,様式【国から送付データ】!$H:$AD,8,FALSE)*100 -> 98.234495 | K15: =VLOOKUP($I15,様式【国から送付データ】!$H:$AD,14,FALSE)*100 -> 0 | L15: =VLOOKUP($I15,様式【国から送付データ】!$H:$AD,23,FALSE)*100 -> 1.6038285 | M15: =VLOOKUP($I15,様式【国から送付データ】!$H:$AD,4,FALSE)*100 -> 99.838324 | N15: =VLOOKUP(I15,'共通指数 '!$B:$I,6,FALSE) -> 99.888539 | O15: =M15-N15 -> -0.050215467 | P15: 筑北村 | Q15: =VLOOKUP($P15,様式【国から送付データ】!$H:$AD,8,FALSE)*100 -> 0 | R15: =VLOOKUP($P15,様式【国から送付データ】!$H:$AD,14,FALSE)*100 -> 57.067255 | S15: =VLOOKUP($P15,様式【国から送付データ】!$H:$AD,23,FALSE)*100 -> 35.788313 | T15: =VLOOKUP($P15,様式【国から送付データ】!$H:$AD,4,FALSE)*100 -> 92.855568 | U15: =VLOOKUP(P15,'共通指数 '!$B:$I,6,FALSE) -> 92.664705 | V15: =T15-U15 -> 0.19086326
B16: 大町市 | C16: =VLOOKUP($B16,様式【国から送付データ】!$H:$AD,8,FALSE)*100 -> 71.510377 | D16: =VLOOKUP($B16,様式【国から送付データ】!$H:$AD,14,FALSE)*100 -> 3.3008717 | E16: =VLOOKUP($B16,様式【国から送付データ】!$H:$AD,23,FALSE)*100 -> 18.521355 | F16: =VLOOKUP($B16,様式【国から送付データ】!$H:$AD,4,FALSE)*100 -> 93.332604 | G16: =VLOOKUP(B16,'共通指数 '!$B:$I,6,FALSE) -> 93.043731 | H16: =F16-G16 -> 0.2888725 | I16: 中川村 | J16: =VLOOKUP($I16,様式【国から送付データ】!$H:$AD,8,FALSE)*100 -> 56.395112 | K16: =VLOOKUP($I16,様式【国から送付データ】!$H:$AD,14,FALSE)*100 -> 25.295316 | L16: =VLOOKUP($I16,様式【国から送付データ】!$H:$AD,23,FALSE)*100 -> 14.949084 | M16: =VLOOKUP($I16,様式【国から送付データ】!$H:$AD,4,FALSE)*100 -> 96.639511 | N16: =VLOOKUP(I16,'共通指数 '!$B:$I,6,FALSE) -> 96.885246 | O16: =M16-N16 -> -0.2457347 | P16: 池田町 | Q16: =VLOOKUP($P16,様式【国から送付データ】!$H:$AD,8,FALSE)*100 -> 94.485857 | R16: =VLOOKUP($P16,様式【国から送付データ】!$H:$AD,14,FALSE)*100 -> 0 | S16: =VLOOKUP($P16,様式【国から送付データ】!$H:$AD,23,FALSE)*100 -> 4.0641274 | T16: =VLOOKUP($P16,様式【国から送付データ】!$H:$AD,4,FALSE)*100 -> 98.549985 | U16: =VLOOKUP(P16,'共通指数 '!$B:$I,6,FALSE) -> 98.680032 | V16: =T16-U16 -> -0.13004708
... B30: 軽井沢町 | C30: =VLOOKUP($B30,様式【国から送付データ】!$H:$AD,8,FALSE)*100 -> 47.839369 | D30: =VLOOKUP($B30,様式【国から送付データ】!$H:$AD,14,FALSE)*100 -> 3.0007391 | E30: =VLOOKUP($B30,様式【国から送付データ】!$H:$AD,23,FALSE)*100 -> 29.302784 | F30: =VLOOKUP($B30,様式【国から送付データ】!$H:$AD,4,FALSE)*100 -> 80.142892 | G30: =VLOOKUP(B30,'共通指数 '!$B:$I,6,FALSE) -> 79.898145 | H30: =F30-G30 -> 0.24474686 | I30: 大鹿村 | J30: =VLOOKUP($I30,様式【国から送付データ】!$H:$AD,8,FALSE)*100 -> 0 | K30: =VLOOKUP($I30,様式【国から送付データ】!$H:$AD,14,FALSE)*100 -> 0 | L30: =VLOOKUP($I30,様式【国から送付データ】!$H:$AD,23,FALSE)*100 -> 52.40481 | M30: =VLOOKUP($I30,様式【国から送付データ】!$H:$AD,4,FALSE)*100 -> 52.40481 | N30: =VLOOKUP(I30,'共通指数 '!$B:$I,6,FALSE) -> 59.072165 | O30: =M30-N30 -> -6.6673553 | P30: 長野県計 | Q30: =VLOOKUP($P30,様式【国から送付データ】!$H:$AD,8,FALSE)*100 -> 83.840578 | R30: =VLOOKUP($P30,様式【国から送付データ】!$H:$AD,14,FALSE)*100 -> 8.508421 | S30: =VLOOKUP($P30,様式【国から送付データ】!$H:$AD,23,FALSE)*100 -> 5.6509599 | T30: =VLOOKUP($P30,様式【国から送付データ】!$H:$AD,4,FALSE)*100 -> 97.999959 | U30: =VLOOKUP(P30,'共通指数 '!$B:$I,6,FALSE) -> 98.35647 | V30: =T30-U30 -> -0.35651122
B31: 注）１ 普及率は、個々の種別の普及率で四捨五入しているため、合計が合わないことがある。 ２ 下水道及び農業集落排水施設等の網掛け部は、当該種別で汚水処理を行う予定のない市町村 ３ 事業種別ごとの実施市町村数は、下水道64市町村、農業集落排水56市町村、浄化槽・コミュニティプラント73市町村

Sheet 様式【国から送付データ】
E1: 総括表① 汚水処理人口普及状況 | H1: 1 | I1: 2 | J1: 3 | K1: 4 | L1: 5 | M1: 6 | N1: 7 | O1: 8 | P1: 9 | Q1: 10 | R1: 11 | S1: 12 | T1: 13 | U1: 14 | V1: 15 | W1: 16 | X1: 17 | Y1: 18 | Z1: 19 | AA1: 20 | AB1: 21
E2: 1 | F2: 2 | G2: 3 | H2: 4 | I2: 5 | J2: 6 | K2: 7 | L2: 8 | M2: 9 | N2: 10 | O2: 11 | P2: 12 | Q2: 13 | R2: 14 | S2: 15 | T2: 16 | U2: 17 | V2: 18 | W2: 19 | X2: 20 | Y2: 21 | Z2: 22 | AA2: 23 | AB2: 24 | AC2: 25 | AP2: 昨年度との差分（平成29年度末数値－平成28年度末数値）
C3: ※ | D3: ※ | E3: 県 | F3: 都道府県 | G3: 市町 | H3: 市町村名 | I3: 住民基本台帳 | J3: H30年度末 | K3: H30年度末 | L3: 下 水 道 | P3: 農業集落排水施設等 | V3: 合 併 処 理 浄 化 槽 等 | AA3: コ ミ プ ラ | AC3: 都市区分 | AD3: H30年度末 | AO3: 市町村名 | AP3: 住民基本台帳 | AQ3: 汚水処理人口 | AS3: 下 水 道 | AV3: 農業集落排水施設等 | BB3: 合 併 処 理 浄 化 槽 等 | BG3: コ ミ プ ラ
C4: 通 | D4: 地 | E4: コ | F4: 名 | G4: 村 | I4: 人口 | K4: 汚水処理 | L4: H30年度末 | M4: H30年度末 | N4: H30年度末 | O4: H30年度末 | T4: H30年度末 | U4: H30年度末 | V4: 下水道の処理開始公示済区域外 | Z4: H30年度末 | AA4: H30年度末 | AB4: H30年度末 | AC4: 1:政令市 | AD4: 浄化槽 | AP4: 人口 | AR4: 汚水処理 | BB4: 下水道の処理開始公示済区域外
C5: し | D5: 整 | E5: ｜ | G5: ｺｰﾄﾞ | H5: H31.3.31現在 | I5: H31.3.31現在 | J5: 汚水処理人口 | K5: 人口普及率 | L5: 下水道 | M5: 下水道 | N5: 下水道 | O5: 下水道 | P5: H30年度末 | Q5: H30年度末 | R5: H30年度末 | S5: H30年度末 | T5: 農排等 | U5: 農排等 | V5: 浄化槽 | W5: 浄化槽設置 | X5: 民間設置 | Y5: 合併処理 | Z5: 浄化槽 | AA5: コミプラ | AB5: コミプラ | AC5: 2:一般市 | AD5: +コミプラ | AF5: H28末調書 市町村名 | AG5: チェック | AH5: H28末 調書 市町村 コード | AI5: チェック | AJ5: 総括表② 基本台帳 人口 | AK5: チェック | AL5: H30年度末下水道処理人口 | AM5: チェック | AR5: 人口普及率 | AS5: 下水道 | AT5: 下水道 | AZ5: 農排等 | BA5: 農排等 | BB5: 浄化槽 | BC5: 浄化槽設置 | BD5: 民間設置 | BE5: 合併処理 | BF5: 浄化槽 | BG5: コミプラ | BH5: コミプラ
C6: 番 | D6: 等 | E6: ド | L6: 全体計画 | M6: 処理人口 | N6: 残人口 | O6: 整備率 | P6: 農排 | Q6: 漁排 | R6: 林排 | S6: 簡易排水 | T6: 整備人口 | U6: 整備率 | V6: 市町村整備 | W6: 整備事業 | X6: 浄化槽 | Y6: 浄化槽 | Z6: 人口普及率 | AA6: 処理人口 | AB6: 処理人口 | AC6: 3:町 | AD6: 人口普及率 | AS6: 処理人口 | AT6: 整備率 | AV6: 農排 | AW6: 漁排 | AX6: 林排 | AY6: 簡易排水 | AZ6: 整備人口 | BA6: 整備率 | BB6: 市町村整備 | BC6: 整備事業 | BD6: 浄化槽 | BE6: 浄化槽 | BF6: 人口普及率 | BG6: 処理人口 | BH6: 処理人口
C7: 号 | L7: 区域内 | P7: 整備人口 | Q7: 整備人口 | R7: 整備人口 | S7: 整備人口 | V7: 推進事業等 | W7: 設置処理人口 | X7: 処理人口 | Y7: 処理人口 | AB7: 普及率 | AC7: 4:村 | AV7: 整備人口 | AW7: 整備人口 | AX7: 整備人口 | AY7: 整備人口 | BB7: 推進事業等 | BC7: 設置処理人口 | BD7: 処理人口 | BE7: 処理人口 | BH7: 普及率
L8: 人口 | V8: 設置処理人口 | AC8: (計：都市数） | BB8: 設置処理人口
I9: （人） | J9: （人） | K9: （％） | L9: （人） | M9: （人） | N9: （人） | O9: （％） | P9: （人） | Q9: （人） | R9: （人） | S9: （人） | T9: (人) | U9: （％） | V9: （人） | W9: （人） | X9: （人） | Y9: （人） | Z9: （％） | AA9: （人） | AB9: （％） | AO9: （人） | AP9: （人） | AQ9: （人） | AR9: （％） | AS9: （人） | AT9: （％） | AV9: （人） | AW9: （人） | AX9: （人） | AY9: （人） | AZ9: （人） | BA9: （％） | BB9: （人） | BC9: （人） | BD9: （人） | BE9: （人） | BF9: （％） | BG9: （人） | BH9: （％）
C11: 765 | D11: 関東 | E11: 20 | F11: 長野県 | G11: 201 | H11: 長野市 | I11: 376080 | J11: =M11+T11+Y11+AA11 -> 367097 | K11: =J11/I11 -> 0.97611412 | L11: 358223 | M11: 352962 | N11: =L11-M11 -> 5261 | O11: =M11/I11 -> 0.93852904 | P11: 7238 | Q11: 0 | R11: 0 | S11: 0 | T11: =SUM(P11:S11) -> 7238 | U11: =T11/I11 -> 0.019245905 | V11: 2859 | W11: 2071 | X11: 1967 | Y11: =SUM(V11:X11) -> 6897 | Z11: =Y11/I11 -> 0.018339183 | AA11: 0 | AB11: =AA11/I11 -> 0 | AC11: 2 | AD11: =Z11+AB11 -> 0.018339183 | AF11: 長野市 | AG11: =IF(AF11=H11,"○","×") -> ○ | AH11: 201 | AI11: =IF(AH11=G11,"OK","NG") -> OK | AJ11: 376080 | AK11: =IF(AJ11=I11,"OK","NG") -> OK | AL11: 352962 | AM11: =IF(AL11=M11,"OK","NG") -> OK | AO11: =H11 -> 長野市 | AP11: =I11-'[1]様式 (H29末)'!J775 -> -2309 | AQ11: =J11-'[1]様式 (H29末)'!K775 -> -1960 | AR11: =K11-'[1]様式 (H29末)'!L775 -> 0.0007765752 | AS11: =M11-'[1]様式 (H29末)'!M775 -> -1701 | AT11: =O11-'[1]様式 (H29末)'!N775 -> 0.0012317048 | AU11: =AS11-AP11 -> 608 | AV11: =P11-'[1]様式 (H29末)'!O775 -> -174 | AW11: =Q11-'[1]様式 (H29末)'!P775 -> 0 | AX11: =R11-'[1]様式 (H29末)'!Q775 -> 0 | AY11: =S11-'[1]様式 (H29末)'!R775 -> 0 | AZ11: =T11-'[1]様式 (H29末)'!S775 -> -174 | BA11: =U11-'[1]様式 (H29末)'!T775 -> -0.00034240214 | BB11: =V11-'[1]様式 (H29末)'!U775 -> 140 | BC11: =W11-'[1]様式 (H29末)'!V775 -> -45 | ... BH11: =AB11-'[1]様式 (H29末)'!AA775 -> 0
C12: 766 | D12: 関東 | E12: 20 | F12: 長野県 | G12: 202 | H12: 松本市 | I12: 238647 | J12: =M12+T12+Y12+AA12 -> 238096 | K12: =J12/I12 -> 0.99769115 | L12: 231118 | M12: 231118 | N12: =L12-M12 -> 0 | O12: =M12/I12 -> 0.96845131 | P12: 699 | Q12: 0 | R12: 0 | S12: 0 | T12: =SUM(P12:S12) -> 699 | U12: =T12/I12 -> 0.0029290123 | V12: 2970 | W12: 2916 | X12: 393 | Y12: =SUM(V12:X12) -> 6279 | Z12: =Y12/I12 -> 0.026310827 | AA12: 0 | AB12: =AA12/I12 -> 0 | AC12: 2 | AD12: =Z12+AB12 -> 0.026310827 | AF12: 松本市 | AG12: =IF(AF12=H12,"○","×") -> ○ | AH12: 202 | AI12: =IF(AH12=G12,"OK","NG") -> OK | AJ12: 238647 | AK12: =IF(AJ12=I12,"OK","NG") -> OK | AL12: 231118 | AM12: =IF(AL12=M12,"OK","NG") -> OK | AO12: =H12 -> 松本市 | AP12: =I12-'[1]様式 (H29末)'!J776 -> -872 | AQ12: =J12-'[1]様式 (H29末)'!K776 -> -878 | AR12: =K12-'[1]様式 (H29末)'!L776 -> -3.3455871e-05 | AS12: =M12-'[1]様式 (H29末)'!M776 -> -365 | AT12: =O12-'[1]様式 (H29末)'!N776 -> 0.0020018852 | AU12: =AS12-AP12 -> 507 | AV12: =P12-'[1]様式 (H29末)'!O776 -> -467 | AW12: =Q12-'[1]様式 (H29末)'!P776 -> 0 | AX12: =R12-'[1]様式 (H29末)'!Q776 -> 0 | AY12: =S12-'[1]様式 (H29末)'!R776 -> 0 | AZ12: =T12-'[1]様式 (H29末)'!S776 -> -467 | BA12: =U12-'[1]様式 (H29末)'!T776 -> -0.0019390775 | BB12: =V12-'[1]様式 (H29末)'!U776 -> -71 | BC12: =W12-'[1]様式 (H29末)'!V776 -> 21 | ... BH12: =AB12-'[1]様式 (H29末)'!AA776 -> 0
C13: 767 | D13: 関東 | E13: 20 | F13: 長野県 | G13: 203 | H13: 上田市 | I13: 157476 | J13: =M13+T13+Y13+AA13 -> 156397 | K13: =J13/I13 -> 0.99314816 | L13: 127149 | M13: 126655 | N13: =L13-M13 -> 494 | O13: =M13/I13 -> 0.80428129 | P13: 25709 | Q13: 0 | R13: 0 | S13: 0 | T13: =SUM(P13:S13) -> 25709 | U13: =T13/I13 -> 0.16325662 | V13: 347 | W13: 3006 | X13: 680 | Y13: =SUM(V13:X13) -> 4033 | Z13: =Y13/I13 -> 0.025610252 | AA13: 0 | AB13: =AA13/I13 -> 0 | AC13: 2 | AD13: =Z13+AB13 -> 0.025610252 | AF13: 上田市 | AG13: =IF(AF13=H13,"○","×") -> ○ | AH13: 203 | AI13: =IF(AH13=G13,"OK","NG") -> OK | AJ13: 157476 | AK13: =IF(AJ13=I13,"OK","NG") -> OK | AL13: 126655 | AM13: =IF(AL13=M13,"OK","NG") -> OK | AO13: =H13 -> 上田市 | AP13: =I13-'[1]様式 (H29末)'!J777 -> -695 | AQ13: =J13-'[1]様式 (H29末)'!K777 -> -957 | AR13: =K13-'[1]様式 (H29末)'!L777 -> -0.001686542 | AS13: =M13-'[1]様式 (H29末)'!M777 -> -894 | AT13: =O13-'[1]様式 (H29末)'!N777 -> -0.0021181159 | AU13: =AS13-AP13 -> -199 | AV13: =P13-'[1]様式 (H29末)'!O777 -> -297 | AW13: =Q13-'[1]様式 (H29末)'!P777 -> 0 | AX13: =R13-'[1]様式 (H29末)'!Q777 -> 0 | AY13: =S13-'[1]様式 (H29末)'!R777 -> 0 | AZ13: =T13-'[1]様式 (H29末)'!S777 -> -297 | BA13: =U13-'[1]様式 (H29末)'!T777 -> -0.0011603685 | BB13: =V13-'[1]様式 (H29末)'!U777 -> -21 | BC13: =W13-'[1]様式 (H29末)'!V777 -> 257 | ... BH13: =AB13-'[1]様式 (H29末)'!AA777 -> 0
C14: 768 | D14: 関東 | E14: 20 | F14: 長野県 | G14: 204 | H14: 岡谷市 | I14: 49670 | J14: =M14+T14+Y14+AA14 -> 49564 | K14: =J14/I14 -> 0.99786592 | L14: 49625 | M14: 49415 | N14: =L14-M14 -> 210 | O14: =M14/I14 -> 0.99486612 | P14: 0 | Q14: 0 | R14: 0 | S14: 0 | T14: =SUM(P14:S14) -> 0 | U14: =T14/I14 -> 0 | V14: 0 | W14: 0 | X14: 149 | Y14: =SUM(V14:X14) -> 149 | Z14: =Y14/I14 -> 0.0029997987 | AA14: 0 | AB14: =AA14/I14 -> 0 | AC14: 2 | AD14: =Z14+AB14 -> 0.0029997987 | AF14: 岡谷市 | AG14: =IF(AF14=H14,"○","×") -> ○ | AH14: 204 | AI14: =IF(AH14=G14,"OK","NG") -> OK | AJ14: 49670 | AK14: =IF(AJ14=I14,"OK","NG") -> OK | AL14: 49415 | AM14: =IF(AL14=M14,"OK","NG") -> OK | AO14: =H14 -> 岡谷市 | AP14: =I14-'[1]様式 (H29末)'!J778 -> -369 | AQ14: =J14-'[1]様式 (H29末)'!K778 -> -371 | AR14: =K14-'[1]様式 (H29末)'!L778 -> -5.5706096e-05 | AS14: =M14-'[1]様式 (H29末)'!M778 -> -363 | AT14: =O14-'[1]様式 (H29末)'!N778 -> 8.2047941e-05 | AU14: =AS14-AP14 -> 6 | AV14: =P14-'[1]様式 (H29末)'!O778 -> 0 | AW14: =Q14-'[1]様式 (H29末)'!P778 -> 0 | AX14: =R14-'[1]様式 (H29末)'!Q778 -> 0 | AY14: =S14-'[1]様式 (H29末)'!R778 -> 0 | AZ14: =T14-'[1]様式 (H29末)'!S778 -> 0 | BA14: =U14-'[1]様式 (H29末)'!T778 -> 0 | BB14: =V14-'[1]様式 (H29末)'!U778 -> 0 | BC14: =W14-'[1]様式 (H29末)'!V778 -> 0 | ... BH14: =AB14-'[1]様式 (H29末)'!AA778 -> 0
C15: 769 | D15: 関東 | E15: 20 | F15: 長野県 | G15: 205 | H15: 飯田市 | I15: 101111 | J15: =M15+T15+Y15+AA15 -> 98072 | K15: =J15/I15 -> 0.96994392 | L15: 84255 | M15: 84018 | N15: =L15-M15 -> 237 | O15: =M15/I15 -> 0.83094817 | P15: 5942 | Q15: 0 | R15: 0 | S15: 0 | T15: =SUM(P15:S15) -> 5942 | U15: =T15/I15 -> 0.058767098 | V15: 89 | W15: 7799 | X15: 224 | Y15: =SUM(V15:X15) -> 8112 | Z15: =Y15/I15 -> 0.08022866 | AA15: 0 | AB15: =AA15/I15 -> 0 | AC15: 2 | AD15: =Z15+AB15 -> 0.08022866 | AF15: 飯田市 | AG15: =IF(AF15=H15,"○","×") -> ○ | AH15: 205 | AI15: =IF(AH15=G15,"OK","NG") -> OK | AJ15: 101111 | AK15: =IF(AJ15=I15,"OK","NG") -> OK | AL15: 84018 | AM15: =IF(AL15=M15,"OK","NG") -> OK | AO15: =H15 -> 飯田市 | AP15: =I15-'[1]様式 (H29末)'!J779 -> -901 | AQ15: =J15-'[1]様式 (H29末)'!K779 -> -855 | AR15: =K15-'[1]様式 (H29末)'!L779 -> 0.00018546323 | AS15: =M15-'[1]様式 (H29末)'!M779 -> -657 | AT15: =O15-'[1]様式 (H29末)'!N779 -> 0.00089875992 | AU15: =AS15-AP15 -> 244 | AV15: =P15-'[1]様式 (H29末)'!O779 -> -43 | AW15: =Q15-'[1]様式 (H29末)'!P779 -> 0 | AX15: =R15-'[1]様式 (H29末)'!Q779 -> 0 | AY15: =S15-'[1]様式 (H29末)'!R779 -> 0 | AZ15: =T15-'[1]様式 (H29末)'!S779 -> -43 | BA15: =U15-'[1]様式 (H29末)'!T779 -> 9.752926e-05 | BB15: =V15-'[1]様式 (H29末)'!U779 -> 6 | BC15: =W15-'[1]様式 (H29末)'!V779 -> -138 | ... BH15: =AB15-'[1]様式 (H29末)'!AA779 -> 0
C16: 770 | D16: 関東 | E16: 20 | F16: 長野県 | G16: 206 | H16: 諏訪市 | I16: 49569 | J16: =M16+T16+Y16+AA16 -> 49400 | K16: =J16/I16 -> 0.99659061 | L16: 49413 | M16: 49130 | N16: =L16-M16 -> 283 | O16: =M16/I16 -> 0.99114366 | P16: 0 | Q16: 0 | R16: 0 | S16: 0 | T16: =SUM(P16:S16) -> 0 | U16: =T16/I16 -> 0 | V16: 0 | W16: 121 | X16: 149 | Y16: =SUM(V16:X16) -> 270 | Z16: =Y16/I16 -> 0.0054469527 | AA16: 0 | AB16: =AA16/I16 -> 0 | AC16: 2 | AD16: =Z16+AB16 -> 0.0054469527 | AF16: 諏訪市 | AG16: =IF(AF16=H16,"○","×") -> ○ | AH16: 206 | AI16: =IF(AH16=G16,"OK","NG") -> OK | AJ16: 49569 | AK16: =IF(AJ16=I16,"OK","NG") -> OK | AL16: 49130 | AM16: =IF(AL16=M16,"OK","NG") -> OK | AO16: =H16 -> 諏訪市 | AP16: =I16-'[1]様式 (H29末)'!J780 -> -248 | AQ16: =J16-'[1]様式 (H29末)'!K780 -> -171 | AR16: =K16-'[1]様式 (H29末)'!L780 -> 0.0015286844 | AS16: =M16-'[1]様式 (H29末)'!M780 -> -251 | AT16: =O16-'[1]様式 (H29末)'!N780 -> -0.00010430923 | AU16: =AS16-AP16 -> -3 | AV16: =P16-'[1]様式 (H29末)'!O780 -> 0 | AW16: =Q16-'[1]様式 (H29末)'!P780 -> 0 | AX16: =R16-'[1]様式 (H29末)'!Q780 -> 0 | AY16: =S16-'[1]様式 (H29末)'!R780 -> 0 | AZ16: =T16-'[1]様式 (H29末)'!S780 -> 0 | BA16: =U16-'[1]様式 (H29末)'!T780 -> 0 | BB16: =V16-'[1]様式 (H29末)'!U780 -> 0 | BC16: =W16-'[1]様式 (H29末)'!V780 -> -11 | ... BH16: =AB16-'[1]様式 (H29末)'!AA780 -> 0
C17: 771 | D17: 関東 | E17: 20 | F17: 長野県 | G17: 207 | H17: 須坂市 | I17: 50731 | J17: =M17+T17+Y17+AA17 -> 50714 | K17: =J17/I17 -> 0.9996649 | L17: 49632 | M17: 49632 | N17: =L17-M17 -> 0 | O17: =M17/I17 -> 0.97833672 | P17: 983 | Q17: 0 | R17: 0 | S17: 0 | T17: =SUM(P17:S17) -> 983 | U17: =T17/I17 -> 0.019376712 | V17: 0 | W17: 99 | X17: 0 | Y17: =SUM(V17:X17) -> 99 | Z17: =Y17/I17 -> 0.0019514695 | AA17: 0 | AB17: =AA17/I17 -> 0 | AC17: 2 | AD17: =Z17+AB17 -> 0.0019514695 | AF17: 須坂市 | AG17: =IF(AF17=H17,"○","×") -> ○ | AH17: 207 | AI17: =IF(AH17=G17,"OK","NG") -> OK | AJ17: 50731 | AK17: =IF(AJ17=I17,"OK","NG") -> OK | AL17: 49632 | AM17: =IF(AL17=M17,"OK","NG") -> OK | AO17: =H17 -> 須坂市 | AP17: =I17-'[1]様式 (H29末)'!J781 -> -232 | AQ17: =J17-'[1]様式 (H29末)'!K781 -> -166 | AR17: =K17-'[1]様式 (H29末)'!L781 -> 0.0012935317 | AS17: =M17-'[1]様式 (H29末)'!M781 -> -5 | AT17: =O17-'[1]様式 (H29末)'!N781 -> 0.0043555936 | AU17: =AS17-AP17 -> 227 | AV17: =P17-'[1]様式 (H29末)'!O781 -> 9 | AW17: =Q17-'[1]様式 (H29末)'!P781 -> 0 | AX17: =R17-'[1]様式 (H29末)'!Q781 -> 0 | AY17: =S17-'[1]様式 (H29末)'!R781 -> 0 | AZ17: =T17-'[1]様式 (H29末)'!S781 -> 9 | BA17: =U17-'[1]様式 (H29末)'!T781 -> 0.00026480775 | BB17: =V17-'[1]様式 (H29末)'!U781 -> 0 | BC17: =W17-'[1]様式 (H29末)'!V781 -> 0 | ... BH17: =AB17-'[1]様式 (H29末)'!AA781 -> 0
C18: 772 | D18: 関東 | E18: 20 | F18: 長野県 | G18: 208 | H18: 小諸市 | I18: 42344 | J18: =M18+T18+Y18+AA18 -> 41626 | K18: =J18/I18 -> 0.98304364 | L18: 29064 | M18: 28608 | N18: =L18-M18 -> 456 | O18: =M18/I18 -> 0.6756093 | P18: 7216 | Q18: 0 | R18: 0 | S18: 0 | T18: =SUM(P18:S18) -> 7216 | U18: =T18/I18 -> 0.17041375 | V18: 12 | W18: 5176 | X18: 614 | Y18: =SUM(V18:X18) -> 5802 | Z18: =Y18/I18 -> 0.13702059 | AA18: 0 | AB18: =AA18/I18 -> 0 | AC18: 2 | AD18: =Z18+AB18 -> 0.13702059 | AF18: 小諸市 | AG18: =IF(AF18=H18,"○","×") -> ○ | AH18: 208 | AI18: =IF(AH18=G18,"OK","NG") -> OK | AJ18: 42344 | AK18: =IF(AJ18=I18,"OK","NG") -> OK | AL18: 28608 | AM18: =IF(AL18=M18,"OK","NG") -> OK | AO18: =H18 -> 小諸市 | AP18: =I18-'[1]様式 (H29末)'!J782 -> -188 | AQ18: =J18-'[1]様式 (H29末)'!K782 -> -59 | AR18: =K18-'[1]様式 (H29末)'!L782 -> 0.0029580599 | AS18: =M18-'[1]様式 (H29末)'!M782 -> -29 | AT18: =O18-'[1]様式 (H29末)'!N782 -> 0.0023044895 | AU18: =AS18-AP18 -> 159 | AV18: =P18-'[1]様式 (H29末)'!O782 -> -103 | AW18: =Q18-'[1]様式 (H29末)'!P782 -> 0 | AX18: =R18-'[1]様式 (H29末)'!Q782 -> 0 | AY18: =S18-'[1]様式 (H29末)'!R782 -> 0 | AZ18: =T18-'[1]様式 (H29末)'!S782 -> -103 | BA18: =U18-'[1]様式 (H29末)'!T782 -> -0.0016684429 | BB18: =V18-'[1]様式 (H29末)'!U782 -> 0 | BC18: =W18-'[1]様式 (H29末)'!V782 -> 73 | ... BH18: =AB18-'[1]様式 (H29末)'!AA782 -> 0
C19: 773 | D19: 関東 | E19: 20 | F19: 長野県 | G19: 209 | H19: 伊那市 | I19: 68020 | J19: =M19+T19+Y19+AA19 -> 67117 | K19: =J19/I19 -> 0.98672449 | L19: 52169 | M19: 50574 | N19: =L19-M19 -> 1595 | O19: =M19/I19 -> 0.74351661 | P19: 12065 | Q19: 0 | R19: 0 | S19: 48 | T19: =SUM(P19:S19) -> 12113 | U19: =T19/I19 -> 0.17807998 | V19: 1441 | W19: 1953 | X19: 1036 | Y19: =SUM(V19:X19) -> 4430 | Z19: =Y19/I19 -> 0.065127904 | AA19: 0 | AB19: =AA19/I19 -> 0 | AC19: 2 | AD19: =Z19+AB19 -> 0.065127904 | AF19: 伊那市 | AG19: =IF(AF19=H19,"○","×") -> ○ | AH19: 209 | AI19: =IF(AH19=G19,"OK","NG") -> OK | AJ19: 68020 | AK19: =IF(AJ19=I19,"OK","NG") -> OK | AL19: 50574 | AM19: =IF(AL19=M19,"OK","NG") -> OK | AO19: =H19 -> 伊那市 | AP19: =I19-'[1]様式 (H29末)'!J783 -> -399 | AQ19: =J19-'[1]様式 (H29末)'!K783 -> 1347 | AR19: =K19-'[1]様式 (H29末)'!L783 -> 0.025441808 | AS19: =M19-'[1]様式 (H29末)'!M783 -> 612 | AT19: =O19-'[1]様式 (H29末)'!N783 -> 0.01328086 | AU19: =AS19-AP19 -> 1011 | AV19: =P19-'[1]様式 (H29末)'!O783 -> 652 | AW19: =Q19-'[1]様式 (H29末)'!P783 -> 0 | AX19: =R19-'[1]様式 (H29末)'!Q783 -> 0 | AY19: =S19-'[1]様式 (H29末)'!R783 -> 0 | AZ19: =T19-'[1]様式 (H29末)'!S783 -> 652 | BA19: =U19-'[1]様式 (H29末)'!T783 -> 0.010568028 | BB19: =V19-'[1]様式 (H29末)'!U783 -> 5 | BC19: =W19-'[1]様式 (H29末)'!V783 -> 30 | ... BH19: =AB19-'[1]様式 (H29末)'!AA783 -> 0
C20: 774 | D20: 関東 | E20: 20 | F20: 長野県 | G20: 210 | H20: 駒ヶ根市 | I20: 32732 | J20: =M20+T20+Y20+AA20 -> 31957 | K20: =J20/I20 -> 0.97632286 | L20: 20514 | M20: 19291 | N20: =L20-M20 -> 1223 | O20: =M20/I20 -> 0.58936209 | P20: 11204 | Q20: 0 | R20: 0 | S20: 0 | T20: =SUM(P20:S20) -> 11204 | U20: =T20/I20 -> 0.342295 | V20: 0 | W20: 1462 | X20: 0 | Y20: =SUM(V20:X20) -> 1462 | Z20: =Y20/I20 -> 0.04466577 | AA20: 0 | AB20: =AA20/I20 -> 0 | AC20: 2 | AD20: =Z20+AB20 -> 0.04466577 | AF20: 駒ヶ根市 | AG20: =IF(AF20=H20,"○","×") -> ○ | AH20: 210 | AI20: =IF(AH20=G20,"OK","NG") -> OK | AJ20: 32732 | AK20: =IF(AJ20=I20,"OK","NG") -> OK | AL20: 19291 | AM20: =IF(AL20=M20,"OK","NG") -> OK | AO20: =H20 -> 駒ヶ根市 | AP20: =I20-'[1]様式 (H29末)'!J784 -> -225 | AQ20: =J20-'[1]様式 (H29末)'!K784 -> 537 | AR20: =K20-'[1]様式 (H29末)'!L784 -> 0.022959391 | AS20: =M20-'[1]様式 (H29末)'!M784 -> -143 | AT20: =O20-'[1]様式 (H29末)'!N784 -> -0.00031536636 | AU20: =AS20-AP20 -> 82 | AV20: =P20-'[1]様式 (H29末)'!O784 -> -25 | AW20: =Q20-'[1]様式 (H29末)'!P784 -> 0 | AX20: =R20-'[1]様式 (H29末)'!Q784 -> 0 | AY20: =S20-'[1]様式 (H29末)'!R784 -> 0 | AZ20: =T20-'[1]様式 (H29末)'!S784 -> -25 | BA20: =U20-'[1]様式 (H29末)'!T784 -> 0.0015783104 | BB20: =V20-'[1]様式 (H29末)'!U784 -> 0 | BC20: =W20-'[1]様式 (H29末)'!V784 -> 750 | ... BH20: =AB20-'[1]様式 (H29末)'!AA784 -> 0
C21: 775 | D21: 関東 | E21: 20 | F21: 長野県 | G21: 211 | H21: 中野市 | I21: 44507 | J21: =M21+T21+Y21+AA21 -> 42904 | K21: =J21/I21 -> 0.96398319 | L21: 30522 | M21: 30522 | N21: =L21-M21 -> 0 | O21: =M21/I21 -> 0.68577976 | P21: 11824 | Q21: 0 | R21: 0 | S21: 0 | T21: =SUM(P21:S21) -> 11824 | U21: =T21/I21 -> 0.26566607 | V21: 0 | W21: 441 | X21: 117 | Y21: =SUM(V21:X21) -> 558 | Z21: =Y21/I21 -> 0.012537354 | AA21: 0 | AB21: =AA21/I21 -> 0 | AC21: 2 | AD21: =Z21+AB21 -> 0.012537354 | AF21: 中野市 | AG21: =IF(AF21=H21,"○","×") -> ○ | AH21: 211 | AI21: =IF(AH21=G21,"OK","NG") -> OK | AJ21: 44507 | AK21: =IF(AJ21=I21,"OK","NG") -> OK | AL21: 30522 | AM21: =IF(AL21=M21,"OK","NG") -> OK | AO21: =H21 -> 中野市 | AP21: =I21-'[1]様式 (H29末)'!J785 -> -233 | AQ21: =J21-'[1]様式 (H29末)'!K785 -> -68 | AR21: =K21-'[1]様式 (H29末)'!L785 -> 0.0035004042 | AS21: =M21-'[1]様式 (H29末)'!M785 -> 43 | AT21: =O21-'[1]様式 (H29末)'!N785 -> 0.0045325589 | AU21: =AS21-AP21 -> 276 | AV21: =P21-'[1]様式 (H29末)'!O785 -> -91 | AW21: =Q21-'[1]様式 (H29末)'!P785 -> 0 | AX21: =R21-'[1]様式 (H29末)'!Q785 -> 0 | AY21: =S21-'[1]様式 (H29末)'!R785 -> 0 | AZ21: =T21-'[1]様式 (H29末)'!S785 -> -91 | BA21: =U21-'[1]様式 (H29末)'!T785 -> -0.00065042031 | BB21: =V21-'[1]様式 (H29末)'!U785 -> 0 | BC21: =W21-'[1]様式 (H29末)'!V785 -> -26 | ... BH21: =AB21-'[1]様式 (H29末)'!AA785 -> 0
C22: 776 | D22: 関東 | E22: 20 | F22: 長野県 | G22: 212 | H22: 大町市 | I22: 27417 | J22: =M22+T22+Y22+AA22 -> 25589 | K22: =J22/I22 -> 0.93332604 | L22: 19606 | M22: 19606 | N22: =L22-M22 -> 0 | O22: =M22/I22 -> 0.71510377 | P22: 905 | Q22: 0 | R22: 0 | S22: 0 | T22: =SUM(P22:S22) -> 905 | U22: =T22/I22 -> 0.033008717 | V22: 285 | W22: 4556 | X22: 237 | Y22: =SUM(V22:X22) -> 5078 | Z22: =Y22/I22 -> 0.18521355 | AA22: 0 | AB22: =AA22/I22 -> 0 | AC22: 2 | AD22: =Z22+AB22 -> 0.18521355 | AF22: 大町市 | AG22: =IF(AF22=H22,"○","×") -> ○ | AH22: 212 | AI22: =IF(AH22=G22,"OK","NG") -> OK | AJ22: 27417 | AK22: =IF(AJ22=I22,"OK","NG") -> OK | AL22: 19606 | AM22: =IF(AL22=M22,"OK","NG") -> OK | AO22: =H22 -> 大町市 | AP22: =I22-'[1]様式 (H29末)'!J786 -> -386 | AQ22: =J22-'[1]様式 (H29末)'!K786 -> -213 | AR22: =K22-'[1]様式 (H29末)'!L786 -> 0.0052966892 | AS22: =M22-'[1]様式 (H29末)'!M786 -> -313 | AT22: =O22-'[1]様式 (H29末)'!N786 -> -0.0013297107 | AU22: =AS22-AP22 -> 73 | AV22: =P22-'[1]様式 (H29末)'!O786 -> -13 | AW22: =Q22-'[1]様式 (H29末)'!P786 -> 0 | AX22: =R22-'[1]様式 (H29末)'!Q786 -> 0 | AY22: =S22-'[1]様式 (H29末)'!R786 -> 0 | AZ22: =T22-'[1]様式 (H29末)'!S786 -> -13 | BA22: =U22-'[1]様式 (H29末)'!T786 -> -9.3024189e-06 | BB22: =V22-'[1]様式 (H29末)'!U786 -> -120 | BC22: =W22-'[1]様式 (H29末)'!V786 -> 2822 | ... BH22: =AB22-'[1]様式 (H29末)'!AA786 -> 0
... C87: 841 | D87: 関東 | E87: 20 | F87: 長野県 | G87: 602 | H87: 栄村 | I87: 1828 | J87: =M87+T87+Y87+AA87 -> 1468 | K87: =J87/I87 -> 0.80306346 | L87: 0 | M87: 0 | N87: =L87-M87 -> 0 | O87: =M87/I87 -> 0 | P87: 195 | Q87: 0 | R87: 0 | S87: 0 | T87: =SUM(P87:S87) -> 195 | U87: =T87/I87 -> 0.10667396 | V87: 1205 | W87: 63 | X87: 5 | Y87: =SUM(V87:X87) -> 1273 | Z87: =Y87/I87 -> 0.6963895 | AA87: 0 | AB87: =AA87/I87 -> 0 | AC87: 4 | AD87: =Z87+AB87 -> 0.6963895 | AF87: 栄村 | AG87: =IF(AF87=H87,"○","×") -> ○ | AH87: 602 | AI87: =IF(AH87=G87,"OK","NG") -> OK | AJ87: 1828 | AK87: =IF(AJ87=I87,"OK","NG") -> OK | AL87: 0 | AM87: =IF(AL87=M87,"OK","NG") -> OK | AO87: =H87 -> 栄村 | AP87: =I87-'[1]様式 (H29末)'!J851 -> -71 | AQ87: =J87-'[1]様式 (H29末)'!K851 -> -104 | AR87: =K87-'[1]様式 (H29末)'!L851 -> -0.02474065 | AS87: =M87-'[1]様式 (H29末)'!M851 -> 0 | AT87: =O87-'[1]様式 (H29末)'!N851 -> 0 | AU87: =AS87-AP87 -> 71 | AV87: =P87-'[1]様式 (H29末)'!O851 -> -1 | AW87: =Q87-'[1]様式 (H29末)'!P851 -> 0 | AX87: =R87-'[1]様式 (H29末)'!Q851 -> 0 | AY87: =S87-'[1]様式 (H29末)'!R851 -> 0 | AZ87: =T87-'[1]様式 (H29末)'!S851 -> -1 | BA87: =U87-'[1]様式 (H29末)'!T851 -> 0.0034617437 | BB87: =V87-'[1]様式 (H29末)'!U851 -> -31 | BC87: =W87-'[1]様式 (H29末)'!V851 -> -72 | ... BH87: =AB87-'[1]様式 (H29末)'!AA851 -> 0
C88: 842 | D88: 関東 | E88: 20 | F88: 長野県計 | H88: 長野県計 | I88: =SUM(I11:I87) -> 2091857 | J88: =M88+T88+Y88+AA88 -> 2050019 | K88: =J88/I88 -> 0.97999959 | L88: =SUM(L11:L87) -> 1774824 | M88: =SUM(M11:M87) -> 1753825 | N88: =L88-M88 -> 20999 | O88: =M88/I88 -> 0.83840578 | P88: =SUM(P11:P87) -> 177697 | Q88: =SUM(Q11:Q87) -> 0 | R88: =SUM(R11:R87) -> 87 | S88: =SUM(S11:S87) -> 200 | T88: =SUM(P88:S88) -> 177984 | U88: =T88/I88 -> 0.08508421 | V88: =SUM(V11:V87) -> 16237 | W88: =SUM(W11:W87) -> 83257 | X88: =SUM(X11:X87) -> 17774 | Y88: =SUM(V88:X88) -> 117268 | Z88: =Y88/I88 -> 0.056059281 | AA88: =SUM(AA11:AA87) -> 942 | AB88: =AA88/I88 -> 0.00045031759 | AC88: =COUNTA(AC11:AC87) -> 77 | AD88: =Z88+AB88 -> 0.056509599 | AI88: =IF(AH88=G88,"OK","NG") -> OK | AJ88: =SUM(AJ11:AJ87) -> 2091857 | AK88: =IF(AJ88=I88,"OK","NG") -> OK | AL88: 1753825 | AM88: =IF(AL88=M88,"OK","NG") -> OK | AO88: =H88 -> 長野県計 | AP88: =I88-'[1]様式 (H29末)'!J852 -> -13265 | AQ88: =J88-'[1]様式 (H29末)'!K852 -> -9229 | AR88: =K88-'[1]様式 (H29末)'!L852 -> 0.0017912 | AS88: =M88-'[1]様式 (H29末)'!M852 -> -7537 | AT88: =O88-'[1]様式 (H29末)'!N852 -> 0.0017027292 | AU88: =AS88-AP88 -> 5728 | AV88: =P88-'[1]様式 (H29末)'!O852 -> -2858 | AW88: =Q88-'[1]様式 (H29末)'!P852 -> 0 | AX88: =R88-'[1]様式 (H29末)'!Q852 -> -4 | AY88: =S88-'[1]様式 (H29末)'!R852 -> -15 | AZ88: =T88-'[1]様式 (H29末)'!S852 -> -2877 | BA88: =U88-'[1]様式 (H29末)'!T852 -> -0.00083052572 | BB88: =V88-'[1]様式 (H29末)'!U852 -> -131 | BC88: =W88-'[1]様式 (H29末)'!V852 -> 5898 | ... BH88: =AB88-'[1]様式 (H29末)'!AA852 -> -7.6131156e-06
M90: =+M88/L88 -> 0.9881684

Sheet 共通指数 
A1: ４ Ｄ：汚水処理人口普及率（％）
A2: 地域名 市町村名 | C2: 現状 | E2: 短 期 | J2: 中期 | K2: 長期 | L2: 備考
C3: H25 | D3: H26 | E3: H28 | F3: H29 | G3: H30 | H3: H31 | I3: H32 | J3: H37 | K3: H42
C4: (2013) | D4: (2014) | E4: (2016) | F4: (2017) | G4: (2018) | H4: (2019) | I4: (2020) | J4: (2025) | K4: (2030)
A5: 佐久地域
