Workbook

Sheet 統計表5
B1: 統 計 表
B3: (規模５人以上) | C3: 第１表 産 業 大 分 類 別 賃 金 指 数 （現金給与総額） | H3: (H22=100 以下同じ）
B4: 年 月 | C4: 調査産業計 | D4: 建 設 業 | E4: 製 造 業 | F4: 情報通信業 | G4: 卸売業，小売業 | H4: 医療，福祉
B7: =[1]入力表!B7 -> 平成25年平均 | C7: =[1]入力表!C7 -> 101.2 | D7: =[1]入力表!D7 -> 110.6 | E7: =[1]入力表!E7 -> 101.2 | F7: =[1]入力表!F7 -> 87.5 | G7: =[1]入力表!G7 -> 111.8 | H7: =[1]入力表!H7 -> 98.5
B8: =[1]入力表!B8 -> 26 | C8: =[1]入力表!C8 -> 100.6 | D8: =[1]入力表!D8 -> 112.8 | E8: =[1]入力表!E8 -> 104.2 | F8: =[1]入力表!F8 -> 88 | G8: =[1]入力表!G8 -> 105.1 | H8: =[1]入力表!H8 -> 98.6
B10: =[1]入力表!B10 -> 平成26年 ２月 | C10: =[1]入力表!C10 -> 83.6 | D10: =[1]入力表!D10 -> 96.6 | E10: =[1]入力表!E10 -> 83.8 | F10: =[1]入力表!F10 -> 71 | G10: =[1]入力表!G10 -> 88.3 | H10: =[1]入力表!H10 -> 82
B11: =[1]入力表!B11 -> ３ | C11: =[1]入力表!C11 -> 87.1 | D11: =[1]入力表!D11 -> 103.3 | E11: =[1]入力表!E11 -> 85.9 | F11: =[1]入力表!F11 -> 73.4 | G11: =[1]入力表!G11 -> 91.6 | H11: =[1]入力表!H11 -> 89.2
B12: =[1]入力表!B12 -> ４ | C12: =[1]入力表!C12 -> 88.2 | D12: =[1]入力表!D12 -> 115.2 | E12: =[1]入力表!E12 -> 85.9 | F12: =[1]入力表!F12 -> 71.6 | G12: =[1]入力表!G12 -> 97.6 | H12: =[1]入力表!H12 -> 86
B13: =[1]入力表!B13 -> ５ | C13: =[1]入力表!C13 -> 85.1 | D13: =[1]入力表!D13 -> 99.2 | E13: =[1]入力表!E13 -> 85.3 | F13: =[1]入力表!F13 -> 71.1 | G13: =[1]入力表!G13 -> 93.9 | H13: =[1]入力表!H13 -> 82.3
B14: =[1]入力表!B14 -> ６ | C14: =[1]入力表!C14 -> 135.5 | D14: =[1]入力表!D14 -> 134 | E14: =[1]入力表!E14 -> 139.8 | F14: =[1]入力表!F14 -> 160.2 | G14: =[1]入力表!G14 -> 118.3 | H14: =[1]入力表!H14 -> 117.4
B15: =[1]入力表!B15 -> ７ | C15: =[1]入力表!C15 -> 119.1 | D15: =[1]入力表!D15 -> 109.1 | E15: =[1]入力表!E15 -> 141.5 | F15: =[1]入力表!F15 -> 88.1 | G15: =[1]入力表!G15 -> 133.4 | H15: =[1]入力表!H15 -> 127.4
B16: =[1]入力表!B16 -> ８ | C16: =[1]入力表!C16 -> 92.5 | D16: =[1]入力表!D16 -> 143.9 | E16: =[1]入力表!E16 -> 91 | F16: =[1]入力表!F16 -> 71 | G16: =[1]入力表!G16 -> 104 | H16: =[1]入力表!H16 -> 89.9
B17: =[1]入力表!B17 -> ９ | C17: =[1]入力表!C17 -> 83.9 | D17: =[1]入力表!D17 -> 98.1 | E17: =[1]入力表!E17 -> 85.2 | F17: 69.3 | G17: =[1]入力表!G17 -> 89 | H17: =[1]入力表!H17 -> 82.9
B18: =[1]入力表!B18 -> １０ | C18: =[1]入力表!C18 -> 84.3 | D18: =[1]入力表!D18 -> 96 | E18: =[1]入力表!E18 -> 85.1 | F18: =[1]入力表!F18 -> 69.1 | G18: =[1]入力表!G18 -> 89 | H18: =[1]入力表!H18 -> 83.2
B19: =[1]入力表!B19 -> １１ | C19: =[1]入力表!C19 -> 85 | D19: =[1]入力表!D19 -> 94 | E19: =[1]入力表!E19 -> 86.9 | F19: =[1]入力表!F19 -> 69.4 | G19: =[1]入力表!G19 -> 90 | H19: =[1]入力表!H19 -> 86
B20: =[1]入力表!B20 -> １２ | C20: =[1]入力表!C20 -> 176.8 | D20: =[1]入力表!D20 -> 165.6 | E20: =[1]入力表!E20 -> 194.6 | F20: =[1]入力表!F20 -> 163.4 | G20: =[1]入力表!G20 -> 173.8 | H20: =[1]入力表!H20 -> 173.4
B21: =[1]入力表!B21 -> 平成27年１月 | C21: =[1]入力表!C21 -> 85.8 | D21: =[1]入力表!D21 -> 101.7 | E21: =[1]入力表!E21 -> 85.8 | F21: =[1]入力表!F21 -> 59.5 | G21: =[1]入力表!G21 -> 91.6 | H21: =[1]入力表!H21 -> 88.5
B22: =[1]入力表!B22 -> ２ | C22: =[1]入力表!C22 -> 83.9 | D22: =[1]入力表!D22 -> 102.5 | E22: =[1]入力表!E22 -> 85.2 | F22: =[1]入力表!F22 -> 62.4 | G22: =[1]入力表!G22 -> 84.3 | H22: =[1]入力表!H22 -> 87.2
B23: 前 月 比 | C23: =C22/C21*100-100 -> -2.2 | D23: =D22/D21*100-100 -> 0.8 | E23: =E22/E21*100-100 -> -0.7 | F23: =F22/F21*100-100 -> 4.9 | G23: =G22/G21*100-100 -> -8 | H23: =H22/H21*100-100 -> -1.5
B24: 前 年 同 月 比 | C24: =C22/C10*100-100 -> 0.4 | D24: =D22/D10*100-100 -> 6.1 | E24: =E22/E10*100-100 -> 1.7 | F24: =F22/F10*100-100 -> -12.1 | G24: =G22/G10*100-100 -> -4.5 | H24: =H22/H10*100-100 -> 6.3
B26: (規模５人以上) | C26: 第２表 産 業 大 分 類 別 賃 金 指 数 （きまって支給する給与）
B27: 年 月 | C27: 調査産業計 | D27: 建 設 業 | E27: 製 造 業 | F27: 情報通信業 | G27: 卸売業，小売業 | H27: 医療，福祉
B30: =[1]入力表!B30 -> 平成25年平均 | C30: =[1]入力表!C30 -> 100.9 | D30: =[1]入力表!D30 -> 107.6 | E30: =[1]入力表!E30 -> 101 | F30: =[1]入力表!F30 -> 93.9 | G30: =[1]入力表!G30 -> 109.8 | H30: =[1]入力表!H30 -> 98.7
B31: =[1]入力表!B31 -> 26 | C31: =[1]入力表!C31 -> 99.7 | D31: =[1]入力表!D31 -> 105.8 | E31: =[1]入力表!E31 -> 101.7 | F31: =[1]入力表!F31 -> 91.4 | G31: =[1]入力表!G31 -> 104.2 | H31: =[1]入力表!H31 -> 99.3
B33: =[1]入力表!B33 -> 平成26年 ２月 | C33: =[1]入力表!C33 -> 98.7 | D33: =[1]入力表!D33 -> 105.4 | E33: =[1]入力表!E33 -> 100.2 | F33: =[1]入力表!F33 -> 91.4 | G33: =[1]入力表!G33 -> 102.6 | H33: =[1]入力表!H33 -> 98.3
B34: =[1]入力表!B34 -> ３ | C34: =[1]入力表!C34 -> 99.5 | D34: =[1]入力表!D34 -> 109.2 | E34: =[1]入力表!E34 -> 101 | F34: =[1]入力表!F34 -> 94.9 | G34: =[1]入力表!G34 -> 102.4 | H34: =[1]入力表!H34 -> 97.4
B35: =[1]入力表!B35 -> ４ | C35: =[1]入力表!C35 -> 102 | D35: =[1]入力表!D35 -> 109.1 | E35: =[1]入力表!E35 -> 102.7 | F35: =[1]入力表!F35 -> 93.1 | G35: =[1]入力表!G35 -> 110.7 | H35: =[1]入力表!H35 -> 100.5
B36: =[1]入力表!B36 -> ５ | C36: =[1]入力表!C36 -> 100.3 | D36: =[1]入力表!D36 -> 108 | E36: =[1]入力表!E36 -> 101.9 | F36: =[1]入力表!F36 -> 91.9 | G36: =[1]入力表!G36 -> 107.6 | H36: =[1]入力表!H36 -> 98.7
B37: =[1]入力表!B37 -> ６ | C37: =[1]入力表!C37 -> 100.9 | D37: =[1]入力表!D37 -> 110.7 | E37: =[1]入力表!E37 -> 102.3 | F37: =[1]入力表!F37 -> 95.7 | G37: =[1]入力表!G37 -> 105.4 | H37: =[1]入力表!H37 -> 99.4
B38: =[1]入力表!B38 -> ７ | C38: =[1]入力表!C38 -> 100 | D38: =[1]入力表!D38 -> 101.4 | E38: =[1]入力表!E38 -> 102.7 | F38: =[1]入力表!F38 -> 90.6 | G38: =[1]入力表!G38 -> 103.8 | H38: =[1]入力表!H38 -> 99.8
B39: =[1]入力表!B39 -> ８ | C39: =[1]入力表!C39 -> 99.2 | D39: =[1]入力表!D39 -> 105.6 | E39: =[1]入力表!E39 -> 101.6 | F39: =[1]入力表!F39 -> 91 | G39: =[1]入力表!G39 -> 102.1 | H39: =[1]入力表!H39 -> 98.7
B40: =[1]入力表!B40 -> ９ | C40: =[1]入力表!C40 -> 99.2 | D40: =[1]入力表!D40 -> 104.2 | E40: =[1]入力表!E40 -> 102.5 | F40: =[1]入力表!F40 -> 89.8 | G40: =[1]入力表!G40 -> 102.8 | H40: =[1]入力表!H40 -> 99.6
B41: =[1]入力表!B41 -> １０ | C41: =[1]入力表!C41 -> 99.8 | D41: =[1]入力表!D41 -> 104.6 | E41: =[1]入力表!E41 -> 102.4 | F41: =[1]入力表!F41 -> 89.4 | G41: =[1]入力表!G41 -> 103.2 | H41: =[1]入力表!H41 -> 99.9
B42: =[1]入力表!B42 -> １１ | C42: =[1]入力表!C42 -> 99.5 | D42: =[1]入力表!D42 -> 101.9 | E42: =[1]入力表!E42 -> 102.6 | F42: =[1]入力表!F42 -> 88.9 | G42: =[1]入力表!G42 -> 103 | H42: =[1]入力表!H42 -> 100.6
... B45: =[1]入力表!B45 -> ２ | C45: =[1]入力表!C45 -> 99.1 | D45: =[1]入力表!D45 -> 111.4 | E45: =[1]入力表!E45 -> 103.1 | F45: =[1]入力表!F45 -> 81.3 | G45: =[1]入力表!G45 -> 97.8 | H45: =[1]入力表!H45 -> 103
B46: 前 月 比 | C46: =C45/C44*100-100 -> 0.6 | D46: =D45/D44*100-100 -> 3.5 | E46: =E45/E44*100-100 -> 2.4 | F46: =F45/F44*100-100 -> 4.8 | G46: =G45/G44*100-100 -> -2.6 | H46: =H45/H44*100-100 -> 1.7
B47: 前 年 同 月 比 | C47: =C45/C33*100-100 -> 0.4 | D47: =D45/D33*100-100 -> 5.7 | E47: =E45/E33*100-100 -> 2.9 | F47: =F45/F33*100-100 -> -11.1 | G47: =G45/G33*100-100 -> -4.7 | H47: =H45/H33*100-100 -> 4.8
B49: (規模５人以上) | C49: 第３表 産 業 大 分 類 別 実 質 賃 金 指 数 （現金給与総額）
B50: 年 月 | C50: 調査産業計 | D50: 建 設 業 | E50: 製 造 業 | F50: 情報通信業 | G50: 卸売業，小売業 | H50: 医療，福祉
B53: =[1]入力表!B53 -> 平成25年平均 | C53: 101.3 | D53: 110.7 | E53: 101.3 | F53: 87.6 | G53: 111.9 | H53: 98.6
...

Sheet 表5
B1: ＜平成27年２月分 事業所規模５人以上＞
E3: 表１ | G3: 常用労働者の一人平均月間現金給与額
B5: 産 業 | C5: 現金給与総額 | G5: きまって支給する | Q5: 特別に支
G6: 給 与 | K6: 所 定 内 | P6: 所 定 外 | Q6: 払われた
D7: 指数 | E7: 前年比 | H7: 指数 | J7: 前年比 | K7: 給 与 | L7: 指数 | N7: 前年比 | P7: 給 与 | Q7: 給 与
C8: 円 | E8: % | G8: 円 | J8: % | K8: 円 | O8: % | P8: 円 | R8: 円
B9: 調査産業計 | C9: 247835 | D9: =[1]統計表5!C22 -> 83.9 | E9: =[1]統計表5!$C$24 -> 0.4 | G9: 245873 | H9: =[1]統計表5!C45 -> 99.1 | J9: =[1]統計表5!$C$47 -> 0.4 | K9: 226840 | L9: =[1]統計表5!C174 -> 97.7 | N9: =SUM([1]統計表5!$C$176) -> -0.2 | P9: 19033 | R9: 1962
B10: 建設業 | C10: 316250 | D10: =[1]統計表5!D22 -> 102.5 | E10: =SUM([1]統計表5!$D$24) -> 6.1 | G10: 315126 | H10: =[1]統計表5!D45 -> 111.4 | J10: =SUM([1]統計表5!$D$47) -> 5.7 | K10: 286604 | L10: =[1]統計表5!D174 -> 104.8 | N10: =SUM([1]統計表5!$D$176) -> 4.6 | P10: 28522 | R10: 1124
B11: 製造業 | C11: 284121 | D11: =[1]統計表5!E22 -> 85.2 | E11: =SUM([1]統計表5!$E$24) -> 1.7 | G11: 283954 | H11: =[1]統計表5!E45 -> 103.1 | J11: =SUM([1]統計表5!$E$47) -> 2.9 | K11: 257023 | L11: =[1]統計表5!E174 -> 102.5 | N11: =SUM([1]統計表5!$E$176) -> 3.1 | P11: 26931 | R11: 167
B12: 情報通信業 | C12: 278495 | D12: =[1]統計表5!F22 -> 62.4 | E12: =SUM([1]統計表5!$F$24) -> -12.1 | G12: 278182 | H12: =[1]統計表5!F45 -> 81.3 | J12: =SUM([1]統計表5!$F$47) -> -11.1 | K12: 256492 | L12: =[1]統計表5!F174 -> 82.5 | N12: =SUM([1]統計表5!$F$176) -> -11.2 | P12: 21690 | R12: 313
B13: 卸売業，小売業 | C13: 193533 | D13: =[1]統計表5!G22 -> 84.3 | E13: =SUM([1]統計表5!$G$24) -> -4.5 | G13: 192576 | H13: =[1]統計表5!G45 -> 97.8 | J13: =SUM([1]統計表5!$G$47) -> -4.7 | K13: 183964 | L13: =[1]統計表5!G174 -> 97.3 | N13: =SUM([1]統計表5!$G$176) -> -4.8 | P13: 8612 | R13: 957
B14: 医療，福祉 | C14: 268707 | D14: =[1]統計表5!H22 -> 87.2 | E14: =SUM([1]統計表5!$H$24) -> 6.3 | G14: 263815 | H14: =[1]統計表5!H45 -> 103 | J14: =SUM([1]統計表5!$H$47) -> 4.8 | K14: 243264 | L14: =[1]統計表5!H174 -> 102.1 | N14: =SUM([1]統計表5!$H$176) -> 1.4 | P14: 20551 | R14: 4892
B16: 注）前年比は、平成22年平均値を基準とする指数比較による対前年同月増減率であり、実数から計算したものとは必ずしも一致しない。
B17: 指数、前年比及びパートタイム労働者比率の前年差は、事業所の抽出替えに伴い改訂されることがある。
B18: (以下同じ）
E21: 表２ | G21: 常用労働者の一人平均月間労働時間及び出勤日数
B23: 産 業 | C23: 総実労働時間 | F23: 所 定 内 労 働 | K23: 所 定 外 労 働 | P23: 出勤日数
D24: 指数 | E24: 前年比 | F24: 時 間 | H24: 指数 | J24: 前年比 | K24: 時 間 | L24: 指数 | N24: 前年比 | R24: 前年差
C25: 時間 | E25: % | G25: 時間 | J25: % | K25: 時間 | O25: % | P25: 日 | R25: 日
B26: 調査産業計 | C26: 146.1 | D26: =[1]統計表5!C96 -> 97.1 | E26: =[1]統計表5!C98 -> 0 | G26: 136 | H26: =[1]統計表5!C198 -> 96.1 | J26: =[1]統計表5!$C$200 -> 0.4 | K26: 10.1 | L26: =[1]統計表5!C119 -> 113.5 | N26: =SUM([1]統計表5!$C$121) -> -4.4 | P26: 19.2 | R26: =P26-T26 -> 19.2
B27: 建設業 | C27: 177.9 | D27: =[1]統計表5!D96 -> 106.3 | E27: =[1]統計表5!D98 -> 5.7 | G27: 159.2 | H27: =[1]統計表5!D198 -> 99.6 | J27: =SUM([1]統計表5!$D$200) -> 3.7 | K27: 18.7 | L27: =[1]統計表5!D119 -> 249.3 | N27: =SUM([1]統計表5!$D$121) -> 32.7 | P27: 21.4 | R27: =P27-T27 -> 21.4
B28: 製造業 | C28: 166.5 | D28: =[1]統計表5!E96 -> 101.3 | E28: =[1]統計表5!E98 -> 3.4 | G28: 151.9 | H28: =[1]統計表5!E198 -> 100.5 | J28: =SUM([1]統計表5!$E$200) -> 3.7 | K28: 14.6 | L28: =[1]統計表5!E119 -> 110.6 | N28: =SUM([1]統計表5!$E$121) -> 0.8 | P28: 20.1 | R28: =P28-T28 -> 20.1
B29: 情報通信業 | C29: 157.8 | D29: =[1]統計表5!F96 -> 101.2 | E29: =[1]統計表5!F98 -> 2.2 | G29: 147.4 | H29: =[1]統計表5!F198 -> 103.7 | J29: =SUM([1]統計表5!$F$200) -> 7 | K29: 10.4 | L29: =[1]統計表5!F119 -> 74.8 | N29: =SUM([1]統計表5!$F$121) -> -39 | P29: 20.2 | R29: =P29-T29 -> 20.2
B30: 卸売業，小売業 | C30: 136.8 | D30: =[1]統計表5!G96 -> 100.6 | E30: =[1]統計表5!G98 -> -1.4 | G30: 131.1 | H30: =[1]統計表5!G198 -> 100 | J30: =SUM([1]統計表5!$G$200) -> -1.3 | K30: 5.7 | L30: =[1]統計表5!G119 -> 114 | N30: =SUM([1]統計表5!$G$121) -> -6 | P30: 19.7 | R30: =P30-T30 -> 19.7
B31: 医療，福祉 | C31: 136.8 | D31: =[1]統計表5!H96 -> 91.6 | E31: =[1]統計表5!H98 -> 2.6 | G31: 132.4 | H31: =[1]統計表5!H198 -> 91.6 | J31: =SUM([1]統計表5!$H$200) -> 2.9 | K31: 4.4 | L31: =[1]統計表5!H119 -> 89.8 | N31: =SUM([1]統計表5!$H$121) -> -8.4 | P31: 18.2 | R31: =P31-T31 -> 18.2
E34: 表３ | G34: 常 用 労 働 者 数 及 び 労 働 異 動 率
B36: 産 業 | C36: 常用労働者数 | G36: パートタイム労働者 | K36: 入 職 率 | P36: 離 職 率
D37: 指数 | E37: 前年比 | G37: 比 率 | I37: 前年差 | M37: 前年差 | Q37: 前年差
C38: 人 | E38: % | G38: % | J38: ﾎﾟｲﾝﾄ | K38: % | N38: ﾎﾟｲﾝﾄ | P38: % | R38: ﾎﾟｲﾝﾄ
B39: 調査産業計 | C39: 703728 | D39: =[1]統計表5!C142 -> 101.2 | E39: =[1]統計表5!$C$144 -> 2 | G39: 28.6 | J39: =G39-T39 -> 28.6 | K39: 1.6 | N39: =K39-U39 -> 1.6 | P39: 1.8 | R39: =P39-V39 -> 1.8
B40: 建設業 | C40: 37348 | D40: =[1]統計表5!D142 -> 92.3 | E40: =SUM([1]統計表5!$D$144) -> 0.7 | G40: 6.6 | J40: =G40-T40 -> 6.6 | K40: 0.2 | N40: =K40-U40 -> 0.2 | P40: 0.9 | R40: =P40-V40 -> 0.9
B41: 製造業 | C41: 175317 | D41: =[1]統計表5!E142 -> 98.8 | E41: =SUM([1]統計表5!$E$144) -> 2.6 | G41: 13.7 | J41: =G41-T41 -> 13.7 | K41: 0.9 | N41: =K41-U41 -> 0.9 | P41: 0.9 | R41: =P41-V41 -> 0.9
B42: 情報通信業 | C42: 10027 | D42: =[1]統計表5!F142 -> 81.4 | E42: =SUM([1]統計表5!$F$144) -> 0.5 | G42: 18.9 | J42: =G42-T42 -> 18.9 | K42: 0.1 | N42: =K42-U42 -> 0.1 | P42: 1.8 | R42: =P42-V42 -> 1.8
B43: 卸売業，小売業 | C43: 125213 | D43: =[1]統計表5!G142 -> 98.4 | E43: =SUM([1]統計表5!$G$144) -> 1.3 | G43: 48.7 | J43: =G43-T43 -> 48.7 | K43: 3.3 | N43: =K43-U43 -> 3.3 | P43: 3.6 | R43: =P43-V43 -> 3.6
B44: 医療，福祉 | C44: 101533 | D44: =[1]統計表5!H142 -> 112.8 | E44: =SUM([1]統計表5!$H$144) -> 3 | G44: 25.4 | J44: =G44-T44 -> 25.4 | K44: 0.6 | N44: =K44-U44 -> 0.6 | P44: 0.7 | R44: =P44-V44 -> 0.7
B46: 注) パートタイム労働者比率とは、常用労働者に占めるパートタイム労働者の割合（％）のことである。
B47: 入職（離職）率とは、前月末労働者数に対する月間の入職（離職）者の割合（％）のことである。
B48: 入職（離職）率の前年差は、対前年同月差のことである。
B51: 参考 就業形態別集計結果
E52: 表４ | G52: 就業形態 (一般・ﾊﾟｰﾄﾀｲﾑ労働者) 別集計結果
...

Sheet 13
A1: ='[2]13 (入力用)'!$A$1 -> 平成27年2月 | H1: 第13-1 表 産業、性別常用労働者の１人平均月間現金給与額（長野県）
A2: 毎 月 勤 労 統 計 調 査 地 方 調 査
C5: 事業所規模 ＝ ５人以上 | O5: （単位：円）
E6: 現金給与総額 | H6: きまって支給する給与 | K6: 所定内給与 | L6: 超過労働給与 | M6: 特別に支払われた給与
A7: 産 業 | E7: 計 | F7: 男 | G7: 女 | H7: 計 | I7: 男 | J7: 女 | M7: 計 | N7: 男 | O7: 女
A9: TL | C9: 調査産業計 | E9: ='[2]13 (入力用)'!E74 -> 247835 | F9: ='[2]13 (入力用)'!F74 -> 314183 | G9: ='[2]13 (入力用)'!G74 -> 171436 | H9: ='[2]13 (入力用)'!H74 -> 245873 | I9: ='[2]13 (入力用)'!I74 -> 312034 | J9: ='[2]13 (入力用)'!J74 -> 169689 | K9: ='[2]13 (入力用)'!K74 -> 226840 | L9: ='[2]13 (入力用)'!L74 -> 19033 | ... O9: ='[2]13 (入力用)'!O74 -> 1747
A10: C | C10: 鉱業，採石業，砂利採取業 | E10: ='[2]13 (入力用)'!E75 -> 296610 | F10: ='[2]13 (入力用)'!F75 -> 301063 | G10: ='[2]13 (入力用)'!G75 -> 252891 | H10: ='[2]13 (入力用)'!H75 -> 296610 | I10: ='[2]13 (入力用)'!I75 -> 301063 | J10: ='[2]13 (入力用)'!J75 -> 252891 | K10: ='[2]13 (入力用)'!K75 -> 292077 | L10: ='[2]13 (入力用)'!L75 -> 4533 | ... O10: ='[2]13 (入力用)'!O75 -> 0
A11: D | C11: 建設業 | E11: ='[2]13 (入力用)'!E76 -> 316250 | F11: ='[2]13 (入力用)'!F76 -> 339453 | G11: ='[2]13 (入力用)'!G76 -> 196885 | H11: ='[2]13 (入力用)'!H76 -> 315126 | I11: ='[2]13 (入力用)'!I76 -> 338112 | J11: ='[2]13 (入力用)'!J76 -> 196878 | K11: ='[2]13 (入力用)'!K76 -> 286604 | L11: ='[2]13 (入力用)'!L76 -> 28522 | ... O11: ='[2]13 (入力用)'!O76 -> 7
A12: E | C12: 製造業 | E12: ='[2]13 (入力用)'!E77 -> 284121 | F12: ='[2]13 (入力用)'!F77 -> 331961 | G12: ='[2]13 (入力用)'!G77 -> 184648 | H12: ='[2]13 (入力用)'!H77 -> 283954 | I12: ='[2]13 (入力用)'!I77 -> 331749 | J12: ='[2]13 (入力用)'!J77 -> 184576 | K12: ='[2]13 (入力用)'!K77 -> 257023 | L12: ='[2]13 (入力用)'!L77 -> 26931 | ... O12: ='[2]13 (入力用)'!O77 -> 72
A13: F | C13: 電気・ガス・熱供給・水道業 | E13: × | F13: × | G13: × | H13: × | I13: × | J13: × | K13: × | L13: × | M13: × | N13: × | O13: ×
A14: G | C14: 情報通信業 | E14: ='[2]13 (入力用)'!E79 -> 278495 | F14: ='[2]13 (入力用)'!F79 -> 344010 | G14: ='[2]13 (入力用)'!G79 -> 197443 | H14: ='[2]13 (入力用)'!H79 -> 278182 | I14: ='[2]13 (入力用)'!I79 -> 343519 | J14: ='[2]13 (入力用)'!J79 -> 197351 | K14: ='[2]13 (入力用)'!K79 -> 256492 | L14: ='[2]13 (入力用)'!L79 -> 21690 | ... O14: ='[2]13 (入力用)'!O79 -> 92
A15: H | C15: 運輸業，郵便業 | E15: ='[2]13 (入力用)'!E80 -> 249128 | F15: ='[2]13 (入力用)'!F80 -> 273459 | G15: ='[2]13 (入力用)'!G80 -> 124599 | H15: ='[2]13 (入力用)'!H80 -> 246898 | I15: ='[2]13 (入力用)'!I80 -> 270857 | J15: ='[2]13 (入力用)'!J80 -> 124274 | K15: ='[2]13 (入力用)'!K80 -> 210466 | L15: ='[2]13 (入力用)'!L80 -> 36432 | ... O15: ='[2]13 (入力用)'!O80 -> 325
A16: I | C16: 卸売業，小売業 | E16: ='[2]13 (入力用)'!E81 -> 193533 | F16: ='[2]13 (入力用)'!F81 -> 267630 | G16: ='[2]13 (入力用)'!G81 -> 127484 | H16: ='[2]13 (入力用)'!H81 -> 192576 | I16: ='[2]13 (入力用)'!I81 -> 266002 | J16: ='[2]13 (入力用)'!J81 -> 127125 | K16: ='[2]13 (入力用)'!K81 -> 183964 | L16: ='[2]13 (入力用)'!L81 -> 8612 | ... O16: ='[2]13 (入力用)'!O81 -> 359
A17: J | C17: 金融業，保険業 | E17: ='[2]13 (入力用)'!E82 -> 338754 | F17: ='[2]13 (入力用)'!F82 -> 439446 | G17: ='[2]13 (入力用)'!G82 -> 241213 | H17: ='[2]13 (入力用)'!H82 -> 337771 | I17: ='[2]13 (入力用)'!I82 -> 439254 | J17: ='[2]13 (入力用)'!J82 -> 239463 | K17: ='[2]13 (入力用)'!K82 -> 321371 | L17: ='[2]13 (入力用)'!L82 -> 16400 | ... O17: ='[2]13 (入力用)'!O82 -> 1750
A18: K | C18: 不動産業，物品賃貸業 | E18: ='[2]13 (入力用)'!E83 -> 214575 | F18: ='[2]13 (入力用)'!F83 -> 248218 | G18: ='[2]13 (入力用)'!G83 -> 153047 | H18: ='[2]13 (入力用)'!H83 -> 204746 | I18: ='[2]13 (入力用)'!I83 -> 235240 | J18: ='[2]13 (入力用)'!J83 -> 148977 | K18: ='[2]13 (入力用)'!K83 -> 198574 | L18: ='[2]13 (入力用)'!L83 -> 6172 | ... O18: ='[2]13 (入力用)'!O83 -> 4070
A19: L | C19: 学術研究，専門・技術サービス業 | E19: ='[2]13 (入力用)'!E84 -> 325313 | F19: ='[2]13 (入力用)'!F84 -> 359883 | G19: ='[2]13 (入力用)'!G84 -> 236780 | H19: ='[2]13 (入力用)'!H84 -> 323484 | I19: ='[2]13 (入力用)'!I84 -> 357654 | J19: ='[2]13 (入力用)'!J84 -> 235976 | K19: ='[2]13 (入力用)'!K84 -> 297730 | L19: ='[2]13 (入力用)'!L84 -> 25754 | ... O19: ='[2]13 (入力用)'!O84 -> 804
A20: M | C20: 宿泊業，飲食サービス業 | E20: ='[2]13 (入力用)'!E85 -> 101637 | F20: ='[2]13 (入力用)'!F85 -> 172567 | G20: ='[2]13 (入力用)'!G85 -> 76559 | H20: ='[2]13 (入力用)'!H85 -> 101613 | I20: ='[2]13 (入力用)'!I85 -> 172541 | J20: ='[2]13 (入力用)'!J85 -> 76536 | K20: ='[2]13 (入力用)'!K85 -> 98520 | L20: ='[2]13 (入力用)'!L85 -> 3093 | ... O20: ='[2]13 (入力用)'!O85 -> 23
A21: N | C21: 生活関連サービス業，娯楽業 | E21: ='[2]13 (入力用)'!E86 -> 195152 | F21: ='[2]13 (入力用)'!F86 -> 241704 | G21: ='[2]13 (入力用)'!G86 -> 160219 | H21: ='[2]13 (入力用)'!H86 -> 194337 | I21: ='[2]13 (入力用)'!I86 -> 240373 | J21: ='[2]13 (入力用)'!J86 -> 159791 | K21: ='[2]13 (入力用)'!K86 -> 181597 | L21: ='[2]13 (入力用)'!L86 -> 12740 | ... O21: ='[2]13 (入力用)'!O86 -> 428
A22: O | C22: 教育，学習支援業 | E22: ='[2]13 (入力用)'!E87 -> 328165 | F22: ='[2]13 (入力用)'!F87 -> 377247 | G22: ='[2]13 (入力用)'!G87 -> 261428 | H22: ='[2]13 (入力用)'!H87 -> 322120 | I22: ='[2]13 (入力用)'!I87 -> 369317 | J22: ='[2]13 (入力用)'!J87 -> 257946 | K22: ='[2]13 (入力用)'!K87 -> 314665 | L22: ='[2]13 (入力用)'!L87 -> 7455 | ... O22: ='[2]13 (入力用)'!O87 -> 3482
A23: P | C23: 医療,福祉 | E23: ='[2]13 (入力用)'!E88 -> 268707 | F23: ='[2]13 (入力用)'!F88 -> 401544 | G23: ='[2]13 (入力用)'!G88 -> 230550 | H23: ='[2]13 (入力用)'!H88 -> 263815 | I23: ='[2]13 (入力用)'!I88 -> 397909 | J23: ='[2]13 (入力用)'!J88 -> 225297 | K23: ='[2]13 (入力用)'!K88 -> 243264 | L23: ='[2]13 (入力用)'!L88 -> 20551 | ... O23: ='[2]13 (入力用)'!O88 -> 5253
A24: Q | C24: 複合サービス事業 | E24: ='[2]13 (入力用)'!E89 -> 294180 | F24: ='[2]13 (入力用)'!F89 -> 364162 | G24: ='[2]13 (入力用)'!G89 -> 197815 | H24: ='[2]13 (入力用)'!H89 -> 281256 | I24: ='[2]13 (入力用)'!I89 -> 348518 | J24: ='[2]13 (入力用)'!J89 -> 188636 | K24: ='[2]13 (入力用)'!K89 -> 272918 | L24: ='[2]13 (入力用)'!L89 -> 8338 | ... O24: ='[2]13 (入力用)'!O89 -> 9179
A25: R | C25: サービス業（他に分類されないもの） | E25: ='[2]13 (入力用)'!E90 -> 203798 | F25: ='[2]13 (入力用)'!F90 -> 261905 | G25: ='[2]13 (入力用)'!G90 -> 127871 | H25: ='[2]13 (入力用)'!H90 -> 203564 | I25: ='[2]13 (入力用)'!I90 -> 261589 | J25: ='[2]13 (入力用)'!J90 -> 127744 | K25: ='[2]13 (入力用)'!K90 -> 182440 | L25: ='[2]13 (入力用)'!L90 -> 21124 | ... O25: ='[2]13 (入力用)'!O90 -> 127
... A27: E11 | C27: 繊維工業 | E27: ='[2]13 (入力用)'!E92 -> 157615 | F27: ='[2]13 (入力用)'!F92 -> 238665 | G27: ='[2]13 (入力用)'!G92 -> 127038 | H27: ='[2]13 (入力用)'!H92 -> 157615 | I27: ='[2]13 (入力用)'!I92 -> 238665 | J27: ='[2]13 (入力用)'!J92 -> 127038 | K27: ='[2]13 (入力用)'!K92 -> 148479 | L27: ='[2]13 (入力用)'!L92 -> 9136 | ... O27: ='[2]13 (入力用)'!O92 -> 0
A28: E12 | C28: 木材・木製品 | E28: × | F28: × | G28: × | H28: × | I28: × | J28: × | K28: × | L28: × | M28: × | N28: × | O28: ×
A29: E13 | C29: 家具・装備品 | E29: × | F29: × | G29: × | H29: × | I29: × | J29: × | K29: × | L29: × | M29: × | N29: × | O29: ×
A30: E14 | C30: パルプ・紙 | E30: ='[2]13 (入力用)'!E95 -> 246048 | F30: ='[2]13 (入力用)'!F95 -> 259666 | G30: ='[2]13 (入力用)'!G95 -> 219554 | H30: ='[2]13 (入力用)'!H95 -> 246048 | I30: ='[2]13 (入力用)'!I95 -> 259666 | J30: ='[2]13 (入力用)'!J95 -> 219554 | K30: ='[2]13 (入力用)'!K95 -> 234787 | L30: ='[2]13 (入力用)'!L95 -> 11261 | ... O30: ='[2]13 (入力用)'!O95 -> 0
A31: E15 | C31: 印刷・同関連業 | E31: ='[2]13 (入力用)'!E96 -> 282304 | F31: ='[2]13 (入力用)'!F96 -> 321784 | G31: ='[2]13 (入力用)'!G96 -> 200816 | H31: ='[2]13 (入力用)'!H96 -> 282304 | I31: ='[2]13 (入力用)'!I96 -> 321784 | J31: ='[2]13 (入力用)'!J96 -> 200816 | K31: ='[2]13 (入力用)'!K96 -> 236610 | L31: ='[2]13 (入力用)'!L96 -> 45694 | ... O31: ='[2]13 (入力用)'!O96 -> 0
A32: E16.17 | C32: 化学、石油・石炭 | E32: ='[2]13 (入力用)'!E97 -> 286138 | F32: ='[2]13 (入力用)'!F97 -> 379190 | G32: ='[2]13 (入力用)'!G97 -> 189047 | H32: ='[2]13 (入力用)'!H97 -> 286138 | I32: ='[2]13 (入力用)'!I97 -> 379190 | J32: ='[2]13 (入力用)'!J97 -> 189047 | K32: ='[2]13 (入力用)'!K97 -> 265486 | L32: ='[2]13 (入力用)'!L97 -> 20652 | ... O32: ='[2]13 (入力用)'!O97 -> 0
A33: E18 | C33: プラスチック製品 | E33: ='[2]13 (入力用)'!E98 -> 240143 | F33: ='[2]13 (入力用)'!F98 -> 292327 | G33: ='[2]13 (入力用)'!G98 -> 157005 | H33: ='[2]13 (入力用)'!H98 -> 240113 | I33: ='[2]13 (入力用)'!I98 -> 292278 | J33: ='[2]13 (入力用)'!J98 -> 157005 | K33: ='[2]13 (入力用)'!K98 -> 214659 | L33: ='[2]13 (入力用)'!L98 -> 25454 | ... O33: ='[2]13 (入力用)'!O98 -> 0
A34: E19 | C34: ゴム製品 | E34: × | F34: × | G34: × | H34: × | I34: × | J34: × | K34: × | L34: × | M34: × | N34: × | O34: ×
A35: E21 | C35: 窯業・土石製品 | E35: ='[2]13 (入力用)'!E100 -> 269222 | F35: ='[2]13 (入力用)'!F100 -> 277204 | G35: ='[2]13 (入力用)'!G100 -> 210559 | H35: ='[2]13 (入力用)'!H100 -> 269222 | I35: ='[2]13 (入力用)'!I100 -> 277204 | J35: ='[2]13 (入力用)'!J100 -> 210559 | K35: ='[2]13 (入力用)'!K100 -> 244824 | L35: ='[2]13 (入力用)'!L100 -> 24398 | ... O35: ='[2]13 (入力用)'!O100 -> 0
A36: E22 | C36: 鉄鋼業 | E36: × | F36: × | G36: × | H36: × | I36: × | J36: × | K36: × | L36: × | M36: × | N36: × | O36: ×
A37: E23 | C37: 非鉄金属製造業 | E37: × | F37: × | G37: × | H37: × | I37: × | J37: × | K37: × | L37: × | M37: × | N37: × | O37: ×
A38: E24 | C38: 金属製品製造業 | E38: ='[2]13 (入力用)'!E103 -> 306621 | F38: ='[2]13 (入力用)'!F103 -> 328094 | G38: ='[2]13 (入力用)'!G103 -> 242868 | H38: ='[2]13 (入力用)'!H103 -> 306621 | I38: ='[2]13 (入力用)'!I103 -> 328094 | J38: ='[2]13 (入力用)'!J103 -> 242868 | K38: ='[2]13 (入力用)'!K103 -> 270744 | L38: ='[2]13 (入力用)'!L103 -> 35877 | ... O38: ='[2]13 (入力用)'!O103 -> 0
A39: E25 | C39: はん用機械器具 | E39: ='[2]13 (入力用)'!E104 -> 321275 | F39: ='[2]13 (入力用)'!F104 -> 355024 | G39: ='[2]13 (入力用)'!G104 -> 199749 | H39: ='[2]13 (入力用)'!H104 -> 320974 | I39: ='[2]13 (入力用)'!I104 -> 354657 | J39: ='[2]13 (入力用)'!J104 -> 199688 | K39: ='[2]13 (入力用)'!K104 -> 289524 | L39: ='[2]13 (入力用)'!L104 -> 31450 | ... O39: ='[2]13 (入力用)'!O104 -> 61
A40: E26 | C40: 生産用機械器具 | E40: ='[2]13 (入力用)'!E105 -> 294085 | F40: ='[2]13 (入力用)'!F105 -> 310299 | G40: ='[2]13 (入力用)'!G105 -> 213496 | H40: ='[2]13 (入力用)'!H105 -> 294085 | I40: ='[2]13 (入力用)'!I105 -> 310299 | J40: ='[2]13 (入力用)'!J105 -> 213496 | K40: ='[2]13 (入力用)'!K105 -> 258863 | L40: ='[2]13 (入力用)'!L105 -> 35222 | ... O40: ='[2]13 (入力用)'!O105 -> 0
A41: E27 | C41: 業務用機械器具 | E41: ='[2]13 (入力用)'!E106 -> 272191 | F41: ='[2]13 (入力用)'!F106 -> 324535 | G41: ='[2]13 (入力用)'!G106 -> 174274 | H41: ='[2]13 (入力用)'!H106 -> 271844 | I41: ='[2]13 (入力用)'!I106 -> 324063 | J41: ='[2]13 (入力用)'!J106 -> 174161 | K41: ='[2]13 (入力用)'!K106 -> 241376 | L41: ='[2]13 (入力用)'!L106 -> 30468 | ... O41: ='[2]13 (入力用)'!O106 -> 113
A42: E28 | C42: 電子・デバイス | E42: ='[2]13 (入力用)'!E107 -> 326555 | F42: ='[2]13 (入力用)'!F107 -> 386565 | G42: ='[2]13 (入力用)'!G107 -> 188639 | H42: ='[2]13 (入力用)'!H107 -> 326441 | I42: ='[2]13 (入力用)'!I107 -> 386565 | J42: ='[2]13 (入力用)'!J107 -> 188263 | K42: ='[2]13 (入力用)'!K107 -> 299256 | L42: ='[2]13 (入力用)'!L107 -> 27185 | ... O42: ='[2]13 (入力用)'!O107 -> 376
A43: E29 | C43: 電気機械器具 | E43: ='[2]13 (入力用)'!E108 -> 267526 | F43: ='[2]13 (入力用)'!F108 -> 323498 | G43: ='[2]13 (入力用)'!G108 -> 177666 | H43: ='[2]13 (入力用)'!H108 -> 267526 | I43: ='[2]13 (入力用)'!I108 -> 323498 | J43: ='[2]13 (入力用)'!J108 -> 177666 | K43: ='[2]13 (入力用)'!K108 -> 248821 | L43: ='[2]13 (入力用)'!L108 -> 18705 | ... O43: ='[2]13 (入力用)'!O108 -> 0
A44: E30 | C44: 情報通信機械器具 | E44: ='[2]13 (入力用)'!E109 -> 338118 | F44: ='[2]13 (入力用)'!F109 -> 382882 | G44: ='[2]13 (入力用)'!G109 -> 218649 | H44: ='[2]13 (入力用)'!H109 -> 338118 | I44: ='[2]13 (入力用)'!I109 -> 382882 | J44: ='[2]13 (入力用)'!J109 -> 218649 | K44: ='[2]13 (入力用)'!K109 -> 313719 | L44: ='[2]13 (入力用)'!L109 -> 24399 | ... O44: ='[2]13 (入力用)'!O109 -> 0
...

Sheet 14
A1: ='[2]13 (入力用)'!$A$1 -> 平成27年2月 | H1: 第14-1 表 産業、性別常用労働者の１人平均月間出勤日数及び実労働時間（長野県）
A2: 毎 月 勤 労 統 計 調 査 地 方 調 査
C4: 事業所規模 ＝ ５人以上
E5: 出勤日数 | H5: 総実労働時間 | K5: 所定内労働時間 | N5: 所定外労働時間
A6: 産 業 | E6: 計 | F6: 男 | G6: 女 | H6: 計 | I6: 男 | J6: 女 | K6: 計 | L6: 男 | M6: 女 | N6: 計 | O6: 男 | P6: 女
E7: 日 | F7: 日 | G7: 日 | H7: 時間 | I7: 時間 | J7: 時間 | K7: 時間 | L7: 時間 | M7: 時間 | N7: 時間 | O7: 時間 | P7: 時間
A8: TL | C8: 調査産業計 | E8: ='[2]14 (入力用)'!E76 -> 19.2 | F8: ='[2]14 (入力用)'!F76 -> 20 | G8: ='[2]14 (入力用)'!G76 -> 18.2 | H8: ='[2]14 (入力用)'!H76 -> 146.1 | I8: ='[2]14 (入力用)'!I76 -> 162.9 | J8: ='[2]14 (入力用)'!J76 -> 126.9 | K8: ='[2]14 (入力用)'!K76 -> 136 | L8: ='[2]14 (入力用)'!L76 -> 148.3 | ... P8: ='[2]14 (入力用)'!P76 -> 5
A9: C | C9: 鉱業，採石業，砂利採取業 | E9: ='[2]14 (入力用)'!E77 -> 23.5 | F9: ='[2]14 (入力用)'!F77 -> 23.7 | G9: ='[2]14 (入力用)'!G77 -> 22 | H9: ='[2]14 (入力用)'!H77 -> 179.3 | I9: ='[2]14 (入力用)'!I77 -> 181.3 | J9: ='[2]14 (入力用)'!J77 -> 159.5 | K9: ='[2]14 (入力用)'!K77 -> 175.1 | L9: ='[2]14 (入力用)'!L77 -> 176.9 | ... P9: ='[2]14 (入力用)'!P77 -> 2.4
A10: D | C10: 建設業 | E10: ='[2]14 (入力用)'!E78 -> 21.4 | F10: ='[2]14 (入力用)'!F78 -> 21.6 | G10: ='[2]14 (入力用)'!G78 -> 20.3 | H10: ='[2]14 (入力用)'!H78 -> 177.9 | I10: ='[2]14 (入力用)'!I78 -> 182.1 | J10: ='[2]14 (入力用)'!J78 -> 156 | K10: ='[2]14 (入力用)'!K78 -> 159.2 | L10: ='[2]14 (入力用)'!L78 -> 160.7 | ... P10: ='[2]14 (入力用)'!P78 -> 4.5
A11: E | C11: 製造業 | E11: ='[2]14 (入力用)'!E79 -> 20.1 | F11: ='[2]14 (入力用)'!F79 -> 20.2 | G11: ='[2]14 (入力用)'!G79 -> 19.8 | H11: ='[2]14 (入力用)'!H79 -> 166.5 | I11: ='[2]14 (入力用)'!I79 -> 173.7 | J11: ='[2]14 (入力用)'!J79 -> 151.5 | K11: ='[2]14 (入力用)'!K79 -> 151.9 | L11: ='[2]14 (入力用)'!L79 -> 156.1 | ... P11: ='[2]14 (入力用)'!P79 -> 8.3
A12: F | C12: 電気・ガス・熱供給・水道業 | E12: × | F12: × | G12: × | H12: × | I12: × | J12: × | K12: × | L12: × | M12: × | N12: × | O12: × | P12: ×
A13: G | C13: 情報通信業 | E13: ='[2]14 (入力用)'!E81 -> 20.2 | F13: ='[2]14 (入力用)'!F81 -> 20.5 | G13: ='[2]14 (入力用)'!G81 -> 19.8 | H13: ='[2]14 (入力用)'!H81 -> 157.8 | I13: ='[2]14 (入力用)'!I81 -> 166.5 | J13: ='[2]14 (入力用)'!J81 -> 147.3 | K13: ='[2]14 (入力用)'!K81 -> 147.4 | L13: ='[2]14 (入力用)'!L81 -> 154.1 | ... P13: ='[2]14 (入力用)'!P81 -> 8
A14: H | C14: 運輸業，郵便業 | E14: ='[2]14 (入力用)'!E82 -> 19.4 | F14: ='[2]14 (入力用)'!F82 -> 19.8 | G14: ='[2]14 (入力用)'!G82 -> 17.3 | H14: ='[2]14 (入力用)'!H82 -> 156.9 | I14: ='[2]14 (入力用)'!I82 -> 165.3 | J14: ='[2]14 (入力用)'!J82 -> 114.1 | K14: ='[2]14 (入力用)'!K82 -> 140.7 | L14: ='[2]14 (入力用)'!L82 -> 146.8 | ... P14: ='[2]14 (入力用)'!P82 -> 5
A15: I | C15: 卸売業，小売業 | E15: ='[2]14 (入力用)'!E83 -> 19.7 | F15: ='[2]14 (入力用)'!F83 -> 20.9 | G15: ='[2]14 (入力用)'!G83 -> 18.5 | H15: ='[2]14 (入力用)'!H83 -> 136.8 | I15: ='[2]14 (入力用)'!I83 -> 156.9 | J15: ='[2]14 (入力用)'!J83 -> 118.7 | K15: ='[2]14 (入力用)'!K83 -> 131.1 | L15: ='[2]14 (入力用)'!L83 -> 148.3 | ... P15: ='[2]14 (入力用)'!P83 -> 3
A16: J | C16: 金融業，保険業 | E16: ='[2]14 (入力用)'!E84 -> 18.7 | F16: ='[2]14 (入力用)'!F84 -> 18.9 | G16: ='[2]14 (入力用)'!G84 -> 18.5 | H16: ='[2]14 (入力用)'!H84 -> 149 | I16: ='[2]14 (入力用)'!I84 -> 156.1 | J16: ='[2]14 (入力用)'!J84 -> 142.2 | K16: ='[2]14 (入力用)'!K84 -> 138.6 | L16: ='[2]14 (入力用)'!L84 -> 143.3 | ... P16: ='[2]14 (入力用)'!P84 -> 8.1
A17: K | C17: 不動産業，物品賃貸業 | E17: ='[2]14 (入力用)'!E85 -> 20.1 | F17: ='[2]14 (入力用)'!F85 -> 20.3 | G17: ='[2]14 (入力用)'!G85 -> 19.6 | H17: ='[2]14 (入力用)'!H85 -> 151.4 | I17: ='[2]14 (入力用)'!I85 -> 157.9 | J17: ='[2]14 (入力用)'!J85 -> 139.4 | K17: ='[2]14 (入力用)'!K85 -> 144 | L17: ='[2]14 (入力用)'!L85 -> 149.4 | ... P17: ='[2]14 (入力用)'!P85 -> 5.3
A18: L | C18: 学術研究，専門・技術サービス業 | E18: ='[2]14 (入力用)'!E86 -> 18.8 | F18: ='[2]14 (入力用)'!F86 -> 18.8 | G18: ='[2]14 (入力用)'!G86 -> 18.8 | H18: ='[2]14 (入力用)'!H86 -> 154.7 | I18: ='[2]14 (入力用)'!I86 -> 158.1 | J18: ='[2]14 (入力用)'!J86 -> 146.1 | K18: ='[2]14 (入力用)'!K86 -> 141.5 | L18: ='[2]14 (入力用)'!L86 -> 142.3 | ... P18: ='[2]14 (入力用)'!P86 -> 6.7
A19: M | C19: 宿泊業，飲食サービス業 | E19: ='[2]14 (入力用)'!E87 -> 15.6 | F19: ='[2]14 (入力用)'!F87 -> 17.5 | G19: ='[2]14 (入力用)'!G87 -> 15 | H19: ='[2]14 (入力用)'!H87 -> 92 | I19: ='[2]14 (入力用)'!I87 -> 120.9 | J19: ='[2]14 (入力用)'!J87 -> 81.8 | K19: ='[2]14 (入力用)'!K87 -> 88.9 | L19: ='[2]14 (入力用)'!L87 -> 113.7 | ... P19: ='[2]14 (入力用)'!P87 -> 1.6
A20: N | C20: 生活関連サービス業，娯楽業 | E20: ='[2]14 (入力用)'!E88 -> 20 | F20: ='[2]14 (入力用)'!F88 -> 20.1 | G20: ='[2]14 (入力用)'!G88 -> 19.9 | H20: ='[2]14 (入力用)'!H88 -> 143.1 | I20: ='[2]14 (入力用)'!I88 -> 151 | J20: ='[2]14 (入力用)'!J88 -> 137.2 | K20: ='[2]14 (入力用)'!K88 -> 138.5 | L20: ='[2]14 (入力用)'!L88 -> 146.5 | ... P20: ='[2]14 (入力用)'!P88 -> 4.7
A21: O | C21: 教育，学習支援業 | E21: ='[2]14 (入力用)'!E89 -> 17.4 | F21: ='[2]14 (入力用)'!F89 -> 18.3 | G21: ='[2]14 (入力用)'!G89 -> 16.2 | H21: ='[2]14 (入力用)'!H89 -> 135.4 | I21: ='[2]14 (入力用)'!I89 -> 146.2 | J21: ='[2]14 (入力用)'!J89 -> 120.8 | K21: ='[2]14 (入力用)'!K89 -> 122.4 | L21: ='[2]14 (入力用)'!L89 -> 129.6 | ... P21: ='[2]14 (入力用)'!P89 -> 8.2
A22: P | C22: 医療,福祉 | E22: ='[2]14 (入力用)'!E90 -> 18.2 | F22: ='[2]14 (入力用)'!F90 -> 18.1 | G22: ='[2]14 (入力用)'!G90 -> 18.2 | H22: ='[2]14 (入力用)'!H90 -> 136.8 | I22: ='[2]14 (入力用)'!I90 -> 142.4 | J22: ='[2]14 (入力用)'!J90 -> 135.2 | K22: ='[2]14 (入力用)'!K90 -> 132.4 | L22: ='[2]14 (入力用)'!L90 -> 135.3 | ... P22: ='[2]14 (入力用)'!P90 -> 3.6
A23: Q | C23: 複合サービス事業 | E23: ='[2]14 (入力用)'!E91 -> 18.1 | F23: ='[2]14 (入力用)'!F91 -> 18.6 | G23: ='[2]14 (入力用)'!G91 -> 17.3 | H23: ='[2]14 (入力用)'!H91 -> 138.3 | I23: ='[2]14 (入力用)'!I91 -> 144.8 | J23: ='[2]14 (入力用)'!J91 -> 129.5 | K23: ='[2]14 (入力用)'!K91 -> 133.7 | L23: ='[2]14 (入力用)'!L91 -> 139.4 | ... P23: ='[2]14 (入力用)'!P91 -> 3.5
A24: R | C24: サービス業（他に分類されないもの） | E24: ='[2]14 (入力用)'!E92 -> 19.7 | F24: ='[2]14 (入力用)'!F92 -> 20.5 | G24: ='[2]14 (入力用)'!G92 -> 18.6 | H24: ='[2]14 (入力用)'!H92 -> 145.8 | I24: ='[2]14 (入力用)'!I92 -> 168.4 | J24: ='[2]14 (入力用)'!J92 -> 116.2 | K24: ='[2]14 (入力用)'!K92 -> 130.9 | L24: ='[2]14 (入力用)'!L92 -> 150.2 | ... P24: ='[2]14 (入力用)'!P92 -> 10.5
... A26: E11 | C26: 繊維工業 | E26: ='[2]14 (入力用)'!E94 -> 21.4 | F26: ='[2]14 (入力用)'!F94 -> 23.2 | G26: ='[2]14 (入力用)'!G94 -> 20.7 | H26: ='[2]14 (入力用)'!H94 -> 157.8 | I26: ='[2]14 (入力用)'!I94 -> 187.2 | J26: ='[2]14 (入力用)'!J94 -> 146.7 | K26: ='[2]14 (入力用)'!K94 -> 149.7 | L26: ='[2]14 (入力用)'!L94 -> 178.2 | ... P26: ='[2]14 (入力用)'!P94 -> 7.8
A27: E12 | C27: 木材・木製品 | E27: × | F27: × | G27: × | H27: × | I27: × | J27: × | K27: × | L27: × | M27: × | N27: × | O27: × | P27: ×
A28: E13 | C28: 家具・装備品 | E28: × | F28: × | G28: × | H28: × | I28: × | J28: × | K28: × | L28: × | M28: × | N28: × | O28: × | P28: ×
A29: E14 | C29: パルプ・紙 | E29: ='[2]14 (入力用)'!E97 -> 21.4 | F29: ='[2]14 (入力用)'!F97 -> 21.2 | G29: ='[2]14 (入力用)'!G97 -> 21.8 | H29: ='[2]14 (入力用)'!H97 -> 170.1 | I29: ='[2]14 (入力用)'!I97 -> 169.5 | J29: ='[2]14 (入力用)'!J97 -> 171.3 | K29: ='[2]14 (入力用)'!K97 -> 163.1 | L29: ='[2]14 (入力用)'!L97 -> 159.6 | ... P29: ='[2]14 (入力用)'!P97 -> 1.3
A30: E15 | C30: 印刷・同関連業 | E30: ='[2]14 (入力用)'!E98 -> 22.2 | F30: ='[2]14 (入力用)'!F98 -> 22.8 | G30: ='[2]14 (入力用)'!G98 -> 21 | H30: ='[2]14 (入力用)'!H98 -> 199.5 | I30: ='[2]14 (入力用)'!I98 -> 214.4 | J30: ='[2]14 (入力用)'!J98 -> 169 | K30: ='[2]14 (入力用)'!K98 -> 168.1 | L30: ='[2]14 (入力用)'!L98 -> 174.6 | ... P30: ='[2]14 (入力用)'!P98 -> 14.2
A31: E16.17 | C31: 化学、石油・石炭 | E31: ='[2]14 (入力用)'!E99 -> 20.2 | F31: ='[2]14 (入力用)'!F99 -> 21 | G31: ='[2]14 (入力用)'!G99 -> 19.3 | H31: ='[2]14 (入力用)'!H99 -> 165.4 | I31: ='[2]14 (入力用)'!I99 -> 174.6 | J31: ='[2]14 (入力用)'!J99 -> 155.8 | K31: ='[2]14 (入力用)'!K99 -> 152.5 | L31: ='[2]14 (入力用)'!L99 -> 161.9 | ... P31: ='[2]14 (入力用)'!P99 -> 13.2
A32: E18 | C32: プラスチック製品 | E32: ='[2]14 (入力用)'!E100 -> 21.9 | F32: ='[2]14 (入力用)'!F100 -> 22.4 | G32: ='[2]14 (入力用)'!G100 -> 21.2 | H32: ='[2]14 (入力用)'!H100 -> 182.5 | I32: ='[2]14 (入力用)'!I100 -> 198.7 | J32: ='[2]14 (入力用)'!J100 -> 156.8 | K32: ='[2]14 (入力用)'!K100 -> 164.9 | L32: ='[2]14 (入力用)'!L100 -> 174.8 | ... P32: ='[2]14 (入力用)'!P100 -> 7.7
A33: E19 | C33: ゴム製品 | E33: × | F33: × | G33: × | H33: × | I33: × | J33: × | K33: × | L33: × | M33: × | N33: × | O33: × | P33: ×
A34: E21 | C34: 窯業・土石製品 | E34: ='[2]14 (入力用)'!E102 -> 21.4 | F34: ='[2]14 (入力用)'!F102 -> 21.4 | G34: ='[2]14 (入力用)'!G102 -> 21.6 | H34: ='[2]14 (入力用)'!H102 -> 173.5 | I34: ='[2]14 (入力用)'!I102 -> 173.6 | J34: ='[2]14 (入力用)'!J102 -> 173.2 | K34: ='[2]14 (入力用)'!K102 -> 162.3 | L34: ='[2]14 (入力用)'!L102 -> 162 | ... P34: ='[2]14 (入力用)'!P102 -> 8.5
A35: E22 | C35: 鉄鋼業 | E35: × | F35: × | G35: × | H35: × | I35: × | J35: × | K35: × | L35: × | M35: × | N35: × | O35: × | P35: ×
A36: E23 | C36: 非鉄金属製造業 | E36: × | F36: × | G36: × | H36: × | I36: × | J36: × | K36: × | L36: × | M36: × | N36: × | O36: × | P36: ×
A37: E24 | C37: 金属製品製造業 | E37: ='[2]14 (入力用)'!E105 -> 20.4 | F37: ='[2]14 (入力用)'!F105 -> 20.5 | G37: ='[2]14 (入力用)'!G105 -> 19.9 | H37: ='[2]14 (入力用)'!H105 -> 180.7 | I37: ='[2]14 (入力用)'!I105 -> 184.7 | J37: ='[2]14 (入力用)'!J105 -> 169 | K37: ='[2]14 (入力用)'!K105 -> 160.3 | L37: ='[2]14 (入力用)'!L105 -> 161 | ... P37: ='[2]14 (入力用)'!P105 -> 10.7
A38: E25 | C38: はん用機械器具 | E38: ='[2]14 (入力用)'!E106 -> 19.7 | F38: ='[2]14 (入力用)'!F106 -> 20.3 | G38: ='[2]14 (入力用)'!G106 -> 17.6 | H38: ='[2]14 (入力用)'!H106 -> 165.6 | I38: ='[2]14 (入力用)'!I106 -> 172.3 | J38: ='[2]14 (入力用)'!J106 -> 141.3 | K38: ='[2]14 (入力用)'!K106 -> 149.9 | L38: ='[2]14 (入力用)'!L106 -> 154.7 | ... P38: ='[2]14 (入力用)'!P106 -> 8.6
A39: E26 | C39: 生産用機械器具 | E39: ='[2]14 (入力用)'!E107 -> 20.6 | F39: ='[2]14 (入力用)'!F107 -> 21 | G39: ='[2]14 (入力用)'!G107 -> 18.7 | H39: ='[2]14 (入力用)'!H107 -> 174.5 | I39: ='[2]14 (入力用)'!I107 -> 180.5 | J39: ='[2]14 (入力用)'!J107 -> 144.6 | K39: ='[2]14 (入力用)'!K107 -> 156.5 | L39: ='[2]14 (入力用)'!L107 -> 160 | ... P39: ='[2]14 (入力用)'!P107 -> 5.6
A40: E27 | C40: 業務用機械器具 | E40: ='[2]14 (入力用)'!E108 -> 20.5 | F40: ='[2]14 (入力用)'!F108 -> 20.9 | G40: ='[2]14 (入力用)'!G108 -> 19.9 | H40: ='[2]14 (入力用)'!H108 -> 172 | I40: ='[2]14 (入力用)'!I108 -> 182.2 | J40: ='[2]14 (入力用)'!J108 -> 152.8 | K40: ='[2]14 (入力用)'!K108 -> 154.5 | L40: ='[2]14 (入力用)'!L108 -> 159.9 | ... P40: ='[2]14 (入力用)'!P108 -> 8.4
A41: E28 | C41: 電子・デバイス | E41: ='[2]14 (入力用)'!E109 -> 19 | F41: ='[2]14 (入力用)'!F109 -> 18.9 | G41: ='[2]14 (入力用)'!G109 -> 19.3 | H41: ='[2]14 (入力用)'!H109 -> 159.4 | I41: ='[2]14 (入力用)'!I109 -> 163.9 | J41: ='[2]14 (入力用)'!J109 -> 149.2 | K41: ='[2]14 (入力用)'!K109 -> 148.9 | L41: ='[2]14 (入力用)'!L109 -> 151.1 | ... P41: ='[2]14 (入力用)'!P109 -> 5.2
A42: E29 | C42: 電気機械器具 | E42: ='[2]14 (入力用)'!E110 -> 19.8 | F42: ='[2]14 (入力用)'!F110 -> 19.8 | G42: ='[2]14 (入力用)'!G110 -> 19.8 | H42: ='[2]14 (入力用)'!H110 -> 159.5 | I42: ='[2]14 (入力用)'!I110 -> 165.9 | J42: ='[2]14 (入力用)'!J110 -> 149 | K42: ='[2]14 (入力用)'!K110 -> 149.2 | L42: ='[2]14 (入力用)'!L110 -> 153.4 | ... P42: ='[2]14 (入力用)'!P110 -> 6.6
...

Sheet 15
A1: ='[2]13 (入力用)'!$A$1 -> 平成27年2月 | H1: 第15-1 表 産業、性別常用労働者数及びパートタイム労働者比率（長野県）
A2: 毎 月 勤 労 統 計 調 査 地 方 調 査
C4: 事業所規模 ＝ ５人以上
E5: 前月末労働者数 | H5: 本月中の増加労働者数 | K5: 本月中の減少労働者数 | N5: 本月末労働者数 | Q5: パートタイム労働者比率
A6: 産 業 | E6: 計 | F6: 男 | G6: 女 | H6: 計 | I6: 男 | J6: 女 | K6: 計 | L6: 男 | M6: 女 | N6: 計 | O6: 男 | P6: 女 | Q6: 計 | R6: 男 | S6: 女
E7: 人 | F7: 人 | G7: 人 | H7: 人 | I7: 人 | J7: 人 | K7: 人 | L7: 人 | M7: 人 | N7: 人 | O7: 人 | P7: 人 | Q7: ％ | R7: ％ | S7: ％
A8: TL | C8: 調査産業計 | E8: ='[2]15 (入力用)'!E76 -> 704739 | F8: ='[2]15 (入力用)'!F76 -> 376935 | G8: ='[2]15 (入力用)'!G76 -> 327804 | H8: ='[2]15 (入力用)'!H76 -> 11576 | I8: ='[2]15 (入力用)'!I76 -> 6770 | J8: ='[2]15 (入力用)'!J76 -> 4806 | K8: ='[2]15 (入力用)'!K76 -> 12587 | L8: ='[2]15 (入力用)'!L76 -> 6823 | ... S8: ='[2]15 (入力用)'!S76 -> 47.3
A9: C | C9: 鉱業，採石業，砂利採取業 | E9: ='[2]15 (入力用)'!E77 -> 595 | F9: ='[2]15 (入力用)'!F77 -> 540 | G9: ='[2]15 (入力用)'!G77 -> 55 | H9: ='[2]15 (入力用)'!H77 -> 0 | I9: ='[2]15 (入力用)'!I77 -> 0 | J9: ='[2]15 (入力用)'!J77 -> 0 | K9: ='[2]15 (入力用)'!K77 -> 0 | L9: ='[2]15 (入力用)'!L77 -> 0 | ... S9: ='[2]15 (入力用)'!S77 -> 25.5
A10: D | C10: 建設業 | E10: ='[2]15 (入力用)'!E78 -> 37589 | F10: ='[2]15 (入力用)'!F78 -> 31491 | G10: ='[2]15 (入力用)'!G78 -> 6098 | H10: ='[2]15 (入力用)'!H78 -> 86 | I10: ='[2]15 (入力用)'!I78 -> 86 | J10: ='[2]15 (入力用)'!J78 -> 0 | K10: ='[2]15 (入力用)'!K78 -> 327 | L10: ='[2]15 (入力用)'!L78 -> 327 | ... S10: ='[2]15 (入力用)'!S78 -> 19
A11: E | C11: 製造業 | E11: ='[2]15 (入力用)'!E79 -> 175199 | F11: ='[2]15 (入力用)'!F79 -> 118333 | G11: ='[2]15 (入力用)'!G79 -> 56866 | H11: ='[2]15 (入力用)'!H79 -> 1627 | I11: ='[2]15 (入力用)'!I79 -> 847 | J11: ='[2]15 (入力用)'!J79 -> 780 | K11: ='[2]15 (入力用)'!K79 -> 1509 | L11: ='[2]15 (入力用)'!L79 -> 828 | ... S11: ='[2]15 (入力用)'!S79 -> 34.7
A12: F | C12: 電気・ガス・熱供給・水道業 | E12: × | F12: × | G12: × | H12: × | I12: × | J12: × | K12: × | L12: × | M12: × | N12: × | O12: × | P12: × | Q12: × | R12: × | S12: ×
A13: G | C13: 情報通信業 | E13: ='[2]15 (入力用)'!E81 -> 10201 | F13: ='[2]15 (入力用)'!F81 -> 5674 | G13: ='[2]15 (入力用)'!G81 -> 4527 | H13: ='[2]15 (入力用)'!H81 -> 8 | I13: ='[2]15 (入力用)'!I81 -> 0 | J13: ='[2]15 (入力用)'!J81 -> 8 | K13: ='[2]15 (入力用)'!K81 -> 182 | L13: ='[2]15 (入力用)'!L81 -> 162 | ... S13: ='[2]15 (入力用)'!S81 -> 38.2
A14: H | C14: 運輸業，郵便業 | E14: ='[2]15 (入力用)'!E82 -> 46124 | F14: ='[2]15 (入力用)'!F82 -> 38498 | G14: ='[2]15 (入力用)'!G82 -> 7626 | H14: ='[2]15 (入力用)'!H82 -> 977 | I14: ='[2]15 (入力用)'!I82 -> 921 | J14: ='[2]15 (入力用)'!J82 -> 56 | K14: ='[2]15 (入力用)'!K82 -> 756 | L14: ='[2]15 (入力用)'!L82 -> 562 | ... S14: ='[2]15 (入力用)'!S82 -> 59
A15: I | C15: 卸売業，小売業 | E15: ='[2]15 (入力用)'!E83 -> 125619 | F15: ='[2]15 (入力用)'!F83 -> 58987 | G15: ='[2]15 (入力用)'!G83 -> 66632 | H15: ='[2]15 (入力用)'!H83 -> 4138 | I15: ='[2]15 (入力用)'!I83 -> 2725 | J15: ='[2]15 (入力用)'!J83 -> 1413 | K15: ='[2]15 (入力用)'!K83 -> 4544 | L15: ='[2]15 (入力用)'!L83 -> 2485 | ... S15: ='[2]15 (入力用)'!S83 -> 71.8
A16: J | C16: 金融業，保険業 | E16: ='[2]15 (入力用)'!E84 -> 17824 | F16: ='[2]15 (入力用)'!F84 -> 8875 | G16: ='[2]15 (入力用)'!G84 -> 8949 | H16: ='[2]15 (入力用)'!H84 -> 1092 | I16: ='[2]15 (入力用)'!I84 -> 315 | J16: ='[2]15 (入力用)'!J84 -> 777 | K16: ='[2]15 (入力用)'!K84 -> 427 | L16: ='[2]15 (入力用)'!L84 -> 197 | ... S16: ='[2]15 (入力用)'!S84 -> 14
A17: K | C17: 不動産業，物品賃貸業 | E17: ='[2]15 (入力用)'!E85 -> 6575 | F17: ='[2]15 (入力用)'!F85 -> 4291 | G17: ='[2]15 (入力用)'!G85 -> 2284 | H17: ='[2]15 (入力用)'!H85 -> 99 | I17: ='[2]15 (入力用)'!I85 -> 3 | J17: ='[2]15 (入力用)'!J85 -> 96 | K17: ='[2]15 (入力用)'!K85 -> 64 | L17: ='[2]15 (入力用)'!L85 -> 61 | ... S17: ='[2]15 (入力用)'!S85 -> 54.9
A18: L | C18: 学術研究，専門・技術サービス業 | E18: ='[2]15 (入力用)'!E86 -> 13616 | F18: ='[2]15 (入力用)'!F86 -> 9776 | G18: ='[2]15 (入力用)'!G86 -> 3840 | H18: ='[2]15 (入力用)'!H86 -> 38 | I18: ='[2]15 (入力用)'!I86 -> 6 | J18: ='[2]15 (入力用)'!J86 -> 32 | K18: ='[2]15 (入力用)'!K86 -> 82 | L18: ='[2]15 (入力用)'!L86 -> 5 | ... S18: ='[2]15 (入力用)'!S86 -> 15.2
A19: M | C19: 宿泊業，飲食サービス業 | E19: ='[2]15 (入力用)'!E87 -> 55444 | F19: ='[2]15 (入力用)'!F87 -> 14410 | G19: ='[2]15 (入力用)'!G87 -> 41034 | H19: ='[2]15 (入力用)'!H87 -> 1412 | I19: ='[2]15 (入力用)'!I87 -> 895 | J19: ='[2]15 (入力用)'!J87 -> 517 | K19: ='[2]15 (入力用)'!K87 -> 2234 | L19: ='[2]15 (入力用)'!L87 -> 965 | ... S19: ='[2]15 (入力用)'!S87 -> 87
A20: N | C20: 生活関連サービス業，娯楽業 | E20: ='[2]15 (入力用)'!E88 -> 24712 | F20: ='[2]15 (入力用)'!F88 -> 10528 | G20: ='[2]15 (入力用)'!G88 -> 14184 | H20: ='[2]15 (入力用)'!H88 -> 501 | I20: ='[2]15 (入力用)'!I88 -> 396 | J20: ='[2]15 (入力用)'!J88 -> 105 | K20: ='[2]15 (入力用)'!K88 -> 842 | L20: ='[2]15 (入力用)'!L88 -> 410 | ... S20: ='[2]15 (入力用)'!S88 -> 51.4
A21: O | C21: 教育，学習支援業 | E21: ='[2]15 (入力用)'!E89 -> 34372 | F21: ='[2]15 (入力用)'!F89 -> 19825 | G21: ='[2]15 (入力用)'!G89 -> 14547 | H21: ='[2]15 (入力用)'!H89 -> 73 | I21: ='[2]15 (入力用)'!I89 -> 4 | J21: ='[2]15 (入力用)'!J89 -> 69 | K21: ='[2]15 (入力用)'!K89 -> 19 | L21: ='[2]15 (入力用)'!L89 -> 11 | ... S21: ='[2]15 (入力用)'!S89 -> 22.3
A22: P | C22: 医療,福祉 | E22: ='[2]15 (入力用)'!E90 -> 101610 | F22: ='[2]15 (入力用)'!F90 -> 22685 | G22: ='[2]15 (入力用)'!G90 -> 78925 | H22: ='[2]15 (入力用)'!H90 -> 608 | I22: ='[2]15 (入力用)'!I90 -> 161 | J22: ='[2]15 (入力用)'!J90 -> 447 | K22: ='[2]15 (入力用)'!K90 -> 685 | L22: ='[2]15 (入力用)'!L90 -> 200 | ... S22: ='[2]15 (入力用)'!S90 -> 27.3
A23: Q | C23: 複合サービス事業 | E23: ='[2]15 (入力用)'!E91 -> 9230 | F23: ='[2]15 (入力用)'!F91 -> 5361 | G23: ='[2]15 (入力用)'!G91 -> 3869 | H23: ='[2]15 (入力用)'!H91 -> 126 | I23: ='[2]15 (入力用)'!I91 -> 62 | J23: ='[2]15 (入力用)'!J91 -> 64 | K23: ='[2]15 (入力用)'!K91 -> 181 | L23: ='[2]15 (入力用)'!L91 -> 122 | ... S23: ='[2]15 (入力用)'!S91 -> 22.2
A24: R | C24: サービス業（他に分類されないもの） | E24: ='[2]15 (入力用)'!E92 -> 41190 | F24: ='[2]15 (入力用)'!F92 -> 23413 | G24: ='[2]15 (入力用)'!G92 -> 17777 | H24: ='[2]15 (入力用)'!H92 -> 779 | I24: ='[2]15 (入力用)'!I92 -> 337 | J24: ='[2]15 (入力用)'!J92 -> 442 | K24: ='[2]15 (入力用)'!K92 -> 684 | L24: ='[2]15 (入力用)'!L92 -> 443 | ... S24: ='[2]15 (入力用)'!S92 -> 50.4
... A26: E11 | C26: 繊維工業 | E26: ='[2]15 (入力用)'!E94 -> 1504 | F26: ='[2]15 (入力用)'!F94 -> 401 | G26: ='[2]15 (入力用)'!G94 -> 1103 | H26: ='[2]15 (入力用)'!H94 -> 42 | I26: ='[2]15 (入力用)'!I94 -> 31 | J26: ='[2]15 (入力用)'!J94 -> 11 | K26: ='[2]15 (入力用)'!K94 -> 9 | L26: ='[2]15 (入力用)'!L94 -> 0 | ... S26: ='[2]15 (入力用)'!S94 -> 54.4
A27: E12 | C27: 木材・木製品 | E27: × | F27: × | G27: × | H27: × | I27: × | J27: × | K27: × | L27: × | M27: × | N27: × | O27: × | P27: × | Q27: × | R27: × | S27: ×
A28: E13 | C28: 家具・装備品 | E28: × | F28: × | G28: × | H28: × | I28: × | J28: × | K28: × | L28: × | M28: × | N28: × | O28: × | P28: × | Q28: × | R28: × | S28: ×
A29: E14 | C29: パルプ・紙 | E29: ='[2]15 (入力用)'!E97 -> 2008 | F29: ='[2]15 (入力用)'!F97 -> 1323 | G29: ='[2]15 (入力用)'!G97 -> 685 | H29: ='[2]15 (入力用)'!H97 -> 4 | I29: ='[2]15 (入力用)'!I97 -> 4 | J29: ='[2]15 (入力用)'!J97 -> 0 | K29: ='[2]15 (入力用)'!K97 -> 8 | L29: ='[2]15 (入力用)'!L97 -> 0 | ... S29: ='[2]15 (入力用)'!S97 -> 1.2
A30: E15 | C30: 印刷・同関連業 | E30: ='[2]15 (入力用)'!E98 -> 4004 | F30: ='[2]15 (入力用)'!F98 -> 2692 | G30: ='[2]15 (入力用)'!G98 -> 1312 | H30: ='[2]15 (入力用)'!H98 -> 60 | I30: ='[2]15 (入力用)'!I98 -> 45 | J30: ='[2]15 (入力用)'!J98 -> 15 | K30: ='[2]15 (入力用)'!K98 -> 31 | L30: ='[2]15 (入力用)'!L98 -> 15 | ... S30: ='[2]15 (入力用)'!S98 -> 35.9
A31: E16.17 | C31: 化学、石油・石炭 | E31: ='[2]15 (入力用)'!E99 -> 1271 | F31: ='[2]15 (入力用)'!F99 -> 649 | G31: ='[2]15 (入力用)'!G99 -> 622 | H31: ='[2]15 (入力用)'!H99 -> 0 | I31: ='[2]15 (入力用)'!I99 -> 0 | J31: ='[2]15 (入力用)'!J99 -> 0 | K31: ='[2]15 (入力用)'!K99 -> 0 | L31: ='[2]15 (入力用)'!L99 -> 0 | ... S31: ='[2]15 (入力用)'!S99 -> 65
A32: E18 | C32: プラスチック製品 | E32: ='[2]15 (入力用)'!E100 -> 5871 | F32: ='[2]15 (入力用)'!F100 -> 3608 | G32: ='[2]15 (入力用)'!G100 -> 2263 | H32: ='[2]15 (入力用)'!H100 -> 111 | I32: ='[2]15 (入力用)'!I100 -> 18 | J32: ='[2]15 (入力用)'!J100 -> 93 | K32: ='[2]15 (入力用)'!K100 -> 93 | L32: ='[2]15 (入力用)'!L100 -> 9 | ... S32: ='[2]15 (入力用)'!S100 -> 57.4
A33: E19 | C33: ゴム製品 | E33: × | F33: × | G33: × | H33: × | I33: × | J33: × | K33: × | L33: × | M33: × | N33: × | O33: × | P33: × | Q33: × | R33: × | S33: ×
A34: E21 | C34: 窯業・土石製品 | E34: ='[2]15 (入力用)'!E102 -> 4797 | F34: ='[2]15 (入力用)'!F102 -> 4221 | G34: ='[2]15 (入力用)'!G102 -> 576 | H34: ='[2]15 (入力用)'!H102 -> 47 | I34: ='[2]15 (入力用)'!I102 -> 47 | J34: ='[2]15 (入力用)'!J102 -> 0 | K34: ='[2]15 (入力用)'!K102 -> 23 | L34: ='[2]15 (入力用)'!L102 -> 23 | ... S34: ='[2]15 (入力用)'!S102 -> 22.7
A35: E22 | C35: 鉄鋼業 | E35: × | F35: × | G35: × | H35: × | I35: × | J35: × | K35: × | L35: × | M35: × | N35: × | O35: × | P35: × | Q35: × | R35: × | S35: ×
A36: E23 | C36: 非鉄金属製造業 | E36: × | F36: × | G36: × | H36: × | I36: × | J36: × | K36: × | L36: × | M36: × | N36: × | O36: × | P36: × | Q36: × | R36: × | S36: ×
A37: E24 | C37: 金属製品製造業 | E37: ='[2]15 (入力用)'!E105 -> 11984 | F37: ='[2]15 (入力用)'!F105 -> 8983 | G37: ='[2]15 (入力用)'!G105 -> 3001 | H37: ='[2]15 (入力用)'!H105 -> 109 | I37: ='[2]15 (入力用)'!I105 -> 42 | J37: ='[2]15 (入力用)'!J105 -> 67 | K37: ='[2]15 (入力用)'!K105 -> 109 | L37: ='[2]15 (入力用)'!L105 -> 79 | ... S37: ='[2]15 (入力用)'!S105 -> 7.2
A38: E25 | C38: はん用機械器具 | E38: ='[2]15 (入力用)'!E106 -> 11652 | F38: ='[2]15 (入力用)'!F106 -> 9115 | G38: ='[2]15 (入力用)'!G106 -> 2537 | H38: ='[2]15 (入力用)'!H106 -> 64 | I38: ='[2]15 (入力用)'!I106 -> 48 | J38: ='[2]15 (入力用)'!J106 -> 16 | K38: ='[2]15 (入力用)'!K106 -> 24 | L38: ='[2]15 (入力用)'!L106 -> 8 | ... S38: ='[2]15 (入力用)'!S106 -> 22.3
A39: E26 | C39: 生産用機械器具 | E39: ='[2]15 (入力用)'!E107 -> 15102 | F39: ='[2]15 (入力用)'!F107 -> 12607 | G39: ='[2]15 (入力用)'!G107 -> 2495 | H39: ='[2]15 (入力用)'!H107 -> 159 | I39: ='[2]15 (入力用)'!I107 -> 74 | J39: ='[2]15 (入力用)'!J107 -> 85 | K39: ='[2]15 (入力用)'!K107 -> 65 | L39: ='[2]15 (入力用)'!L107 -> 65 | ... S39: ='[2]15 (入力用)'!S107 -> 29.1
A40: E27 | C40: 業務用機械器具 | E40: ='[2]15 (入力用)'!E108 -> 10135 | F40: ='[2]15 (入力用)'!F108 -> 6616 | G40: ='[2]15 (入力用)'!G108 -> 3519 | H40: ='[2]15 (入力用)'!H108 -> 112 | I40: ='[2]15 (入力用)'!I108 -> 12 | J40: ='[2]15 (入力用)'!J108 -> 100 | K40: ='[2]15 (入力用)'!K108 -> 144 | L40: ='[2]15 (入力用)'!L108 -> 56 | ... S40: ='[2]15 (入力用)'!S108 -> 32.3
A41: E28 | C41: 電子・デバイス | E41: ='[2]15 (入力用)'!E109 -> 28952 | F41: ='[2]15 (入力用)'!F109 -> 20157 | G41: ='[2]15 (入力用)'!G109 -> 8795 | H41: ='[2]15 (入力用)'!H109 -> 112 | I41: ='[2]15 (入力用)'!I109 -> 57 | J41: ='[2]15 (入力用)'!J109 -> 55 | K41: ='[2]15 (入力用)'!K109 -> 172 | L41: ='[2]15 (入力用)'!L109 -> 65 | ... S41: ='[2]15 (入力用)'!S109 -> 20.2
A42: E29 | C42: 電気機械器具 | E42: ='[2]15 (入力用)'!E110 -> 12923 | F42: ='[2]15 (入力用)'!F110 -> 7967 | G42: ='[2]15 (入力用)'!G110 -> 4956 | H42: ='[2]15 (入力用)'!H110 -> 126 | I42: ='[2]15 (入力用)'!I110 -> 52 | J42: ='[2]15 (入力用)'!J110 -> 74 | K42: ='[2]15 (入力用)'!K110 -> 66 | L42: ='[2]15 (入力用)'!L110 -> 23 | ... S42: ='[2]15 (入力用)'!S110 -> 37.3
...
