Workbook

Sheet 諏訪堀場
B1: 空間放射線量率（サーベイメータ－） 測定記録
B3: 測定場所 ： クリーンレイク諏訪 | E3: セット後、１分放置 | M3: HORIBA:PA-1000
E4: 30秒おきに５回測定
B5: 測定地点 | C5: 測 定 年月日 | D5: 測定 時刻 | E5: 天候 | F5: 空間放射線量率（μSv/hr） | M5: 備考
F6: 1 | G6: 2 | H6: 3 | I6: 4 | J6: 5 | K6: 平均
A7: 敷地境界等 | B7: 敷地境界（北） Ｎｏ．１ | C7: 42850 | D7: 0.59305556 | E7: 晴 | F7: 0.048 | G7: 0.047 | H7: 0.043 | I7: 0.045 | J7: 0.048 | K7: =IF(SUM(F7:J7)=0,"",AVERAGE(F7:J7)) -> 0.0462 | M7: 湖岸側
A8: 敷地境界等 | B8: 敷地境界（東） Ｎｏ．２ | C8: 42850 | D8: 0.60833333 | E8: 晴 | F8: 0.059 | G8: 0.058 | H8: 0.056 | I8: 0.053 | J8: 0.05 | K8: =IF(SUM(F8:J8)=0,"",AVERAGE(F8:J8)) -> 0.0552 | M8: 野球場側
A9: 敷地境界等 | B9: 敷地境界（南） Ｎｏ．３ | C9: 42850 | D9: 0.62361111 | E9: 晴 | F9: 0.048 | G9: 0.043 | H9: 0.045 | I9: 0.041 | J9: 0.042 | K9: =IF(SUM(F9:J9)=0,"",AVERAGE(F9:J9)) -> 0.0438 | M9: 裏門側
A10: 敷地境界等 | B10: 敷地境界（西） Ｎｏ．４ | C10: 42850 | D10: 0.64791667 | E10: 晴 | F10: 0.049 | G10: 0.053 | H10: 0.052 | I10: 0.051 | J10: 0.05 | K10: =IF(SUM(F10:J10)=0,"",AVERAGE(F10:J10)) -> 0.051 | M10: 武井田川側
A11: 場内保管場所等 | B11: 溶融結晶化棟溶融飛灰保管ドラム缶前 | C11: 42850 | D11: 0.63541667 | E11: 晴 | F11: 0.074 | G11: 0.071 | H11: 0.071 | I11: 0.069 | J11: 0.065 | K11: =IF(SUM(F11:J11)=0,"",AVERAGE(F11:J11)) -> 0.07 | M11: ドラム缶保管
A12: 場内保管場所等 | B12: 溶融結晶化棟溶融飛灰排出口 | C12: 42850 | D12: 0.63888889 | E12: 晴 | F12: 0.051 | G12: 0.044 | H12: 0.047 | I12: 0.052 | J12: 0.051 | K12: =IF(SUM(F12:J12)=0,"",AVERAGE(F12:J12)) -> 0.049
B13: B系水処理 溶融飛灰保管場所 | C13: 42850 | D13: 0.66319444 | E13: 晴 | F13: 0.076 | G13: 0.083 | H13: 0.078 | I13: 0.067 | J13: 0.069 | K13: =IF(SUM(F13:J13)=0,"",AVERAGE(F13:J13)) -> 0.0746

Sheet HP用詳細表
A1: =諏訪堀場!C7 -> 42850
F3: 単位：μSv／ｈ
A4: 諏訪湖流域下水道豊田終末処理場
A5: 区分 | B5: 測定地点 | C5: 時刻 | D5: 天候 | E5: 測定値 | F5: 備考
A6: 敷地境界等 | B6: =諏訪堀場!B7 -> 敷地境界（北） Ｎｏ．１ | C6: =諏訪堀場!D7 -> 0.59305556 | D6: =諏訪堀場!E7 -> 晴 | E6: =諏訪堀場!K7 -> 0.0462 | F6: =諏訪堀場!M7 -> 湖岸側
A7: 敷地境界等 | B7: =諏訪堀場!B8 -> 敷地境界（東） Ｎｏ．２ | C7: =諏訪堀場!D8 -> 0.60833333 | D7: =諏訪堀場!E8 -> 晴 | E7: =諏訪堀場!K8 -> 0.0552 | F7: =諏訪堀場!M8 -> 野球場側
A8: 敷地境界等 | B8: =諏訪堀場!B9 -> 敷地境界（南） Ｎｏ．３ | C8: =諏訪堀場!D9 -> 0.62361111 | D8: =諏訪堀場!E9 -> 晴 | E8: =諏訪堀場!K9 -> 0.0438 | F8: =諏訪堀場!M9 -> 裏門側
A9: 敷地境界等 | B9: =諏訪堀場!B10 -> 敷地境界（西） Ｎｏ．４ | C9: =諏訪堀場!D10 -> 0.64791667 | D9: =諏訪堀場!E10 -> 晴 | E9: =諏訪堀場!K10 -> 0.051 | F9: =諏訪堀場!M10 -> 武井田川側
A10: 場内保管場所等 | B10: =諏訪堀場!B11 -> 溶融結晶化棟溶融飛灰保管ドラム缶前 | C10: =諏訪堀場!D11 -> 0.63541667 | D10: =諏訪堀場!E11 -> 晴 | E10: =諏訪堀場!K11 -> 0.07 | F10: =諏訪堀場!M11 -> ドラム缶保管
A11: 場内保管場所等 | B11: =諏訪堀場!B12 -> 溶融結晶化棟溶融飛灰排出口 | C11: =諏訪堀場!D12 -> 0.63888889 | D11: =諏訪堀場!E12 -> 晴 | E11: =諏訪堀場!K12 -> 0.049
A12: 場内保管場所等 | B12: =諏訪堀場!B13 -> B系水処理 溶融飛灰保管場所 | C12: =諏訪堀場!D13 -> 0.66319444 | D12: =諏訪堀場!E13 -> 晴 | E12: =諏訪堀場!K13 -> 0.0746
