Workbook

Sheet 8_29下流 
B1: 空間放射線量率（サーベイメータ－） 測定記録
B3: 測定場所 ： クリーンピア千曲 | L3: HORIBA:PA-1000
B5: 測定地点 | C5: 測 定 年月日 | D5: 測定 時刻 | E5: 天候 | F5: 空間放射線量率（μSv/hr） | L5: 備考
F6: 1 | G6: 2 | H6: 3 | I6: 4 | J6: 5 | K6: 平均
A7: 敷地境界等 | B7: 敷地境界：北門 | C7: 41515 | D7: 0.61111111 | E7: 晴 | F7: 0.051 | G7: 0.048 | H7: 0.051 | I7: 0.052 | J7: 0.054 | K7: =AVERAGE(F7:J7) -> 0.0512
A8: 敷地境界等 | B8: 敷地境界：西門 | C8: 41515 | D8: 0.61527778 | E8: 晴 | F8: 0.056 | G8: 0.052 | H8: 0.055 | I8: 0.05 | J8: 0.049 | K8: =AVERAGE(F8:J8) -> 0.0524
A9: 敷地境界等 | B9: 敷地境界：南門 | C9: 41515 | D9: 0.63472222 | E9: 晴 | F9: 0.056 | G9: 0.053 | H9: 0.06 | I9: 0.062 | J9: 0.056 | K9: =AVERAGE(F9:J9) -> 0.0574
A10: 敷地境界等 | B10: 敷地境界：東門 | C10: 41515 | D10: 0.64027778 | E10: 晴 | F10: 0.046 | G10: 0.052 | H10: 0.051 | I10: 0.047 | J10: 0.045 | K10: =AVERAGE(F10:J10) -> 0.0482
A11: 場内保管場所等 | B11: 保管倉庫 | C11: 41515 | D11: 0.62013889 | E11: 晴 | F11: 0.163 | G11: 0.163 | H11: 0.166 | I11: 0.164 | J11: 0.176 | K11: =AVERAGE(F11:J11) -> 0.1664 | L11: フレコン保管（３段）H23．7．21前
A12: 場内保管場所等 | B12: 1号焼却炉棟内 | C12: 41515 | D12: 0.62361111 | E12: 晴 | F12: 0.052 | G12: 0.055 | H12: 0.051 | I12: 0.043 | J12: 0.051 | K12: =AVERAGE(F12:J12) -> 0.0504
A13: 場内保管場所等 | B13: ２号焼却炉棟 灰ホッパー下 | C13: 41515 | D13: 0.62777778 | E13: 晴 | F13: 0.045 | G13: 0.043 | H13: 0.044 | I13: 0.05 | J13: 0.047 | K13: =AVERAGE(F13:J13) -> 0.0458
A14: 場内保管場所等 | B14: 2号焼却炉棟内 | C14: 41515 | D14: 0.63055556 | E14: 晴 | F14: 0.039 | G14: 0.048 | H14: 0.053 | I14: 0.056 | J14: 0.052 | K14: =AVERAGE(F14:J14) -> 0.0496
B15: １号焼却炉棟 | C15: 41060 | E15: 晴 | K15: =AVERAGE(F15:J15) -> #DIV/0! | L15: フレコン保管（廃砂）
B18: 注意： 線量計を設置してから１分間は測定しない。 その後、３０秒ごとに計測する。

Sheet 8_29上流 
B1: 空間放射線量率（サーベイメータ－） 測定記録
B3: 測定場所 ： アクアパル千曲 | L3: HORIBA:PA-1000
B5: 測定地点 | C5: 測 定 年月日 | D5: 測定 時刻 | E5: 天候 | F5: 空間放射線量率（μSv/hr） | L5: 備考
F6: 1 | G6: 2 | H6: 3 | I6: 4 | J6: 5 | K6: 平均
A7: 敷地境界等 | B7: 焼却炉棟東側 敷地境界（東）付近 | C7: 41515 | D7: 0.44097222 | E7: 晴 | F7: 0.045 | G7: 0.049 | H7: 0.051 | I7: 0.049 | J7: 0.057 | K7: =AVERAGE(F7:J7) -> 0.0502
A8: 場内保管場所等 | B8: 焼却炉棟灰搬出室 | C8: 41515 | D8: 0.44444444 | E8: 晴 | F8: 0.053 | G8: 0.055 | H8: 0.059 | I8: 0.056 | J8: 0.053 | K8: =AVERAGE(F8:J8) -> 0.0552
A9: 敷地境界等 | B9: テニスコート・マレットゴルフ場（２Ｈ） | C9: 41515 | D9: 0.45 | E9: 晴 | F9: 0.081 | G9: 0.074 | H9: 0.067 | I9: 0.063 | J9: 0.069 | K9: =AVERAGE(F9:J9) -> 0.0708
A10: 敷地境界等 | B10: 正門入口 敷地境界（西） | C10: 41515 | D10: 0.45486111 | E10: 晴 | F10: 0.055 | G10: 0.053 | H10: 0.058 | I10: 0.06 | J10: 0.056 | K10: =AVERAGE(F10:J10) -> 0.0564
A11: 敷地境界等 | B11: 敷地境界（南） | C11: 41515 | D11: 0.46458333 | E11: 晴 | F11: 0.061 | G11: 0.055 | H11: 0.06 | I11: 0.064 | J11: 0.055 | K11: =AVERAGE(F11:J11) -> 0.059
A12: 場内保管場所等 | B12: 保管倉庫 | C12: 41515 | D12: 0.46944444 | E12: 晴 | F12: 0.073 | G12: 0.078 | H12: 0.078 | I12: 0.076 | J12: 0.08 | K12: =AVERAGE(F12:J12) -> 0.077 | L12: フレコン保管（３段）
A13: 場内保管場所等 | B13: ６系管廊 （灰保管場所） | C13: 41515 | D13: 0.47777778 | E13: 晴 | F13: 0.134 | G13: 0.137 | H13: 0.139 | I13: 0.145 | J13: 0.145 | K13: =AVERAGE(F13:J13) -> 0.14 | L13: フレコン保管（２段）H23．5．25
B16: 注意： 線量計を設置してから１分間は測定しない。 その後、３０秒ごとに計測する。

Sheet HP用詳細表
A1: ='8_29下流 '!C7 -> 41515
F4: 単位：μSv／ｈ
A5: 千曲川流域下水道下流処理区終末処理場
A6: 区分 | B6: 測定地点 | C6: 時刻 | D6: 天候 | E6: 測定値 | F6: 備考
A7: ='8_29下流 '!A7 -> 敷地境界等 | B7: ='8_29下流 '!B7 -> 敷地境界：北門 | C7: ='8_29下流 '!D7 -> 0.61111111 | D7: ='8_29下流 '!E7 -> 晴 | E7: ='8_29下流 '!K7 -> 0.0512 | F7: =IF('8_29下流 '!L7=0,"",'8_29下流 '!L7)
A8: ='8_29下流 '!A8 -> 敷地境界等 | B8: ='8_29下流 '!B8 -> 敷地境界：西門 | C8: ='8_29下流 '!D8 -> 0.61527778 | D8: ='8_29下流 '!E8 -> 晴 | E8: ='8_29下流 '!K8 -> 0.0524 | F8: =IF('8_29下流 '!L8=0,"",'8_29下流 '!L8)
A9: ='8_29下流 '!A9 -> 敷地境界等 | B9: ='8_29下流 '!B9 -> 敷地境界：南門 | C9: ='8_29下流 '!D9 -> 0.63472222 | D9: ='8_29下流 '!E9 -> 晴 | E9: ='8_29下流 '!K9 -> 0.0574 | F9: =IF('8_29下流 '!L9=0,"",'8_29下流 '!L9)
A10: ='8_29下流 '!A10 -> 敷地境界等 | B10: ='8_29下流 '!B10 -> 敷地境界：東門 | C10: ='8_29下流 '!D10 -> 0.64027778 | D10: ='8_29下流 '!E10 -> 晴 | E10: ='8_29下流 '!K10 -> 0.0482 | F10: =IF('8_29下流 '!L10=0,"",'8_29下流 '!L10)
A11: ='8_29下流 '!A13 -> 場内保管場所等 | B11: ='8_29下流 '!B13 -> ２号焼却炉棟 灰ホッパー下 | C11: ='8_29下流 '!D13 -> 0.62777778 | D11: ='8_29下流 '!E13 -> 晴 | E11: ='8_29下流 '!K13 -> 0.0458 | F11: =IF('8_29下流 '!L13=0,"",'8_29下流 '!L13)
A12: ='8_29下流 '!A14 -> 場内保管場所等 | B12: ='8_29下流 '!B14 -> 2号焼却炉棟内 | C12: ='8_29下流 '!D14 -> 0.63055556 | D12: ='8_29下流 '!E14 -> 晴 | E12: ='8_29下流 '!K14 -> 0.0496 | F12: =IF('8_29下流 '!L14=0,"",'8_29下流 '!L14)
A13: ='8_29下流 '!A11 -> 場内保管場所等 | B13: ='8_29下流 '!B11 -> 保管倉庫 | C13: ='8_29下流 '!D11 -> 0.62013889 | D13: ='8_29下流 '!E11 -> 晴 | E13: ='8_29下流 '!K11 -> 0.1664 | F13: =IF('8_29下流 '!L11=0,"",'8_29下流 '!L11) -> フレコン保管（３段）H23．7．21前
A14: ='8_29下流 '!A12 -> 場内保管場所等 | B14: ='8_29下流 '!B12 -> 1号焼却炉棟内 | C14: ='8_29下流 '!D12 -> 0.62361111 | D14: ='8_29下流 '!E12 -> 晴 | E14: ='8_29下流 '!K12 -> 0.0504 | F14: =IF('8_29下流 '!L12=0,"",'8_29下流 '!L12)
A16: 千曲川流域下水道上流処理区終末処理場
A17: 区分 | B17: 測定地点 | C17: 時刻 | D17: 天候 | E17: 測定値 | F17: 備考
A18: ='8_29上流 '!A7 -> 敷地境界等 | B18: ='8_29上流 '!B7 -> 焼却炉棟東側 敷地境界（東）付近 | C18: ='8_29上流 '!D7 -> 0.44097222 | D18: ='8_29上流 '!E7 -> 晴 | E18: ='8_29上流 '!K7 -> 0.0502 | F18: =IF('8_29上流 '!L7=0,"",'8_29上流 '!L7)
A19: ='8_29上流 '!A8 -> 場内保管場所等 | B19: ='8_29上流 '!B8 -> 焼却炉棟灰搬出室 | C19: ='8_29上流 '!D8 -> 0.44444444 | D19: ='8_29上流 '!E8 -> 晴 | E19: ='8_29上流 '!K8 -> 0.0552 | F19: =IF('8_29上流 '!L8=0,"",'8_29上流 '!L8)
A20: ='8_29上流 '!A9 -> 敷地境界等 | B20: ='8_29上流 '!B9 -> テニスコート・マレットゴルフ場（２Ｈ） | C20: ='8_29上流 '!D9 -> 0.45 | D20: ='8_29上流 '!E9 -> 晴 | E20: ='8_29上流 '!K9 -> 0.0708 | F20: =IF('8_29上流 '!L9=0,"",'8_29上流 '!L9)
A21: ='8_29上流 '!A10 -> 敷地境界等 | B21: ='8_29上流 '!B10 -> 正門入口 敷地境界（西） | C21: ='8_29上流 '!D10 -> 0.45486111 | D21: ='8_29上流 '!E10 -> 晴 | E21: ='8_29上流 '!K10 -> 0.0564 | F21: =IF('8_29上流 '!L10=0,"",'8_29上流 '!L10)
A22: ='8_29上流 '!A13 -> 場内保管場所等 | B22: ='8_29上流 '!B13 -> ６系管廊 （灰保管場所） | C22: ='8_29上流 '!D13 -> 0.47777778 | D22: ='8_29上流 '!E13 -> 晴 | E22: ='8_29上流 '!K13 -> 0.14 | F22: =IF('8_29上流 '!L13=0,"",'8_29上流 '!L13) -> フレコン保管（２段）H23．5．25
A23: ='8_29上流 '!A12 -> 場内保管場所等 | B23: ='8_29上流 '!B12 -> 保管倉庫 | C23: ='8_29上流 '!D12 -> 0.46944444 | D23: ='8_29上流 '!E12 -> 晴 | E23: ='8_29上流 '!K12 -> 0.077 | F23: =IF('8_29上流 '!L12=0,"",'8_29上流 '!L12) -> フレコン保管（３段）
A24: ='8_29上流 '!A11 -> 敷地境界等 | B24: ='8_29上流 '!B11 -> 敷地境界（南） | C24: ='8_29上流 '!D11 -> 0.46458333 | D24: ='8_29上流 '!E11 -> 晴 | E24: ='8_29上流 '!K11 -> 0.059 | F24: =IF('8_29上流 '!L11=0,"",'8_29上流 '!L11)
A25: ='8_29上流 '!A14 -> 0 | B25: ='8_29上流 '!B14 -> 0 | C25: ='8_29上流 '!D14 -> 0 | D25: ='8_29上流 '!E14 -> 0 | E25: ='8_29上流 '!K14 -> 0 | F25: =IF('8_29上流 '!L14=0,"",'8_29上流 '!L14)
A26: ='8_29上流 '!A15 -> 0 | B26: ='8_29上流 '!B15 -> 0 | C26: ='8_29上流 '!D15 -> 0 | D26: ='8_29上流 '!E15 -> 0 | E26: ='8_29上流 '!K15 -> 0 | F26: =IF('8_29上流 '!L15=0,"",'8_29上流 '!L15)
