Workbook

Sheet P-32  P-33
A1: ４ 都市下水路計画① | Q1: （平成27年12月1日現在）
B2: 都 市 計 画 区域名 | C2: 市町村名 | D2: 箇所名 | E2: 都市計画決定 | M2: 都市計画法事業認可 | S2: 事業 実施 期間 | T2: 備 考
E3: 年 月 日 | I3: 排水 面積 (ha) | J3: 延 長 | L3: 進捗率 （％） | M3: 年 月 日 | O3: 排水 面積 (ha) | P3: 延 長 | R3: 進捗率 （％）
E4: 当 初 | G4: 最 終 | J4: 計 画 （ｍ） | K4: 完 成 （ｍ） | M4: 当 初 | N4: 最 終 | P4: 計 画 （ｍ） | Q4: 完 成 （ｍ）
B6: 小 諸 | C6: 小諸市 | D6: 松井川 | E6: S39. 7.31 | G6: S58. 3. 7 （公下） | H6: ★ | I6: 359 | J6: 1870 | K6: 1870 | L6: =ROUND(K6/J6*100,1) -> 100 | M6: S39. 7.31 | N6: S63. 3.31 | O6: 359 | P6: 1870 | Q6: 1870 | R6: =ROUND(Q6/P6*100,1) -> 100 | S6: S39～ S63 | T6: S57年度より 公下移管
D7: 加 増 | E7: S53. 9.18 | G7: S58. 3. 7 （公下） | H7: ★ | I7: 125 | J7: 1680 | K7: 1680 | L7: =ROUND(K7/J7*100,1) -> 100 | M7: S53. 9.18 | N7: S60. 3.31 | O7: 125 | P7: 1680 | Q7: 1680 | R7: =ROUND(Q7/P7*100,1) -> 100 | S7: S53～ S59 | T7: S57年度より 公下移管
B8: 軽井沢 | C8: 軽井沢町 | D8: 旧軽井沢 | E8: S30. 5.16 | G8: S62.10. 5 （公下） | H8: ★ | I8: 51 | J8: 2600 | K8: 2600 | L8: =ROUND(K8/J8*100,1) -> 100 | M8: S38. 5.18 | N8: S50. 8.27 | O8: 51 | P8: 2600 | Q8: 2600 | R8: =ROUND(Q8/P8*100,1) -> 100 | S8: S39～ S41 S50～ S54 | T8: S62年度より 公下移管
D9: 新軽井沢 | E9: S30. 5.16 | G9: S62.10. 5 （公下） | H9: ★ | I9: 124 | J9: 820 | K9: 820 | L9: =ROUND(K9/J9*100,1) -> 100 | M9: S35.12.13 | N9: S35.12.13 | O9: 124 | P9: 820 | Q9: 820 | R9: =ROUND(Q9/P9*100,1) -> 100 | S9: S35～ S38 | T9: S62年度より 公下移管
D10: 沓 掛 | E10: S55. 3. 3 | G10: S62.10. 5 （公下） | H10: ★ | I10: 86 | J10: 2720 | K10: 2526 | L10: =ROUND(K10/J10*100,1) -> 92.9 | M10: S55. 7. 1 | N10: S59.10.25 | O10: 86 | P10: 2720 | Q10: 2526 | R10: =ROUND(Q10/P10*100,1) -> 92.9 | S10: S55～ H元 | T10: S62年度より 公下移管
D11: 古 川 | E11: S59.12.18 | G11: S59.12.18 | I11: 165 | J11: 1970 | K11: 1970 | L11: =ROUND(K11/J11*100,1) -> 100 | M11: S60. 1.10 | N11: H 2. 9.20 | O11: 165 | P11: 1970 | Q11: 1970 | R11: =ROUND(Q11/P11*100,1) -> 100 | S11: S59～ H 2
D12: 中軽井沢 | E12: S62.10. 5 (公下) | F12: ★ | G12: S62.10. 5 （公下） | H12: ★ | I12: 31 | J12: 660 | K12: 657 | L12: =ROUND(K12/J12*100,1) -> 99.5 | M12: S62.11.26 | N12: S62.11.26 | O12: 31 | P12: 660 | Q12: 657 | R12: =ROUND(Q12/P12*100,1) -> 99.5 | S12: S62～ S63 | T12: S62年度より 公下移管
B13: 上 田 | C13: 上田市 | D13: 中 央 | E13: S35.11.10 | G13: S63. 3.17 (公下) | H13: ★ | I13: 41 | J13: 2350 | K13: 987 | L13: =ROUND(K13/J13*100,1) -> 42 | M13: S35.11.10 | N13: S35.11.10 | O13: 41 | P13: 987 | Q13: 987 | R13: =ROUND(Q13/P13*100,1) -> 100 | S13: S35～ S36 | T13: S42年度より 公下移管
D14: 新 屋 | E14: S41. 8. 8 | G14: S63. 3.17 (公下) | H14: ★ | I14: 44 | J14: 1375 | K14: 1290 | L14: =ROUND(K14/J14*100,1) -> 93.8 | M14: S41. 8. 8 | N14: S44. 3.31 | O14: 44 | P14: 1375 | Q14: 1290 | R14: =ROUND(Q14/P14*100,1) -> 93.8 | S14: S41～ S44 | T14: S55年度より 公下移管
D15: 丸 子 | E15: S45. 8.21 | G15: H26. 3.24 (公下) | H15: ★ | I15: 44 | J15: 1298 | K15: 1298.1 | L15: =ROUND(K15/J15*100,1) -> 100 | M15: S45. 1. 8 | N15: S50. 2.28 | O15: 44 | P15: 1298.1 | Q15: 1298.1 | R15: =ROUND(Q15/P15*100,1) -> 100 | S15: S45～ S50 | T15: H25年度より 公共移管
B16: 諏 訪 | C16: 諏訪市 | D16: 清 水 | E16: S34. 3.31 | G16: S55. 3.22 （公下） | I16: 131 | J16: 2160 | K16: 693 | L16: =ROUND(K16/J16*100,1) -> 32.1 | M16: S34. 3.31 | N16: S37. 9.20 | O16: 107 | P16: 693 | Q16: 693 | R16: =ROUND(Q16/P16*100,1) -> 100 | S16: S33～ S37 | T16: S54年度より 公下移管
D17: 御 蔵 | E17: S39. 7.31 | G17: S49. 3. 6 （公下） | I17: 30 | J17: 650 | K17: 315 | L17: =ROUND(K17/J17*100,1) -> 48.5 | M17: S39. 7.31 | N17: S40.11.29 | O17: 25 | P17: 315 | Q17: 315 | R17: =ROUND(Q17/P17*100,1) -> 100 | S17: S38～ S41 | T17: S48年度より 公下移管
B18: 岡 谷 | C18: 岡谷市 | D18: 関沢川 | E18: S37. 8.29 | G18: S49.12.26 （公下） | H18: ★ | I18: 51 | J18: 800 | K18: 426 | L18: =ROUND(K18/J18*100,1) -> 53.3 | M18: S37. 8.29 | N18: S37. 8.29 | O18: 51 | P18: 426 | Q18: 426 | R18: =ROUND(Q18/P18*100,1) -> 100 | S18: S37～ S38 | T18: S49年度より 公下移管
B19: 伊 那 | C19: 伊那市 | D19: 古 川 | E19: S40.11.24 | G19: H 1. 9.27 （公下) | H19: ★ | I19: 39 | J19: 1610 | K19: 990 | L19: =ROUND(K19/J19*100,1) -> 61.5 | M19: S45.12.21 | N19: S45.12.21 | O19: 39 | P19: 990 | Q19: 990 | R19: =ROUND(Q19/P19*100,1) -> 100 | S19: S45～ S46 | T19: H元年度より 公下移管
D20: 戸谷川 | E20: S47. 9.25 | G20: H 1. 9.27 （公下) | H20: ★ | I20: 341.3 | J20: 1060 | K20: 960 | L20: =ROUND(K20/J20*100,1) -> 90.6 | M20: S47.10.16 | N20: S47.10.16 | O20: 104 | P20: 960 | Q20: 960 | R20: =ROUND(Q20/P20*100,1) -> 100 | S20: S47～ S50 | T20: H元年度より 公下移管
D21: 中溝川 | E21: S52. 7. 1 | G21: H 1. 9.27 （公下) | H21: ★ | I21: 230 | J21: 1540 | K21: 1160 | L21: =ROUND(K21/J21*100,1) -> 75.3 | M21: S52. 8.26 | N21: S61. 3.22 | O21: 230 | P21: 1160 | Q21: 1160 | R21: =ROUND(Q21/P21*100,1) -> 100 | S21: S52～ S61 | T21: H元年度より 公下移管
B22: 箕 輪 | C22: 箕輪町 | D22: 中 央 | E22: S47.10. 1 | G22: S63.12.21 （公下） | H22: ★ | I22: 98 | J22: 950 | K22: 856 | L22: =ROUND(K22/J22*100,1) -> 90.1 | M22: S47.10.19 | N22: S49. 8. 8 | O22: 98 | P22: 856 | Q22: 856 | R22: =ROUND(Q22/P22*100,1) -> 100 | S22: S47～ S51 | T22: S63年度より 公下移管
D23: 木 下 | E23: S53. 1. 7 | G23: S63.12.21 （公下） | H23: ★ | I23: 84 | J23: 1280 | K23: 1280 | L23: =ROUND(K23/J23*100,1) -> 100 | M23: S53.10.22 | N23: S56.10.22 | O23: 84 | P23: 1280 | Q23: 1280 | R23: =ROUND(Q23/P23*100,1) -> 100 | S23: S52～ S59 | T23: S63年度より 公下移管
B24: 松 本 | C24: 松本市 | D24: 穴 田 | E24: S46. 8.27 | G24: H12. 2.24 （公下) | H24: ★ | I24: 662 | J24: 4535 | K24: 4535 | L24: =ROUND(K24/J24*100,1) -> 100 | M24: S46.10. 4 | N24: S54.11.29 | O24: 622 | P24: 4535 | Q24: 4535 | R24: =ROUND(Q24/P24*100,1) -> 100 | S24: S46～ S55 | T24: S57年度より 公下移管
D25: 芳 川 | E25: S47.12.18 | G25: H12. 2.24 （公下) | H25: ★ | I25: 116 | J25: 1600 | K25: 1600 | L25: =ROUND(K25/J25*100,1) -> 100 | M25: S47.12.18 | N25: S51. 3.15 | O25: 116 | P25: 1600 | Q25: 1600 | R25: =ROUND(Q25/P25*100,1) -> 100 | S25: S47～ S51 | T25: S61年度より 公下移管
D26: 牛伏第1 | E26: S56. 3.10 | G26: H12. 2.24 （公下) | H26: ★ | I26: 104 | J26: 1745 | K26: 1745 | L26: =ROUND(K26/J26*100,1) -> 100 | M26: S56. 4.30 | N26: S60. 7.15 | O26: 104 | P26: 1745 | Q26: 1745 | R26: =ROUND(Q26/P26*100,1) -> 100 | S26: S55～ S61 | T26: S59年度より 公下移管
B27: 塩 尻 | C27: 塩尻市 | D27: 渋 川 | E27: S46. 7.15 | G27: H 1. 2.28 （公下） | H27: ★ | I27: 306 | J27: 1590 | K27: 1590 | L27: =ROUND(K27/J27*100,1) -> 100 | M27: S46.10.25 | N27: S56. 3.16 | O27: 306 | P27: 1590 | Q27: 1590 | R27: =ROUND(Q27/P27*100,1) -> 100 | S27: S46～ S57 | T27: S60年度より 公下移管
D28: 田川左岸 １ 号 | E28: S47. 8.10 | G28: H 1. 2.28 （公下） | H28: ★ | I28: 139 | J28: 1830 | K28: 1637 | L28: =ROUND(K28/J28*100,1) -> 89.5 | M28: S59.10.18 | N28: H 1. 3.20 | O28: 139 | P28: 1830 | Q28: 1637 | R28: =ROUND(Q28/P28*100,1) -> 89.5 | S28: S59～ H 5 | T28: H7年度より 公下移管
D29: 田川左岸 ３ 号 | E29: S47. 8.10 | G29: H 1. 2.28 （公下） | H29: ★ | I29: 131 | J29: 690 | K29: 690 | L29: =ROUND(K29/J29*100,1) -> 100 | M29: S52. 3.14 | N29: S56.10.26 | O29: 131 | P29: 690 | Q29: 690 | R29: =ROUND(Q29/P29*100,1) -> 100 | S29: S52～ S57 | T29: H元年度より 公下移管
D30: 田川左岸 ３－１号 | E30: S47. 8.10 | G30: H 1. 2.28 （公下） | H30: ★ | I30: 75 | J30: 1120 | K30: 1120 | L30: =ROUND(K30/J30*100,1) -> 100 | M30: S62. 2.23 | N30: H 1. 3.20 | O30: 75 | P30: 1120 | Q30: 1120 | R30: =ROUND(Q30/P30*100,1) -> 100 | S30: S61～ H 4 | T30: H7年度より 公下移管
D31: 田川左岸 ７ 号 | E31: S47. 8.10 | G31: H 1. 2.28 （公下） | H31: ★ | I31: 84 | J31: 1480 | K31: 1480 | L31: =ROUND(K31/J31*100,1) -> 100 | M31: S60.12.12 | N31: H 1. 3.20 | O31: 84 | P31: 1480 | Q31: 1480 | R31: =ROUND(Q31/P31*100,1) -> 100 | S31: S60～ H 2 | T31: H7年度より 公下移管
D32: 田川左岸 第７号 | E32: S47. 8.10 | G32: H 1. 2.28 （公下） | H32: ★ | I32: 30 | J32: 798 | K32: 798 | L32: =ROUND(K32/J32*100,1) -> 100 | M32: S59. 2.23 | N32: S60. 5.13 | O32: 30 | P32: 798 | Q32: 798 | R32: =ROUND(Q32/P32*100,1) -> 100 | S32: S59～ S60 | T32: H元年度より 公下移管
B33: 安曇野 | C33: 安曇野市 | D33: 新 田 | E33: S48.10. 3 | G33: H24.12.20 | I33: 49 | J33: 1680 | K33: 1635 | L33: =ROUND(K33/J33*100,1) -> 97.3 | M33: S48.10.24 | N33: S59.11.15 | O33: 49 | P33: 1635 | Q33: 1635 | R33: =ROUND(Q33/P33*100,1) -> 100 | S33: S48～ S60
D34: 成 相 | E34: S51.10.12 | G34: H24.12.20 | I34: 30 | J34: 1000 | K34: 989.6 | L34: =ROUND(K34/J34*100,1) -> 99 | M34: S51.12. 6 | N34: S51.12. 6 | O34: 30 | P34: 1000 | Q34: 989.6 | R34: =ROUND(Q34/P34*100,1) -> 99 | S34: S52～ S54
D35: 町 尻 | E35: S40. 8.16 | G35: H24.12.20 | I35: 36 | J35: 1140 | K35: 1140 | L35: =ROUND(K35/J35*100,1) -> 100 | M35: S40. 8.16 | N35: S47.12.21 | O35: 36 | P35: 1140 | Q35: 1140 | R35: =ROUND(Q35/P35*100,1) -> 100 | S35: S40～ S47
B36: 大 町 | C36: 大町市 | D36: １号町川 | E36: S31. 1.14 | G36: H25.12.24 （公下） | H36: ★ | I36: 313 | J36: 1193 | K36: 1069 | L36: =ROUND(K36/J36*100,1) -> 89.6 | M36: S31. 1.14 | N36: S36.11. 8 | O36: 294 | P36: 1069 | Q36: 1069 | R36: =ROUND(Q36/P36*100,1) -> 100 | S36: S30～ S32 | T36: H25年度より 公下移管
D37: ２号町川 | E37: S31. 1.14 | G37: H25.12.24 （公下） | H37: ★ | I37: 299 | J37: 608 | K37: 608 | L37: =ROUND(K37/J37*100,1) -> 100 | M37: S31. 1.14 | N37: S31. 1.14 | O37: 299 | P37: 608 | Q37: 608 | R37: =ROUND(Q37/P37*100,1) -> 100 | S37: S30～ S32 | T37: H25年度より 公下移管
D38: 荒 沢 | E38: S35. 3.17 | G38: H25.12.24 （公下） | H38: ★ | I38: 155 | J38: 300 | K38: 300 | L38: =ROUND(K38/J38*100,1) -> 100 | M38: - | N38: - | O38: 155 | P38: 300 | Q38: 300 | R38: =ROUND(Q38/P38*100,1) -> 100 | T38: H25年度より 公下移管
D39: 西 区 | E39: S35. 3.17 | G39: H25.12.24 （公下） | H39: ★ | I39: 171 | J39: 1468 | K39: 1215 | L39: =ROUND(K39/J39*100,1) -> 82.8 | M39: S38.10.18 | N39: S60. 8.15 | O39: 153 | P39: 1215 | Q39: 1215 | R39: =ROUND(Q39/P39*100,1) -> 100 | S39: S38～ S40 S60～ S61 | T39: H25年度より 公下移管
B40: 千 曲 | C40: 千曲市 | D40: 五十里川 | E40: S47.10. 3 | G40: H 3.12.10 （公下） | H40: ★ | I40: 920 | J40: 3650 | K40: 3385 | L40: =ROUND(K40/J40*100,1) -> 92.7 | M40: S47.10.19 | N40: S55. 3.31 | O40: 920 | P40: 3385 | Q40: 3385 | R40: =ROUND(Q40/P40*100,1) -> 100 | S40: S47～ S55
D41: 黒 川 | E41: S48.11.30 | G41: H 3.12.10 （公下） | H41: ★ | I41: 199 | J41: 1340 | K41: 1328 | L41: =ROUND(K41/J41*100,1) -> 99.1 | M41: S48.12.17 | N41: S61. 3.31 | O41: 199 | P41: 1328 | Q41: 1328 | R41: =ROUND(Q41/P41*100,1) -> 100 | S41: S48～ S61
...
