Workbook

Sheet P-32  P-33
A1: ４ 都市下水路計画① | Q1: （平成27年12月1日現在）
B2: 都 市 計 画 区域名 | C2: 市町村名 | D2: 箇所名 | E2: 都市計画決定 | M2: 都市計画法事業認可 | S2: 事業 実施 期間 | T2: 備 考
E3: 年 月 日 | I3: 排水 面積 (ha) | J3: 延 長 | L3: 進捗率 （％） | M3: 年 月 日 | O3: 排水 面積 (ha) | P3: 延 長 | R3: 進捗率 （％）
E4: 当 初 | G4: 最 終 | J4: 計 画 （ｍ） | K4: 完 成 （ｍ） | M4: 当 初 | N4: 最 終 | P4: 計 画 （ｍ） | Q4: 完 成 （ｍ）
B6: 小 諸 | C6: 小諸市 | D6: 松井川 | E6: S39. 7.31 | G6: S58. 3. 7 （公下） | H6: ★ | I6: 359 | J6: 1870 | K6: 1870 | L6: =ROUND(K6/J6*100,1) -> 100 | M6: S39. 7.31 | N6: S63. 3.31 | O6: 359 | P6: 1870 | Q6: 1870 | R6: =ROUND(Q6/P6*100,1) -> 100 | S6: S39～ S63 | T6: S57年度より 公下移管
D7: 加 増 | E7: S53. 9.18 | G7: S58. 3. 7 （公下） | H7: ★ | I7: 125 | J7: 1680 | K7: 1680 | L7: =ROUND(K7/J7*100,1) -> 100 | M7: S53. 9.18 | N7: S60. 3.31 | O7: 125 | P7: 1680 | Q7: 1680 | R7: =ROUND(Q7/P7*100,1) -> 100 | S7: S53～ S59 | T7: S57年度より 公下移管
B8: 軽井沢 | C8: 軽井沢町 | D8: 旧軽井沢 | E8: S30. 5.16 | G8: S62.10. 5 （公下） | H8: ★ | I8: 51 | J8: 2600 | K8: 2600 | L8: =ROUND(K8/J8*100,1) -> 100 | M8: S38. 5.18 | N8: S50. 8.27 | O8: 51 | P8: 2600 | Q8: 2600 | R8: =ROUND(Q8/P8*100,1) -> 100 | S8: S39～ S41 S50～ S54 | T8: S62年度より 公下移管
D9: 新軽井沢 | E9: S30. 5.16 | G9: S62.10. 5 （公下） | H9: ★ | I9: 124 | J9: 820 | K9: 820 | L9: =ROUND(K9/J9*100,1) -> 100 | M9: S35.12.13 | N9: S35.12.13 | O9: 124 | P9: 820 | Q9: 820 | R9: =ROUND(Q9/P9*100,1) -> 100 | S9: S35～ S38 | T9: S62年度より 公下移管
D10: 沓 掛 | E10: S55. 3. 3 | G10: S62.10. 5 （公下） | H10: ★ | I10: 86 | J10: 2720 | K10: 2526 | L10: =ROUND(K10/J10*100,1) -> 92.9 | M10: S55. 7. 1 | N10: S59.10.25 | O10: 86 | P10: 2720 | Q10: 2526 | R10: =ROUND(Q10/P10*100,1) -> 92.9 | S10: S55～ H元 | T10: S62年度より 公下移管
D11: 古 川 | E11: S59.12.18 | G11: S59.12.18 | I11: 165 | J11: 1970 | K11: 1970 | L11: =ROUND(K11/J11*100,1) -> 100 | M11: S60. 1.10 | N11: H 2. 9.20 | O11: 165 | P11: 1970 | Q11: 1970 | R11: =ROUND(Q11/P11*100,1) -> 100 | S11: S59～ H 2
D12: 中軽井沢 | E12: S62.10. 5 (公下) | F12: ★ | G12: S62.10. 5 （公下） | H12: ★ | I12: 31 | J12: 660 | K12: 657 | L12: =ROUND(K12/J12*100,1) -> 99.5 | M12: S62.11.26 | N12: S62.11.26 | O12: 31 | P12: 660 | Q12: 657 | R12: =ROUND(Q12/P12*100,1) -> 99.5 | S12: S62～ S63 | T12: S62年度より 公下移管
B13: 上 田 | C13: 上田市 | D13: 中 央 | E13: S35.11.10 | G13: S63. 3.17 (公下) | H13: ★ | I13: 41 | J13: 2350 | K13: 987 | L13: =ROUND(K13/J13*100,1) -> 42 | M13: S35.11.10 | N13: S35.11.10 | O13: 41 | P13: 987 | Q13: 987 | R13: =ROUND(Q13/P13*100,1) -> 100 | S13: S35～ S36 | T13: S42年度より 公下移管
D14: 新 屋 | E14: S41. 8. 8 | G14: S63. 3.17 (公下) | H14: ★ | I14: 44 | J14: 1375 | K14: 1290 | L14: =ROUND(K14/J14*100,1) -> 93.8 | M14: S41. 8. 8 | N14: S44. 3.31 | O14: 44 | P14: 1375 | Q14: 1290 | R14: =ROUND(Q14/P14*100,1) -> 93.8 | S14: S41～ S44 | T14: S55年度より 公下移管
D15: 丸 子 | E15: S45. 8.21 | G15: H26. 3.24 (公下) | H15: ★ | I15: 44 | J15: 1298 | K15: 1298.1 | L15: =ROUND(K15/J15*100,1) -> 100 | M15: S45. 1. 8 | N15: S50. 2.28 | O15: 44 | P15: 1298.1 | Q15: 1298.1 | R15: =ROUND(Q15/P15*100,1) -> 100 | S15: S45～ S50 | T15: H25年度より 公共移管
B16: 諏 訪 | C16: 諏訪市 | D16: 清 水 | E16: S34. 3.31 | G16: S55. 3.22 （公下） | I16: 131 | J16: 2160 | K16: 693 | L16: =ROUND(K16/J16*100,1) -> 32.1 | M16: S34. 3.31 | N16: S37. 9.20 | O16: 107 | P16: 693 | Q16: 693 | R16: =ROUND(Q16/P16*100,1) -> 100 | S16: S33～ S37 | T16: S54年度より 公下移管
D17: 御 蔵 | E17: S39. 7.31 | G17: S49. 3. 6 （公下） | I17: 30 | J17: 650 | K17: 315 | L17: =ROUND(K17/J17*100,1) -> 48.5 | M17: S39. 7.31 | N17: S40.11.29 | O17: 25 | P17: 315 | Q17: 315 | R17: =ROUND(Q17/P17*100,1) -> 100 | S17: S38～ S41 | T17: S48年度より 公下移管
B18: 岡 谷 | C18: 岡谷市 | D18: 関沢川 | E18: S37. 8.29 | G18: S49.12.26 （公下） | H18: ★ | I18: 51 | J18: 800 | K18: 426 | L18: =ROUND(K18/J18*100,1) -> 53.3 | M18: S37. 8.29 | N18: S37. 8.29 | O18: 51 | P18: 426 | Q18: 426 | R18: =ROUND(Q18/P18*100,1) -> 100 | S18: S37～ S38 | T18: S49年度より 公下移管
B19: 伊 那 | C19: 伊那市 | D19: 古 川 | E19: S40.11.24 | G19: H 1. 9.27 （公下) | H19: ★ | I19: 39 | J19: 1610 | K19: 990 | L19: =ROUND(K19/J19*100,1) -> 61.5 | M19: S45.12.21 | N19: S45.12.21 | O19: 39 | P19: 990 | Q19: 990 | R19: =ROUND(Q19/P19*100,1) -> 100 | S19: S45～ S46 | T19: H元年度より 公下移管
D20: 戸谷川 | E20: S47. 9.25 | G20: H 1. 9.27 （公下) | H20: ★ | I20: 341.3 | J20: 1060 | K20: 960 | L20: =ROUND(K20/J20*100,1) -> 90.6 | M20: S47.10.16 | N20: S47.10.16 | O20: 104 | P20: 960 | Q20: 960 | R20: =ROUND(Q20/P20*100,1) -> 100 | S20: S47～ S50 | T20: H元年度より 公下移管
D21: 中溝川 | E21: S52. 7. 1 | G21: H 1. 9.27 （公下) | H21: ★ | I21: 230 | J21: 1540 | K21: 1160 | L21: =ROUND(K21/J21*100,1) -> 75.3 | M21: S52. 8.26 | N21: S61. 3.22 | O21: 230 | P21: 1160 | Q21: 1160 | R21: =ROUND(Q21/P21*100,1) -> 100 | S21: S52～ S61 | T21: H元年度より 公下移管
B22: 箕 輪 | C22: 箕輪町 | D22: 中 央 | E22: S47.10. 1 | G22: S63.12.21 （公下） | H22: ★ | I22: 98 | J22: 950 | K22: 856 | L22: =ROUND(K22/J22*100,1) -> 90.1 | M22: S47.10.19 | N22: S49. 8. 8 | O22: 98 | P22: 856 | Q22: 856 | R22: =ROUND(Q22/P22*100,1) -> 100 | S22: S47～ S51 | T22: S63年度より 公下移管
D23: 木 下 | E23: S53. 1. 7 | G23: S63.12.21 （公下） | H23: ★ | I23: 84 | J23: 1280 | K23: 1280 | L23: =ROUND(K23/J23*100,1) -> 100 | M23: S53.10.22 | N23: S56.10.22 | O23: 84 | P23: 1280 | Q23: 1280 | R23: =ROUND(Q23/P23*100,1) -> 100 | S23: S52～ S59 | T23: S63年度より 公下移管
B24: 松 本 | C24: 松本市 | D24: 穴 田 | E24: S46. 8.27 | G24: H12. 2.24 （公下) | H24: ★ | I24: 662 | J24: 4535 | K24: 4535 | L24: =ROUND(K24/J24*100,1) -> 100 | M24: S46.10. 4 | N24: S54.11.29 | O24: 622 | P24: 4535 | Q24: 4535 | R24: =ROUND(Q24/P24*100,1) -> 100 | S24: S46～ S55 | T24: S57年度より 公下移管
D25: 芳 川 | E25: S47.12.18 | G25: H12. 2.24 （公下) | H25: ★ | I25: 116 | J25: 1600 | K25: 1600 | L25: =ROUND(K25/J25*100,1) -> 100 | M25: S47.12.18 | N25: S51. 3.15 | O25: 116 | P25: 1600 | Q25: 1600 | R25: =ROUND(Q25/P25*100,1) -> 100 | S25: S47～ S51 | T25: S61年度より 公下移管
D26: 牛伏第1 | E26: S56. 3.10 | G26: H12. 2.24 （公下) | H26: ★ | I26: 104 | J26: 1745 | K26: 1745 | L26: =ROUND(K26/J26*100,1) -> 100 | M26: S56. 4.30 | N26: S60. 7.15 | O26: 104 | P26: 1745 | Q26: 1745 | R26: =ROUND(Q26/P26*100,1) -> 100 | S26: S55～ S61 | T26: S59年度より 公下移管
B27: 塩 尻 | C27: 塩尻市 | D27: 渋 川 | E27: S46. 7.15 | G27: H 1. 2.28 （公下） | H27: ★ | I27: 306 | J27: 1590 | K27: 1590 | L27: =ROUND(K27/J27*100,1) -> 100 | M27: S46.10.25 | N27: S56. 3.16 | O27: 306 | P27: 1590 | Q27: 1590 | R27: =ROUND(Q27/P27*100,1) -> 100 | S27: S46～ S57 | T27: S60年度より 公下移管
D28: 田川左岸 １ 号 | E28: S47. 8.10 | G28: H 1. 2.28 （公下） | H28: ★ | I28: 139 | J28: 1830 | K28: 1637 | L28: =ROUND(K28/J28*100,1) -> 89.5 | M28: S59.10.18 | N28: H 1. 3.20 | O28: 139 | P28: 1830 | Q28: 1637 | R28: =ROUND(Q28/P28*100,1) -> 89.5 | S28: S59～ H 5 | T28: H7年度より 公下移管
D29: 田川左岸 ３ 号 | E29: S47. 8.10 | G29: H 1. 2.28 （公下） | H29: ★ | I29: 131 | J29: 690 | K29: 690 | L29: =ROUND(K29/J29*100,1) -> 100 | M29: S52. 3.14 | N29: S56.10.26 | O29: 131 | P29: 690 | Q29: 690 | R29: =ROUND(Q29/P29*100,1) -> 100 | S29: S52～ S57 | T29: H元年度より 公下移管
D30: 田川左岸 ３－１号 | E30: S47. 8.10 | G30: H 1. 2.28 （公下） | H30: ★ | I30: 75 | J30: 1120 | K30: 1120 | L30: =ROUND(K30/J30*100,1) -> 100 | M30: S62. 2.23 | N30: H 1. 3.20 | O30: 75 | P30: 1120 | Q30: 1120 | R30: =ROUND(Q30/P30*100,1) -> 100 | S30: S61～ H 4 | T30: H7年度より 公下移管
D31: 田川左岸 ７ 号 | E31: S47. 8.10 | G31: H 1. 2.28 （公下） | H31: ★ | I31: 84 | J31: 1480 | K31: 1480 | L31: =ROUND(K31/J31*100,1) -> 100 | M31: S60.12.12 | N31: H 1. 3.20 | O31: 84 | P31: 1480 | Q31: 1480 | R31: =ROUND(Q31/P31*100,1) -> 100 | S31: S60～ H 2 | T31: H7年度より 公下移管
D32: 田川左岸 第７号 | E32: S47. 8.10 | G32: H 1. 2.28 （公下） | H32: ★ | I32: 30 | J32: 798 | K32: 798 | L32: =ROUND(K32/J32*100,1) -> 100 | M32: S59. 2.23 | N32: S60. 5.13 | O32: 30 | P32: 798 | Q32: 798 | R32: =ROUND(Q32/P32*100,1) -> 100 | S32: S59～ S60 | T32: H元年度より 公下移管
B33: 安曇野 | C33: 安曇野市 | D33: 新 田 | E33: S48.10. 3 | G33: H24.12.20 | I33: 49 | J33: 1680 | K33: 1635 | L33: =ROUND(K33/J33*100,1) -> 97.3 | M33: S48.10.24 | N33: S59.11.15 | O33: 49 | P33: 1635 | Q33: 1635 | R33: =ROUND(Q33/P33*100,1) -> 100 | S33: S48～ S60
D34: 成 相 | E34: S51.10.12 | G34: H24.12.20 | I34: 30 | J34: 1000 | K34: 989.6 | L34: =ROUND(K34/J34*100,1) -> 99 | M34: S51.12. 6 | N34: S51.12. 6 | O34: 30 | P34: 1000 | Q34: 989.6 | R34: =ROUND(Q34/P34*100,1) -> 99 | S34: S52～ S54
D35: 町 尻 | E35: S40. 8.16 | G35: H24.12.20 | I35: 36 | J35: 1140 | K35: 1140 | L35: =ROUND(K35/J35*100,1) -> 100 | M35: S40. 8.16 | N35: S47.12.21 | O35: 36 | P35: 1140 | Q35: 1140 | R35: =ROUND(Q35/P35*100,1) -> 100 | S35: S40～ S47
B36: 大 町 | C36: 大町市 | D36: １号町川 | E36: S31. 1.14 | G36: H25.12.24 （公下） | H36: ★ | I36: 313 | J36: 1193 | K36: 1069 | L36: =ROUND(K36/J36*100,1) -> 89.6 | M36: S31. 1.14 | N36: S36.11. 8 | O36: 294 | P36: 1069 | Q36: 1069 | R36: =ROUND(Q36/P36*100,1) -> 100 | S36: S30～ S32 | T36: H25年度より 公下移管
D37: ２号町川 | E37: S31. 1.14 | G37: H25.12.24 （公下） | H37: ★ | I37: 299 | J37: 608 | K37: 608 | L37: =ROUND(K37/J37*100,1) -> 100 | M37: S31. 1.14 | N37: S31. 1.14 | O37: 299 | P37: 608 | Q37: 608 | R37: =ROUND(Q37/P37*100,1) -> 100 | S37: S30～ S32 | T37: H25年度より 公下移管
D38: 荒 沢 | E38: S35. 3.17 | G38: H25.12.24 （公下） | H38: ★ | I38: 155 | J38: 300 | K38: 300 | L38: =ROUND(K38/J38*100,1) -> 100 | M38: - | N38: - | O38: 155 | P38: 300 | Q38: 300 | R38: =ROUND(Q38/P38*100,1) -> 100 | T38: H25年度より 公下移管
D39: 西 区 | E39: S35. 3.17 | G39: H25.12.24 （公下） | H39: ★ | I39: 171 | J39: 1468 | K39: 1215 | L39: =ROUND(K39/J39*100,1) -> 82.8 | M39: S38.10.18 | N39: S60. 8.15 | O39: 153 | P39: 1215 | Q39: 1215 | R39: =ROUND(Q39/P39*100,1) -> 100 | S39: S38～ S40 S60～ S61 | T39: H25年度より 公下移管
B40: 千 曲 | C40: 千曲市 | D40: 五十里川 | E40: S47.10. 3 | G40: H 3.12.10 （公下） | H40: ★ | I40: 920 | J40: 3650 | K40: 3385 | L40: =ROUND(K40/J40*100,1) -> 92.7 | M40: S47.10.19 | N40: S55. 3.31 | O40: 920 | P40: 3385 | Q40: 3385 | R40: =ROUND(Q40/P40*100,1) -> 100 | S40: S47～ S55
D41: 黒 川 | E41: S48.11.30 | G41: H 3.12.10 （公下） | H41: ★ | I41: 199 | J41: 1340 | K41: 1328 | L41: =ROUND(K41/J41*100,1) -> 99.1 | M41: S48.12.17 | N41: S61. 3.31 | O41: 199 | P41: 1328 | Q41: 1328 | R41: =ROUND(Q41/P41*100,1) -> 100 | S41: S48～ S61
D42: 一丁田川 | E42: S52. 3. 1 | G42: H 3.12.10 （公下） | H42: ★ | I42: 136 | J42: 2930 | K42: 2553 | L42: =ROUND(K42/J42*100,1) -> 87.1 | M42: S52. 9.29 | N42: H 2.12.20 | O42: 136 | P42: 2553 | Q42: 2553 | R42: =ROUND(Q42/P42*100,1) -> 100 | S42: S52～ H 7 | T42: H26年度より 公下移管
D43: 尾米川 | E43: S58.11.29 | G43: H 3.12.10 （公下） | H43: ★ | I43: 146 | J43: 2720 | K43: 1329 | L43: =ROUND(K43/J43*100,1) -> 48.9 | M43: S58.12.26 | N43: H 5. 8.19 | O43: 146 | P43: 2064 | Q43: 1329 | R43: =ROUND(Q43/P43*100,1) -> 64.4 | S43: S58～ H 8 | T43: H9年度より 公下移管
D44: 伊勢宮川 | E44: S62. 6.30 | G44: H 3.12.10 （公下） | H44: ★ | I44: 167 | J44: 3980 | K44: 2041 | L44: =ROUND(K44/J44*100,1) -> 51.3 | M44: S62.12.14 | N44: H 5. 8.19 | O44: 167 | P44: 2551 | Q44: 2041 | R44: =ROUND(Q44/P44*100,1) -> 80 | S44: S62～ H 8 | T44: H9年度より 公下移管
D45: 東 組 | E45: S58. 8.20 （公下） | F45: ★ | G45: S58. 8.20 （公下） | H45: ★ | I45: 197 | J45: 1223 | K45: 1223 | L45: =ROUND(K45/J45*100,1) -> 100 | M45: S58.12.22 | N45: S58.12.22 | O45: 197 | P45: 1223 | Q45: 1223 | R45: =ROUND(Q45/P45*100,1) -> 100 | S45: S58～ S61 | T45: H4年度より 公下移管
D46: 今 井 | E46: S54. 9.25 | G46: H 3.12. 6 （公下） | H46: ★ | I46: 146 | J46: 4000 | K46: 3880 | L46: =ROUND(K46/J46*100,1) -> 97 | M46: S54.11.19 | N46: S59.10.25 | O46: 146 | P46: 3880 | Q46: 3880 | R46: =ROUND(Q46/P46*100,1) -> 100 | S46: S54～ H 2 | T46: H3年度より 公下移管
A48: 都市下水路計画② | Q48: （平成27年12月1日現在）
B49: 都 市 計 画 区域名 | C49: 市町村名 | D49: 箇所名 | E49: 都市計画決定 | M49: 都市計画法事業認可 | S49: 事業 実施 期間 | T49: 備 考
E50: 年 月 日 | I50: 排水 面積 (ha) | J50: 延 長 | L50: 進捗率 （％） | M50: 年 月 日 | O50: 排水 面積 (ha) | P50: 延 長 | R50: 進捗率 （％）
E51: 当 初 | G51: 最 終 | J51: 計 画 （ｍ） | K51: 完 成 （ｍ） | M51: 当 初 | N51: 最 終 | P51: 計 画 （ｍ） | Q51: 完 成 （ｍ）
B53: 須 坂 | C53: 須坂市 | D53: 中 央 | E53: S43. 9.16 | G53: S43. 9.16 | I53: 74 | J53: 1960 | K53: 1176 | L53: =ROUND(K53/J53*100,1) -> 60 | M53: S45. 3.12 | N53: S45. 3.12 | O53: 74 | P53: 1966 | Q53: 1176 | R53: =ROUND(Q53/P53*100,1) -> 59.8 | S53: S44～ S49
D54: 南 部 | E54: S51. 7.28 | G54: S51. 7.28 | I54: 71 | J54: 1640 | K54: 1632 | L54: =ROUND(K54/J54*100,1) -> 99.5 | M54: S51.12.27 | N54: S59. 3.19 | O54: 71 | P54: 1639 | Q54: 1632 | R54: =ROUND(Q54/P54*100,1) -> 99.6 | S54: S51～ S59
B55: 中 野 | C55: 中野市 | D55: 西 条 | E55: S39. 7.31 | G55: S62.12.23 （公下） | H55: ★ | I55: 95 | J55: 1803 | K55: 1803 | L55: =ROUND(K55/J55*100,1) -> 100 | M55: S39. 7.31 | N55: S43.10. 7 | O55: 95 | P55: 1803 | Q55: 1803 | R55: =ROUND(Q55/P55*100,1) -> 100 | S55: S39～ S44 | T55: S60年度より 公下移管
B56: 長 野 | C56: 長野市 | D56: 神明広田 | E56: S63.12.15 | G56: H10. 3.12 （公下) | H56: ★ | I56: 248 | J56: 2580 | K56: 2580 | L56: =ROUND(K56/J56*100,1) -> 100 | M56: H 1. 1.30 | N56: H 6. 8.19 | O56: 248 | P56: 2580 | Q56: 2580 | R56: =ROUND(Q56/P56*100,1) -> 100 | S56: S63～ H 8 | T56: H9年度より 公下移管
D57: 篠ノ井 中央２号 | E57: S62.10.21 | G57: H10. 3.12 （公下） | H57: ★ | I57: 165 | J57: 2630 | K57: 2630 | L57: =ROUND(K57/J57*100,1) -> 100 | M57: S62.11.19 | N57: H 6. 8.19 | O57: 165 | P57: 2630 | Q57: 2630 | R57: =ROUND(Q57/P57*100,1) -> 100 | S57: S62～ H 6 | T57: H9年度より 公下移管
D58: 安茂里 １ 号 | E58: S62.10.21 | G58: H 9. 1.13 (公下) | H58: ★ | I58: 186 | J58: 1910 | K58: 1910 | L58: =ROUND(K58/J58*100,1) -> 100 | M58: S62.11.19 | N58: H 5. 3. 4 | O58: 186 | P58: 1910 | Q58: 1910 | R58: =ROUND(Q58/P58*100,1) -> 100 | S58: S62～ H 6 | T58: H8年度より 公下移管
D59: 北 部 | E59: S46. 5.24 | G59: S61.12.11 （公下) | H59: ★ | I59: 251 | J59: 2356 | K59: 2356 | L59: =ROUND(K59/J59*100,1) -> 100 | M59: S46. 7.12 | N59: S59. 3.29 | O59: 251 | P59: 2356 | Q59: 2356 | R59: =ROUND(Q59/P59*100,1) -> 100 | S59: S46～ S60 | T59: S61年度より 公下移管
D60: 鐘 鋳 | E60: S41.12.27 | G60: S61.12.11 （公下) | H60: ★ | I60: 174 | J60: 2856 | K60: 2856 | L60: =ROUND(K60/J60*100,1) -> 100 | M60: S42.10. 5 | N60: S46. 7. 9 | O60: 174 | P60: 2856 | Q60: 2856 | R60: =ROUND(Q60/P60*100,1) -> 100 | S60: S42～ S46 | T60: S61年度より 公下移管
D61: 三 輪 | E61: S46. 7. 9 | G61: S61.12.11 （公下) | H61: ★ | I61: 108 | J61: 2194 | K61: 1171 | L61: =ROUND(K61/J61*100,1) -> 53.4 | M61: S48.12.17 | N61: S53. 3.23 | O61: 108 | P61: 2194 | Q61: 1171 | R61: =ROUND(Q61/P61*100,1) -> 53.4 | S61: S48～ S57 | T61: S61年度より 公下移管
D62: 松 林 | E62: S37. 8.29 | G62: S61.12.11 （公下) | H62: ★ | I62: 366 | J62: 3090 | K62: 3090 | L62: =ROUND(K62/J62*100,1) -> 100 | M62: S37. 8.29 | N62: S37. 8.29 | O62: 366 | P62: 3090 | Q62: 3090 | R62: =ROUND(Q62/P62*100,1) -> 100 | S62: S37～ S41 | T62: S61年度より 公下移管
D63: 北八幡川 | E63: S46. 7. 9 | G63: S61.12.11 （公下) | H63: ★ | I63: 646 | J63: 2179 | K63: 1452 | L63: =ROUND(K63/J63*100,1) -> 66.6 | M63: S47.10.19 | N63: S63. 3.22 | O63: 646 | P63: 2179 | Q63: 1452 | R63: =ROUND(Q63/P63*100,1) -> 66.6 | S63: S47～ S63 | T63: S61年度より 公下移管
D64: 更北北部 | E64: S42. 9.20 | G64: H 7. 8.24 （公下） | H64: ★ | I64: 186 | J64: 1230 | K64: 1230 | L64: =ROUND(K64/J64*100,1) -> 100 | M64: S43.10. 7 | N64: S45. 3. 4 | O64: 186 | P64: 1230 | Q64: 1230 | R64: =ROUND(Q64/P64*100,1) -> 100 | S64: S43～ S45 | T64: H7年度より 公下移管
D65: 黒 川 | E65: S48.12.13 | G65: S52. 4.14 | I65: 222 | J65: 545 | K65: 540 | L65: =ROUND(K65/J65*100,1) -> 99.1 | M65: S50. 2.17 | N65: S52. 3.31 | O65: 222 | P65: 545 | Q65: 540 | R65: =ROUND(Q65/P65*100,1) -> 99.1 | S65: S49～ S52
D66: 篠ノ井 中央１号 | E66: S57.10.13 | G66: H10. 3.12 （公下） | H66: ★ | I66: 140 | J66: 3140 | K66: 2543 | L66: =ROUND(K66/J66*100,1) -> 81 | M66: S57.11.11 | N66: S57.11.11 | O66: 140 | P66: 3140 | Q66: 2543 | R66: =ROUND(Q66/P66*100,1) -> 81 | S66: S57～ S62 | T66: H9年度より 公下移管
D67: 古牧３号 | E67: S52. 2.21 | G67: H 9. 1.13 (公下) | H67: ★ | I67: 207 | J67: 830 | K67: 830 | L67: =ROUND(K67/J67*100,1) -> 100 | M67: S61. 1. 9 | N67: S61.12.18 | O67: 207 | P67: 830 | Q67: 830 | R67: =ROUND(Q67/P67*100,1) -> 100 | S67: S60～ S62 | T67: H8年度より 公下移管
D68: 若 槻 | E68: S60.12. 3 | G68: H 8. 9.30 （公下） | H68: ★ | I68: 52 | J68: 350 | K68: 350 | L68: =ROUND(K68/J68*100,1) -> 100 | M68: S60.12.23 | N68: S60.12.23 | O68: 52 | P68: 350 | Q68: 350 | R68: =ROUND(Q68/P68*100,1) -> 100 | S68: S60～ S62 | T68: H8年度より 公下移管
D69: 松代１号 | E69: S61.12. 4 | G69: H10. 3.12 （公下） | H69: ★ | I69: 172 | J69: 1765 | K69: 1765 | L69: =ROUND(K69/J69*100,1) -> 100 | M69: S61.12.18 | N69: H 5. 1. 7 | O69: 172 | P69: 1765 | Q69: 1765 | R69: =ROUND(Q69/P69*100,1) -> 100 | S69: S61～ H 5 | T69: H9年度より 公下移管
D70: 砂 田 | E70: H 2. 6.30 | G70: H 9. 3.17 （公下） | H70: ★ | I70: 111 | J70: 2940 | K70: 2025 | L70: =ROUND(K70/J70*100,1) -> 68.9 | M70: H 2.12. 3 | N70: H 6. 9.16 | O70: 111 | P70: 2940 | Q70: 2025 | R70: =ROUND(Q70/P70*100,1) -> 68.9 | S70: H 2～ H11 | T70: H8年度より 公下移管
D71: 塩崎西部 | E71: H 2. 6.30 | G71: H 4. 2.17 （公下) | H71: ★ | I71: 258 | J71: 660 | K71: 660 | L71: =ROUND(K71/J71*100,1) -> 100 | M71: H 2.10.18 | N71: H 6. 9.16 | O71: 258 | P71: 660 | Q71: 660 | R71: =ROUND(Q71/P71*100,1) -> 100 | S71: H 2～ H 6 | T71: H14年度より 公下移管
D72: 東福寺 | E72: H 4. 2.17 （公下） | F72: ★ | G72: H 4. 2.17 （公下) | H72: ★ | I72: 138 | J72: 2330 | K72: 2320 | L72: =ROUND(K72/J72*100,1) -> 99.6 | M72: H 5. 1. 7 | N72: H12. 8.18 | O72: 138 | P72: 2330 | Q72: 2320 | R72: =ROUND(Q72/P72*100,1) -> 99.6 | S72: H 4～ H14
D73: 更北南部 １ 号 | E73: H 4. 2.17 （公下） | F73: ★ | G73: H 4. 2.17 （公下) | H73: ★ | I73: 429 | J73: 882 | K73: 855 | L73: =ROUND(K73/J73*100,1) -> 96.9 | M73: H 5.11.29 | N73: H10. 3. 2 | O73: 429 | P73: 882 | Q73: 855 | R73: =ROUND(Q73/P73*100,1) -> 96.9 | S73: H 5～ H11
D74: 川中島 ８ 号 | E74: H 5. 3. 2 （公下) | F74: ★ | G74: H 5. 3. 2 （公下） | H74: ★ | I74: 481 | J74: 2530 | K74: 2530 | L74: =ROUND(K74/J74*100,1) -> 100 | M74: H 6.10.31 | N74: H 6.10.31 | O74: 481 | P74: 2530 | Q74: 2530 | R74: =ROUND(Q74/P74*100,1) -> 100 | S74: H 6～ H 9 | T74: H9年度より 公下移管
D75: 寺尾１号 | E75: H 5. 3. 2 （公下) | F75: ★ | G75: H 5. 3. 2 （公下） | H75: ★ | I75: 164 | J75: 690 | K75: 678 | L75: =ROUND(K75/J75*100,1) -> 98.3 | M75: H 6. 9.16 | N75: H11. 2.25 | O75: 164 | P75: 690 | Q75: 678 | R75: =ROUND(Q75/P75*100,1) -> 98.3 | S75: H 6～ H12 | T75: H12年度より 公下移管
D76: 稲里１号 | E76: H 5. 3. 2 （公下) | F76: ★ | G76: H 5. 3. 2 （公下） | H76: ★ | I76: 369 | J76: 1980 | K76: 1980 | L76: =ROUND(K76/J76*100,1) -> 100 | M76: H 6.12.12 | N76: H12. 8.18 | O76: 369 | P76: 1980 | Q76: 1980 | R76: =ROUND(Q76/P76*100,1) -> 100 | S76: H 6～ H15
D77: 豊 野 | E77: S45. 8.12 | G77: H 3. 6. 3 (公下） | H77: ★ | I77: 201 | J77: 2151 | K77: 2151 | L77: =ROUND(K77/J77*100,1) -> 100 | M77: S45.11.16 | N77: S45.11.16 | O77: 201 | P77: 2150.7 | Q77: =ROUND(2150.7,0) -> 2151 | R77: =ROUND(Q77/P77*100,1) -> 100 | S77: S45～ S49 | T77: H元年度より 公下移管
D78: 西 町 | E78: S49. 6.25 | G78: H 3. 6. 3 (公下） | H78: ★ | I78: 72 | J78: 1280 | K78: 1265 | L78: =ROUND(K78/J78*100,1) -> 98.8 | M78: S49.10.31 | N78: S54. 3.29 | O78: 72 | P78: 1280 | Q78: =ROUND(1264.6,0) -> 1265 | R78: =ROUND(Q78/P78*100,1) -> 98.8 | S78: S49～ S57 | T78: H元年度より 公下移管
D79: 神代町 | E79: S51.12.25 | G79: H 3. 6. 3 (公下） | H79: ★ | I79: 42 | J79: 790 | K79: 771 | L79: =ROUND(K79/J79*100,1) -> 97.6 | M79: S52. 2. 7 | N79: S56. 2.26 | O79: 42 | P79: 790 | Q79: =ROUND(770.9,0) -> 771 | R79: =ROUND(Q79/P79*100,1) -> 97.6 | S79: S51～ S56 | T79: H元年度より 公下移管
D80: 神代町 １ 号 | E80: S57.10.20 | G80: H 3. 6. 3 （公下） | H80: ★ | I80: 31 | J80: 570 | K80: 282 | L80: =ROUND(K80/J80*100,1) -> 49.5 | M80: S57.12.16 | N80: S62. 3.18 | O80: 31 | P80: 282 | Q80: 282 | R80: =ROUND(Q80/P80*100,1) -> 100 | S80: S57～ S62 | T80: H元年度より 公下移管
B81: 牟 礼 | C81: 飯綱町 | D81: 栄 町 | E81: H 1. 9.18 | G81: H 1. 9.18 | I81: 40 | J81: 640 | K81: 640 | L81: =ROUND(K81/J81*100,1) -> 100 | M81: H 1.10.23 | N81: H 1.10.23 | O81: 40 | P81: 640 | Q81: 640 | R81: =ROUND(Q81/P81*100,1) -> 100 | S81: H 元～ H 4
B82: 飯 田 | C82: 飯田市 | D82: 北方第３ | E82: S60.12.23 | G82: S63.10.11 （公下） | H82: ★ | I82: 39 | J82: 1240 | K82: 330 | L82: =ROUND(K82/J82*100,1) -> 26.6 | M82: S61. 1. 6 | N82: S61. 1. 6 | O82: 39 | P82: 330 | Q82: 330 | R82: =ROUND(Q82/P82*100,1) -> 100 | S82: S59～ S63 | T82: S63年度より 公下移管
D83: 毛 賀 | E83: S63.10.11 （公下） | F83: ★ | G83: S63.10.11 （公下） | H83: ★ | I83: 54 | J83: 1000 | K83: 1000 | L83: =ROUND(K83/J83*100,1) -> 100 | M83: S63.11.24 | N83: S63.11.24 | O83: 54 | P83: 1000 | Q83: 1000 | R83: =ROUND(Q83/P83*100,1) -> 100 | S83: S63～ H 4
D84: 上殿岡 | E84: S63.10.11 （公下） | F84: ★ | G84: S63.10.11 （公下） | H84: ★ | I84: 33 | J84: 1010 | K84: 1010 | L84: =ROUND(K84/J84*100,1) -> 100 | M84: S63.11.24 | N84: H 5. 1.14 | O84: 33 | P84: 1010 | Q84: 1010 | R84: =ROUND(Q84/P84*100,1) -> 100 | S84: S63～ H 6
B85: 飯 山 | C85: 飯山市 | D85: 中 央 | E85: S46. 4. 1 | G85: H 3.12.12 （公下） | H85: ★ | I85: 221 | J85: 560 | K85: 560 | L85: =ROUND(K85/J85*100,1) -> 100 | M85: S46.10. 4 | N85: S52. 3.31 | O85: 221 | P85: 560 | Q85: 560 | R85: =ROUND(Q85/P85*100,1) -> 100 | S85: S46～ S55 | T85: H3年度より 公下移管
D86: 飯 山 | E86: S46. 4. 1 | G86: H 3.12.12 （公下） | H86: ★ | I86: 193 | J86: 1060 | K86: 1060 | L86: =ROUND(K86/J86*100,1) -> 100 | M86: S57.11.11 | N86: S57.11.11 | O86: 193 | P86: 1060 | Q86: 1060 | R86: =ROUND(Q86/P86*100,1) -> 100 | S86: S46～ S63 | T86: H3年度より 公下移管
B87: 県 計 75 箇所 | I87: =SUM('P-32 P-33'!I6:I52,I45:I86) -> 13267.3 | J87: =SUM('P-32 P-33'!J6:J52,J45:J86) -> 130607 | K87: =SUM('P-32 P-33'!K6:K52,K45:K86) -> 115402.7 | L87: =ROUND(K87/J87*100,1) -> 88.4 | O87: =SUM('P-32 P-33'!O6:O52,O45:O86) -> 12924 | P87: =SUM('P-32 P-33'!P6:P52,P45:P86) -> 121279.8 | Q87: =SUM('P-32 P-33'!Q6:Q52,Q45:Q86) -> 115402.7 | R87: =ROUND(Q87/P87*100,1) -> 95.2
B89: （注） １ 計画決定年月日の★は、公共下水道の雨水渠での決定
B90: ２ 公共下水道へ移管された都市下水路は、75箇所中60箇所
