Workbook
Name PRINT_AREA_MI: #REF!
Name PRINT_AREA_MI: #REF!
Name PRINT_AREA_MI: #REF!
Name PRINT_AREA_MI: #REF!
Name PRINT_AREA_MI: #REF!

Sheet P-17
A1: （２） 汚水処理人口普及率（総括表） | K1: （平成27年度末現在）
C3: 行政人口 | D3: 処 理 人 口 (千人) | H3: 普 及 率 (％)
B4: 区 分 | C4: (千人) | D4: 公共・特環 | E4: 農業集落 | F4: 浄化槽、 | G4: 合 計 | H4: 公共・特環 | I4: 農業集落 | J4: 浄化槽、 | K4: 合 計
D5: 下水道 | E5: 排水施設等 | F5: ｺﾐ･ﾌﾟﾗ | H5: 下水道 | I5: 排水施設等 | J5: ｺﾐ･ﾌﾟﾗ
B6: 長野県計 | C6: =人口集計_市町村別!E92/1000 -> 2129.533 | D6: =人口集計_市町村別!G92/1000 -> 1761.344 | E6: =人口集計_市町村別!L92/1000 -> 191.328 | F6: =(人口集計_市町村別!P92+人口集計_市町村別!Q92)/1000 -> 121.586 | G6: =SUM(D6:F6) -> 2074.258 | H6: =D6/$C6*100 -> 82.710341 | I6: =E6/$C6*100 -> 8.9845051 | J6: =F6/$C6*100 -> 5.7095147 | K6: =G6/$C6*100 -> 97.40436
B8: （市町村別）
B9: 市 | C9: =人口集計_市町村別!E29/1000 -> 1694.871 | D9: =人口集計_市町村別!G29/1000 -> 1469.609 | E9: =人口集計_市町村別!L29/1000 -> 121.18 | F9: =(人口集計_市町村別!P29+人口集計_市町村別!Q29)/1000 -> 68.212 | G9: =SUM(D9:F9) -> 1659.001 | H9: =D9/$C9*100 -> 86.709195 | I9: =E9/$C9*100 -> 7.1498067 | J9: =F9/$C9*100 -> 4.0246131 | K9: =G9/$C9*100 -> 97.883615
B10: 町 | C10: =人口集計_市町村別!E54/1000 -> 280.236 | D10: =人口集計_市町村別!G54/1000 -> 192.658 | E10: =人口集計_市町村別!L54/1000 -> 46.527 | F10: =(人口集計_市町村別!P54+人口集計_市町村別!Q54)/1000 -> 27.65 | G10: =SUM(D10:F10) -> 266.835 | H10: =D10/$C10*100 -> 68.748483 | I10: =E10/$C10*100 -> 16.602792 | J10: =F10/$C10*100 -> 9.8666838 | K10: =G10/$C10*100 -> 95.217959
B11: 村 | C11: =人口集計_市町村別!E91/1000 -> 154.426 | D11: =人口集計_市町村別!G91/1000 -> 99.077 | E11: =人口集計_市町村別!L91/1000 -> 23.621 | F11: =(人口集計_市町村別!P91+人口集計_市町村別!Q91)/1000 -> 25.724 | G11: =SUM(D11:F11) -> 148.422 | H11: =D11/$C11*100 -> 64.158238 | I11: =E11/$C11*100 -> 15.295999 | J11: =F11/$C11*100 -> 16.657817 | K11: =G11/$C11*100 -> 96.112054
B12: 町村 | C12: =(人口集計_市町村別!E91+人口集計_市町村別!E54)/1000 -> 434.662 | D12: =(人口集計_市町村別!G54+人口集計_市町村別!G91)/1000 -> 291.735 | E12: =(人口集計_市町村別!L92+人口集計_市町村別!L54)/1000 -> 237.855 | F12: =(人口集計_市町村別!P54+人口集計_市町村別!Q54+人口集計_市町村別!P91+人口集計_市町村別!Q91)/1000 -> 53.374 | G12: =G10+G11 -> 415.257 | H12: =D12/$C12*100 -> 67.117668 | I12: =E12/$C12*100 -> 54.72183 | J12: =F12/$C12*100 -> 12.279426 | K12: =G12/$C12*100 -> 95.535612
B13: 計（検算） | C13: =SUM(C9:C11) -> 2129.533 | D13: =SUM(D9:D11) -> 1761.344 | E13: =SUM(E9:E11) -> 191.328 | F13: =SUM(F9:F11) -> 121.586 | G13: =SUM(G9:G11) -> 2074.258
B15: （地域別）
B16: 東信 | C16: =人口集計_地域別!E27/1000 -> 412.792 | D16: =人口集計_地域別!G27/1000 -> 302.295 | E16: =人口集計_地域別!L27/1000 -> 58.167 | F16: =(人口集計_地域別!P27+人口集計_地域別!Q27)/1000 -> 41.176 | G16: =SUM(D16:F16) -> 401.638 | H16: =D16/$C16*100 -> 73.231797 | I16: =E16/$C16*100 -> 14.091116 | J16: =F16/$C16*100 -> 9.9749995 | K16: =G16/$C16*100 -> 97.297913
B17: 南信 | C17: =人口集計_地域別!E60/1000 -> 553.41 | D17: =人口集計_地域別!G60/1000 -> 435.368 | E17: =人口集計_地域別!L60/1000 -> 65.247 | F17: =(人口集計_地域別!P60+人口集計_地域別!Q60)/1000 -> 36.118 | G17: =SUM(D17:F17) -> 536.733 | H17: =D17/$C17*100 -> 78.670064 | I17: =E17/$C17*100 -> 11.789993 | J17: =F17/$C17*100 -> 6.5264451 | K17: =G17/$C17*100 -> 96.986502
B18: 中信 | C18: =(人口集計_地域別!E86)/1000 -> 519.65 | D18: =(人口集計_地域別!G86)/1000 -> 458.768 | E18: =人口集計_地域別!L86/1000 -> 21.35 | F18: =(人口集計_地域別!P86+人口集計_地域別!Q86)/1000 -> 28.739 | G18: =SUM(D18:F18) -> 508.857 | H18: =D18/$C18*100 -> 88.284037 | I18: =E18/$C18*100 -> 4.1085346 | J18: =F18/$C18*100 -> 5.5304532 | K18: =G18/$C18*100 -> 97.923025
B19: 北信 | C19: =人口集計_地域別!E108/1000 -> 643.681 | D19: =人口集計_地域別!G108/1000 -> 564.913 | E19: =人口集計_地域別!L108/1000 -> 46.564 | F19: =(人口集計_地域別!P108+人口集計_地域別!Q108)/1000 -> 15.553 | G19: =SUM(D19:F19) -> 627.03 | H19: =D19/$C19*100 -> 87.762883 | I19: =E19/$C19*100 -> 7.2340181 | J19: =F19/$C19*100 -> 2.416259 | K19: =G19/$C19*100 -> 97.41316
B20: 計（検算） | C20: =SUM(C16:C19) -> 2129.533 | D20: =SUM(D16:D19) -> 1761.344 | E20: =SUM(E16:E19) -> 191.328 | F20: =SUM(F16:F19) -> 121.586 | G20: =SUM(G16:G19) -> 2074.258
B22: （広域市町村圏別）
B23: 佐久 | C23: =人口集計_地域別!E21/1000 -> 211.658 | D23: =人口集計_地域別!G21/1000 -> 144.785 | E23: =人口集計_地域別!L21/1000 -> 22.824 | F23: =(人口集計_地域別!P21+人口集計_地域別!Q21)/1000 -> 34.95 | G23: =SUM(D23:F23) -> 202.559 | H23: =D23/$C23*100 -> 68.405163 | I23: =E23/$C23*100 -> 10.783434 | J23: =F23/$C23*100 -> 16.512487 | K23: =G23/$C23*100 -> 95.701084
B24: 上小 | C24: =人口集計_地域別!E26/1000 -> 201.134 | D24: =人口集計_地域別!G26/1000 -> 157.51 | E24: =人口集計_地域別!L26/1000 -> 35.343 | F24: =(人口集計_地域別!P26+人口集計_地域別!Q26)/1000 -> 6.226 | G24: =SUM(D24:F24) -> 199.079 | H24: =D24/$C24*100 -> 78.310977 | I24: =E24/$C24*100 -> 17.571868 | J24: =F24/$C24*100 -> 3.0954488 | K24: =G24/$C24*100 -> 98.978293
B25: 諏訪 | C25: =人口集計_地域別!E35/1000 -> 200.711 | D25: =人口集計_地域別!G35/1000 -> 191.378 | E25: =人口集計_地域別!L35/1000 -> 3.107 | F25: =(人口集計_地域別!P35+人口集計_地域別!Q35)/1000 -> 3.438 | G25: =SUM(D25:F25) -> 197.923 | H25: =D25/$C25*100 -> 95.350031 | I25: =E25/$C25*100 -> 1.5479969 | J25: =F25/$C25*100 -> 1.7129106 | K25: =G25/$C25*100 -> 98.610938
B26: 上伊那 | C26: =人口集計_地域別!E44/1000 -> 186.976 | D26: =人口集計_地域別!G44/1000 -> 134.188 | E26: =人口集計_地域別!L44/1000 -> 36.179 | F26: =(人口集計_地域別!P44+人口集計_地域別!Q44)/1000 -> 9.335 | G26: =SUM(D26:F26) -> 179.702 | H26: =D26/$C26*100 -> 71.7675 | I26: =E26/$C26*100 -> 19.349542 | J26: =F26/$C26*100 -> 4.9926194 | K26: =G26/$C26*100 -> 96.109661
B27: 飯伊 | C27: =人口集計_地域別!E59/1000 -> 165.723 | D27: =人口集計_地域別!G59/1000 -> 109.802 | E27: =人口集計_地域別!L59/1000 -> 25.961 | F27: =(人口集計_地域別!P59+人口集計_地域別!Q59)/1000 -> 23.345 | G27: =SUM(D27:F27) -> 159.108 | H27: =D27/$C27*100 -> 66.256343 | I27: =E27/$C27*100 -> 15.665297 | J27: =F27/$C27*100 -> 14.086759 | K27: =G27/$C27*100 -> 96.0084
B28: 木曽 | C28: =人口集計_地域別!E68/1000 -> 28.741 | D28: =人口集計_地域別!G68/1000 -> 15.054 | E28: =人口集計_地域別!L68/1000 -> 4.879 | F28: =(人口集計_地域別!P68+人口集計_地域別!Q68)/1000 -> 6.313 | G28: =SUM(D28:F28) -> 26.246 | H28: =D28/$C28*100 -> 52.378136 | I28: =E28/$C28*100 -> 16.975749 | J28: =F28/$C28*100 -> 21.965137 | K28: =G28/$C28*100 -> 91.319022
B29: 松本 | C29: =人口集計_地域別!E79/1000 -> 429.838 | D29: =人口集計_地域別!G79/1000 -> 396.29 | E29: =人口集計_地域別!L79/1000 -> 14.67 | F29: =(人口集計_地域別!P79+人口集計_地域別!Q79)/1000 -> 14.324 | G29: =SUM(D29:F29) -> 425.284 | H29: =D29/$C29*100 -> 92.195199 | I29: =E29/$C29*100 -> 3.4129137 | J29: =F29/$C29*100 -> 3.3324183 | K29: =G29/$C29*100 -> 98.940531
B30: 大北 | C30: =人口集計_地域別!E85/1000 -> 61.071 | D30: =人口集計_地域別!G85/1000 -> 47.424 | E30: =人口集計_地域別!L85/1000 -> 1.801 | F30: =(人口集計_地域別!P85+人口集計_地域別!Q85)/1000 -> 8.102 | G30: =SUM(D30:F30) -> 57.327 | H30: =D30/$C30*100 -> 77.653878 | I30: =E30/$C30*100 -> 2.9490265 | J30: =F30/$C30*100 -> 13.266526 | K30: =G30/$C30*100 -> 93.869431
B31: 長野 | C31: =人口集計_地域別!E100/1000 -> 552.079 | D31: =人口集計_地域別!G100/1000 -> 500.915 | E31: =人口集計_地域別!L100/1000 -> 24.586 | F31: =(人口集計_地域別!P100+人口集計_地域別!Q100)/1000 -> 12.625 | G31: =SUM(D31:F31) -> 538.126 | H31: =D31/$C31*100 -> 90.732486 | I31: =E31/$C31*100 -> 4.4533482 | J31: =F31/$C31*100 -> 2.2868104 | K31: =G31/$C31*100 -> 97.472644
B32: 北信 | C32: =人口集計_地域別!E107/1000 -> 91.602 | D32: =人口集計_地域別!G107/1000 -> 63.998 | E32: =人口集計_地域別!L107/1000 -> 21.978 | F32: =(人口集計_地域別!P107+人口集計_地域別!Q107)/1000 -> 2.928 | G32: =SUM(D32:F32) -> 88.904 | H32: =D32/$C32*100 -> 69.865287 | I32: =E32/$C32*100 -> 23.992926 | J32: =F32/$C32*100 -> 3.1964368 | K32: =G32/$C32*100 -> 97.054649
B33: 計（検算） | C33: =SUM(C23:C32) -> 2129.533 | D33: =SUM(D23:D32) -> 1761.344 | E33: =SUM(E23:E32) -> 191.328 | F33: =SUM(F23:F32) -> 121.586 | G33: =SUM(G23:G32) -> 2074.258
B35: 計（検算） | C35: =SUM(C53:C56) -> 2129.533 | D35: =SUM(D53:D56) -> 1761.344 | E35: =SUM(E53:E56) -> 191.328 | F35: =SUM(F53:F56) -> 121.586 | G35: =SUM(G53:G56) -> 2074.258
B36: （建設事務所別）
B37: 佐久 | C37: =C23 -> 211.658 | D37: =D23 -> 144.785 | E37: =E23 -> 22.824 | F37: =F23 -> 34.95 | G37: =SUM(D37:F37) -> 202.559 | H37: =D37/$C37*100 -> 68.405163 | I37: =E37/$C37*100 -> 10.783434 | J37: =F37/$C37*100 -> 16.512487 | K37: =G37/$C37*100 -> 95.701084
B38: 上田 | C38: =C24 -> 201.134 | D38: =D24 -> 157.51 | E38: =E24 -> 35.343 | F38: =F24 -> 6.226 | G38: =SUM(D38:F38) -> 199.079 | H38: =D38/$C38*100 -> 78.310977 | I38: =E38/$C38*100 -> 17.571868 | J38: =F38/$C38*100 -> 3.0954488 | K38: =G38/$C38*100 -> 98.978293
B39: 諏訪 | C39: =C25 -> 200.711 | D39: =D25 -> 191.378 | E39: =E25 -> 3.107 | F39: =F25 -> 3.438 | G39: =SUM(D39:F39) -> 197.923 | H39: =D39/$C39*100 -> 95.350031 | I39: =E39/$C39*100 -> 1.5479969 | J39: =F39/$C39*100 -> 1.7129106 | K39: =G39/$C39*100 -> 98.610938
B40: 伊那 | C40: =C26 -> 186.976 | D40: =D26 -> 134.188 | E40: =E26 -> 36.179 | F40: =F26 -> 9.335 | G40: =SUM(D40:F40) -> 179.702 | H40: =D40/$C40*100 -> 71.7675 | I40: =E40/$C40*100 -> 19.349542 | J40: =F40/$C40*100 -> 4.9926194 | K40: =G40/$C40*100 -> 96.109661
B41: 飯田 | C41: =C27 -> 165.723 | D41: =D27 -> 109.802 | E41: =E27 -> 25.961 | F41: =F27 -> 23.345 | G41: =SUM(D41:F41) -> 159.108 | H41: =D41/$C41*100 -> 66.256343 | I41: =E41/$C41*100 -> 15.665297 | J41: =F41/$C41*100 -> 14.086759 | K41: =G41/$C41*100 -> 96.0084
B42: 木曽 | C42: =C28 -> 28.741 | D42: =D28 -> 15.054 | E42: =E28 -> 4.879 | F42: =F28 -> 6.313 | G42: =SUM(D42:F42) -> 26.246 | H42: =D42/$C42*100 -> 52.378136 | I42: =E42/$C42*100 -> 16.975749 | J42: =F42/$C42*100 -> 21.965137 | K42: =G42/$C42*100 -> 91.319022
B43: 松本 | C43: =人口集計_地域別!E76/1000 -> 331.583 | D43: =人口集計_地域別!G76/1000 -> 308.502 | E43: =人口集計_地域別!L76/1000 -> 11.724 | F43: =(人口集計_地域別!P76+人口集計_地域別!Q76)/1000 -> 9.54 | G43: =SUM(D43:F43) -> 329.766 | H43: =D43/$C43*100 -> 93.039149 | I43: =E43/$C43*100 -> 3.5357663 | J43: =F43/$C43*100 -> 2.8771077 | K43: =G43/$C43*100 -> 99.452023
B44: 安曇野 | C44: =人口集計_地域別!E78/1000 -> 98.255 | D44: =人口集計_地域別!G78/1000 -> 87.788 | E44: =人口集計_地域別!L78/1000 -> 2.946 | F44: =(人口集計_地域別!P78+人口集計_地域別!Q78)/1000 -> 4.784 | G44: =SUM(D44:F44) -> 95.518 | H44: =D44/$C44*100 -> 89.347107 | I44: =E44/$C44*100 -> 2.9983207 | J44: =F44/$C44*100 -> 4.8689634 | K44: =G44/$C44*100 -> 97.214391
B45: 大町 | C45: =C30 -> 61.071 | D45: =D30 -> 47.424 | E45: =E30 -> 1.801 | F45: =F30 -> 8.102 | G45: =SUM(D45:F45) -> 57.327 | H45: =D45/$C45*100 -> 77.653878 | I45: =E45/$C45*100 -> 2.9490265 | J45: =F45/$C45*100 -> 13.266526 | K45: =G45/$C45*100 -> 93.869431
B46: 千曲 | C46: =人口集計_地域別!E90/1000 -> 76.738 | D46: =人口集計_地域別!G90/1000 -> 67.897 | E46: =人口集計_地域別!L90/1000 -> 4.791 | F46: =(人口集計_地域別!P90+人口集計_地域別!Q90)/1000 -> 2.319 | G46: =SUM(D46:F46) -> 75.007 | H46: =D46/$C46*100 -> 88.47898 | I46: =E46/$C46*100 -> 6.2433214 | J46: =F46/$C46*100 -> 3.0219709 | K46: =G46/$C46*100 -> 97.744273
B47: 須坂 | C47: =人口集計_地域別!E94/1000 -> 69.975 | D47: =人口集計_地域別!G94/1000 -> 63.392 | E47: =人口集計_地域別!L94/1000 -> 5.522 | F47: =(人口集計_地域別!P94+人口集計_地域別!Q94)/1000 -> 0.385 | G47: =SUM(D47:F47) -> 69.299 | H47: =D47/$C47*100 -> 90.592354 | I47: =E47/$C47*100 -> 7.8913898 | J47: =F47/$C47*100 -> 0.5501965 | K47: =G47/$C47*100 -> 99.033941
B48: 長野 | C48: =人口集計_地域別!E99/1000 -> 405.366 | D48: =人口集計_地域別!G99/1000 -> 369.626 | E48: =人口集計_地域別!L99/1000 -> 14.273 | F48: =(人口集計_地域別!P99+人口集計_地域別!Q99)/1000 -> 9.921 | G48: =SUM(D48:F48) -> 393.82 | H48: =D48/$C48*100 -> 91.183276 | I48: =E48/$C48*100 -> 3.5210156 | J48: =F48/$C48*100 -> 2.4474179 | K48: =G48/$C48*100 -> 97.15171
B49: 北信 | C49: =C32 -> 91.602 | D49: =D32 -> 63.998 | E49: =E32 -> 21.978 | F49: =F32 -> 2.928 | G49: =SUM(D49:F49) -> 88.904 | H49: =D49/$C49*100 -> 69.865287 | I49: =E49/$C49*100 -> 23.992926 | J49: =F49/$C49*100 -> 3.1964368 | K49: =G49/$C49*100 -> 97.054649
B50: 計（検算） | C50: =SUM(C37:C49) -> 2129.533 | D50: =SUM(D37:D49) -> 1761.344 | E50: =SUM(E37:E49) -> 191.328 | F50: =SUM(F37:F49) -> 121.586 | G50: =SUM(G37:G49) -> 2074.258
B52: （人口規模別）
B53: 30～50万人 | C53: =人口集計_規模別!E11/1000 -> 382.141 | D53: =人口集計_規模別!G11/1000 -> 356.69 | E53: =人口集計_規模別!L11/1000 -> 7.805 | F53: =(人口集計_規模別!P11+人口集計_規模別!Q11)/1000 -> 7.482 | G53: =SUM(D53:F53) -> 371.977 | H53: =D53/$C53*100 -> 93.339893 | I53: =E53/$C53*100 -> 2.0424398 | J53: =F53/$C53*100 -> 1.9579161 | K53: =G53/$C53*100 -> 97.340249
B54: 10～30万人 | C54: =人口集計_規模別!E16/1000 -> 504.284 | D54: =人口集計_規模別!G16/1000 -> 447.161 | E54: =人口集計_規模別!L16/1000 -> 33.988 | F54: =(人口集計_規模別!P16+人口集計_規模別!Q16)/1000 -> 17.884 | G54: =SUM(D54:F54) -> 499.033 | H54: =D54/$C54*100 -> 88.672454 | I54: =E54/$C54*100 -> 6.7398529 | J54: =F54/$C54*100 -> 3.5464143 | K54: =G54/$C54*100 -> 98.958722
B55: 5～10万人 | C55: =人口集計_規模別!E27/1000 -> 604.946 | D55: =人口集計_規模別!G27/1000 -> 530.478 | E55: =人口集計_規模別!L27/1000 -> 32.621 | F55: =(人口集計_規模別!P27+人口集計_規模別!Q27)/1000 -> 28.641 | G55: =SUM(D55:F55) -> 591.74 | H55: =D55/$C55*100 -> 87.690141 | I55: =E55/$C55*100 -> 5.3923821 | J55: =F55/$C55*100 -> 4.7344722 | K55: =G55/$C55*100 -> 97.816995
B56: 5万人未満 | C56: =(人口集計_規模別!E33+人口集計_規模別!E54+人口集計_規模別!E69+人口集計_規模別!E99)/1000 -> 638.162 | D56: =(人口集計_規模別!G33+人口集計_規模別!G54+人口集計_規模別!G69+人口集計_規模別!G99)/1000 -> 427.015 | E56: =(人口集計_規模別!L33+人口集計_規模別!L54+人口集計_規模別!L69+人口集計_規模別!L99)/1000 -> 116.914 | F56: =(人口集計_規模別!P33+人口集計_規模別!Q33+人口集計_規模別!P99+人口集計_規模別!Q99+人口集計_規模別!P69+人口集計_規模別!Q69+人口集計_規模別!P54+人口集計_規模別!Q54)/1000 -> 67.579 | G56: =SUM(D56:F56) -> 611.508 | H56: =D56/$C56*100 -> 66.91326 | I56: =E56/$C56*100 -> 18.320426 | J56: =F56/$C56*100 -> 10.589631 | K56: =G56/$C56*100 -> 95.823318
B57: （3～5万人） | C57: =人口集計_規模別!E33/1000 -> 152.71 | D57: =人口集計_規模別!G33/1000 -> 98.17 | E57: =人口集計_規模別!L33/1000 -> 40.453 | F57: =(人口集計_規模別!P33+人口集計_規模別!Q33)/1000 -> 9.441 | G57: =SUM(D57:F57) -> 148.064 | H57: =D57/$C57*100 -> 64.285247 | I57: =E57/$C57*100 -> 26.490079 | J57: =F57/$C57*100 -> 6.1823063 | K57: =G57/$C57*100 -> 96.957632
B58: （1～3万人） | C58: =人口集計_規模別!E54/1000 -> 304.654 | D58: =人口集計_規模別!G54/1000 -> 229.051 | E58: =人口集計_規模別!L54/1000 -> 41.08 | F58: =(人口集計_規模別!P54+人口集計_規模別!Q54)/1000 -> 22.27 | G58: =SUM(D58:F58) -> 292.401 | H58: =D58/$C58*100 -> 75.183979 | I58: =E58/$C58*100 -> 13.484149 | J58: =F58/$C58*100 -> 7.3099319 | K58: =G58/$C58*100 -> 95.97806
B59: （5千～1万人） | C59: =人口集計_規模別!E69/1000 -> 99.583 | D59: =人口集計_規模別!G69/1000 -> 65.53 | E59: =人口集計_規模別!L69/1000 -> 18.453 | F59: =(人口集計_規模別!P69+人口集計_規模別!Q69)/1000 -> 12.476 | G59: =SUM(D59:F59) -> 96.459 | H59: =D59/$C59*100 -> 65.804404 | I59: =E59/$C59*100 -> 18.530271 | J59: =F59/$C59*100 -> 12.528243 | K59: =G59/$C59*100 -> 96.862918
B60: （5千人未満） | C60: =人口集計_規模別!E99/1000 -> 81.215 | D60: =人口集計_規模別!G99/1000 -> 34.264 | E60: =人口集計_規模別!L99/1000 -> 16.928 | F60: =(人口集計_規模別!P99+人口集計_規模別!Q99)/1000 -> 23.392 | G60: =SUM(D60:F60) -> 74.584 | H60: =D60/$C60*100 -> 42.189251 | I60: =E60/$C60*100 -> 20.84344 | J60: =F60/$C60*100 -> 28.802561 | K60: =G60/$C60*100 -> 91.835252
B62: (注） １ 数字は、Ｈ28年3月31日現在。ただし、Ｈ28年4月1日供用開始告示人口を含む。
B63: ２ 四捨五入を行っているため、合計が合わないことがある。

Sheet P-18
A1: （２） 汚水処理人口普及率（総括表） | K1: （平成26年度末現在）
C3: 行政人口 | D3: 処 理 人 口 (千人) | H3: 普 及 率 (％)
B4: 区 分 | C4: (千人) | D4: 公共・特環 | E4: 農業集落 | F4: 浄化槽、 | G4: 合 計 | H4: 公共・特環 | I4: 農業集落 | J4: 浄化槽、 | K4: 合 計
D5: 下水道 | E5: 排水施設等 | F5: ｺﾐ･ﾌﾟﾗ | H5: 下水道 | I5: 排水施設等 | J5: ｺﾐ･ﾌﾟﾗ
B6: 長野県計 | C6: =人口集計_市町村別!E92/1000 -> 2129.533 | D6: =人口集計_市町村別!G92/1000 -> 1761.344 | E6: =人口集計_市町村別!L92/1000 -> 191.328 | F6: =(人口集計_市町村別!P92+人口集計_市町村別!Q92)/1000 -> 121.586 | G6: =SUM(D6:F6) -> 2074.258 | H6: =D6/$C6*100 -> 82.710341 | I6: =E6/$C6*100 -> 8.9845051 | J6: =F6/$C6*100 -> 5.7095147 | K6: =G6/$C6*100 -> 97.40436
B8: （市町村別）
B9: 市 | C9: =人口集計_市町村別!E29/1000 -> 1694.871 | D9: =人口集計_市町村別!G29/1000 -> 1469.609 | E9: =人口集計_市町村別!L29/1000 -> 121.18 | F9: =(人口集計_市町村別!P29+人口集計_市町村別!Q29)/1000 -> 68.212 | G9: =SUM(D9:F9) -> 1659.001 | H9: =D9/$C9*100 -> 86.709195 | I9: =E9/$C9*100 -> 7.1498067 | J9: =F9/$C9*100 -> 4.0246131 | K9: =G9/$C9*100 -> 97.883615
B10: 町 | C10: =人口集計_市町村別!E54/1000 -> 280.236 | D10: =人口集計_市町村別!G54/1000 -> 192.658 | E10: =人口集計_市町村別!L54/1000 -> 46.527 | F10: =(人口集計_市町村別!P54+人口集計_市町村別!Q54)/1000 -> 27.65 | G10: =SUM(D10:F10) -> 266.835 | H10: =D10/$C10*100 -> 68.748483 | I10: =E10/$C10*100 -> 16.602792 | J10: =F10/$C10*100 -> 9.8666838 | K10: =G10/$C10*100 -> 95.217959
B11: 村 | C11: =人口集計_市町村別!E91/1000 -> 154.426 | D11: =人口集計_市町村別!G91/1000 -> 99.077 | E11: =人口集計_市町村別!L91/1000 -> 23.621 | F11: =(人口集計_市町村別!P91+人口集計_市町村別!Q91)/1000 -> 25.724 | G11: =SUM(D11:F11) -> 148.422 | H11: =D11/$C11*100 -> 64.158238 | I11: =E11/$C11*100 -> 15.295999 | J11: =F11/$C11*100 -> 16.657817 | K11: =G11/$C11*100 -> 96.112054
B12: 町村 | C12: =(人口集計_市町村別!E91+人口集計_市町村別!E54)/1000 -> 434.662 | D12: =(人口集計_市町村別!G54+人口集計_市町村別!G91)/1000 -> 291.735 | E12: =(人口集計_市町村別!L92+人口集計_市町村別!L54)/1000 -> 237.855 | F12: =(人口集計_市町村別!P54+人口集計_市町村別!Q54+人口集計_市町村別!P91+人口集計_市町村別!Q91)/1000 -> 53.374 | G12: =G10+G11 -> 415.257 | H12: =D12/$C12*100 -> 67.117668 | I12: =E12/$C12*100 -> 54.72183 | J12: =F12/$C12*100 -> 12.279426 | K12: =G12/$C12*100 -> 95.535612
B13: 計（検算） | C13: =SUM(C9:C11) -> 2129.533 | D13: =SUM(D9:D11) -> 1761.344 | E13: =SUM(E9:E11) -> 191.328 | F13: =SUM(F9:F11) -> 121.586 | G13: =SUM(G9:G11) -> 2074.258
B15: （地域別）
B16: 東信 | C16: =人口集計_地域別!E27/1000 -> 412.792 | D16: =人口集計_地域別!G27/1000 -> 302.295 | E16: =人口集計_地域別!L27/1000 -> 58.167 | F16: =(人口集計_地域別!P27+人口集計_地域別!Q27)/1000 -> 41.176 | G16: =SUM(D16:F16) -> 401.638 | H16: =D16/$C16*100 -> 73.231797 | I16: =E16/$C16*100 -> 14.091116 | J16: =F16/$C16*100 -> 9.9749995 | K16: =G16/$C16*100 -> 97.297913
B17: 南信 | C17: =人口集計_地域別!E60/1000 -> 553.41 | D17: =人口集計_地域別!G60/1000 -> 435.368 | E17: =人口集計_地域別!L60/1000 -> 65.247 | F17: =(人口集計_地域別!P60+人口集計_地域別!Q60)/1000 -> 36.118 | G17: =SUM(D17:F17) -> 536.733 | H17: =D17/$C17*100 -> 78.670064 | I17: =E17/$C17*100 -> 11.789993 | J17: =F17/$C17*100 -> 6.5264451 | K17: =G17/$C17*100 -> 96.986502
B18: 中信 | C18: =(人口集計_地域別!E86)/1000 -> 519.65 | D18: =(人口集計_地域別!G86)/1000 -> 458.768 | E18: =人口集計_地域別!L86/1000 -> 21.35 | F18: =(人口集計_地域別!P86+人口集計_地域別!Q86)/1000 -> 28.739 | G18: =SUM(D18:F18) -> 508.857 | H18: =D18/$C18*100 -> 88.284037 | I18: =E18/$C18*100 -> 4.1085346 | J18: =F18/$C18*100 -> 5.5304532 | K18: =G18/$C18*100 -> 97.923025
B19: 北信 | C19: =人口集計_地域別!E108/1000 -> 643.681 | D19: =人口集計_地域別!G108/1000 -> 564.913 | E19: =人口集計_地域別!L108/1000 -> 46.564 | F19: =(人口集計_地域別!P108+人口集計_地域別!Q108)/1000 -> 15.553 | G19: =SUM(D19:F19) -> 627.03 | H19: =D19/$C19*100 -> 87.762883 | I19: =E19/$C19*100 -> 7.2340181 | J19: =F19/$C19*100 -> 2.416259 | K19: =G19/$C19*100 -> 97.41316
B20: 計（検算） | C20: =SUM(C16:C19) -> 2129.533 | D20: =SUM(D16:D19) -> 1761.344 | E20: =SUM(E16:E19) -> 191.328 | F20: =SUM(F16:F19) -> 121.586 | G20: =SUM(G16:G19) -> 2074.258
B22: （広域市町村圏別） | N22: 広域市町村圏 | O22: 下水道 | P22: 農集排 | Q22: 浄化槽・コミプラ | R22: 合 計
B23: 佐久 | C23: =人口集計_地域別!E21/1000 -> 211.658 | D23: =人口集計_地域別!G21/1000 -> 144.785 | E23: =人口集計_地域別!L21/1000 -> 22.824 | F23: =(人口集計_地域別!P21+人口集計_地域別!Q21)/1000 -> 34.95 | G23: =SUM(D23:F23) -> 202.559 | H23: =D23/$C23*100 -> 68.405163 | I23: =E23/$C23*100 -> 10.783434 | J23: =F23/$C23*100 -> 16.512487 | K23: =G23/$C23*100 -> 95.701084 | N23: 佐久 | O23: =H23 -> 68.405163 | P23: =I23 -> 10.783434 | Q23: =J23 -> 16.512487 | R23: =K23 -> 95.701084
B24: 上小 | C24: =人口集計_地域別!E26/1000 -> 201.134 | D24: =人口集計_地域別!G26/1000 -> 157.51 | E24: =人口集計_地域別!L26/1000 -> 35.343 | F24: =(人口集計_地域別!P26+人口集計_地域別!Q26)/1000 -> 6.226 | G24: =SUM(D24:F24) -> 199.079 | H24: =D24/$C24*100 -> 78.310977 | I24: =E24/$C24*100 -> 17.571868 | J24: =F24/$C24*100 -> 3.0954488 | K24: =G24/$C24*100 -> 98.978293 | N24: 上小 | O24: =H24 -> 78.310977 | P24: =I24 -> 17.571868 | Q24: =J24 -> 3.0954488 | R24: =K24 -> 98.978293
B25: 諏訪 | C25: =人口集計_地域別!E35/1000 -> 200.711 | D25: =人口集計_地域別!G35/1000 -> 191.378 | E25: =人口集計_地域別!L35/1000 -> 3.107 | F25: =(人口集計_地域別!P35+人口集計_地域別!Q35)/1000 -> 3.438 | G25: =SUM(D25:F25) -> 197.923 | H25: =D25/$C25*100 -> 95.350031 | I25: =E25/$C25*100 -> 1.5479969 | J25: =F25/$C25*100 -> 1.7129106 | K25: =G25/$C25*100 -> 98.610938 | N25: 諏訪 | O25: =H25 -> 95.350031 | P25: =I25 -> 1.5479969 | Q25: =J25 -> 1.7129106 | R25: =K25 -> 98.610938
B26: 上伊那 | C26: =人口集計_地域別!E44/1000 -> 186.976 | D26: =人口集計_地域別!G44/1000 -> 134.188 | E26: =人口集計_地域別!L44/1000 -> 36.179 | F26: =(人口集計_地域別!P44+人口集計_地域別!Q44)/1000 -> 9.335 | G26: =SUM(D26:F26) -> 179.702 | H26: =D26/$C26*100 -> 71.7675 | I26: =E26/$C26*100 -> 19.349542 | J26: =F26/$C26*100 -> 4.9926194 | K26: =G26/$C26*100 -> 96.109661 | N26: 上伊那 | O26: =H26 -> 71.7675 | P26: =I26 -> 19.349542 | Q26: =J26 -> 4.9926194 | R26: =K26 -> 96.109661
B27: 飯伊 | C27: =人口集計_地域別!E59/1000 -> 165.723 | D27: =人口集計_地域別!G59/1000 -> 109.802 | E27: =人口集計_地域別!L59/1000 -> 25.961 | F27: =(人口集計_地域別!P59+人口集計_地域別!Q59)/1000 -> 23.345 | G27: =SUM(D27:F27) -> 159.108 | H27: =D27/$C27*100 -> 66.256343 | I27: =E27/$C27*100 -> 15.665297 | J27: =F27/$C27*100 -> 14.086759 | K27: =G27/$C27*100 -> 96.0084 | N27: 飯伊 | O27: =H27 -> 66.256343 | P27: =I27 -> 15.665297 | Q27: =J27 -> 14.086759 | R27: =K27 -> 96.0084
B28: 木曽 | C28: =人口集計_地域別!E68/1000 -> 28.741 | D28: =人口集計_地域別!G68/1000 -> 15.054 | E28: =人口集計_地域別!L68/1000 -> 4.879 | F28: =(人口集計_地域別!P68+人口集計_地域別!Q68)/1000 -> 6.313 | G28: =SUM(D28:F28) -> 26.246 | H28: =D28/$C28*100 -> 52.378136 | I28: =E28/$C28*100 -> 16.975749 | J28: =F28/$C28*100 -> 21.965137 | K28: =G28/$C28*100 -> 91.319022 | N28: 木曽 | O28: =H28 -> 52.378136 | P28: =I28 -> 16.975749 | Q28: =J28 -> 21.965137 | R28: =K28 -> 91.319022
B29: 松本 | C29: =人口集計_地域別!E79/1000 -> 429.838 | D29: =人口集計_地域別!G79/1000 -> 396.29 | E29: =人口集計_地域別!L79/1000 -> 14.67 | F29: =(人口集計_地域別!P79+人口集計_地域別!Q79)/1000 -> 14.324 | G29: =SUM(D29:F29) -> 425.284 | H29: =D29/$C29*100 -> 92.195199 | I29: =E29/$C29*100 -> 3.4129137 | J29: =F29/$C29*100 -> 3.3324183 | K29: =G29/$C29*100 -> 98.940531 | N29: 松本 | O29: =H29 -> 92.195199 | P29: =I29 -> 3.4129137 | Q29: =J29 -> 3.3324183 | R29: =K29 -> 98.940531
B30: 大北 | C30: =人口集計_地域別!E85/1000 -> 61.071 | D30: =人口集計_地域別!G85/1000 -> 47.424 | E30: =人口集計_地域別!L85/1000 -> 1.801 | F30: =(人口集計_地域別!P85+人口集計_地域別!Q85)/1000 -> 8.102 | G30: =SUM(D30:F30) -> 57.327 | H30: =D30/$C30*100 -> 77.653878 | I30: =E30/$C30*100 -> 2.9490265 | J30: =F30/$C30*100 -> 13.266526 | K30: =G30/$C30*100 -> 93.869431 | N30: 大北 | O30: =H30 -> 77.653878 | P30: =I30 -> 2.9490265 | Q30: =J30 -> 13.266526 | R30: =K30 -> 93.869431
B31: 長野 | C31: =人口集計_地域別!E100/1000 -> 552.079 | D31: =人口集計_地域別!G100/1000 -> 500.915 | E31: =人口集計_地域別!L100/1000 -> 24.586 | F31: =(人口集計_地域別!P100+人口集計_地域別!Q100)/1000 -> 12.625 | G31: =SUM(D31:F31) -> 538.126 | H31: =D31/$C31*100 -> 90.732486 | I31: =E31/$C31*100 -> 4.4533482 | J31: =F31/$C31*100 -> 2.2868104 | K31: =G31/$C31*100 -> 97.472644 | N31: 長野 | O31: =H31 -> 90.732486 | P31: =I31 -> 4.4533482 | Q31: =J31 -> 2.2868104 | R31: =K31 -> 97.472644
B32: 北信 | C32: =人口集計_地域別!E107/1000 -> 91.602 | D32: =人口集計_地域別!G107/1000 -> 63.998 | E32: =人口集計_地域別!L107/1000 -> 21.978 | F32: =(人口集計_地域別!P107+人口集計_地域別!Q107)/1000 -> 2.928 | G32: =SUM(D32:F32) -> 88.904 | H32: =D32/$C32*100 -> 69.865287 | I32: =E32/$C32*100 -> 23.992926 | J32: =F32/$C32*100 -> 3.1964368 | K32: =G32/$C32*100 -> 97.054649 | N32: 北信 | O32: =H32 -> 69.865287 | P32: =I32 -> 23.992926 | Q32: =J32 -> 3.1964368 | R32: =K32 -> 97.054649
B33: 計（検算） | C33: =SUM(C23:C32) -> 2129.533 | D33: =SUM(D23:D32) -> 1761.344 | E33: =SUM(E23:E32) -> 191.328 | F33: =SUM(F23:F32) -> 121.586 | G33: =SUM(G23:G32) -> 2074.258
B35: 計（検算） | C35: =SUM(C53:C56) -> 2129.533 | D35: =SUM(D53:D56) -> 1761.344 | E35: =SUM(E53:E56) -> 191.328 | F35: =SUM(F53:F56) -> 121.586 | G35: =SUM(G53:G56) -> 2074.258
B36: （建設事務所別）
B37: 佐久 | C37: =C23 -> 211.658 | D37: =D23 -> 144.785 | E37: =E23 -> 22.824 | F37: =F23 -> 34.95 | G37: =SUM(D37:F37) -> 202.559 | H37: =D37/$C37*100 -> 68.405163 | I37: =E37/$C37*100 -> 10.783434 | J37: =F37/$C37*100 -> 16.512487 | K37: =G37/$C37*100 -> 95.701084
B38: 上田 | C38: =C24 -> 201.134 | D38: =D24 -> 157.51 | E38: =E24 -> 35.343 | F38: =F24 -> 6.226 | G38: =SUM(D38:F38) -> 199.079 | H38: =D38/$C38*100 -> 78.310977 | I38: =E38/$C38*100 -> 17.571868 | J38: =F38/$C38*100 -> 3.0954488 | K38: =G38/$C38*100 -> 98.978293
B39: 諏訪 | C39: =C25 -> 200.711 | D39: =D25 -> 191.378 | E39: =E25 -> 3.107 | F39: =F25 -> 3.438 | G39: =SUM(D39:F39) -> 197.923 | H39: =D39/$C39*100 -> 95.350031 | I39: =E39/$C39*100 -> 1.5479969 | J39: =F39/$C39*100 -> 1.7129106 | K39: =G39/$C39*100 -> 98.610938
B40: 伊那 | C40: =C26 -> 186.976 | D40: =D26 -> 134.188 | E40: =E26 -> 36.179 | F40: =F26 -> 9.335 | G40: =SUM(D40:F40) -> 179.702 | H40: =D40/$C40*100 -> 71.7675 | I40: =E40/$C40*100 -> 19.349542 | J40: =F40/$C40*100 -> 4.9926194 | K40: =G40/$C40*100 -> 96.109661
B41: 飯田 | C41: =C27 -> 165.723 | D41: =D27 -> 109.802 | E41: =E27 -> 25.961 | F41: =F27 -> 23.345 | G41: =SUM(D41:F41) -> 159.108 | H41: =D41/$C41*100 -> 66.256343 | I41: =E41/$C41*100 -> 15.665297 | J41: =F41/$C41*100 -> 14.086759 | K41: =G41/$C41*100 -> 96.0084
B42: 木曽 | C42: =C28 -> 28.741 | D42: =D28 -> 15.054 | E42: =E28 -> 4.879 | F42: =F28 -> 6.313 | G42: =SUM(D42:F42) -> 26.246 | H42: =D42/$C42*100 -> 52.378136 | I42: =E42/$C42*100 -> 16.975749 | J42: =F42/$C42*100 -> 21.965137 | K42: =G42/$C42*100 -> 91.319022
B43: 松本 | C43: =人口集計_地域別!E76/1000 -> 331.583 | D43: =人口集計_地域別!G76/1000 -> 308.502 | E43: =人口集計_地域別!L76/1000 -> 11.724 | F43: =(人口集計_地域別!P76+人口集計_地域別!Q76)/1000 -> 9.54 | G43: =SUM(D43:F43) -> 329.766 | H43: =D43/$C43*100 -> 93.039149 | I43: =E43/$C43*100 -> 3.5357663 | J43: =F43/$C43*100 -> 2.8771077 | K43: =G43/$C43*100 -> 99.452023
B44: 安曇野 | C44: =人口集計_地域別!E78/1000 -> 98.255 | D44: =人口集計_地域別!G78/1000 -> 87.788 | E44: =人口集計_地域別!L78/1000 -> 2.946 | F44: =(人口集計_地域別!P78+人口集計_地域別!Q78)/1000 -> 4.784 | G44: =SUM(D44:F44) -> 95.518 | H44: =D44/$C44*100 -> 89.347107 | I44: =E44/$C44*100 -> 2.9983207 | J44: =F44/$C44*100 -> 4.8689634 | K44: =G44/$C44*100 -> 97.214391
B45: 大町 | C45: =C30 -> 61.071 | D45: =D30 -> 47.424 | E45: =E30 -> 1.801 | F45: =F30 -> 8.102 | G45: =SUM(D45:F45) -> 57.327 | H45: =D45/$C45*100 -> 77.653878 | I45: =E45/$C45*100 -> 2.9490265 | J45: =F45/$C45*100 -> 13.266526 | K45: =G45/$C45*100 -> 93.869431
B46: 千曲 | C46: =人口集計_地域別!E90/1000 -> 76.738 | D46: =人口集計_地域別!G90/1000 -> 67.897 | E46: =人口集計_地域別!L90/1000 -> 4.791 | F46: =(人口集計_地域別!P90+人口集計_地域別!Q90)/1000 -> 2.319 | G46: =SUM(D46:F46) -> 75.007 | H46: =D46/$C46*100 -> 88.47898 | I46: =E46/$C46*100 -> 6.2433214 | J46: =F46/$C46*100 -> 3.0219709 | K46: =G46/$C46*100 -> 97.744273
B47: 須坂 | C47: =人口集計_地域別!E94/1000 -> 69.975 | D47: =人口集計_地域別!G94/1000 -> 63.392 | E47: =人口集計_地域別!L94/1000 -> 5.522 | F47: =(人口集計_地域別!P94+人口集計_地域別!Q94)/1000 -> 0.385 | G47: =SUM(D47:F47) -> 69.299 | H47: =D47/$C47*100 -> 90.592354 | I47: =E47/$C47*100 -> 7.8913898 | J47: =F47/$C47*100 -> 0.5501965 | K47: =G47/$C47*100 -> 99.033941
B48: 長野 | C48: =人口集計_地域別!E99/1000 -> 405.366 | D48: =人口集計_地域別!G99/1000 -> 369.626 | E48: =人口集計_地域別!L99/1000 -> 14.273 | F48: =(人口集計_地域別!P99+人口集計_地域別!Q99)/1000 -> 9.921 | G48: =SUM(D48:F48) -> 393.82 | H48: =D48/$C48*100 -> 91.183276 | I48: =E48/$C48*100 -> 3.5210156 | J48: =F48/$C48*100 -> 2.4474179 | K48: =G48/$C48*100 -> 97.15171
B49: 北信 | C49: =C32 -> 91.602 | D49: =D32 -> 63.998 | E49: =E32 -> 21.978 | F49: =F32 -> 2.928 | G49: =SUM(D49:F49) -> 88.904 | H49: =D49/$C49*100 -> 69.865287 | I49: =E49/$C49*100 -> 23.992926 | J49: =F49/$C49*100 -> 3.1964368 | K49: =G49/$C49*100 -> 97.054649
B50: 計（検算） | C50: =SUM(C37:C49) -> 2129.533 | D50: =SUM(D37:D49) -> 1761.344 | E50: =SUM(E37:E49) -> 191.328 | F50: =SUM(F37:F49) -> 121.586 | G50: =SUM(G37:G49) -> 2074.258
B52: （人口規模別） | N52: 人口別 | O52: 下水道 | P52: 農集排 | Q52: 浄化槽・コミプラ | R52: 合 計
B53: 30～50万人 | C53: =人口集計_規模別!E11/1000 -> 382.141 | D53: =人口集計_規模別!G11/1000 -> 356.69 | E53: =人口集計_規模別!L11/1000 -> 7.805 | F53: =(人口集計_規模別!P11+人口集計_規模別!Q11)/1000 -> 7.482 | G53: =SUM(D53:F53) -> 371.977 | H53: =D53/$C53*100 -> 93.339893 | I53: =E53/$C53*100 -> 2.0424398 | J53: =F53/$C53*100 -> 1.9579161 | K53: =G53/$C53*100 -> 97.340249 | N53: 30～50万人 | O53: =H53 -> 93.339893 | P53: =I53 -> 2.0424398 | Q53: =J53 -> 1.9579161 | R53: =K53 -> 97.340249
B54: 10～30万人 | C54: =人口集計_規模別!E16/1000 -> 504.284 | D54: =人口集計_規模別!G16/1000 -> 447.161 | E54: =人口集計_規模別!L16/1000 -> 33.988 | F54: =(人口集計_規模別!P16+人口集計_規模別!Q16)/1000 -> 17.884 | G54: =SUM(D54:F54) -> 499.033 | H54: =D54/$C54*100 -> 88.672454 | I54: =E54/$C54*100 -> 6.7398529 | J54: =F54/$C54*100 -> 3.5464143 | K54: =G54/$C54*100 -> 98.958722 | N54: 10～30万人 | O54: =H54 -> 88.672454 | P54: =I54 -> 6.7398529 | Q54: =J54 -> 3.5464143 | R54: =K54 -> 98.958722
B55: 5～10万人 | C55: =人口集計_規模別!E27/1000 -> 604.946 | D55: =人口集計_規模別!G27/1000 -> 530.478 | E55: =人口集計_規模別!L27/1000 -> 32.621 | F55: =(人口集計_規模別!P27+人口集計_規模別!Q27)/1000 -> 28.641 | G55: =SUM(D55:F55) -> 591.74 | H55: =D55/$C55*100 -> 87.690141 | I55: =E55/$C55*100 -> 5.3923821 | J55: =F55/$C55*100 -> 4.7344722 | K55: =G55/$C55*100 -> 97.816995 | N55: 5～10万人 | O55: =H55 -> 87.690141 | P55: =I55 -> 5.3923821 | Q55: =J55 -> 4.7344722 | R55: =K55 -> 97.816995
B56: 5万人未満 | C56: =(人口集計_規模別!E33+人口集計_規模別!E54+人口集計_規模別!E69+人口集計_規模別!E99)/1000 -> 638.162 | D56: =(人口集計_規模別!G33+人口集計_規模別!G54+人口集計_規模別!G69+人口集計_規模別!G99)/1000 -> 427.015 | E56: =(人口集計_規模別!L33+人口集計_規模別!L54+人口集計_規模別!L69+人口集計_規模別!L99)/1000 -> 116.914 | F56: =(人口集計_規模別!P33+人口集計_規模別!Q33+人口集計_規模別!P99+人口集計_規模別!Q99+人口集計_規模別!P69+人口集計_規模別!Q69+人口集計_規模別!P54+人口集計_規模別!Q54)/1000 -> 67.579 | G56: =SUM(D56:F56) -> 611.508 | H56: =D56/$C56*100 -> 66.91326 | I56: =E56/$C56*100 -> 18.320426 | J56: =F56/$C56*100 -> 10.589631 | K56: =G56/$C56*100 -> 95.823318 | N56: 5万人未満 | O56: =H56 -> 66.91326 | P56: =I56 -> 18.320426 | Q56: =J56 -> 10.589631 | R56: =K56 -> 95.823318
B57: （3～5万人） | C57: =人口集計_規模別!E33/1000 -> 152.71 | D57: =人口集計_規模別!G33/1000 -> 98.17 | E57: =人口集計_規模別!L33/1000 -> 40.453 | F57: =(人口集計_規模別!P33+人口集計_規模別!Q33)/1000 -> 9.441 | G57: =SUM(D57:F57) -> 148.064 | H57: =D57/$C57*100 -> 64.285247 | I57: =E57/$C57*100 -> 26.490079 | J57: =F57/$C57*100 -> 6.1823063 | K57: =G57/$C57*100 -> 96.957632
B58: （1～3万人） | C58: =人口集計_規模別!E54/1000 -> 304.654 | D58: =人口集計_規模別!G54/1000 -> 229.051 | E58: =人口集計_規模別!L54/1000 -> 41.08 | F58: =(人口集計_規模別!P54+人口集計_規模別!Q54)/1000 -> 22.27 | G58: =SUM(D58:F58) -> 292.401 | H58: =D58/$C58*100 -> 75.183979 | I58: =E58/$C58*100 -> 13.484149 | J58: =F58/$C58*100 -> 7.3099319 | K58: =G58/$C58*100 -> 95.97806
B59: （5千～1万人） | C59: =人口集計_規模別!E69/1000 -> 99.583 | D59: =人口集計_規模別!G69/1000 -> 65.53 | E59: =人口集計_規模別!L69/1000 -> 18.453 | F59: =(人口集計_規模別!P69+人口集計_規模別!Q69)/1000 -> 12.476 | G59: =SUM(D59:F59) -> 96.459 | H59: =D59/$C59*100 -> 65.804404 | I59: =E59/$C59*100 -> 18.530271 | J59: =F59/$C59*100 -> 12.528243 | K59: =G59/$C59*100 -> 96.862918
B60: （5千人未満） | C60: =人口集計_規模別!E99/1000 -> 81.215 | D60: =人口集計_規模別!G99/1000 -> 34.264 | E60: =人口集計_規模別!L99/1000 -> 16.928 | F60: =(人口集計_規模別!P99+人口集計_規模別!Q99)/1000 -> 23.392 | G60: =SUM(D60:F60) -> 74.584 | H60: =D60/$C60*100 -> 42.189251 | I60: =E60/$C60*100 -> 20.84344 | J60: =F60/$C60*100 -> 28.802561 | K60: =G60/$C60*100 -> 91.835252
B62: (注） １ 数字は、Ｈ28年3月31日現在。ただし、Ｈ28年4月1日供用開始告示人口を含む。
B63: ２ 四捨五入を行っているため、合計が合わないことがある。
B70: 広域市町村圏別汚水処理人口普及率
B88: 人口規模別汚水処理人口普及率

Sheet 人口集計_市町村別
A1: 長野県 汚水処理人口普及状況総括表
A2: ① | B2: ② | C2: ③ | D2: ④ | E2: ⑤ | F2: ⑥ | G2: ⑧ | H2: ⑩ | M2: ⑫ | N2: ⑬ | O2: ⑭ | P2: ⑮ | Q2: ⑰
A3: 県 | B3: 都道府県 | C3: 市町 | D3: 市町村名 | E3: 住民基本台帳 | F3: H27年度末 | G3: 下 水 道 | H3: 農業集落排水施設等 | M3: 合 併 処 理 浄 化 槽 等 | Q3: コ ミ プ ラ | S3: 1
A4: コ | B4: 名 | C4: 村 | E4: 人口 | G4: H27年度末 | L4: H27年度末 | M4: 下水道の処理開始公示済区域外 | Q4: H27年度末 | S4: 2
A5: ｜ | C5: ｺｰﾄﾞ | D5: H28.3.31現在 | E5: H28.3.31現在 | F5: 汚水処理人口 | G5: 下水道 | H5: H27年度末 | I5: H27年度末 | J5: H27年度末 | K5: H27年度末 | L5: 農排等 | M5: 浄化槽 | N5: 浄化槽設置 | O5: 民間設置 | P5: 合併処理 | Q5: コミプラ | S5: 3
A6: ド | G6: 処理人口 | H6: 農排 | I6: 漁排 | J6: 林排 | K6: 簡易排水 | L6: 整備人口 | M6: 市町村整備 | N6: 整備事業 | O6: 浄化槽 | P6: 浄化槽 | Q6: 処理人口 | S6: 4
H7: 整備人口 | I7: 整備人口 | J7: 整備人口 | K7: 整備人口 | M7: 推進事業等 | N7: 設置処理人口 | O7: 処理人口 | P7: 処理人口
M8: 設置処理人口
E9: （人） | F9: （人） | G9: （人） | H9: （人） | I9: （人） | J9: （人） | K9: （人） | L9: (人) | M9: （人） | N9: （人） | O9: （人） | P9: （人） | Q9: （人）
A10: 20 | B10: 長野 | C10: 201 | D10: 長野市 | E10: 382141 | F10: 371977 | G10: 356690 | H10: 7805 | I10: 0 | J10: 0 | K10: 0 | L10: =SUM(H10:K10) -> 7805 | M10: 2634 | N10: 2160 | O10: 2688 | P10: 7482 | Q10: 0
A11: 20 | B11: 長野 | C11: 202 | D11: 松本市 | E11: 241112 | F11: 240290 | G11: 232652 | H11: 1202 | I11: 0 | J11: 0 | K11: 0 | L11: =SUM(H11:K11) -> 1202 | M11: 3161 | N11: 2886 | O11: 389 | P11: 6436 | Q11: 0
A12: 20 | B12: 長野 | C12: 203 | D12: 上田市 | E12: 159460 | F12: 158286 | G12: 128656 | H12: 26555 | I12: 0 | J12: 0 | K12: 0 | L12: =SUM(H12:K12) -> 26555 | M12: 283 | N12: 2278 | O12: 514 | P12: 3075 | Q12: 0
A13: 20 | B13: 長野 | C13: 204 | D13: 岡谷市 | E13: 51039 | F13: 49674 | G13: 49522 | H13: 0 | I13: 0 | J13: 0 | K13: 0 | L13: =SUM(H13:K13) -> 0 | M13: 0 | N13: 0 | O13: 152 | P13: 152 | Q13: 0
A14: 20 | B14: 長野 | C14: 205 | D14: 飯田市 | E14: 103712 | F14: 100457 | G14: 85853 | H14: 6231 | I14: 0 | J14: 0 | K14: 0 | L14: =SUM(H14:K14) -> 6231 | M14: 63 | N14: 8040 | O14: 270 | P14: 8373 | Q14: 0
A15: 20 | B15: 長野 | C15: 206 | D15: 諏訪市 | E15: 50503 | F15: 50079 | G15: 49871 | H15: 0 | I15: 0 | J15: 0 | K15: 0 | L15: =SUM(H15:K15) -> 0 | M15: 0 | N15: 149 | O15: 59 | P15: 208 | Q15: 0
A16: 20 | B16: 長野 | C16: 207 | D16: 須坂市 | E16: 51521 | F16: 50877 | G16: 49635 | H16: 974 | I16: 0 | J16: 0 | K16: 0 | L16: =SUM(H16:K16) -> 974 | M16: 0 | N16: 98 | O16: 170 | P16: 268 | Q16: 0
A17: 20 | B17: 長野 | C17: 208 | D17: 小諸市 | E17: 43112 | F17: 42323 | G17: 28901 | H17: 7966 | I17: 0 | J17: 0 | K17: 0 | L17: =SUM(H17:K17) -> 7966 | M17: 8 | N17: 4862 | O17: 586 | P17: 5456 | Q17: 0
A18: 20 | B18: 長野 | C18: 209 | D18: 伊那市 | E18: 69297 | F18: 64453 | G18: 48678 | H18: 11367 | I18: 0 | J18: 0 | K18: 47 | L18: =SUM(H18:K18) -> 11414 | M18: 1509 | N18: 1777 | O18: 1075 | P18: 4361 | Q18: 0
A19: 20 | B19: 長野 | C19: 210 | D19: 駒ヶ根市 | E19: 33266 | F19: 31626 | G19: 19262 | H19: 11383 | I19: 0 | J19: 0 | K19: 0 | L19: =SUM(H19:K19) -> 11383 | M19: 0 | N19: 930 | O19: 51 | P19: 981 | Q19: 0
A20: 20 | B20: 長野 | C20: 211 | D20: 中野市 | E20: 45616 | F20: 43897 | G20: 30946 | H20: 12384 | I20: 0 | J20: 0 | K20: 0 | L20: =SUM(H20:K20) -> 12384 | M20: 0 | N20: 465 | O20: 102 | P20: 567 | Q20: 0
A21: 20 | B21: 長野 | C21: 212 | D21: 大町市 | E21: 28666 | F21: 26259 | G21: 20674 | H21: 1006 | I21: 0 | J21: 0 | K21: 0 | L21: =SUM(H21:K21) -> 1006 | M21: 483 | N21: 3984 | O21: 112 | P21: 4579 | Q21: 0
... A28: 20 | B28: 長野 | C28: 220 | D28: 安曇野市 | E28: 98255 | F28: 95518 | G28: 87788 | H28: 2946 | I28: 0 | J28: 0 | K28: 0 | L28: =SUM(H28:K28) -> 2946 | M28: 67 | N28: 1597 | O28: 3120 | P28: 4784 | Q28: 0
C29: 市計 | E29: =SUM(E10:E28) -> 1694871 | F29: =SUM(F10:F28) -> 1659001 | G29: =SUM(G10:G28) -> 1469609 | H29: =SUM(H10:H28) -> 121133 | I29: =SUM(I10:I28) -> 0 | J29: =SUM(J10:J28) -> 0 | K29: =SUM(K10:K28) -> 47 | L29: =SUM(L10:L28) -> 121180 | ... Q29: =SUM(Q10:Q28) -> 673
A31: 20 | B31: 長野 | C31: 303 | D31: 小海町 | E31: 4840 | F31: 4684 | G31: 3030 | H31: 540 | I31: 0 | J31: 0 | K31: 0 | L31: =SUM(H31:K31) -> 540 | M31: 0 | N31: 1052 | O31: 62 | P31: 1114 | Q31: 0
A32: 20 | B32: 長野 | C32: 309 | D32: 佐久穂町 | E32: 11752 | F32: 11354 | G32: 9637 | H32: 1263 | I32: 0 | J32: 0 | K32: 0 | L32: =SUM(H32:K32) -> 1263 | M32: 0 | N32: 454 | O32: 0 | P32: 454 | Q32: 0
A33: 20 | B33: 長野 | C33: 321 | D33: 軽井沢町 | E33: 20119 | F33: 16028 | G33: 9927 | H33: 627 | I33: 0 | J33: 0 | K33: 0 | L33: =SUM(H33:K33) -> 627 | M33: 131 | N33: 5167 | O33: 176 | P33: 5474 | Q33: 0
A34: 20 | B34: 長野 | C34: 323 | D34: 御代田町 | E34: 15526 | F34: 14799 | G34: 13045 | H34: 533 | I34: 0 | J34: 0 | K34: 0 | L34: =SUM(H34:K34) -> 533 | M34: 260 | N34: 676 | O34: 285 | P34: 1221 | Q34: 0
A35: 20 | B35: 長野 | C35: 324 | D35: 立科町 | E35: 7557 | F35: 7404 | G35: 3487 | H35: 3371 | I35: 0 | J35: 0 | K35: 0 | L35: =SUM(H35:K35) -> 3371 | M35: 196 | N35: 119 | O35: 11 | P35: 326 | Q35: 220
A36: 20 | B36: 長野 | C36: 350 | D36: 長和町 | E36: 6405 | F36: 6171 | G36: 5700 | H36: 0 | I36: 0 | J36: 0 | K36: 68 | L36: =SUM(H36:K36) -> 68 | M36: 36 | N36: 367 | O36: 0 | P36: 403 | Q36: 0
A37: 20 | B37: 長野 | C37: 361 | D37: 下諏訪町 | E37: 20828 | F37: 20813 | G37: 20813 | H37: 0 | I37: 0 | J37: 0 | K37: 0 | L37: =SUM(H37:K37) -> 0 | M37: 0 | N37: 0 | O37: 0 | P37: 0 | Q37: 0
A38: 20 | B38: 長野 | C38: 362 | D38: 富士見町 | E38: 14987 | F38: 14558 | G38: 10782 | H38: 3107 | I38: 0 | J38: 0 | K38: 0 | L38: =SUM(H38:K38) -> 3107 | M38: 0 | N38: 512 | O38: 157 | P38: 669 | Q38: 0
A39: 20 | B39: 長野 | C39: 382 | D39: 辰野町 | E39: 20237 | F39: 20140 | G39: 17819 | H39: 1699 | I39: 0 | J39: 0 | K39: 0 | L39: =SUM(H39:K39) -> 1699 | M39: 152 | N39: 366 | O39: 104 | P39: 622 | Q39: 0
A40: 20 | B40: 長野 | C40: 383 | D40: 箕輪町 | E40: 24998 | F40: 24891 | G40: 18322 | H40: 6192 | I40: 0 | J40: 0 | K40: 0 | L40: =SUM(H40:K40) -> 6192 | M40: 9 | N40: 155 | O40: 213 | P40: 377 | Q40: 0
A41: 20 | B41: 長野 | C41: 384 | D41: 飯島町 | E41: 9780 | F41: 9413 | G41: 5558 | H41: 1934 | I41: 0 | J41: 0 | K41: 0 | L41: =SUM(H41:K41) -> 1934 | M41: 0 | N41: 1921 | O41: 0 | P41: 1921 | Q41: 0
A42: 20 | B42: 長野 | C42: 402 | D42: 松川町 | E42: 13617 | F42: 13209 | G42: 5647 | H42: 5846 | I42: 0 | J42: 0 | K42: 0 | L42: =SUM(H42:K42) -> 5846 | M42: 0 | N42: 1716 | O42: 0 | P42: 1716 | Q42: 0
... A53: 20 | B53: 長野 | C53: 590 | D53: 飯綱町 | E53: 11643 | F53: 11410 | G53: 6760 | H53: 4129 | I53: 0 | J53: 0 | K53: 0 | L53: =SUM(H53:K53) -> 4129 | M53: 126 | N53: 119 | O53: 276 | P53: 521 | Q53: 0
C54: 町計 | E54: =SUM(E31:E53) -> 280236 | F54: =SUM(F31:F53) -> 266835 | G54: =SUM(G31:G53) -> 192658 | H54: =SUM(H31:H53) -> 46431 | I54: =SUM(I31:I53) -> 0 | J54: =SUM(J31:J53) -> 28 | K54: =SUM(K31:K53) -> 68 | L54: =SUM(L31:L53) -> 46527 | ... Q54: =SUM(Q31:Q53) -> 220
A56: 20 | B56: 長野 | C56: 304 | D56: 川上村 | E56: 4058 | F56: 4053 | G56: 1967 | H56: 2031 | I56: 0 | J56: 0 | K56: 0 | L56: =SUM(H56:K56) -> 2031 | M56: 0 | N56: 55 | O56: 0 | P56: 55 | Q56: 0
A57: 20 | B57: 長野 | C57: 305 | D57: 南牧村 | E57: 3235 | F57: 3179 | G57: 760 | H57: 241 | I57: 0 | J57: 0 | K57: 0 | L57: =SUM(H57:K57) -> 241 | M57: 275 | N57: 1635 | O57: 203 | P57: 2113 | Q57: 65
A58: 20 | B58: 長野 | C58: 306 | D58: 南相木村 | E58: 1065 | F58: 976 | G58: 0 | H58: 0 | I58: 0 | J58: 0 | K58: 0 | L58: =SUM(H58:K58) -> 0 | M58: 207 | N58: 763 | O58: 6 | P58: 976 | Q58: 0
A59: 20 | B59: 長野 | C59: 307 | D59: 北相木村 | E59: 778 | F59: 617 | G59: 0 | H59: 0 | I59: 0 | J59: 0 | K59: 0 | L59: =SUM(H59:K59) -> 0 | M59: 0 | N59: 617 | O59: 0 | P59: 617 | Q59: 0
A60: 20 | B60: 長野 | C60: 349 | D60: 青木村 | E60: 4553 | F60: 4404 | G60: 4093 | H60: 0 | I60: 0 | J60: 0 | K60: 0 | L60: =SUM(H60:K60) -> 0 | M60: 0 | N60: 269 | O60: 42 | P60: 311 | Q60: 0
A61: 20 | B61: 長野 | C61: 363 | D61: 原村 | E61: 7444 | F61: 7399 | G61: 6330 | H61: 0 | I61: 0 | J61: 0 | K61: 0 | L61: =SUM(H61:K61) -> 0 | M61: 0 | N61: 1040 | O61: 29 | P61: 1069 | Q61: 0
A62: 20 | B62: 長野 | C62: 385 | D62: 南箕輪村 | E62: 15169 | F62: 15138 | G62: 14896 | H62: 0 | I62: 0 | J62: 0 | K62: 0 | L62: =SUM(H62:K62) -> 0 | M62: 0 | N62: 154 | O62: 88 | P62: 242 | Q62: 0
A63: 20 | B63: 長野 | C63: 386 | D63: 中川村 | E63: 5040 | F63: 4852 | G63: 2865 | H63: 1266 | I63: 0 | J63: 0 | K63: 0 | L63: =SUM(H63:K63) -> 1266 | M63: 0 | N63: 721 | O63: 0 | P63: 721 | Q63: 0
A64: 20 | B64: 長野 | C64: 388 | D64: 宮田村 | E64: 9189 | F64: 9189 | G64: 6788 | H64: 2291 | I64: 0 | J64: 0 | K64: 0 | L64: =SUM(H64:K64) -> 2291 | M64: 0 | N64: 0 | O64: 110 | P64: 110 | Q64: 0
A65: 20 | B65: 長野 | C65: 407 | D65: 阿智村 | E65: 6656 | F65: 6064 | G65: 3049 | H65: 1096 | I65: 0 | J65: 0 | K65: 0 | L65: =SUM(H65:K65) -> 1096 | M65: 0 | N65: 1288 | O65: 631 | P65: 1919 | Q65: 0
A66: 20 | B66: 長野 | C66: 409 | D66: 平谷村 | E66: 460 | F66: 444 | G66: 0 | H66: 412 | I66: 0 | J66: 0 | K66: 0 | L66: =SUM(H66:K66) -> 412 | M66: 0 | N66: 32 | O66: 0 | P66: 32 | Q66: 0
A67: 20 | B67: 長野 | C67: 410 | D67: 根羽村 | E67: 988 | F67: 954 | G67: 0 | H67: 717 | I67: 0 | J67: 0 | K67: 0 | L67: =SUM(H67:K67) -> 717 | M67: 0 | N67: 237 | O67: 0 | P67: 237 | Q67: 0
... A90: 20 | B90: 長野 | C90: 602 | D90: 栄村 | E90: 2034 | F90: 1667 | G90: 0 | H90: 196 | I90: 0 | J90: 0 | K90: 0 | L90: =SUM(H90:K90) -> 196 | M90: 1314 | N90: 150 | O90: 7 | P90: 1471 | Q90: 0
C91: 村計 | E91: =SUM(E56:E90) -> 154426 | F91: =SUM(F56:F90) -> 148422 | G91: =SUM(G56:G90) -> 99077 | H91: =SUM(H56:H90) -> 23441 | I91: =SUM(I56:I90) -> 0 | J91: =SUM(J56:J90) -> 73 | K91: =SUM(K56:K90) -> 107 | L91: =SUM(L56:L90) -> 23621 | ... Q91: =SUM(Q56:Q90) -> 65
D92: 県 計 | E92: =E91+E54+E29 -> 2129533 | F92: =F91+F54+F29 -> 2074258 | G92: =G91+G54+G29 -> 1761344 | H92: =H91+H54+H29 -> 191005 | I92: =I91+I54+I29 -> 0 | J92: =J91+J54+J29 -> 101 | K92: =K91+K54+K29 -> 222 | L92: =L91+L54+L29 -> 191328 | ... Q92: =Q91+Q54+Q29 -> 958
A93: ※ 組合等で事業を実施している場合は、該当する自治体に含めてください。（組合当別の記載は市内でください＞

Sheet 人口集計_規模別
A1: 長野県 汚水処理人口普及状況総括表
A2: ① | B2: ② | C2: ③ | D2: ④ | E2: ⑤ | F2: ⑥ | G2: ⑧ | H2: ⑩ | M2: ⑫ | N2: ⑬ | O2: ⑭ | P2: ⑮ | Q2: ⑰
A3: 県 | B3: 都道府県 | C3: 市町 | D3: 市町村名 | E3: 住民基本台帳 | F3: H27年度末 | G3: 下 水 道 | H3: 農業集落排水施設等 | M3: 合 併 処 理 浄 化 槽 等 | Q3: コ ミ プ ラ | S3: 1
A4: コ | B4: 名 | C4: 村 | E4: 人口 | G4: H27年度末 | L4: H27年度末 | M4: 下水道の処理開始公示済区域外 | Q4: H27年度末 | S4: 2
A5: ｜ | C5: ｺｰﾄﾞ | D5: H28.3.31現在 | E5: H28.3.31現在 | F5: 汚水処理人口 | G5: 下水道 | H5: H27年度末 | I5: H27年度末 | J5: H27年度末 | K5: H27年度末 | L5: 農排等 | M5: 浄化槽 | N5: 浄化槽設置 | O5: 民間設置 | P5: 合併処理 | Q5: コミプラ | S5: 3
A6: ド | G6: 処理人口 | H6: 農排 | I6: 漁排 | J6: 林排 | K6: 簡易排水 | L6: 整備人口 | M6: 市町村整備 | N6: 整備事業 | O6: 浄化槽 | P6: 浄化槽 | Q6: 処理人口 | S6: 4
H7: 整備人口 | I7: 整備人口 | J7: 整備人口 | K7: 整備人口 | M7: 推進事業等 | N7: 設置処理人口 | O7: 処理人口 | P7: 処理人口
M8: 設置処理人口
E9: （人） | F9: （人） | G9: （人） | H9: （人） | I9: （人） | J9: （人） | K9: （人） | L9: (人) | M9: （人） | N9: （人） | O9: （人） | P9: （人） | Q9: （人）
A10: 20 | B10: 長野 | C10: 201 | D10: 長野市 | E10: 382141 | F10: =SUM(G10,L10,P10,Q10) -> 371977 | G10: 356690 | H10: 7805 | I10: 0 | J10: 0 | K10: 0 | L10: =SUM(H10:K10) -> 7805 | M10: 2634 | N10: 2160 | O10: 2688 | P10: 7482 | Q10: 0
C11: 30～50万人 合計 | E11: =SUM(E10) -> 382141 | F11: =SUM(F10) -> 371977 | G11: =SUM(G10) -> 356690 | H11: =SUM(H10) -> 7805 | I11: =SUM(I10) -> 0 | J11: =SUM(J10) -> 0 | K11: =SUM(K10) -> 0 | L11: =SUM(L10) -> 7805 | ... Q11: =SUM(Q10) -> 0
A13: 20 | B13: 長野 | C13: 202 | D13: 松本市 | E13: 241112 | F13: =SUM(G13,L13,P13,Q13) -> 240290 | G13: 232652 | H13: 1202 | I13: 0 | J13: 0 | K13: 0 | L13: =SUM(H13:K13) -> 1202 | M13: 3161 | N13: 2886 | O13: 389 | P13: 6436 | Q13: 0
A14: 20 | B14: 長野 | C14: 203 | D14: 上田市 | E14: 159460 | F14: =SUM(G14,L14,P14,Q14) -> 158286 | G14: 128656 | H14: 26555 | I14: 0 | J14: 0 | K14: 0 | L14: =SUM(H14:K14) -> 26555 | M14: 283 | N14: 2278 | O14: 514 | P14: 3075 | Q14: 0
A15: 20 | B15: 長野 | C15: 205 | D15: 飯田市 | E15: 103712 | F15: =SUM(G15,L15,P15,Q15) -> 100457 | G15: 85853 | H15: 6231 | I15: 0 | J15: 0 | K15: 0 | L15: =SUM(H15:K15) -> 6231 | M15: 63 | N15: 8040 | O15: 270 | P15: 8373 | Q15: 0
C16: 10～30万人 合計 | E16: =SUM(E13:E15) -> 504284 | F16: =SUM(F13:F15) -> 499033 | G16: =SUM(G13:G15) -> 447161 | H16: =SUM(H13:H15) -> 33988 | I16: =SUM(I13:I15) -> 0 | J16: =SUM(J13:J15) -> 0 | K16: =SUM(K13:K15) -> 0 | L16: =SUM(L13:L15) -> 33988 | ... Q16: =SUM(Q13:Q15) -> 0
A18: 20 | B18: 長野 | C18: 217 | D18: 佐久市 | E18: 99616 | F18: =SUM(G18,L18,P18,Q18) -> 97142 | G18: 74031 | H18: 6252 | I18: 0 | J18: 0 | K18: 0 | L18: =SUM(H18:K18) -> 6252 | M18: 0 | N18: 11881 | O18: 4764 | P18: 16645 | Q18: 214
A19: 20 | B19: 長野 | C19: 220 | D19: 安曇野市 | E19: 98255 | F19: =SUM(G19,L19,P19,Q19) -> 95518 | G19: 87788 | H19: 2946 | I19: 0 | J19: 0 | K19: 0 | L19: =SUM(H19:K19) -> 2946 | M19: 67 | N19: 1597 | O19: 3120 | P19: 4784 | Q19: 0
A20: 20 | B20: 長野 | C20: 209 | D20: 伊那市 | E20: 69297 | F20: =SUM(G20,L20,P20,Q20) -> 64453 | G20: 48678 | H20: 11367 | I20: 0 | J20: 0 | K20: 47 | L20: =SUM(H20:K20) -> 11414 | M20: 1509 | N20: 1777 | O20: 1075 | P20: 4361 | Q20: 0
A21: 20 | B21: 長野 | C21: 215 | D21: 塩尻市 | E21: 67447 | F21: =SUM(G21,L21,P21,Q21) -> 67279 | G21: 60572 | H21: 6244 | I21: 0 | J21: 0 | K21: 0 | L21: =SUM(H21:K21) -> 6244 | M21: 43 | N21: 292 | O21: 128 | P21: 463 | Q21: 0
A22: 20 | B22: 長野 | C22: 218 | D22: 千曲市 | E22: 61358 | F22: =SUM(G22,L22,P22,Q22) -> 61318 | G22: 56321 | H22: 4791 | I22: 0 | J22: 0 | K22: 0 | L22: =SUM(H22:K22) -> 4791 | M22: 0 | N22: 121 | O22: 85 | P22: 206 | Q22: 0
A23: 20 | B23: 長野 | C23: 214 | D23: 茅野市 | E23: 55910 | F23: =SUM(G23,L23,P23,Q23) -> 55400 | G23: 54060 | H23: 0 | I23: 0 | J23: 0 | K23: 0 | L23: =SUM(H23:K23) -> 0 | M23: 0 | N23: 979 | O23: 361 | P23: 1340 | Q23: 0
A24: 20 | B24: 長野 | C24: 207 | D24: 須坂市 | E24: 51521 | F24: =SUM(G24,L24,P24,Q24) -> 50877 | G24: 49635 | H24: 974 | I24: 0 | J24: 0 | K24: 0 | L24: =SUM(H24:K24) -> 974 | M24: 0 | N24: 98 | O24: 170 | P24: 268 | Q24: 0
A25: 20 | B25: 長野 | C25: 204 | D25: 岡谷市 | E25: 51039 | F25: 51330 | G25: 49522 | H25: 0 | I25: 0 | J25: 0 | K25: 0 | L25: =SUM(H25:K25) -> 0 | M25: 0 | N25: 0 | O25: 152 | P25: 152 | Q25: 0
A26: 20 | B26: 長野 | C26: 206 | D26: 諏訪市 | E26: 50503 | F26: =SUM(G26,L26,P26,Q26) -> 50079 | G26: 49871 | H26: 0 | I26: 0 | J26: 0 | K26: 0 | L26: =SUM(H26:K26) -> 0 | M26: 0 | N26: 149 | O26: 59 | P26: 208 | Q26: 0
C27: 5～１0万人 合計 | E27: =SUM(E18:E26) -> 604946 | F27: =SUM(F18:F26) -> 593396 | G27: =SUM(G18:G26) -> 530478 | H27: =SUM(H18:H26) -> 32574 | I27: =SUM(I18:I26) -> 0 | J27: =SUM(J18:J26) -> 0 | K27: =SUM(K18:K26) -> 47 | L27: =SUM(L18:L26) -> 32621 | ... Q27: =SUM(Q18:Q26) -> 214
A29: 20 | B29: 長野 | C29: 211 | D29: 中野市 | E29: 45616 | F29: =SUM(G29,L29,P29,Q29) -> 43897 | G29: 30946 | H29: 12384 | I29: 0 | J29: 0 | K29: 0 | L29: =SUM(H29:K29) -> 12384 | M29: 0 | N29: 465 | O29: 102 | P29: 567 | Q29: 0
A30: 20 | B30: 長野 | C30: 208 | D30: 小諸市 | E30: 43112 | F30: =SUM(G30,L30,P30,Q30) -> 42323 | G30: 28901 | H30: 7966 | I30: 0 | J30: 0 | K30: 0 | L30: =SUM(H30:K30) -> 7966 | M30: 8 | N30: 4862 | O30: 586 | P30: 5456 | Q30: 0
A31: 20 | B31: 長野 | C31: 210 | D31: 駒ヶ根市 | E31: 33266 | F31: =SUM(G31,L31,P31,Q31) -> 31626 | G31: 19262 | H31: 11383 | I31: 0 | J31: 0 | K31: 0 | L31: =SUM(H31:K31) -> 11383 | M31: 0 | N31: 930 | O31: 51 | P31: 981 | Q31: 0
A32: 20 | B32: 長野 | C32: 219 | D32: 東御市 | E32: 30716 | F32: =SUM(G32,L32,P32,Q32) -> 30218 | G32: 19061 | H32: 8720 | I32: 0 | J32: 0 | K32: 0 | L32: =SUM(H32:K32) -> 8720 | M32: 8 | N32: 1854 | O32: 116 | P32: 1978 | Q32: 459
C33: 3～5万人 合計 | E33: =SUM(E29:E32) -> 152710 | F33: =SUM(F29:F32) -> 148064 | G33: =SUM(G29:G32) -> 98170 | H33: =SUM(H29:H32) -> 40453 | I33: =SUM(I29:I32) -> 0 | J33: =SUM(J29:J32) -> 0 | K33: =SUM(K29:K32) -> 0 | L33: =SUM(L29:L32) -> 40453 | ... Q33: =SUM(Q29:Q32) -> 459
A35: 20 | B35: 長野 | C35: 212 | D35: 大町市 | E35: 28666 | F35: =SUM(G35,L35,P35,Q35) -> 26259 | G35: 20674 | H35: 1006 | I35: 0 | J35: 0 | K35: 0 | L35: =SUM(H35:K35) -> 1006 | M35: 483 | N35: 3984 | O35: 112 | P35: 4579 | Q35: 0
A36: 20 | B36: 長野 | C36: 383 | D36: 箕輪町 | E36: 24998 | F36: =SUM(G36,L36,P36,Q36) -> 24891 | G36: 18322 | H36: 6192 | I36: 0 | J36: 0 | K36: 0 | L36: =SUM(H36:K36) -> 6192 | M36: 9 | N36: 155 | O36: 213 | P36: 377 | Q36: 0
A37: 20 | B37: 長野 | C37: 213 | D37: 飯山市 | E37: 22124 | F37: =SUM(G37,L37,P37,Q37) -> 21928 | G37: 16436 | H37: 5307 | I37: 0 | J37: 0 | K37: 0 | L37: =SUM(H37:K37) -> 5307 | M37: 106 | N37: 68 | O37: 11 | P37: 185 | Q37: 0
A38: 20 | B38: 長野 | C38: 361 | D38: 下諏訪町 | E38: 20828 | F38: =SUM(G38,L38,P38,Q38) -> 20813 | G38: 20813 | H38: 0 | I38: 0 | J38: 0 | K38: 0 | L38: =SUM(H38:K38) -> 0 | M38: 0 | N38: 0 | O38: 0 | P38: 0 | Q38: 0
A39: 20 | B39: 長野 | C39: 382 | D39: 辰野町 | E39: 20237 | F39: =SUM(G39,L39,P39,Q39) -> 20140 | G39: 17819 | H39: 1699 | I39: 0 | J39: 0 | K39: 0 | L39: =SUM(H39:K39) -> 1699 | M39: 152 | N39: 366 | O39: 104 | P39: 622 | Q39: 0
A40: 20 | B40: 長野 | C40: 321 | D40: 軽井沢町 | E40: 20119 | F40: =SUM(G40,L40,P40,Q40) -> 16028 | G40: 9927 | H40: 627 | I40: 0 | J40: 0 | K40: 0 | L40: =SUM(H40:K40) -> 627 | M40: 131 | N40: 5167 | O40: 176 | P40: 5474 | Q40: 0
A41: 20 | B41: 長野 | C41: 323 | D41: 御代田町 | E41: 15526 | F41: =SUM(G41,L41,P41,Q41) -> 14799 | G41: 13045 | H41: 533 | I41: 0 | J41: 0 | K41: 0 | L41: =SUM(H41:K41) -> 533 | M41: 260 | N41: 676 | O41: 285 | P41: 1221 | Q41: 0
A42: 20 | B42: 長野 | C42: 521 | D42: 坂城町 | E42: 15380 | F42: =SUM(G42,L42,P42,Q42) -> 13689 | G42: 11576 | H42: 0 | I42: 0 | J42: 0 | K42: 0 | L42: =SUM(H42:K42) -> 0 | M42: 0 | N42: 2113 | O42: 0 | P42: 2113 | Q42: 0
A43: 20 | B43: 長野 | C43: 385 | D43: 南箕輪村 | E43: 15169 | F43: =SUM(G43,L43,P43,Q43) -> 15138 | G43: 14896 | H43: 0 | I43: 0 | J43: 0 | K43: 0 | L43: =SUM(H43:K43) -> 0 | M43: 0 | N43: 154 | O43: 88 | P43: 242 | Q43: 0
A44: 20 | B44: 長野 | C44: 362 | D44: 富士見町 | E44: 14987 | F44: 15027 | G44: 10782 | H44: 3107 | I44: 0 | J44: 0 | K44: 0 | L44: =SUM(H44:K44) -> 3107 | M44: 0 | N44: 512 | O44: 157 | P44: 669 | Q44: 0
A45: 20 | B45: 長野 | C45: 402 | D45: 松川町 | E45: 13617 | F45: =SUM(G45,L45,P45,Q45) -> 13209 | G45: 5647 | H45: 5846 | I45: 0 | J45: 0 | K45: 0 | L45: =SUM(H45:K45) -> 5846 | M45: 0 | N45: 1716 | O45: 0 | P45: 1716 | Q45: 0
A46: 20 | B46: 長野 | C46: 403 | D46: 高森町 | E46: 13279 | F46: =SUM(G46,L46,P46,Q46) -> 13119 | G46: 7141 | H46: 4748 | I46: 0 | J46: 0 | K46: 0 | L46: =SUM(H46:K46) -> 4748 | M46: 0 | N46: 1160 | O46: 70 | P46: 1230 | Q46: 0
A47: 20 | B47: 長野 | C47: 561 | D47: 山ノ内町 | E47: 13196 | F47: =SUM(G47,L47,P47,Q47) -> 12792 | G47: 9083 | H47: 3079 | I47: 0 | J47: 0 | K47: 0 | L47: =SUM(H47:K47) -> 3079 | M47: 0 | N47: 75 | O47: 555 | P47: 630 | Q47: 0
A48: 20 | B48: 長野 | C48: 432 | D48: 木曽町 | E48: 11754 | F48: 11332 | G48: 8084 | H48: 1253 | I48: 0 | J48: 28 | K48: 0 | L48: =SUM(H48:K48) -> 1281 | M48: 230 | N48: 1279 | O48: 281 | P48: 1790 | Q48: 0
A49: 20 | B49: 長野 | C49: 309 | D49: 佐久穂町 | E49: 11752 | F49: 11518 | G49: 9637 | H49: 1263 | I49: 0 | J49: 0 | K49: 0 | L49: =SUM(H49:K49) -> 1263 | M49: 0 | N49: 454 | O49: 0 | P49: 454 | Q49: 0
A50: 20 | B50: 長野 | C50: 590 | D50: 飯綱町 | E50: 11643 | F50: =SUM(G50,L50,P50,Q50) -> 11410 | G50: 6760 | H50: 4129 | I50: 0 | J50: 0 | K50: 0 | L50: =SUM(H50:K50) -> 4129 | M50: 126 | N50: 119 | O50: 276 | P50: 521 | Q50: 0
A51: 20 | B51: 長野 | C51: 541 | D51: 小布施町 | E51: 11163 | F51: =SUM(G51,L51,P51,Q51) -> 11163 | G51: 8900 | H51: 2263 | I51: 0 | J51: 0 | K51: 0 | L51: =SUM(H51:K51) -> 2263 | M51: 0 | N51: 0 | O51: 0 | P51: 0 | Q51: 0
A52: 20 | B52: 長野 | C52: 481 | D52: 池田町 | E52: 10213 | F52: =SUM(G52,L52,P52,Q52) -> 10019 | G52: 9613 | H52: 0 | I52: 0 | J52: 0 | K52: 0 | L52: =SUM(H52:K52) -> 0 | M52: 314 | N52: 72 | O52: 20 | P52: 406 | Q52: 0
A53: 20 | B53: 長野 | C53: 482 | D53: 松川村 | E53: 10003 | F53: 9993 | G53: 9896 | H53: 0 | I53: 0 | J53: 0 | K53: 0 | L53: =SUM(H53:K53) -> 0 | M53: 0 | N53: 0 | O53: 41 | P53: 41 | Q53: 0
C54: 1万～3万人未満 合計 | E54: =SUM(E35:E53) -> 304654 | F54: =SUM(F35:F53) -> 293267 | G54: =SUM(G35:G53) -> 229051 | H54: =SUM(H35:H53) -> 41052 | I54: =SUM(I35:I53) -> 0 | J54: =SUM(J35:J53) -> 28 | K54: =SUM(K35:K53) -> 0 | L54: =SUM(L35:L53) -> 41080 | ... Q54: =SUM(Q35:Q53) -> 0
A56: 20 | B56: 長野 | C56: 384 | D56: 飯島町 | E56: 9780 | F56: =SUM(G56,L56,P56,Q56) -> 9413 | G56: 5558 | H56: 1934 | I56: 0 | J56: 0 | K56: 0 | L56: =SUM(H56:K56) -> 1934 | M56: 0 | N56: 1921 | O56: 0 | P56: 1921 | Q56: 0
A57: 20 | B57: 長野 | C57: 388 | D57: 宮田村 | E57: 9189 | F57: =SUM(G57,L57,P57,Q57) -> 9189 | G57: 6788 | H57: 2291 | I57: 0 | J57: 0 | K57: 0 | L57: =SUM(H57:K57) -> 2291 | M57: 0 | N57: 0 | O57: 110 | P57: 110 | Q57: 0
A58: 20 | B58: 長野 | C58: 485 | D58: 白馬村 | E58: 9156 | F58: =SUM(G58,L58,P58,Q58) -> 8775 | G58: 6905 | H58: 46 | I58: 0 | J58: 0 | K58: 0 | L58: =SUM(H58:K58) -> 46 | M58: 0 | N58: 650 | O58: 1174 | P58: 1824 | Q58: 0
A59: 20 | B59: 長野 | C59: 583 | D59: 信濃町 | E59: 8887 | F59: =SUM(G59,L59,P59,Q59) -> 7982 | G59: 4024 | H59: 2339 | I59: 0 | J59: 0 | K59: 0 | L59: =SUM(H59:K59) -> 2339 | M59: 194 | N59: 788 | O59: 637 | P59: 1619 | Q59: 0
A60: 20 | B60: 長野 | C60: 450 | D60: 山形村 | E60: 8760 | F60: =SUM(G60,L60,P60,Q60) -> 8745 | G60: 8744 | H60: 0 | I60: 0 | J60: 0 | K60: 0 | L60: =SUM(H60:K60) -> 0 | M60: 0 | N60: 0 | O60: 1 | P60: 1 | Q60: 0
A61: 20 | B61: 長野 | C61: 324 | D61: 立科町 | E61: 7557 | F61: =SUM(G61,L61,P61,Q61) -> 7404 | G61: 3487 | H61: 3371 | I61: 0 | J61: 0 | K61: 0 | L61: =SUM(H61:K61) -> 3371 | M61: 196 | N61: 119 | O61: 11 | P61: 326 | Q61: 220
A62: 20 | B62: 長野 | C62: 363 | D62: 原村 | E62: 7444 | F62: =SUM(G62,L62,P62,Q62) -> 7399 | G62: 6330 | H62: 0 | I62: 0 | J62: 0 | K62: 0 | L62: =SUM(H62:K62) -> 0 | M62: 0 | N62: 1040 | O62: 29 | P62: 1069 | Q62: 0
A63: 20 | B63: 長野 | C63: 543 | D63: 高山村 | E63: 7291 | F63: =SUM(G63,L63,P63,Q63) -> 7259 | G63: 4857 | H63: 2285 | I63: 0 | J63: 0 | K63: 0 | L63: =SUM(H63:K63) -> 2285 | M63: 0 | N63: 7 | O63: 110 | P63: 117 | Q63: 0
A64: 20 | B64: 長野 | C64: 416 | D64: 豊丘村 | E64: 6831 | F64: =SUM(G64,L64,P64,Q64) -> 6777 | G64: 3438 | H64: 2153 | I64: 0 | J64: 0 | K64: 0 | L64: =SUM(H64:K64) -> 2153 | M64: 0 | N64: 1186 | O64: 0 | P64: 1186 | Q64: 0
A65: 20 | B65: 長野 | C65: 407 | D65: 阿智村 | E65: 6656 | F65: =SUM(G65,L65,P65,Q65) -> 6064 | G65: 3049 | H65: 1096 | I65: 0 | J65: 0 | K65: 0 | L65: =SUM(H65:K65) -> 1096 | M65: 0 | N65: 1288 | O65: 631 | P65: 1919 | Q65: 0
A66: 20 | B66: 長野 | C66: 415 | D66: 喬木村 | E66: 6587 | F66: =SUM(G66,L66,P66,Q66) -> 6429 | G66: 3785 | H66: 1604 | I66: 0 | J66: 0 | K66: 0 | L66: =SUM(H66:K66) -> 1604 | M66: 1040 | N66: 0 | O66: 0 | P66: 1040 | Q66: 0
A67: 20 | B67: 長野 | C67: 350 | D67: 長和町 | E67: 6405 | F67: =SUM(G67,L67,P67,Q67) -> 6171 | G67: 5700 | H67: 0 | I67: 0 | J67: 0 | K67: 68 | L67: =SUM(H67:K67) -> 68 | M67: 36 | N67: 367 | O67: 0 | P67: 403 | Q67: 0
A68: 20 | B68: 長野 | C68: 386 | D68: 中川村 | E68: 5040 | F68: =SUM(G68,L68,P68,Q68) -> 4852 | G68: 2865 | H68: 1266 | I68: 0 | J68: 0 | K68: 0 | L68: =SUM(H68:K68) -> 1266 | M68: 0 | N68: 721 | O68: 0 | P68: 721 | Q68: 0
C69: 5000～1万人未満 合計 | E69: =SUM(E56:E68) -> 99583 | F69: =SUM(F56:F68) -> 96459 | G69: =SUM(G56:G68) -> 65530 | H69: =SUM(H56:H68) -> 18385 | I69: =SUM(I56:I68) -> 0 | J69: =SUM(J56:J68) -> 0 | K69: =SUM(K56:K68) -> 68 | L69: =SUM(L56:L68) -> 18453 | ... Q69: =SUM(Q56:Q68) -> 220
A71: 20 | B71: 長野 | C71: 404 | D71: 阿南町 | E71: 4919 | F71: =SUM(G71,L71,P71,Q71) -> 4450 | G71: 0 | H71: 2770 | I71: 0 | J71: 0 | K71: 0 | L71: =SUM(H71:K71) -> 2770 | M71: 356 | N71: 1324 | O71: 0 | P71: 1680 | Q71: 0
A72: 20 | B72: 長野 | C72: 562 | D72: 木島平村 | E72: 4914 | F72: =SUM(G72,L72,P72,Q72) -> 4902 | G72: 4681 | H72: 146 | I72: 0 | J72: 0 | K72: 0 | L72: =SUM(H72:K72) -> 146 | M72: 0 | N72: 51 | O72: 24 | P72: 75 | Q72: 0
A73: 20 | B73: 長野 | C73: 452 | D73: 筑北村 | E73: 4853 | F73: =SUM(G73,L73,P73,Q73) -> 4444 | G73: 0 | H73: 2820 | I73: 0 | J73: 73 | K73: 0 | L73: =SUM(H73:K73) -> 2893 | M73: 1525 | N73: 0 | O73: 26 | P73: 1551 | Q73: 0
A74: 20 | B74: 長野 | C74: 303 | D74: 小海町 | E74: 4840 | F74: =SUM(G74,L74,P74,Q74) -> 4684 | G74: 3030 | H74: 540 | I74: 0 | J74: 0 | K74: 0 | L74: =SUM(H74:K74) -> 540 | M74: 0 | N74: 1052 | O74: 62 | P74: 1114 | Q74: 0
A75: 20 | B75: 長野 | C75: 422 | D75: 上松町 | E75: 4786 | F75: =SUM(G75,L75,P75,Q75) -> 4013 | G75: 3369 | H75: 0 | I75: 0 | J75: 0 | K75: 0 | L75: =SUM(H75:K75) -> 0 | M75: 0 | N75: 479 | O75: 165 | P75: 644 | Q75: 0
A76: 20 | B76: 長野 | C76: 451 | D76: 朝日村 | E76: 4646 | F76: 3629 | G76: 4646 | H76: 0 | I76: 0 | J76: 0 | K76: 0 | L76: =SUM(H76:K76) -> 0 | M76: 0 | N76: 0 | O76: 0 | P76: 0 | Q76: 0
A77: 20 | B77: 長野 | C77: 349 | D77: 青木村 | E77: 4553 | F77: 4073 | G77: 4093 | H77: 0 | I77: 0 | J77: 0 | K77: 0 | L77: =SUM(H77:K77) -> 0 | M77: 0 | N77: 269 | O77: 42 | P77: 311 | Q77: 0
A78: 20 | B78: 長野 | C78: 423 | D78: 南木曽町 | E78: 4370 | F78: =SUM(G78,L78,P78,Q78) -> 3579 | G78: 341 | H78: 738 | I78: 0 | J78: 0 | K78: 0 | L78: =SUM(H78:K78) -> 738 | M78: 1296 | N78: 1184 | O78: 20 | P78: 2500 | Q78: 0
A79: 20 | B79: 長野 | C79: 304 | D79: 川上村 | E79: 4058 | F79: =SUM(G79,L79,P79,Q79) -> 4053 | G79: 1967 | H79: 2031 | I79: 0 | J79: 0 | K79: 0 | L79: =SUM(H79:K79) -> 2031 | M79: 0 | N79: 55 | O79: 0 | P79: 55 | Q79: 0
A80: 20 | B80: 長野 | C80: 430 | D80: 大桑村 | E80: 3965 | F80: =SUM(G80,L80,P80,Q80) -> 3791 | G80: 1304 | H80: 1816 | I80: 0 | J80: 0 | K80: 0 | L80: =SUM(H80:K80) -> 1816 | M80: 29 | N80: 522 | O80: 120 | P80: 671 | Q80: 0
A81: 20 | B81: 長野 | C81: 411 | D81: 下條村 | E81: 3917 | F81: 3151 | G81: 0 | H81: 0 | I81: 0 | J81: 0 | K81: 0 | L81: =SUM(H81:K81) -> 0 | M81: 0 | N81: 3535 | O81: 221 | P81: 3756 | Q81: 0
A82: 20 | B82: 長野 | C82: 563 | D82: 野沢温泉村 | E82: 3718 | F82: =SUM(G82,L82,P82,Q82) -> 3718 | G82: 2852 | H82: 838 | I82: 0 | J82: 0 | K82: 28 | L82: =SUM(H82:K82) -> 866 | M82: 0 | N82: 0 | O82: 0 | P82: 0 | Q82: 0
A83: 20 | B83: 長野 | C83: 305 | D83: 南牧村 | E83: 3235 | F83: =SUM(G83,L83,P83,Q83) -> 3179 | G83: 760 | H83: 241 | I83: 0 | J83: 0 | K83: 0 | L83: =SUM(H83:K83) -> 241 | M83: 275 | N83: 1635 | O83: 203 | P83: 2113 | Q83: 65
A84: 20 | B84: 長野 | C84: 425 | D84: 木祖村 | E84: 3038 | F84: =SUM(G84,L84,P84,Q84) -> 2902 | G84: 1956 | H84: 341 | I84: 0 | J84: 0 | K84: 0 | L84: =SUM(H84:K84) -> 341 | M84: 480 | N84: 95 | O84: 30 | P84: 605 | Q84: 0
A85: 20 | B85: 長野 | C85: 486 | D85: 小谷村 | E85: 3033 | F85: =SUM(G85,L85,P85,Q85) -> 2337 | G85: 336 | H85: 749 | I85: 0 | J85: 0 | K85: 0 | L85: =SUM(H85:K85) -> 749 | M85: 0 | N85: 1027 | O85: 225 | P85: 1252 | Q85: 0
A86: 20 | B86: 長野 | C86: 446 | D86: 麻績村 | E86: 2886 | F86: =SUM(G86,L86,P86,Q86) -> 2720 | G86: 1888 | H86: 449 | I86: 0 | J86: 0 | K86: 0 | L86: =SUM(H86:K86) -> 449 | M86: 340 | N86: 0 | O86: 43 | P86: 383 | Q86: 0
A87: 20 | B87: 長野 | C87: 588 | D87: 小川村 | E87: 2695 | F87: =SUM(G87,L87,P87,Q87) -> 2451 | G87: 2152 | H87: 0 | I87: 0 | J87: 0 | K87: 0 | L87: =SUM(H87:K87) -> 0 | M87: 0 | N87: 297 | O87: 2 | P87: 299 | Q87: 0
A88: 20 | B88: 長野 | C88: 602 | D88: 栄村 | E88: 2034 | F88: =SUM(G88,L88,P88,Q88) -> 1667 | G88: 0 | H88: 196 | I88: 0 | J88: 0 | K88: 0 | L88: =SUM(H88:K88) -> 196 | M88: 1314 | N88: 150 | O88: 7 | P88: 1471 | Q88: 0
A89: 20 | B89: 長野 | C89: 448 | D89: 生坂村 | E89: 1879 | F89: =SUM(G89,L89,P89,Q89) -> 1642 | G89: 0 | H89: 936 | I89: 0 | J89: 0 | K89: 0 | L89: =SUM(H89:K89) -> 936 | M89: 404 | N89: 302 | O89: 0 | P89: 706 | Q89: 0
A90: 20 | B90: 長野 | C90: 414 | D90: 泰阜村 | E90: 1716 | F90: 994 | G90: 0 | H90: 0 | I90: 0 | J90: 0 | K90: 0 | L90: =SUM(H90:K90) -> 0 | M90: 320 | N90: 870 | O90: 20 | P90: 1210 | Q90: 0
A91: 20 | B91: 長野 | C91: 413 | D91: 天龍村 | E91: 1410 | F91: =SUM(G91,L91,P91,Q91) -> 1142 | G91: 889 | H91: 0 | I91: 0 | J91: 0 | K91: 0 | L91: =SUM(H91:K91) -> 0 | M91: 0 | N91: 230 | O91: 23 | P91: 253 | Q91: 0
A92: 20 | B92: 長野 | C92: 306 | D92: 南相木村 | E92: 1065 | F92: =SUM(G92,L92,P92,Q92) -> 976 | G92: 0 | H92: 0 | I92: 0 | J92: 0 | K92: 0 | L92: =SUM(H92:K92) -> 0 | M92: 207 | N92: 763 | O92: 6 | P92: 976 | Q92: 0
A93: 20 | B93: 長野 | C93: 417 | D93: 大鹿村 | E93: 1054 | F93: =SUM(G93,L93,P93,Q93) -> 536 | G93: 0 | H93: 0 | I93: 0 | J93: 0 | K93: 0 | L93: =SUM(H93:K93) -> 0 | M93: 133 | N93: 403 | O93: 0 | P93: 536 | Q93: 0
A94: 20 | B94: 長野 | C94: 410 | D94: 根羽村 | E94: 988 | F94: =SUM(G94,L94,P94,Q94) -> 954 | G94: 0 | H94: 717 | I94: 0 | J94: 0 | K94: 0 | L94: =SUM(H94:K94) -> 717 | M94: 0 | N94: 237 | O94: 0 | P94: 237 | Q94: 0
A95: 20 | B95: 長野 | C95: 429 | D95: 王滝村 | E95: 828 | F95: =SUM(G95,L95,P95,Q95) -> 806 | G95: 0 | H95: 624 | I95: 0 | J95: 0 | K95: 79 | L95: =SUM(H95:K95) -> 703 | M95: 0 | N95: 81 | O95: 22 | P95: 103 | Q95: 0
A96: 20 | B96: 長野 | C96: 307 | D96: 北相木村 | E96: 778 | F96: =SUM(G96,L96,P96,Q96) -> 617 | G96: 0 | H96: 0 | I96: 0 | J96: 0 | K96: 0 | L96: =SUM(H96:K96) -> 0 | M96: 0 | N96: 617 | O96: 0 | P96: 617 | Q96: 0
A97: 20 | B97: 長野 | C97: 412 | D97: 売木村 | E97: 577 | F97: =SUM(G97,L97,P97,Q97) -> 561 | G97: 0 | H97: 384 | I97: 0 | J97: 0 | K97: 0 | L97: =SUM(H97:K97) -> 384 | M97: 25 | N97: 152 | O97: 0 | P97: 177 | Q97: 0
A98: 20 | B98: 長野 | C98: 409 | D98: 平谷村 | E98: 460 | F98: =SUM(G98,L98,P98,Q98) -> 444 | G98: 0 | H98: 412 | I98: 0 | J98: 0 | K98: 0 | L98: =SUM(H98:K98) -> 412 | M98: 0 | N98: 32 | O98: 0 | P98: 32 | Q98: 0
C99: 5000人未満 合計 | E99: =SUM(E71:E98) -> 81215 | F99: =SUM(F71:F98) -> 72415 | G99: =SUM(G71:G98) -> 34264 | H99: =SUM(H71:H98) -> 16748 | I99: =SUM(I71:I98) -> 0 | J99: =SUM(J71:J98) -> 73 | K99: =SUM(K71:K98) -> 107 | L99: =SUM(L71:L98) -> 16928 | ... Q99: =SUM(Q71:Q98) -> 65
D100: 県 計 | E100: =E99+E69+E54+E33+E27+E16+E11 -> 2129533 | F100: =F99+F69+F54+F33+F27+F16+F11 -> 2074611 | G100: =G99+G69+G54+G33+G27+G16+G11 -> 1761344 | H100: =H99+H69+H54+H33+H27+H16+H11 -> 191005 | I100: =I99+I69+I54+I33+I27+I16+I11 -> 0 | J100: =J99+J69+J54+J33+J27+J16+J11 -> 101 | K100: =K99+K69+K54+K33+K27+K16+K11 -> 222 | L100: =L99+L69+L54+L33+L27+L16+L11 -> 191328 | ... Q100: =Q99+Q69+Q54+Q33+Q27+Q16+Q11 -> 958
A101: ※ 組合等で事業を実施している場合は、該当する自治体に含めてください。（組合当別の記載は市内でください＞

Sheet 人口集計_地域別
A1: 長野県 汚水処理人口普及状況総括表
A2: ① | B2: ② | C2: ③ | D2: ④ | E2: ⑤ | F2: ⑥ | G2: ⑧ | H2: ⑩ | M2: ⑫ | N2: ⑬ | O2: ⑭ | P2: ⑮ | Q2: ⑰
A3: 県 | B3: 都道府県 | C3: 市町 | D3: 市町村名 | E3: 住民基本台帳 | F3: H26年度末 | G3: 下 水 道 | H3: 農業集落排水施設等 | M3: 合 併 処 理 浄 化 槽 等 | Q3: コ ミ プ ラ
A4: コ | B4: 名 | C4: 村 | E4: 人口 | G4: H27年度末 | L4: H27年度末 | M4: 下水道の処理開始公示済区域外 | Q4: H27年度末
A5: ｜ | C5: ｺｰﾄﾞ | D5: H28.3.31現在 | E5: H28.3.31現在 | F5: 汚水処理人口 | G5: 下水道 | H5: H27年度末 | I5: H27年度末 | J5: H27年度末 | K5: H27年度末 | L5: 農排等 | M5: 浄化槽 | N5: 浄化槽設置 | O5: 民間設置 | P5: 合併処理 | Q5: コミプラ
A6: ド | G6: 処理人口 | H6: 農排 | I6: 漁排 | J6: 林排 | K6: 簡易排水 | L6: 整備人口 | M6: 市町村整備 | N6: 整備事業 | O6: 浄化槽 | P6: 浄化槽 | Q6: 処理人口
H7: 整備人口 | I7: 整備人口 | J7: 整備人口 | K7: 整備人口 | M7: 推進事業等 | N7: 設置処理人口 | O7: 処理人口 | P7: 処理人口
M8: 設置処理人口
E9: （人） | F9: （人） | G9: （人） | H9: （人） | I9: （人） | J9: （人） | K9: （人） | L9: (人) | M9: （人） | N9: （人） | O9: （人） | P9: （人） | Q9: （人）
A10: 20 | B10: 長野 | C10: 208 | D10: 小諸市 | E10: 43112 | F10: =SUM(G10,L10,P10,Q10) -> 42323 | G10: 28901 | H10: 7966 | I10: 0 | J10: 0 | K10: 0 | L10: =SUM(H10:K10) -> 7966 | M10: 8 | N10: 4862 | O10: 586 | P10: 5456 | Q10: 0
A11: 20 | B11: 長野 | C11: 217 | D11: 佐久市 | E11: 99616 | F11: =SUM(G11,L11,P11,Q11) -> 97142 | G11: 74031 | H11: 6252 | I11: 0 | J11: 0 | K11: 0 | L11: =SUM(H11:K11) -> 6252 | M11: 0 | N11: 11881 | O11: 4764 | P11: 16645 | Q11: 214
A12: 20 | B12: 長野 | C12: 303 | D12: 小海町 | E12: 4840 | F12: =SUM(G12,L12,P12,Q12) -> 4684 | G12: 3030 | H12: 540 | I12: 0 | J12: 0 | K12: 0 | L12: =SUM(H12:K12) -> 540 | M12: 0 | N12: 1052 | O12: 62 | P12: 1114 | Q12: 0
A13: 20 | B13: 長野 | C13: 304 | D13: 川上村 | E13: 4058 | F13: 4073 | G13: 1967 | H13: 2031 | I13: 0 | J13: 0 | K13: 0 | L13: =SUM(H13:K13) -> 2031 | M13: 0 | N13: 55 | O13: 0 | P13: 55 | Q13: 0
A14: 20 | B14: 長野 | C14: 305 | D14: 南牧村 | E14: 3235 | F14: 3151 | G14: 760 | H14: 241 | I14: 0 | J14: 0 | K14: 0 | L14: =SUM(H14:K14) -> 241 | M14: 275 | N14: 1635 | O14: 203 | P14: 2113 | Q14: 65
A15: 20 | B15: 長野 | C15: 306 | D15: 南相木村 | E15: 1065 | F15: 994 | G15: 0 | H15: 0 | I15: 0 | J15: 0 | K15: 0 | L15: =SUM(H15:K15) -> 0 | M15: 207 | N15: 763 | O15: 6 | P15: 976 | Q15: 0
A16: 20 | B16: 長野 | C16: 307 | D16: 北相木村 | E16: 778 | F16: =SUM(G16,L16,P16,Q16) -> 617 | G16: 0 | H16: 0 | I16: 0 | J16: 0 | K16: 0 | L16: =SUM(H16:K16) -> 0 | M16: 0 | N16: 617 | O16: 0 | P16: 617 | Q16: 0
A17: 20 | B17: 長野 | C17: 309 | D17: 佐久穂町 | E17: 11752 | F17: 11518 | G17: 9637 | H17: 1263 | I17: 0 | J17: 0 | K17: 0 | L17: =SUM(H17:K17) -> 1263 | M17: 0 | N17: 454 | O17: 0 | P17: 454 | Q17: 0
A18: 20 | B18: 長野 | C18: 321 | D18: 軽井沢町 | E18: 20119 | F18: =SUM(G18,L18,P18,Q18) -> 16028 | G18: 9927 | H18: 627 | I18: 0 | J18: 0 | K18: 0 | L18: =SUM(H18:K18) -> 627 | M18: 131 | N18: 5167 | O18: 176 | P18: 5474 | Q18: 0
A19: 20 | B19: 長野 | C19: 323 | D19: 御代田町 | E19: 15526 | F19: =SUM(G19,L19,P19,Q19) -> 14799 | G19: 13045 | H19: 533 | I19: 0 | J19: 0 | K19: 0 | L19: =SUM(H19:K19) -> 533 | M19: 260 | N19: 676 | O19: 285 | P19: 1221 | Q19: 0
A20: 20 | B20: 長野 | C20: 324 | D20: 立科町 | E20: 7557 | F20: =SUM(G20,L20,P20,Q20) -> 7404 | G20: 3487 | H20: 3371 | I20: 0 | J20: 0 | K20: 0 | L20: =SUM(H20:K20) -> 3371 | M20: 196 | N20: 119 | O20: 11 | P20: 326 | Q20: 220
A21: 佐久地方合計 | C21: 佐久建設合計 | E21: =SUM(E10:E20) -> 211658 | F21: =SUM(F10:F20) -> 202733 | G21: =SUM(G10:G20) -> 144785 | H21: =SUM(H10:H20) -> 22824 | I21: =SUM(I10:I20) -> 0 | J21: =SUM(J10:J20) -> 0 | K21: =SUM(K10:K20) -> 0 | L21: =SUM(L10:L20) -> 22824 | ... Q21: =SUM(Q10:Q20) -> 499
A22: 20 | B22: 長野 | C22: 203 | D22: 上田市 | E22: 159460 | F22: =SUM(G22,L22,P22,Q22) -> 158286 | G22: 128656 | H22: 26555 | I22: 0 | J22: 0 | K22: 0 | L22: =SUM(H22:K22) -> 26555 | M22: 283 | N22: 2278 | O22: 514 | P22: 3075 | Q22: 0
A23: 20 | B23: 長野 | C23: 219 | D23: 東御市 | E23: 30716 | F23: =SUM(G23,L23,P23,Q23) -> 30218 | G23: 19061 | H23: 8720 | I23: 0 | J23: 0 | K23: 0 | L23: =SUM(H23:K23) -> 8720 | M23: 8 | N23: 1854 | O23: 116 | P23: 1978 | Q23: 459
A24: 20 | B24: 長野 | C24: 349 | D24: 青木村 | E24: 4553 | F24: =SUM(G24,L24,P24,Q24) -> 4404 | G24: 4093 | H24: 0 | I24: 0 | J24: 0 | K24: 0 | L24: =SUM(H24:K24) -> 0 | M24: 0 | N24: 269 | O24: 42 | P24: 311 | Q24: 0
A25: 20 | B25: 長野 | C25: 350 | D25: 長和町 | E25: 6405 | F25: =SUM(G25,L25,P25,Q25) -> 6171 | G25: 5700 | H25: 0 | I25: 0 | J25: 0 | K25: 68 | L25: =SUM(H25:K25) -> 68 | M25: 36 | N25: 367 | O25: 0 | P25: 403 | Q25: 0
A26: 上小地方合計 | C26: 上田建設合計 | E26: =SUM(E22:E25) -> 201134 | F26: =SUM(F22:F25) -> 199079 | G26: =SUM(G22:G25) -> 157510 | H26: =SUM(H22:H25) -> 35275 | I26: =SUM(I22:I25) -> 0 | J26: =SUM(J22:J25) -> 0 | K26: =SUM(K22:K25) -> 68 | L26: =SUM(L22:L25) -> 35343 | ... Q26: =SUM(Q22:Q25) -> 459
A27: 東信地域合計 | E27: =E21+E26 -> 412792 | F27: =F21+F26 -> 401812 | G27: =G21+G26 -> 302295 | H27: =H21+H26 -> 58099 | I27: =I21+I26 -> 0 | J27: =J21+J26 -> 0 | K27: =K21+K26 -> 68 | L27: =L21+L26 -> 58167 | ... Q27: =Q21+Q26 -> 958
A29: 20 | B29: 長野 | C29: 204 | D29: 岡谷市 | E29: 51039 | F29: 51330 | G29: 49522 | H29: 0 | I29: 0 | J29: 0 | K29: 0 | L29: =SUM(H29:K29) -> 0 | M29: 0 | N29: 0 | O29: 152 | P29: 152 | Q29: 0
A30: 20 | B30: 長野 | C30: 206 | D30: 諏訪市 | E30: 50503 | F30: =SUM(G30,L30,P30,Q30) -> 50079 | G30: 49871 | H30: 0 | I30: 0 | J30: 0 | K30: 0 | L30: =SUM(H30:K30) -> 0 | M30: 0 | N30: 149 | O30: 59 | P30: 208 | Q30: 0
A31: 20 | B31: 長野 | C31: 214 | D31: 茅野市 | E31: 55910 | F31: =SUM(G31,L31,P31,Q31) -> 55400 | G31: 54060 | H31: 0 | I31: 0 | J31: 0 | K31: 0 | L31: =SUM(H31:K31) -> 0 | M31: 0 | N31: 979 | O31: 361 | P31: 1340 | Q31: 0
A32: 20 | B32: 長野 | C32: 361 | D32: 下諏訪町 | E32: 20828 | F32: =SUM(G32,L32,P32,Q32) -> 20813 | G32: 20813 | H32: 0 | I32: 0 | J32: 0 | K32: 0 | L32: =SUM(H32:K32) -> 0 | M32: 0 | N32: 0 | O32: 0 | P32: 0 | Q32: 0
A33: 20 | B33: 長野 | C33: 362 | D33: 富士見町 | E33: 14987 | F33: =SUM(G33,L33,P33,Q33) -> 14558 | G33: 10782 | H33: 3107 | I33: 0 | J33: 0 | K33: 0 | L33: =SUM(H33:K33) -> 3107 | M33: 0 | N33: 512 | O33: 157 | P33: 669 | Q33: 0
A34: 20 | B34: 長野 | C34: 363 | D34: 原村 | E34: 7444 | F34: =SUM(G34,L34,P34,Q34) -> 7399 | G34: 6330 | H34: 0 | I34: 0 | J34: 0 | K34: 0 | L34: =SUM(H34:K34) -> 0 | M34: 0 | N34: 1040 | O34: 29 | P34: 1069 | Q34: 0
A35: 諏訪地方合計 | C35: 諏訪建設合計 | E35: =SUM(E29:E34) -> 200711 | F35: =SUM(F29:F34) -> 199579 | G35: =SUM(G29:G34) -> 191378 | H35: =SUM(H29:H34) -> 3107 | I35: =SUM(I29:I34) -> 0 | J35: =SUM(J29:J34) -> 0 | K35: =SUM(K29:K34) -> 0 | L35: =SUM(L29:L34) -> 3107 | ... Q35: =SUM(Q29:Q34) -> 0
A36: 20 | B36: 長野 | C36: 209 | D36: 伊那市 | E36: 69297 | F36: =SUM(G36,L36,P36,Q36) -> 64453 | G36: 48678 | H36: 11367 | I36: 0 | J36: 0 | K36: 47 | L36: =SUM(H36:K36) -> 11414 | M36: 1509 | N36: 1777 | O36: 1075 | P36: 4361 | Q36: 0
A37: 20 | B37: 長野 | C37: 210 | D37: 駒ヶ根市 | E37: 33266 | F37: =SUM(G37,L37,P37,Q37) -> 31626 | G37: 19262 | H37: 11383 | I37: 0 | J37: 0 | K37: 0 | L37: =SUM(H37:K37) -> 11383 | M37: 0 | N37: 930 | O37: 51 | P37: 981 | Q37: 0
A38: 20 | B38: 長野 | C38: 382 | D38: 辰野町 | E38: 20237 | F38: =SUM(G38,L38,P38,Q38) -> 20140 | G38: 17819 | H38: 1699 | I38: 0 | J38: 0 | K38: 0 | L38: =SUM(H38:K38) -> 1699 | M38: 152 | N38: 366 | O38: 104 | P38: 622 | Q38: 0
A39: 20 | B39: 長野 | C39: 383 | D39: 箕輪町 | E39: 24998 | F39: =SUM(G39,L39,P39,Q39) -> 24891 | G39: 18322 | H39: 6192 | I39: 0 | J39: 0 | K39: 0 | L39: =SUM(H39:K39) -> 6192 | M39: 9 | N39: 155 | O39: 213 | P39: 377 | Q39: 0
A40: 20 | B40: 長野 | C40: 384 | D40: 飯島町 | E40: 9780 | F40: =SUM(G40,L40,P40,Q40) -> 9413 | G40: 5558 | H40: 1934 | I40: 0 | J40: 0 | K40: 0 | L40: =SUM(H40:K40) -> 1934 | M40: 0 | N40: 1921 | O40: 0 | P40: 1921 | Q40: 0
A41: 20 | B41: 長野 | C41: 385 | D41: 南箕輪村 | E41: 15169 | F41: 15027 | G41: 14896 | H41: 0 | I41: 0 | J41: 0 | K41: 0 | L41: =SUM(H41:K41) -> 0 | M41: 0 | N41: 154 | O41: 88 | P41: 242 | Q41: 0
A42: 20 | B42: 長野 | C42: 386 | D42: 中川村 | E42: 5040 | F42: =SUM(G42,L42,P42,Q42) -> 4852 | G42: 2865 | H42: 1266 | I42: 0 | J42: 0 | K42: 0 | L42: =SUM(H42:K42) -> 1266 | M42: 0 | N42: 721 | O42: 0 | P42: 721 | Q42: 0
A43: 20 | B43: 長野 | C43: 388 | D43: 宮田村 | E43: 9189 | F43: =SUM(G43,L43,P43,Q43) -> 9189 | G43: 6788 | H43: 2291 | I43: 0 | J43: 0 | K43: 0 | L43: =SUM(H43:K43) -> 2291 | M43: 0 | N43: 0 | O43: 110 | P43: 110 | Q43: 0
A44: 上伊那地方合計 | C44: 伊那建設合計 | E44: =SUM(E36:E43) -> 186976 | F44: =SUM(F36:F43) -> 179591 | G44: =SUM(G36:G43) -> 134188 | H44: =SUM(H36:H43) -> 36132 | I44: =SUM(I36:I43) -> 0 | J44: =SUM(J36:J43) -> 0 | K44: =SUM(K36:K43) -> 47 | L44: =SUM(L36:L43) -> 36179 | ... Q44: =SUM(Q36:Q43) -> 0
A45: 20 | B45: 長野 | C45: 205 | D45: 飯田市 | E45: 103712 | F45: =SUM(G45,L45,P45,Q45) -> 100457 | G45: 85853 | H45: 6231 | I45: 0 | J45: 0 | K45: 0 | L45: =SUM(H45:K45) -> 6231 | M45: 63 | N45: 8040 | O45: 270 | P45: 8373 | Q45: 0
A46: 20 | B46: 長野 | C46: 402 | D46: 松川町 | E46: 13617 | F46: =SUM(G46,L46,P46,Q46) -> 13209 | G46: 5647 | H46: 5846 | I46: 0 | J46: 0 | K46: 0 | L46: =SUM(H46:K46) -> 5846 | M46: 0 | N46: 1716 | O46: 0 | P46: 1716 | Q46: 0
A47: 20 | B47: 長野 | C47: 403 | D47: 高森町 | E47: 13279 | F47: =SUM(G47,L47,P47,Q47) -> 13119 | G47: 7141 | H47: 4748 | I47: 0 | J47: 0 | K47: 0 | L47: =SUM(H47:K47) -> 4748 | M47: 0 | N47: 1160 | O47: 70 | P47: 1230 | Q47: 0
A48: 20 | B48: 長野 | C48: 404 | D48: 阿南町 | E48: 4919 | F48: =SUM(G48,L48,P48,Q48) -> 4450 | G48: 0 | H48: 2770 | I48: 0 | J48: 0 | K48: 0 | L48: =SUM(H48:K48) -> 2770 | M48: 356 | N48: 1324 | O48: 0 | P48: 1680 | Q48: 0
A49: 20 | B49: 長野 | C49: 407 | D49: 阿智村 | E49: 6656 | F49: =SUM(G49,L49,P49,Q49) -> 6064 | G49: 3049 | H49: 1096 | I49: 0 | J49: 0 | K49: 0 | L49: =SUM(H49:K49) -> 1096 | M49: 0 | N49: 1288 | O49: 631 | P49: 1919 | Q49: 0
A50: 20 | B50: 長野 | C50: 409 | D50: 平谷村 | E50: 460 | F50: =SUM(G50,L50,P50,Q50) -> 444 | G50: 0 | H50: 412 | I50: 0 | J50: 0 | K50: 0 | L50: =SUM(H50:K50) -> 412 | M50: 0 | N50: 32 | O50: 0 | P50: 32 | Q50: 0
A51: 20 | B51: 長野 | C51: 410 | D51: 根羽村 | E51: 988 | F51: =SUM(G51,L51,P51,Q51) -> 954 | G51: 0 | H51: 717 | I51: 0 | J51: 0 | K51: 0 | L51: =SUM(H51:K51) -> 717 | M51: 0 | N51: 237 | O51: 0 | P51: 237 | Q51: 0
A52: 20 | B52: 長野 | C52: 411 | D52: 下條村 | E52: 3917 | F52: =SUM(G52,L52,P52,Q52) -> 3756 | G52: 0 | H52: 0 | I52: 0 | J52: 0 | K52: 0 | L52: =SUM(H52:K52) -> 0 | M52: 0 | N52: 3535 | O52: 221 | P52: 3756 | Q52: 0
A53: 20 | B53: 長野 | C53: 412 | D53: 売木村 | E53: 577 | F53: =SUM(G53,L53,P53,Q53) -> 561 | G53: 0 | H53: 384 | I53: 0 | J53: 0 | K53: 0 | L53: =SUM(H53:K53) -> 384 | M53: 25 | N53: 152 | O53: 0 | P53: 177 | Q53: 0
A54: 20 | B54: 長野 | C54: 413 | D54: 天龍村 | E54: 1410 | F54: =SUM(G54,L54,P54,Q54) -> 1142 | G54: 889 | H54: 0 | I54: 0 | J54: 0 | K54: 0 | L54: =SUM(H54:K54) -> 0 | M54: 0 | N54: 230 | O54: 23 | P54: 253 | Q54: 0
A55: 20 | B55: 長野 | C55: 414 | D55: 泰阜村 | E55: 1716 | F55: =SUM(G55,L55,P55,Q55) -> 1210 | G55: 0 | H55: 0 | I55: 0 | J55: 0 | K55: 0 | L55: =SUM(H55:K55) -> 0 | M55: 320 | N55: 870 | O55: 20 | P55: 1210 | Q55: 0
A56: 20 | B56: 長野 | C56: 415 | D56: 喬木村 | E56: 6587 | F56: =SUM(G56,L56,P56,Q56) -> 6429 | G56: 3785 | H56: 1604 | I56: 0 | J56: 0 | K56: 0 | L56: =SUM(H56:K56) -> 1604 | M56: 1040 | N56: 0 | O56: 0 | P56: 1040 | Q56: 0
... A58: 20 | B58: 長野 | C58: 417 | D58: 大鹿村 | E58: 1054 | F58: =SUM(G58,L58,P58,Q58) -> 536 | G58: 0 | H58: 0 | I58: 0 | J58: 0 | K58: 0 | L58: =SUM(H58:K58) -> 0 | M58: 133 | N58: 403 | O58: 0 | P58: 536 | Q58: 0
A59: 下伊那地方合計 | C59: 飯田建設合計 | E59: =SUM(E45:E58) -> 165723 | F59: =SUM(F45:F58) -> 159108 | G59: =SUM(G45:G58) -> 109802 | H59: =SUM(H45:H58) -> 25961 | I59: =SUM(I45:I58) -> 0 | J59: =SUM(J45:J58) -> 0 | K59: =SUM(K45:K58) -> 0 | L59: =SUM(L45:L58) -> 25961 | ... Q59: =SUM(Q45:Q58) -> 0
A60: 南信地域合計 | E60: =E35+E44+E59 -> 553410 | F60: =F35+F44+F59 -> 538278 | G60: =G35+G44+G59 -> 435368 | H60: =H35+H44+H59 -> 65200 | I60: =I35+I44+I59 -> 0 | J60: =J35+J44+J59 -> 0 | K60: =K35+K44+K59 -> 47 | L60: =L35+L44+L59 -> 65247 | ... Q60: =Q35+Q44+Q59 -> 0
A62: 20 | B62: 長野 | C62: 422 | D62: 上松町 | E62: 4786 | F62: =SUM(G62,L62,P62,Q62) -> 4013 | G62: 3369 | H62: 0 | I62: 0 | J62: 0 | K62: 0 | L62: =SUM(H62:K62) -> 0 | M62: 0 | N62: 479 | O62: 165 | P62: 644 | Q62: 0
A63: 20 | B63: 長野 | C63: 423 | D63: 南木曽町 | E63: 4370 | F63: 3629 | G63: 341 | H63: 738 | I63: 0 | J63: 0 | K63: 0 | L63: =SUM(H63:K63) -> 738 | M63: 1296 | N63: 1184 | O63: 20 | P63: 2500 | Q63: 0
A64: 20 | B64: 長野 | C64: 425 | D64: 木祖村 | E64: 3038 | F64: =SUM(G64,L64,P64,Q64) -> 2902 | G64: 1956 | H64: 341 | I64: 0 | J64: 0 | K64: 0 | L64: =SUM(H64:K64) -> 341 | M64: 480 | N64: 95 | O64: 30 | P64: 605 | Q64: 0
A65: 20 | B65: 長野 | C65: 429 | D65: 王滝村 | E65: 828 | F65: =SUM(G65,L65,P65,Q65) -> 806 | G65: 0 | H65: 624 | I65: 0 | J65: 0 | K65: 79 | L65: =SUM(H65:K65) -> 703 | M65: 0 | N65: 81 | O65: 22 | P65: 103 | Q65: 0
A66: 20 | B66: 長野 | C66: 430 | D66: 大桑村 | E66: 3965 | F66: =SUM(G66,L66,P66,Q66) -> 3791 | G66: 1304 | H66: 1816 | I66: 0 | J66: 0 | K66: 0 | L66: =SUM(H66:K66) -> 1816 | M66: 29 | N66: 522 | O66: 120 | P66: 671 | Q66: 0
A67: 20 | B67: 長野 | C67: 432 | D67: 木曽町 | E67: 11754 | F67: 11332 | G67: 8084 | H67: 1253 | I67: 0 | J67: 28 | K67: 0 | L67: =SUM(H67:K67) -> 1281 | M67: 230 | N67: 1279 | O67: 281 | P67: 1790 | Q67: 0
A68: 木曽地方合計 | C68: 木曽建設合計 | E68: =SUM(E62:E67) -> 28741 | F68: =SUM(F62:F67) -> 26473 | G68: =SUM(G62:G67) -> 15054 | H68: =SUM(H62:H67) -> 4772 | I68: =SUM(I62:I67) -> 0 | J68: =SUM(J62:J67) -> 28 | K68: =SUM(K62:K67) -> 79 | L68: =SUM(L62:L67) -> 4879 | ... Q68: =SUM(Q62:Q67) -> 0
A69: 20 | B69: 長野 | C69: 202 | D69: 松本市 | E69: 241112 | F69: =SUM(G69,L69,P69,Q69) -> 240290 | G69: 232652 | H69: 1202 | I69: 0 | J69: 0 | K69: 0 | L69: =SUM(H69:K69) -> 1202 | M69: 3161 | N69: 2886 | O69: 389 | P69: 6436 | Q69: 0
A70: 20 | B70: 長野 | C70: 215 | D70: 塩尻市 | E70: 67447 | F70: =SUM(G70,L70,P70,Q70) -> 67279 | G70: 60572 | H70: 6244 | I70: 0 | J70: 0 | K70: 0 | L70: =SUM(H70:K70) -> 6244 | M70: 43 | N70: 292 | O70: 128 | P70: 463 | Q70: 0
A71: 20 | B71: 長野 | C71: 446 | D71: 麻績村 | E71: 2886 | F71: =SUM(G71,L71,P71,Q71) -> 2720 | G71: 1888 | H71: 449 | I71: 0 | J71: 0 | K71: 0 | L71: =SUM(H71:K71) -> 449 | M71: 340 | N71: 0 | O71: 43 | P71: 383 | Q71: 0
A72: 20 | B72: 長野 | C72: 448 | D72: 生坂村 | E72: 1879 | F72: =SUM(G72,L72,P72,Q72) -> 1642 | G72: 0 | H72: 936 | I72: 0 | J72: 0 | K72: 0 | L72: =SUM(H72:K72) -> 936 | M72: 404 | N72: 302 | O72: 0 | P72: 706 | Q72: 0
A73: 20 | B73: 長野 | C73: 450 | D73: 山形村 | E73: 8760 | F73: =SUM(G73,L73,P73,Q73) -> 8745 | G73: 8744 | H73: 0 | I73: 0 | J73: 0 | K73: 0 | L73: =SUM(H73:K73) -> 0 | M73: 0 | N73: 0 | O73: 1 | P73: 1 | Q73: 0
A74: 20 | B74: 長野 | C74: 451 | D74: 朝日村 | E74: 4646 | F74: =SUM(G74,L74,P74,Q74) -> 4646 | G74: 4646 | H74: 0 | I74: 0 | J74: 0 | K74: 0 | L74: =SUM(H74:K74) -> 0 | M74: 0 | N74: 0 | O74: 0 | P74: 0 | Q74: 0
A75: 20 | B75: 長野 | C75: 452 | D75: 筑北村 | E75: 4853 | F75: =SUM(G75,L75,P75,Q75) -> 4444 | G75: 0 | H75: 2820 | I75: 0 | J75: 73 | K75: 0 | L75: =SUM(H75:K75) -> 2893 | M75: 1525 | N75: 0 | O75: 26 | P75: 1551 | Q75: 0
C76: 松本建設合計 | E76: =SUM(E69:E75) -> 331583 | F76: =SUM(F69:F75) -> 329766 | G76: =SUM(G69:G75) -> 308502 | H76: =SUM(H69:H75) -> 11651 | I76: =SUM(I69:I75) -> 0 | J76: =SUM(J69:J75) -> 73 | K76: =SUM(K69:K75) -> 0 | L76: =SUM(L69:L75) -> 11724 | ... Q76: =SUM(Q69:Q75) -> 0
A77: 20 | B77: 長野 | C77: 220 | D77: 安曇野市 | E77: 98255 | F77: =SUM(G77,L77,P77,Q77) -> 95518 | G77: 87788 | H77: 2946 | I77: 0 | J77: 0 | K77: 0 | L77: =SUM(H77:K77) -> 2946 | M77: 67 | N77: 1597 | O77: 3120 | P77: 4784 | Q77: 0
C78: 安曇野建設合計 | E78: =SUM(E77) -> 98255 | F78: =SUM(F77) -> 95518 | G78: =SUM(G77) -> 87788 | H78: =SUM(H77) -> 2946 | I78: =SUM(I77) -> 0 | J78: =SUM(J77) -> 0 | K78: =SUM(K77) -> 0 | L78: =SUM(L77) -> 2946 | ... Q78: =SUM(Q77) -> 0
A79: 松本地方合計 | E79: =E76+E78 -> 429838 | F79: =F76+F78 -> 425284 | G79: =G76+G78 -> 396290 | H79: =H76+H78 -> 14597 | I79: =I76+I78 -> 0 | J79: =J76+J78 -> 73 | K79: =K76+K78 -> 0 | L79: =L76+L78 -> 14670 | ... Q79: =Q76+Q78 -> 0
A80: 20 | B80: 長野 | C80: 212 | D80: 大町市 | E80: 28666 | F80: =SUM(G80,L80,P80,Q80) -> 26259 | G80: 20674 | H80: 1006 | I80: 0 | J80: 0 | K80: 0 | L80: =SUM(H80:K80) -> 1006 | M80: 483 | N80: 3984 | O80: 112 | P80: 4579 | Q80: 0
A81: 20 | B81: 長野 | C81: 481 | D81: 池田町 | E81: 10213 | F81: =SUM(G81,L81,P81,Q81) -> 10019 | G81: 9613 | H81: 0 | I81: 0 | J81: 0 | K81: 0 | L81: =SUM(H81:K81) -> 0 | M81: 314 | N81: 72 | O81: 20 | P81: 406 | Q81: 0
A82: 20 | B82: 長野 | C82: 482 | D82: 松川村 | E82: 10003 | F82: 9993 | G82: 9896 | H82: 0 | I82: 0 | J82: 0 | K82: 0 | L82: =SUM(H82:K82) -> 0 | M82: 0 | N82: 0 | O82: 41 | P82: 41 | Q82: 0
A83: 20 | B83: 長野 | C83: 485 | D83: 白馬村 | E83: 9156 | F83: =SUM(G83,L83,P83,Q83) -> 8775 | G83: 6905 | H83: 46 | I83: 0 | J83: 0 | K83: 0 | L83: =SUM(H83:K83) -> 46 | M83: 0 | N83: 650 | O83: 1174 | P83: 1824 | Q83: 0
A84: 20 | B84: 長野 | C84: 486 | D84: 小谷村 | E84: 3033 | F84: =SUM(G84,L84,P84,Q84) -> 2337 | G84: 336 | H84: 749 | I84: 0 | J84: 0 | K84: 0 | L84: =SUM(H84:K84) -> 749 | M84: 0 | N84: 1027 | O84: 225 | P84: 1252 | Q84: 0
A85: 北安曇地方合計 | C85: 大町建設合計 | E85: =SUM(E80:E84) -> 61071 | F85: =SUM(F80:F84) -> 57383 | G85: =SUM(G80:G84) -> 47424 | H85: =SUM(H80:H84) -> 1801 | I85: =SUM(I80:I84) -> 0 | J85: =SUM(J80:J84) -> 0 | K85: =SUM(K80:K84) -> 0 | L85: =SUM(L80:L84) -> 1801 | ... Q85: =SUM(Q80:Q84) -> 0
A86: 中信地域合計 | E86: =E68+E76+E78+E85 -> 519650 | F86: =F68+F76+F78+F85 -> 509140 | G86: =G68+G76+G78+G85 -> 458768 | H86: =H68+H76+H78+H85 -> 21170 | I86: =I68+I76+I78+I85 -> 0 | J86: =J68+J76+J78+J85 -> 101 | K86: =K68+K76+K78+K85 -> 79 | L86: =L68+L76+L78+L85 -> 21350 | ... Q86: =Q68+Q76+Q78+Q85 -> 0
A88: 20 | B88: 長野 | C88: 218 | D88: 千曲市 | E88: 61358 | F88: =SUM(G88,L88,P88,Q88) -> 61318 | G88: 56321 | H88: 4791 | I88: 0 | J88: 0 | K88: 0 | L88: =SUM(H88:K88) -> 4791 | M88: 0 | N88: 121 | O88: 85 | P88: 206 | Q88: 0
A89: 20 | B89: 長野 | C89: 521 | D89: 坂城町 | E89: 15380 | F89: =SUM(G89,L89,P89,Q89) -> 13689 | G89: 11576 | H89: 0 | I89: 0 | J89: 0 | K89: 0 | L89: =SUM(H89:K89) -> 0 | M89: 0 | N89: 2113 | O89: 0 | P89: 2113 | Q89: 0
C90: 千曲建設合計 | E90: =SUM(E88:E89) -> 76738 | F90: =SUM(F88:F89) -> 75007 | G90: =SUM(G88:G89) -> 67897 | H90: =SUM(H88:H89) -> 4791 | I90: =SUM(I88:I89) -> 0 | J90: =SUM(J88:J89) -> 0 | K90: =SUM(K88:K89) -> 0 | L90: =SUM(L88:L89) -> 4791 | ... Q90: =SUM(Q88:Q89) -> 0
A91: 20 | B91: 長野 | C91: 207 | D91: 須坂市 | E91: 51521 | F91: =SUM(G91,L91,P91,Q91) -> 50877 | G91: 49635 | H91: 974 | I91: 0 | J91: 0 | K91: 0 | L91: =SUM(H91:K91) -> 974 | M91: 0 | N91: 98 | O91: 170 | P91: 268 | Q91: 0
A92: 20 | B92: 長野 | C92: 541 | D92: 小布施町 | E92: 11163 | F92: =SUM(G92,L92,P92,Q92) -> 11163 | G92: 8900 | H92: 2263 | I92: 0 | J92: 0 | K92: 0 | L92: =SUM(H92:K92) -> 2263 | M92: 0 | N92: 0 | O92: 0 | P92: 0 | Q92: 0
A93: 20 | B93: 長野 | C93: 543 | D93: 高山村 | E93: 7291 | F93: =SUM(G93,L93,P93,Q93) -> 7259 | G93: 4857 | H93: 2285 | I93: 0 | J93: 0 | K93: 0 | L93: =SUM(H93:K93) -> 2285 | M93: 0 | N93: 7 | O93: 110 | P93: 117 | Q93: 0
C94: 須坂建設合計 | E94: =SUM(E91:E93) -> 69975 | F94: =SUM(F91:F93) -> 69299 | G94: =SUM(G91:G93) -> 63392 | H94: =SUM(H91:H93) -> 5522 | I94: =SUM(I91:I93) -> 0 | J94: =SUM(J91:J93) -> 0 | K94: =SUM(K91:K93) -> 0 | L94: =SUM(L91:L93) -> 5522 | ... Q94: =SUM(Q91:Q93) -> 0
A95: 20 | B95: 長野 | C95: 201 | D95: 長野市 | E95: 382141 | F95: =SUM(G95,L95,P95,Q95) -> 371977 | G95: 356690 | H95: 7805 | I95: 0 | J95: 0 | K95: 0 | L95: =SUM(H95:K95) -> 7805 | M95: 2634 | N95: 2160 | O95: 2688 | P95: 7482 | Q95: 0
A96: 20 | B96: 長野 | C96: 583 | D96: 信濃町 | E96: 8887 | F96: =SUM(G96,L96,P96,Q96) -> 7982 | G96: 4024 | H96: 2339 | I96: 0 | J96: 0 | K96: 0 | L96: =SUM(H96:K96) -> 2339 | M96: 194 | N96: 788 | O96: 637 | P96: 1619 | Q96: 0
A97: 20 | B97: 長野 | C97: 588 | D97: 小川村 | E97: 2695 | F97: =SUM(G97,L97,P97,Q97) -> 2451 | G97: 2152 | H97: 0 | I97: 0 | J97: 0 | K97: 0 | L97: =SUM(H97:K97) -> 0 | M97: 0 | N97: 297 | O97: 2 | P97: 299 | Q97: 0
A98: 20 | B98: 長野 | C98: 590 | D98: 飯綱町 | E98: 11643 | F98: =SUM(G98,L98,P98,Q98) -> 11410 | G98: 6760 | H98: 4129 | I98: 0 | J98: 0 | K98: 0 | L98: =SUM(H98:K98) -> 4129 | M98: 126 | N98: 119 | O98: 276 | P98: 521 | Q98: 0
C99: 長野建設合計 | E99: =SUM(E95:E98) -> 405366 | F99: =SUM(F95:F98) -> 393820 | G99: =SUM(G95:G98) -> 369626 | H99: =SUM(H95:H98) -> 14273 | I99: =SUM(I95:I98) -> 0 | J99: =SUM(J95:J98) -> 0 | K99: =SUM(K95:K98) -> 0 | L99: =SUM(L95:L98) -> 14273 | ... Q99: =SUM(Q95:Q98) -> 0
A100: 長野地方合計 | E100: =E90+E94+E99 -> 552079 | F100: =F90+F94+F99 -> 538126 | G100: =G90+G94+G99 -> 500915 | H100: =H90+H94+H99 -> 24586 | I100: =I90+I94+I99 -> 0 | J100: =J90+J94+J99 -> 0 | K100: =K90+K94+K99 -> 0 | L100: =L90+L94+L99 -> 24586 | ... Q100: =Q90+Q94+Q99 -> 0
A101: 20 | B101: 長野 | C101: 211 | D101: 中野市 | E101: 45616 | F101: =SUM(G101,L101,P101,Q101) -> 43897 | G101: 30946 | H101: 12384 | I101: 0 | J101: 0 | K101: 0 | L101: =SUM(H101:K101) -> 12384 | M101: 0 | N101: 465 | O101: 102 | P101: 567 | Q101: 0
A102: 20 | B102: 長野 | C102: 213 | D102: 飯山市 | E102: 22124 | F102: =SUM(G102,L102,P102,Q102) -> 21928 | G102: 16436 | H102: 5307 | I102: 0 | J102: 0 | K102: 0 | L102: =SUM(H102:K102) -> 5307 | M102: 106 | N102: 68 | O102: 11 | P102: 185 | Q102: 0
A103: 20 | B103: 長野 | C103: 561 | D103: 山ノ内町 | E103: 13196 | F103: =SUM(G103,L103,P103,Q103) -> 12792 | G103: 9083 | H103: 3079 | I103: 0 | J103: 0 | K103: 0 | L103: =SUM(H103:K103) -> 3079 | M103: 0 | N103: 75 | O103: 555 | P103: 630 | Q103: 0
A104: 20 | B104: 長野 | C104: 602 | D104: 栄村 | E104: 4914 | F104: =SUM(G104,L104,P104,Q104) -> 4902 | G104: 4681 | H104: 146 | I104: 0 | J104: 0 | K104: 0 | L104: =SUM(H104:K104) -> 146 | M104: 0 | N104: 51 | O104: 24 | P104: 75 | Q104: 0
...
