Workbook
Name PRINT_AREA_MI: #REF!
Name PRINT_AREA_MI: #REF!
Name PRINT_AREA_MI: #REF!
Name PRINT_AREA_MI: #REF!
Name PRINT_AREA_MI: #REF!

Sheet P-17
A1: （２） 汚水処理人口普及率（総括表） | K1: （平成27年度末現在）
C3: 行政人口 | D3: 処 理 人 口 (千人) | H3: 普 及 率 (％)
B4: 区 分 | C4: (千人) | D4: 公共・特環 | E4: 農業集落 | F4: 浄化槽、 | G4: 合 計 | H4: 公共・特環 | I4: 農業集落 | J4: 浄化槽、 | K4: 合 計
D5: 下水道 | E5: 排水施設等 | F5: ｺﾐ･ﾌﾟﾗ | H5: 下水道 | I5: 排水施設等 | J5: ｺﾐ･ﾌﾟﾗ
B6: 長野県計 | C6: =人口集計_市町村別!E92/1000 -> 2129.533 | D6: =人口集計_市町村別!G92/1000 -> 1761.344 | E6: =人口集計_市町村別!L92/1000 -> 191.328 | F6: =(人口集計_市町村別!P92+人口集計_市町村別!Q92)/1000 -> 121.586 | G6: =SUM(D6:F6) -> 2074.258 | H6: =D6/$C6*100 -> 82.710341 | I6: =E6/$C6*100 -> 8.9845051 | J6: =F6/$C6*100 -> 5.7095147 | K6: =G6/$C6*100 -> 97.40436
B8: （市町村別）
B9: 市 | C9: =人口集計_市町村別!E29/1000 -> 1694.871 | D9: =人口集計_市町村別!G29/1000 -> 1469.609 | E9: =人口集計_市町村別!L29/1000 -> 121.18 | F9: =(人口集計_市町村別!P29+人口集計_市町村別!Q29)/1000 -> 68.212 | G9: =SUM(D9:F9) -> 1659.001 | H9: =D9/$C9*100 -> 86.709195 | I9: =E9/$C9*100 -> 7.1498067 | J9: =F9/$C9*100 -> 4.0246131 | K9: =G9/$C9*100 -> 97.883615
B10: 町 | C10: =人口集計_市町村別!E54/1000 -> 280.236 | D10: =人口集計_市町村別!G54/1000 -> 192.658 | E10: =人口集計_市町村別!L54/1000 -> 46.527 | F10: =(人口集計_市町村別!P54+人口集計_市町村別!Q54)/1000 -> 27.65 | G10: =SUM(D10:F10) -> 266.835 | H10: =D10/$C10*100 -> 68.748483 | I10: =E10/$C10*100 -> 16.602792 | J10: =F10/$C10*100 -> 9.8666838 | K10: =G10/$C10*100 -> 95.217959
B11: 村 | C11: =人口集計_市町村別!E91/1000 -> 154.426 | D11: =人口集計_市町村別!G91/1000 -> 99.077 | E11: =人口集計_市町村別!L91/1000 -> 23.621 | F11: =(人口集計_市町村別!P91+人口集計_市町村別!Q91)/1000 -> 25.724 | G11: =SUM(D11:F11) -> 148.422 | H11: =D11/$C11*100 -> 64.158238 | I11: =E11/$C11*100 -> 15.295999 | J11: =F11/$C11*100 -> 16.657817 | K11: =G11/$C11*100 -> 96.112054
B12: 町村 | C12: =(人口集計_市町村別!E91+人口集計_市町村別!E54)/1000 -> 434.662 | D12: =(人口集計_市町村別!G54+人口集計_市町村別!G91)/1000 -> 291.735 | E12: =(人口集計_市町村別!L92+人口集計_市町村別!L54)/1000 -> 237.855 | F12: =(人口集計_市町村別!P54+人口集計_市町村別!Q54+人口集計_市町村別!P91+人口集計_市町村別!Q91)/1000 -> 53.374 | G12: =G10+G11 -> 415.257 | H12: =D12/$C12*100 -> 67.117668 | I12: =E12/$C12*100 -> 54.72183 | J12: =F12/$C12*100 -> 12.279426 | K12: =G12/$C12*100 -> 95.535612
B13: 計（検算） | C13: =SUM(C9:C11) -> 2129.533 | D13: =SUM(D9:D11) -> 1761.344 | E13: =SUM(E9:E11) -> 191.328 | F13: =SUM(F9:F11) -> 121.586 | G13: =SUM(G9:G11) -> 2074.258
B15: （地域別）
B16: 東信 | C16: =人口集計_地域別!E27/1000 -> 412.792 | D16: =人口集計_地域別!G27/1000 -> 302.295 | E16: =人口集計_地域別!L27/1000 -> 58.167 | F16: =(人口集計_地域別!P27+人口集計_地域別!Q27)/1000 -> 41.176 | G16: =SUM(D16:F16) -> 401.638 | H16: =D16/$C16*100 -> 73.231797 | I16: =E16/$C16*100 -> 14.091116 | J16: =F16/$C16*100 -> 9.9749995 | K16: =G16/$C16*100 -> 97.297913
B17: 南信 | C17: =人口集計_地域別!E60/1000 -> 553.41 | D17: =人口集計_地域別!G60/1000 -> 435.368 | E17: =人口集計_地域別!L60/1000 -> 65.247 | F17: =(人口集計_地域別!P60+人口集計_地域別!Q60)/1000 -> 36.118 | G17: =SUM(D17:F17) -> 536.733 | H17: =D17/$C17*100 -> 78.670064 | I17: =E17/$C17*100 -> 11.789993 | J17: =F17/$C17*100 -> 6.5264451 | K17: =G17/$C17*100 -> 96.986502
B18: 中信 | C18: =(人口集計_地域別!E86)/1000 -> 519.65 | D18: =(人口集計_地域別!G86)/1000 -> 458.768 | E18: =人口集計_地域別!L86/1000 -> 21.35 | F18: =(人口集計_地域別!P86+人口集計_地域別!Q86)/1000 -> 28.739 | G18: =SUM(D18:F18) -> 508.857 | H18: =D18/$C18*100 -> 88.284037 | I18: =E18/$C18*100 -> 4.1085346 | J18: =F18/$C18*100 -> 5.5304532 | K18: =G18/$C18*100 -> 97.923025
B19: 北信 | C19: =人口集計_地域別!E108/1000 -> 643.681 | D19: =人口集計_地域別!G108/1000 -> 564.913 | E19: =人口集計_地域別!L108/1000 -> 46.564 | F19: =(人口集計_地域別!P108+人口集計_地域別!Q108)/1000 -> 15.553 | G19: =SUM(D19:F19) -> 627.03 | H19: =D19/$C19*100 -> 87.762883 | I19: =E19/$C19*100 -> 7.2340181 | J19: =F19/$C19*100 -> 2.416259 | K19: =G19/$C19*100 -> 97.41316
B20: 計（検算） | C20: =SUM(C16:C19) -> 2129.533 | D20: =SUM(D16:D19) -> 1761.344 | E20: =SUM(E16:E19) -> 191.328 | F20: =SUM(F16:F19) -> 121.586 | G20: =SUM(G16:G19) -> 2074.258
B22: （広域市町村圏別）
B23: 佐久 | C23: =人口集計_地域別!E21/1000 -> 211.658 | D23: =人口集計_地域別!G21/1000 -> 144.785 | E23: =人口集計_地域別!L21/1000 -> 22.824 | F23: =(人口集計_地域別!P21+人口集計_地域別!Q21)/1000 -> 34.95 | G23: =SUM(D23:F23) -> 202.559 | H23: =D23/$C23*100 -> 68.405163 | I23: =E23/$C23*100 -> 10.783434 | J23: =F23/$C23*100 -> 16.512487 | K23: =G23/$C23*100 -> 95.701084
B24: 上小 | C24: =人口集計_地域別!E26/1000 -> 201.134 | D24: =人口集計_地域別!G26/1000 -> 157.51 | E24: =人口集計_地域別!L26/1000 -> 35.343 | F24: =(人口集計_地域別!P26+人口集計_地域別!Q26)/1000 -> 6.226 | G24: =SUM(D24:F24) -> 199.079 | H24: =D24/$C24*100 -> 78.310977 | I24: =E24/$C24*100 -> 17.571868 | J24: =F24/$C24*100 -> 3.0954488 | K24: =G24/$C24*100 -> 98.978293
B25: 諏訪 | C25: =人口集計_地域別!E35/1000 -> 200.711 | D25: =人口集計_地域別!G35/1000 -> 191.378 | E25: =人口集計_地域別!L35/1000 -> 3.107 | F25: =(人口集計_地域別!P35+人口集計_地域別!Q35)/1000 -> 3.438 | G25: =SUM(D25:F25) -> 197.923 | H25: =D25/$C25*100 -> 95.350031 | I25: =E25/$C25*100 -> 1.5479969 | J25: =F25/$C25*100 -> 1.7129106 | K25: =G25/$C25*100 -> 98.610938
B26: 上伊那 | C26: =人口集計_地域別!E44/1000 -> 186.976 | D26: =人口集計_地域別!G44/1000 -> 134.188 | E26: =人口集計_地域別!L44/1000 -> 36.179 | F26: =(人口集計_地域別!P44+人口集計_地域別!Q44)/1000 -> 9.335 | G26: =SUM(D26:F26) -> 179.702 | H26: =D26/$C26*100 -> 71.7675 | I26: =E26/$C26*100 -> 19.349542 | J26: =F26/$C26*100 -> 4.9926194 | K26: =G26/$C26*100 -> 96.109661
B27: 飯伊 | C27: =人口集計_地域別!E59/1000 -> 165.723 | D27: =人口集計_地域別!G59/1000 -> 109.802 | E27: =人口集計_地域別!L59/1000 -> 25.961 | F27: =(人口集計_地域別!P59+人口集計_地域別!Q59)/1000 -> 23.345 | G27: =SUM(D27:F27) -> 159.108 | H27: =D27/$C27*100 -> 66.256343 | I27: =E27/$C27*100 -> 15.665297 | J27: =F27/$C27*100 -> 14.086759 | K27: =G27/$C27*100 -> 96.0084
B28: 木曽 | C28: =人口集計_地域別!E68/1000 -> 28.741 | D28: =人口集計_地域別!G68/1000 -> 15.054 | E28: =人口集計_地域別!L68/1000 -> 4.879 | F28: =(人口集計_地域別!P68+人口集計_地域別!Q68)/1000 -> 6.313 | G28: =SUM(D28:F28) -> 26.246 | H28: =D28/$C28*100 -> 52.378136 | I28: =E28/$C28*100 -> 16.975749 | J28: =F28/$C28*100 -> 21.965137 | K28: =G28/$C28*100 -> 91.319022
B29: 松本 | C29: =人口集計_地域別!E79/1000 -> 429.838 | D29: =人口集計_地域別!G79/1000 -> 396.29 | E29: =人口集計_地域別!L79/1000 -> 14.67 | F29: =(人口集計_地域別!P79+人口集計_地域別!Q79)/1000 -> 14.324 | G29: =SUM(D29:F29) -> 425.284 | H29: =D29/$C29*100 -> 92.195199 | I29: =E29/$C29*100 -> 3.4129137 | J29: =F29/$C29*100 -> 3.3324183 | K29: =G29/$C29*100 -> 98.940531
B30: 大北 | C30: =人口集計_地域別!E85/1000 -> 61.071 | D30: =人口集計_地域別!G85/1000 -> 47.424 | E30: =人口集計_地域別!L85/1000 -> 1.801 | F30: =(人口集計_地域別!P85+人口集計_地域別!Q85)/1000 -> 8.102 | G30: =SUM(D30:F30) -> 57.327 | H30: =D30/$C30*100 -> 77.653878 | I30: =E30/$C30*100 -> 2.9490265 | J30: =F30/$C30*100 -> 13.266526 | K30: =G30/$C30*100 -> 93.869431
B31: 長野 | C31: =人口集計_地域別!E100/1000 -> 552.079 | D31: =人口集計_地域別!G100/1000 -> 500.915 | E31: =人口集計_地域別!L100/1000 -> 24.586 | F31: =(人口集計_地域別!P100+人口集計_地域別!Q100)/1000 -> 12.625 | G31: =SUM(D31:F31) -> 538.126 | H31: =D31/$C31*100 -> 90.732486 | I31: =E31/$C31*100 -> 4.4533482 | J31: =F31/$C31*100 -> 2.2868104 | K31: =G31/$C31*100 -> 97.472644
B32: 北信 | C32: =人口集計_地域別!E107/1000 -> 91.602 | D32: =人口集計_地域別!G107/1000 -> 63.998 | E32: =人口集計_地域別!L107/1000 -> 21.978 | F32: =(人口集計_地域別!P107+人口集計_地域別!Q107)/1000 -> 2.928 | G32: =SUM(D32:F32) -> 88.904 | H32: =D32/$C32*100 -> 69.865287 | I32: =E32/$C32*100 -> 23.992926 | J32: =F32/$C32*100 -> 3.1964368 | K32: =G32/$C32*100 -> 97.054649
B33: 計（検算） | C33: =SUM(C23:C32) -> 2129.533 | D33: =SUM(D23:D32) -> 1761.344 | E33: =SUM(E23:E32) -> 191.328 | F33: =SUM(F23:F32) -> 121.586 | G33: =SUM(G23:G32) -> 2074.258
B35: 計（検算） | C35: =SUM(C53:C56) -> 2129.533 | D35: =SUM(D53:D56) -> 1761.344 | E35: =SUM(E53:E56) -> 191.328 | F35: =SUM(F53:F56) -> 121.586 | G35: =SUM(G53:G56) -> 2074.258
B36: （建設事務所別）
B37: 佐久 | C37: =C23 -> 211.658 | D37: =D23 -> 144.785 | E37: =E23 -> 22.824 | F37: =F23 -> 34.95 | G37: =SUM(D37:F37) -> 202.559 | H37: =D37/$C37*100 -> 68.405163 | I37: =E37/$C37*100 -> 10.783434 | J37: =F37/$C37*100 -> 16.512487 | K37: =G37/$C37*100 -> 95.701084
B38: 上田 | C38: =C24 -> 201.134 | D38: =D24 -> 157.51 | E38: =E24 -> 35.343 | F38: =F24 -> 6.226 | G38: =SUM(D38:F38) -> 199.079 | H38: =D38/$C38*100 -> 78.310977 | I38: =E38/$C38*100 -> 17.571868 | J38: =F38/$C38*100 -> 3.0954488 | K38: =G38/$C38*100 -> 98.978293
B39: 諏訪 | C39: =C25 -> 200.711 | D39: =D25 -> 191.378 | E39: =E25 -> 3.107 | F39: =F25 -> 3.438 | G39: =SUM(D39:F39) -> 197.923 | H39: =D39/$C39*100 -> 95.350031 | I39: =E39/$C39*100 -> 1.5479969 | J39: =F39/$C39*100 -> 1.7129106 | K39: =G39/$C39*100 -> 98.610938
B40: 伊那 | C40: =C26 -> 186.976 | D40: =D26 -> 134.188 | E40: =E26 -> 36.179 | F40: =F26 -> 9.335 | G40: =SUM(D40:F40) -> 179.702 | H40: =D40/$C40*100 -> 71.7675 | I40: =E40/$C40*100 -> 19.349542 | J40: =F40/$C40*100 -> 4.9926194 | K40: =G40/$C40*100 -> 96.109661
B41: 飯田 | C41: =C27 -> 165.723 | D41: =D27 -> 109.802 | E41: =E27 -> 25.961 | F41: =F27 -> 23.345 | G41: =SUM(D41:F41) -> 159.108 | H41: =D41/$C41*100 -> 66.256343 | I41: =E41/$C41*100 -> 15.665297 | J41: =F41/$C41*100 -> 14.086759 | K41: =G41/$C41*100 -> 96.0084
B42: 木曽 | C42: =C28 -> 28.741 | D42: =D28 -> 15.054 | E42: =E28 -> 4.879 | F42: =F28 -> 6.313 | G42: =SUM(D42:F42) -> 26.246 | H42: =D42/$C42*100 -> 52.378136 | I42: =E42/$C42*100 -> 16.975749 | J42: =F42/$C42*100 -> 21.965137 | K42: =G42/$C42*100 -> 91.319022
B43: 松本 | C43: =人口集計_地域別!E76/1000 -> 331.583 | D43: =人口集計_地域別!G76/1000 -> 308.502 | E43: =人口集計_地域別!L76/1000 -> 11.724 | F43: =(人口集計_地域別!P76+人口集計_地域別!Q76)/1000 -> 9.54 | G43: =SUM(D43:F43) -> 329.766 | H43: =D43/$C43*100 -> 93.039149 | I43: =E43/$C43*100 -> 3.5357663 | J43: =F43/$C43*100 -> 2.8771077 | K43: =G43/$C43*100 -> 99.452023
B44: 安曇野 | C44: =人口集計_地域別!E78/1000 -> 98.255 | D44: =人口集計_地域別!G78/1000 -> 87.788 | E44: =人口集計_地域別!L78/1000 -> 2.946 | F44: =(人口集計_地域別!P78+人口集計_地域別!Q78)/1000 -> 4.784 | G44: =SUM(D44:F44) -> 95.518 | H44: =D44/$C44*100 -> 89.347107 | I44: =E44/$C44*100 -> 2.9983207 | J44: =F44/$C44*100 -> 4.8689634 | K44: =G44/$C44*100 -> 97.214391
B45: 大町 | C45: =C30 -> 61.071 | D45: =D30 -> 47.424 | E45: =E30 -> 1.801 | F45: =F30 -> 8.102 | G45: =SUM(D45:F45) -> 57.327 | H45: =D45/$C45*100 -> 77.653878 | I45: =E45/$C45*100 -> 2.9490265 | J45: =F45/$C45*100 -> 13.266526 | K45: =G45/$C45*100 -> 93.869431
...

Sheet P-18
A1: （２） 汚水処理人口普及率（総括表） | K1: （平成26年度末現在）
C3: 行政人口 | D3: 処 理 人 口 (千人) | H3: 普 及 率 (％)
B4: 区 分 | C4: (千人) | D4: 公共・特環 | E4: 農業集落 | F4: 浄化槽、 | G4: 合 計 | H4: 公共・特環 | I4: 農業集落 | J4: 浄化槽、 | K4: 合 計
D5: 下水道 | E5: 排水施設等 | F5: ｺﾐ･ﾌﾟﾗ | H5: 下水道 | I5: 排水施設等 | J5: ｺﾐ･ﾌﾟﾗ
B6: 長野県計 | C6: =人口集計_市町村別!E92/1000 -> 2129.533 | D6: =人口集計_市町村別!G92/1000 -> 1761.344 | E6: =人口集計_市町村別!L92/1000 -> 191.328 | F6: =(人口集計_市町村別!P92+人口集計_市町村別!Q92)/1000 -> 121.586 | G6: =SUM(D6:F6) -> 2074.258 | H6: =D6/$C6*100 -> 82.710341 | I6: =E6/$C6*100 -> 8.9845051 | J6: =F6/$C6*100 -> 5.7095147 | K6: =G6/$C6*100 -> 97.40436
B8: （市町村別）
B9: 市 | C9: =人口集計_市町村別!E29/1000 -> 1694.871 | D9: =人口集計_市町村別!G29/1000 -> 1469.609 | E9: =人口集計_市町村別!L29/1000 -> 121.18 | F9: =(人口集計_市町村別!P29+人口集計_市町村別!Q29)/1000 -> 68.212 | G9: =SUM(D9:F9) -> 1659.001 | H9: =D9/$C9*100 -> 86.709195 | I9: =E9/$C9*100 -> 7.1498067 | J9: =F9/$C9*100 -> 4.0246131 | K9: =G9/$C9*100 -> 97.883615
B10: 町 | C10: =人口集計_市町村別!E54/1000 -> 280.236 | D10: =人口集計_市町村別!G54/1000 -> 192.658 | E10: =人口集計_市町村別!L54/1000 -> 46.527 | F10: =(人口集計_市町村別!P54+人口集計_市町村別!Q54)/1000 -> 27.65 | G10: =SUM(D10:F10) -> 266.835 | H10: =D10/$C10*100 -> 68.748483 | I10: =E10/$C10*100 -> 16.602792 | J10: =F10/$C10*100 -> 9.8666838 | K10: =G10/$C10*100 -> 95.217959
B11: 村 | C11: =人口集計_市町村別!E91/1000 -> 154.426 | D11: =人口集計_市町村別!G91/1000 -> 99.077 | E11: =人口集計_市町村別!L91/1000 -> 23.621 | F11: =(人口集計_市町村別!P91+人口集計_市町村別!Q91)/1000 -> 25.724 | G11: =SUM(D11:F11) -> 148.422 | H11: =D11/$C11*100 -> 64.158238 | I11: =E11/$C11*100 -> 15.295999 | J11: =F11/$C11*100 -> 16.657817 | K11: =G11/$C11*100 -> 96.112054
B12: 町村 | C12: =(人口集計_市町村別!E91+人口集計_市町村別!E54)/1000 -> 434.662 | D12: =(人口集計_市町村別!G54+人口集計_市町村別!G91)/1000 -> 291.735 | E12: =(人口集計_市町村別!L92+人口集計_市町村別!L54)/1000 -> 237.855 | F12: =(人口集計_市町村別!P54+人口集計_市町村別!Q54+人口集計_市町村別!P91+人口集計_市町村別!Q91)/1000 -> 53.374 | G12: =G10+G11 -> 415.257 | H12: =D12/$C12*100 -> 67.117668 | I12: =E12/$C12*100 -> 54.72183 | J12: =F12/$C12*100 -> 12.279426 | K12: =G12/$C12*100 -> 95.535612
B13: 計（検算） | C13: =SUM(C9:C11) -> 2129.533 | D13: =SUM(D9:D11) -> 1761.344 | E13: =SUM(E9:E11) -> 191.328 | F13: =SUM(F9:F11) -> 121.586 | G13: =SUM(G9:G11) -> 2074.258
B15: （地域別）
B16: 東信 | C16: =人口集計_地域別!E27/1000 -> 412.792 | D16: =人口集計_地域別!G27/1000 -> 302.295 | E16: =人口集計_地域別!L27/1000 -> 58.167 | F16: =(人口集計_地域別!P27+人口集計_地域別!Q27)/1000 -> 41.176 | G16: =SUM(D16:F16) -> 401.638 | H16: =D16/$C16*100 -> 73.231797 | I16: =E16/$C16*100 -> 14.091116 | J16: =F16/$C16*100 -> 9.9749995 | K16: =G16/$C16*100 -> 97.297913
B17: 南信 | C17: =人口集計_地域別!E60/1000 -> 553.41 | D17: =人口集計_地域別!G60/1000 -> 435.368 | E17: =人口集計_地域別!L60/1000 -> 65.247 | F17: =(人口集計_地域別!P60+人口集計_地域別!Q60)/1000 -> 36.118 | G17: =SUM(D17:F17) -> 536.733 | H17: =D17/$C17*100 -> 78.670064 | I17: =E17/$C17*100 -> 11.789993 | J17: =F17/$C17*100 -> 6.5264451 | K17: =G17/$C17*100 -> 96.986502
B18: 中信 | C18: =(人口集計_地域別!E86)/1000 -> 519.65 | D18: =(人口集計_地域別!G86)/1000 -> 458.768 | E18: =人口集計_地域別!L86/1000 -> 21.35 | F18: =(人口集計_地域別!P86+人口集計_地域別!Q86)/1000 -> 28.739 | G18: =SUM(D18:F18) -> 508.857 | H18: =D18/$C18*100 -> 88.284037 | I18: =E18/$C18*100 -> 4.1085346 | J18: =F18/$C18*100 -> 5.5304532 | K18: =G18/$C18*100 -> 97.923025
B19: 北信 | C19: =人口集計_地域別!E108/1000 -> 643.681 | D19: =人口集計_地域別!G108/1000 -> 564.913 | E19: =人口集計_地域別!L108/1000 -> 46.564 | F19: =(人口集計_地域別!P108+人口集計_地域別!Q108)/1000 -> 15.553 | G19: =SUM(D19:F19) -> 627.03 | H19: =D19/$C19*100 -> 87.762883 | I19: =E19/$C19*100 -> 7.2340181 | J19: =F19/$C19*100 -> 2.416259 | K19: =G19/$C19*100 -> 97.41316
B20: 計（検算） | C20: =SUM(C16:C19) -> 2129.533 | D20: =SUM(D16:D19) -> 1761.344 | E20: =SUM(E16:E19) -> 191.328 | F20: =SUM(F16:F19) -> 121.586 | G20: =SUM(G16:G19) -> 2074.258
B22: （広域市町村圏別） | N22: 広域市町村圏 | O22: 下水道 | P22: 農集排 | Q22: 浄化槽・コミプラ | R22: 合 計
B23: 佐久 | C23: =人口集計_地域別!E21/1000 -> 211.658 | D23: =人口集計_地域別!G21/1000 -> 144.785 | E23: =人口集計_地域別!L21/1000 -> 22.824 | F23: =(人口集計_地域別!P21+人口集計_地域別!Q21)/1000 -> 34.95 | G23: =SUM(D23:F23) -> 202.559 | H23: =D23/$C23*100 -> 68.405163 | I23: =E23/$C23*100 -> 10.783434 | J23: =F23/$C23*100 -> 16.512487 | K23: =G23/$C23*100 -> 95.701084 | N23: 佐久 | O23: =H23 -> 68.405163 | P23: =I23 -> 10.783434 | Q23: =J23 -> 16.512487 | R23: =K23 -> 95.701084
B24: 上小 | C24: =人口集計_地域別!E26/1000 -> 201.134 | D24: =人口集計_地域別!G26/1000 -> 157.51 | E24: =人口集計_地域別!L26/1000 -> 35.343 | F24: =(人口集計_地域別!P26+人口集計_地域別!Q26)/1000 -> 6.226 | G24: =SUM(D24:F24) -> 199.079 | H24: =D24/$C24*100 -> 78.310977 | I24: =E24/$C24*100 -> 17.571868 | J24: =F24/$C24*100 -> 3.0954488 | K24: =G24/$C24*100 -> 98.978293 | N24: 上小 | O24: =H24 -> 78.310977 | P24: =I24 -> 17.571868 | Q24: =J24 -> 3.0954488 | R24: =K24 -> 98.978293
B25: 諏訪 | C25: =人口集計_地域別!E35/1000 -> 200.711 | D25: =人口集計_地域別!G35/1000 -> 191.378 | E25: =人口集計_地域別!L35/1000 -> 3.107 | F25: =(人口集計_地域別!P35+人口集計_地域別!Q35)/1000 -> 3.438 | G25: =SUM(D25:F25) -> 197.923 | H25: =D25/$C25*100 -> 95.350031 | I25: =E25/$C25*100 -> 1.5479969 | J25: =F25/$C25*100 -> 1.7129106 | K25: =G25/$C25*100 -> 98.610938 | N25: 諏訪 | O25: =H25 -> 95.350031 | P25: =I25 -> 1.5479969 | Q25: =J25 -> 1.7129106 | R25: =K25 -> 98.610938
B26: 上伊那 | C26: =人口集計_地域別!E44/1000 -> 186.976 | D26: =人口集計_地域別!G44/1000 -> 134.188 | E26: =人口集計_地域別!L44/1000 -> 36.179 | F26: =(人口集計_地域別!P44+人口集計_地域別!Q44)/1000 -> 9.335 | G26: =SUM(D26:F26) -> 179.702 | H26: =D26/$C26*100 -> 71.7675 | I26: =E26/$C26*100 -> 19.349542 | J26: =F26/$C26*100 -> 4.9926194 | K26: =G26/$C26*100 -> 96.109661 | N26: 上伊那 | O26: =H26 -> 71.7675 | P26: =I26 -> 19.349542 | Q26: =J26 -> 4.9926194 | R26: =K26 -> 96.109661
B27: 飯伊 | C27: =人口集計_地域別!E59/1000 -> 165.723 | D27: =人口集計_地域別!G59/1000 -> 109.802 | E27: =人口集計_地域別!L59/1000 -> 25.961 | F27: =(人口集計_地域別!P59+人口集計_地域別!Q59)/1000 -> 23.345 | G27: =SUM(D27:F27) -> 159.108 | H27: =D27/$C27*100 -> 66.256343 | I27: =E27/$C27*100 -> 15.665297 | J27: =F27/$C27*100 -> 14.086759 | K27: =G27/$C27*100 -> 96.0084 | N27: 飯伊 | O27: =H27 -> 66.256343 | P27: =I27 -> 15.665297 | Q27: =J27 -> 14.086759 | R27: =K27 -> 96.0084
B28: 木曽 | C28: =人口集計_地域別!E68/1000 -> 28.741 | D28: =人口集計_地域別!G68/1000 -> 15.054 | E28: =人口集計_地域別!L68/1000 -> 4.879 | F28: =(人口集計_地域別!P68+人口集計_地域別!Q68)/1000 -> 6.313 | G28: =SUM(D28:F28) -> 26.246 | H28: =D28/$C28*100 -> 52.378136 | I28: =E28/$C28*100 -> 16.975749 | J28: =F28/$C28*100 -> 21.965137 | K28: =G28/$C28*100 -> 91.319022 | N28: 木曽 | O28: =H28 -> 52.378136 | P28: =I28 -> 16.975749 | Q28: =J28 -> 21.965137 | R28: =K28 -> 91.319022
B29: 松本 | C29: =人口集計_地域別!E79/1000 -> 429.838 | D29: =人口集計_地域別!G79/1000 -> 396.29 | E29: =人口集計_地域別!L79/1000 -> 14.67 | F29: =(人口集計_地域別!P79+人口集計_地域別!Q79)/1000 -> 14.324 | G29: =SUM(D29:F29) -> 425.284 | H29: =D29/$C29*100 -> 92.195199 | I29: =E29/$C29*100 -> 3.4129137 | J29: =F29/$C29*100 -> 3.3324183 | K29: =G29/$C29*100 -> 98.940531 | N29: 松本 | O29: =H29 -> 92.195199 | P29: =I29 -> 3.4129137 | Q29: =J29 -> 3.3324183 | R29: =K29 -> 98.940531
B30: 大北 | C30: =人口集計_地域別!E85/1000 -> 61.071 | D30: =人口集計_地域別!G85/1000 -> 47.424 | E30: =人口集計_地域別!L85/1000 -> 1.801 | F30: =(人口集計_地域別!P85+人口集計_地域別!Q85)/1000 -> 8.102 | G30: =SUM(D30:F30) -> 57.327 | H30: =D30/$C30*100 -> 77.653878 | I30: =E30/$C30*100 -> 2.9490265 | J30: =F30/$C30*100 -> 13.266526 | K30: =G30/$C30*100 -> 93.869431 | N30: 大北 | O30: =H30 -> 77.653878 | P30: =I30 -> 2.9490265 | Q30: =J30 -> 13.266526 | R30: =K30 -> 93.869431
B31: 長野 | C31: =人口集計_地域別!E100/1000 -> 552.079 | D31: =人口集計_地域別!G100/1000 -> 500.915 | E31: =人口集計_地域別!L100/1000 -> 24.586 | F31: =(人口集計_地域別!P100+人口集計_地域別!Q100)/1000 -> 12.625 | G31: =SUM(D31:F31) -> 538.126 | H31: =D31/$C31*100 -> 90.732486 | I31: =E31/$C31*100 -> 4.4533482 | J31: =F31/$C31*100 -> 2.2868104 | K31: =G31/$C31*100 -> 97.472644 | N31: 長野 | O31: =H31 -> 90.732486 | P31: =I31 -> 4.4533482 | Q31: =J31 -> 2.2868104 | R31: =K31 -> 97.472644
B32: 北信 | C32: =人口集計_地域別!E107/1000 -> 91.602 | D32: =人口集計_地域別!G107/1000 -> 63.998 | E32: =人口集計_地域別!L107/1000 -> 21.978 | F32: =(人口集計_地域別!P107+人口集計_地域別!Q107)/1000 -> 2.928 | G32: =SUM(D32:F32) -> 88.904 | H32: =D32/$C32*100 -> 69.865287 | I32: =E32/$C32*100 -> 23.992926 | J32: =F32/$C32*100 -> 3.1964368 | K32: =G32/$C32*100 -> 97.054649 | N32: 北信 | O32: =H32 -> 69.865287 | P32: =I32 -> 23.992926 | Q32: =J32 -> 3.1964368 | R32: =K32 -> 97.054649
B33: 計（検算） | C33: =SUM(C23:C32) -> 2129.533 | D33: =SUM(D23:D32) -> 1761.344 | E33: =SUM(E23:E32) -> 191.328 | F33: =SUM(F23:F32) -> 121.586 | G33: =SUM(G23:G32) -> 2074.258
B35: 計（検算） | C35: =SUM(C53:C56) -> 2129.533 | D35: =SUM(D53:D56) -> 1761.344 | E35: =SUM(E53:E56) -> 191.328 | F35: =SUM(F53:F56) -> 121.586 | G35: =SUM(G53:G56) -> 2074.258
B36: （建設事務所別）
B37: 佐久 | C37: =C23 -> 211.658 | D37: =D23 -> 144.785 | E37: =E23 -> 22.824 | F37: =F23 -> 34.95 | G37: =SUM(D37:F37) -> 202.559 | H37: =D37/$C37*100 -> 68.405163 | I37: =E37/$C37*100 -> 10.783434 | J37: =F37/$C37*100 -> 16.512487 | K37: =G37/$C37*100 -> 95.701084
B38: 上田 | C38: =C24 -> 201.134 | D38: =D24 -> 157.51 | E38: =E24 -> 35.343 | F38: =F24 -> 6.226 | G38: =SUM(D38:F38) -> 199.079 | H38: =D38/$C38*100 -> 78.310977 | I38: =E38/$C38*100 -> 17.571868 | J38: =F38/$C38*100 -> 3.0954488 | K38: =G38/$C38*100 -> 98.978293
B39: 諏訪 | C39: =C25 -> 200.711 | D39: =D25 -> 191.378 | E39: =E25 -> 3.107 | F39: =F25 -> 3.438 | G39: =SUM(D39:F39) -> 197.923 | H39: =D39/$C39*100 -> 95.350031 | I39: =E39/$C39*100 -> 1.5479969 | J39: =F39/$C39*100 -> 1.7129106 | K39: =G39/$C39*100 -> 98.610938
B40: 伊那 | C40: =C26 -> 186.976 | D40: =D26 -> 134.188 | E40: =E26 -> 36.179 | F40: =F26 -> 9.335 | G40: =SUM(D40:F40) -> 179.702 | H40: =D40/$C40*100 -> 71.7675 | I40: =E40/$C40*100 -> 19.349542 | J40: =F40/$C40*100 -> 4.9926194 | K40: =G40/$C40*100 -> 96.109661
B41: 飯田 | C41: =C27 -> 165.723 | D41: =D27 -> 109.802 | E41: =E27 -> 25.961 | F41: =F27 -> 23.345 | G41: =SUM(D41:F41) -> 159.108 | H41: =D41/$C41*100 -> 66.256343 | I41: =E41/$C41*100 -> 15.665297 | J41: =F41/$C41*100 -> 14.086759 | K41: =G41/$C41*100 -> 96.0084
B42: 木曽 | C42: =C28 -> 28.741 | D42: =D28 -> 15.054 | E42: =E28 -> 4.879 | F42: =F28 -> 6.313 | G42: =SUM(D42:F42) -> 26.246 | H42: =D42/$C42*100 -> 52.378136 | I42: =E42/$C42*100 -> 16.975749 | J42: =F42/$C42*100 -> 21.965137 | K42: =G42/$C42*100 -> 91.319022
B43: 松本 | C43: =人口集計_地域別!E76/1000 -> 331.583 | D43: =人口集計_地域別!G76/1000 -> 308.502 | E43: =人口集計_地域別!L76/1000 -> 11.724 | F43: =(人口集計_地域別!P76+人口集計_地域別!Q76)/1000 -> 9.54 | G43: =SUM(D43:F43) -> 329.766 | H43: =D43/$C43*100 -> 93.039149 | I43: =E43/$C43*100 -> 3.5357663 | J43: =F43/$C43*100 -> 2.8771077 | K43: =G43/$C43*100 -> 99.452023
B44: 安曇野 | C44: =人口集計_地域別!E78/1000 -> 98.255 | D44: =人口集計_地域別!G78/1000 -> 87.788 | E44: =人口集計_地域別!L78/1000 -> 2.946 | F44: =(人口集計_地域別!P78+人口集計_地域別!Q78)/1000 -> 4.784 | G44: =SUM(D44:F44) -> 95.518 | H44: =D44/$C44*100 -> 89.347107 | I44: =E44/$C44*100 -> 2.9983207 | J44: =F44/$C44*100 -> 4.8689634 | K44: =G44/$C44*100 -> 97.214391
B45: 大町 | C45: =C30 -> 61.071 | D45: =D30 -> 47.424 | E45: =E30 -> 1.801 | F45: =F30 -> 8.102 | G45: =SUM(D45:F45) -> 57.327 | H45: =D45/$C45*100 -> 77.653878 | I45: =E45/$C45*100 -> 2.9490265 | J45: =F45/$C45*100 -> 13.266526 | K45: =G45/$C45*100 -> 93.869431
...

Sheet 人口集計_市町村別
A1: 長野県 汚水処理人口普及状況総括表
A2: ① | B2: ② | C2: ③ | D2: ④ | E2: ⑤ | F2: ⑥ | G2: ⑧ | H2: ⑩ | M2: ⑫ | N2: ⑬ | O2: ⑭ | P2: ⑮ | Q2: ⑰
A3: 県 | B3: 都道府県 | C3: 市町 | D3: 市町村名 | E3: 住民基本台帳 | F3: H27年度末 | G3: 下 水 道 | H3: 農業集落排水施設等 | M3: 合 併 処 理 浄 化 槽 等 | Q3: コ ミ プ ラ | S3: 1
A4: コ | B4: 名 | C4: 村 | E4: 人口 | G4: H27年度末 | L4: H27年度末 | M4: 下水道の処理開始公示済区域外 | Q4: H27年度末 | S4: 2
A5: ｜ | C5: ｺｰﾄﾞ | D5: H28.3.31現在 | E5: H28.3.31現在 | F5: 汚水処理人口 | G5: 下水道 | H5: H27年度末 | I5: H27年度末 | J5: H27年度末 | K5: H27年度末 | L5: 農排等 | M5: 浄化槽 | N5: 浄化槽設置 | O5: 民間設置 | P5: 合併処理 | Q5: コミプラ | S5: 3
A6: ド | G6: 処理人口 | H6: 農排 | I6: 漁排 | J6: 林排 | K6: 簡易排水 | L6: 整備人口 | M6: 市町村整備 | N6: 整備事業 | O6: 浄化槽 | P6: 浄化槽 | Q6: 処理人口 | S6: 4
H7: 整備人口 | I7: 整備人口 | J7: 整備人口 | K7: 整備人口 | M7: 推進事業等 | N7: 設置処理人口 | O7: 処理人口 | P7: 処理人口
M8: 設置処理人口
E9: （人） | F9: （人） | G9: （人） | H9: （人） | I9: （人） | J9: （人） | K9: （人） | L9: (人) | M9: （人） | N9: （人） | O9: （人） | P9: （人） | Q9: （人）
A10: 20 | B10: 長野 | C10: 201 | D10: 長野市 | E10: 382141 | F10: 371977 | G10: 356690 | H10: 7805 | I10: 0 | J10: 0 | K10: 0 | L10: =SUM(H10:K10) -> 7805 | M10: 2634 | N10: 2160 | O10: 2688 | P10: 7482 | Q10: 0
A11: 20 | B11: 長野 | C11: 202 | D11: 松本市 | E11: 241112 | F11: 240290 | G11: 232652 | H11: 1202 | I11: 0 | J11: 0 | K11: 0 | L11: =SUM(H11:K11) -> 1202 | M11: 3161 | N11: 2886 | O11: 389 | P11: 6436 | Q11: 0
A12: 20 | B12: 長野 | C12: 203 | D12: 上田市 | E12: 159460 | F12: 158286 | G12: 128656 | H12: 26555 | I12: 0 | J12: 0 | K12: 0 | L12: =SUM(H12:K12) -> 26555 | M12: 283 | N12: 2278 | O12: 514 | P12: 3075 | Q12: 0
A13: 20 | B13: 長野 | C13: 204 | D13: 岡谷市 | E13: 51039 | F13: 49674 | G13: 49522 | H13: 0 | I13: 0 | J13: 0 | K13: 0 | L13: =SUM(H13:K13) -> 0 | M13: 0 | N13: 0 | O13: 152 | P13: 152 | Q13: 0
A14: 20 | B14: 長野 | C14: 205 | D14: 飯田市 | E14: 103712 | F14: 100457 | G14: 85853 | H14: 6231 | I14: 0 | J14: 0 | K14: 0 | L14: =SUM(H14:K14) -> 6231 | M14: 63 | N14: 8040 | O14: 270 | P14: 8373 | Q14: 0
A15: 20 | B15: 長野 | C15: 206 | D15: 諏訪市 | E15: 50503 | F15: 50079 | G15: 49871 | H15: 0 | I15: 0 | J15: 0 | K15: 0 | L15: =SUM(H15:K15) -> 0 | M15: 0 | N15: 149 | O15: 59 | P15: 208 | Q15: 0
A16: 20 | B16: 長野 | C16: 207 | D16: 須坂市 | E16: 51521 | F16: 50877 | G16: 49635 | H16: 974 | I16: 0 | J16: 0 | K16: 0 | L16: =SUM(H16:K16) -> 974 | M16: 0 | N16: 98 | O16: 170 | P16: 268 | Q16: 0
A17: 20 | B17: 長野 | C17: 208 | D17: 小諸市 | E17: 43112 | F17: 42323 | G17: 28901 | H17: 7966 | I17: 0 | J17: 0 | K17: 0 | L17: =SUM(H17:K17) -> 7966 | M17: 8 | N17: 4862 | O17: 586 | P17: 5456 | Q17: 0
A18: 20 | B18: 長野 | C18: 209 | D18: 伊那市 | E18: 69297 | F18: 64453 | G18: 48678 | H18: 11367 | I18: 0 | J18: 0 | K18: 47 | L18: =SUM(H18:K18) -> 11414 | M18: 1509 | N18: 1777 | O18: 1075 | P18: 4361 | Q18: 0
A19: 20 | B19: 長野 | C19: 210 | D19: 駒ヶ根市 | E19: 33266 | F19: 31626 | G19: 19262 | H19: 11383 | I19: 0 | J19: 0 | K19: 0 | L19: =SUM(H19:K19) -> 11383 | M19: 0 | N19: 930 | O19: 51 | P19: 981 | Q19: 0
A20: 20 | B20: 長野 | C20: 211 | D20: 中野市 | E20: 45616 | F20: 43897 | G20: 30946 | H20: 12384 | I20: 0 | J20: 0 | K20: 0 | L20: =SUM(H20:K20) -> 12384 | M20: 0 | N20: 465 | O20: 102 | P20: 567 | Q20: 0
A21: 20 | B21: 長野 | C21: 212 | D21: 大町市 | E21: 28666 | F21: 26259 | G21: 20674 | H21: 1006 | I21: 0 | J21: 0 | K21: 0 | L21: =SUM(H21:K21) -> 1006 | M21: 483 | N21: 3984 | O21: 112 | P21: 4579 | Q21: 0
... A28: 20 | B28: 長野 | C28: 220 | D28: 安曇野市 | E28: 98255 | F28: 95518 | G28: 87788 | H28: 2946 | I28: 0 | J28: 0 | K28: 0 | L28: =SUM(H28:K28) -> 2946 | M28: 67 | N28: 1597 | O28: 3120 | P28: 4784 | Q28: 0
C29: 市計 | E29: =SUM(E10:E28) -> 1694871 | F29: =SUM(F10:F28) -> 1659001 | G29: =SUM(G10:G28) -> 1469609 | H29: =SUM(H10:H28) -> 121133 | I29: =SUM(I10:I28) -> 0 | J29: =SUM(J10:J28) -> 0 | K29: =SUM(K10:K28) -> 47 | L29: =SUM(L10:L28) -> 121180 | ... Q29: =SUM(Q10:Q28) -> 673
A31: 20 | B31: 長野 | C31: 303 | D31: 小海町 | E31: 4840 | F31: 4684 | G31: 3030 | H31: 540 | I31: 0 | J31: 0 | K31: 0 | L31: =SUM(H31:K31) -> 540 | M31: 0 | N31: 1052 | O31: 62 | P31: 1114 | Q31: 0
A32: 20 | B32: 長野 | C32: 309 | D32: 佐久穂町 | E32: 11752 | F32: 11354 | G32: 9637 | H32: 1263 | I32: 0 | J32: 0 | K32: 0 | L32: =SUM(H32:K32) -> 1263 | M32: 0 | N32: 454 | O32: 0 | P32: 454 | Q32: 0
A33: 20 | B33: 長野 | C33: 321 | D33: 軽井沢町 | E33: 20119 | F33: 16028 | G33: 9927 | H33: 627 | I33: 0 | J33: 0 | K33: 0 | L33: =SUM(H33:K33) -> 627 | M33: 131 | N33: 5167 | O33: 176 | P33: 5474 | Q33: 0
A34: 20 | B34: 長野 | C34: 323 | D34: 御代田町 | E34: 15526 | F34: 14799 | G34: 13045 | H34: 533 | I34: 0 | J34: 0 | K34: 0 | L34: =SUM(H34:K34) -> 533 | M34: 260 | N34: 676 | O34: 285 | P34: 1221 | Q34: 0
A35: 20 | B35: 長野 | C35: 324 | D35: 立科町 | E35: 7557 | F35: 7404 | G35: 3487 | H35: 3371 | I35: 0 | J35: 0 | K35: 0 | L35: =SUM(H35:K35) -> 3371 | M35: 196 | N35: 119 | O35: 11 | P35: 326 | Q35: 220
A36: 20 | B36: 長野 | C36: 350 | D36: 長和町 | E36: 6405 | F36: 6171 | G36: 5700 | H36: 0 | I36: 0 | J36: 0 | K36: 68 | L36: =SUM(H36:K36) -> 68 | M36: 36 | N36: 367 | O36: 0 | P36: 403 | Q36: 0
A37: 20 | B37: 長野 | C37: 361 | D37: 下諏訪町 | E37: 20828 | F37: 20813 | G37: 20813 | H37: 0 | I37: 0 | J37: 0 | K37: 0 | L37: =SUM(H37:K37) -> 0 | M37: 0 | N37: 0 | O37: 0 | P37: 0 | Q37: 0
A38: 20 | B38: 長野 | C38: 362 | D38: 富士見町 | E38: 14987 | F38: 14558 | G38: 10782 | H38: 3107 | I38: 0 | J38: 0 | K38: 0 | L38: =SUM(H38:K38) -> 3107 | M38: 0 | N38: 512 | O38: 157 | P38: 669 | Q38: 0
A39: 20 | B39: 長野 | C39: 382 | D39: 辰野町 | E39: 20237 | F39: 20140 | G39: 17819 | H39: 1699 | I39: 0 | J39: 0 | K39: 0 | L39: =SUM(H39:K39) -> 1699 | M39: 152 | N39: 366 | O39: 104 | P39: 622 | Q39: 0
A40: 20 | B40: 長野 | C40: 383 | D40: 箕輪町 | E40: 24998 | F40: 24891 | G40: 18322 | H40: 6192 | I40: 0 | J40: 0 | K40: 0 | L40: =SUM(H40:K40) -> 6192 | M40: 9 | N40: 155 | O40: 213 | P40: 377 | Q40: 0
A41: 20 | B41: 長野 | C41: 384 | D41: 飯島町 | E41: 9780 | F41: 9413 | G41: 5558 | H41: 1934 | I41: 0 | J41: 0 | K41: 0 | L41: =SUM(H41:K41) -> 1934 | M41: 0 | N41: 1921 | O41: 0 | P41: 1921 | Q41: 0
A42: 20 | B42: 長野 | C42: 402 | D42: 松川町 | E42: 13617 | F42: 13209 | G42: 5647 | H42: 5846 | I42: 0 | J42: 0 | K42: 0 | L42: =SUM(H42:K42) -> 5846 | M42: 0 | N42: 1716 | O42: 0 | P42: 1716 | Q42: 0
... A53: 20 | B53: 長野 | C53: 590 | D53: 飯綱町 | E53: 11643 | F53: 11410 | G53: 6760 | H53: 4129 | I53: 0 | J53: 0 | K53: 0 | L53: =SUM(H53:K53) -> 4129 | M53: 126 | N53: 119 | O53: 276 | P53: 521 | Q53: 0
C54: 町計 | E54: =SUM(E31:E53) -> 280236 | F54: =SUM(F31:F53) -> 266835 | G54: =SUM(G31:G53) -> 192658 | H54: =SUM(H31:H53) -> 46431 | I54: =SUM(I31:I53) -> 0 | J54: =SUM(J31:J53) -> 28 | K54: =SUM(K31:K53) -> 68 | L54: =SUM(L31:L53) -> 46527 | ... Q54: =SUM(Q31:Q53) -> 220
A56: 20 | B56: 長野 | C56: 304 | D56: 川上村 | E56: 4058 | F56: 4053 | G56: 1967 | H56: 2031 | I56: 0 | J56: 0 | K56: 0 | L56: =SUM(H56:K56) -> 2031 | M56: 0 | N56: 55 | O56: 0 | P56: 55 | Q56: 0
A57: 20 | B57: 長野 | C57: 305 | D57: 南牧村 | E57: 3235 | F57: 3179 | G57: 760 | H57: 241 | I57: 0 | J57: 0 | K57: 0 | L57: =SUM(H57:K57) -> 241 | M57: 275 | N57: 1635 | O57: 203 | P57: 2113 | Q57: 65
A58: 20 | B58: 長野 | C58: 306 | D58: 南相木村 | E58: 1065 | F58: 976 | G58: 0 | H58: 0 | I58: 0 | J58: 0 | K58: 0 | L58: =SUM(H58:K58) -> 0 | M58: 207 | N58: 763 | O58: 6 | P58: 976 | Q58: 0
...

Sheet 人口集計_規模別
A1: 長野県 汚水処理人口普及状況総括表
A2: ① | B2: ② | C2: ③ | D2: ④ | E2: ⑤ | F2: ⑥ | G2: ⑧ | H2: ⑩ | M2: ⑫ | N2: ⑬ | O2: ⑭ | P2: ⑮ | Q2: ⑰
A3: 県 | B3: 都道府県 | C3: 市町 | D3: 市町村名 | E3: 住民基本台帳 | F3: H27年度末 | G3: 下 水 道 | H3: 農業集落排水施設等 | M3: 合 併 処 理 浄 化 槽 等 | Q3: コ ミ プ ラ | S3: 1
A4: コ | B4: 名 | C4: 村 | E4: 人口 | G4: H27年度末 | L4: H27年度末 | M4: 下水道の処理開始公示済区域外 | Q4: H27年度末 | S4: 2
A5: ｜ | C5: ｺｰﾄﾞ | D5: H28.3.31現在 | E5: H28.3.31現在 | F5: 汚水処理人口 | G5: 下水道 | H5: H27年度末 | I5: H27年度末 | J5: H27年度末 | K5: H27年度末 | L5: 農排等 | M5: 浄化槽 | N5: 浄化槽設置 | O5: 民間設置 | P5: 合併処理 | Q5: コミプラ | S5: 3
A6: ド | G6: 処理人口 | H6: 農排 | I6: 漁排 | J6: 林排 | K6: 簡易排水 | L6: 整備人口 | M6: 市町村整備 | N6: 整備事業 | O6: 浄化槽 | P6: 浄化槽 | Q6: 処理人口 | S6: 4
H7: 整備人口 | I7: 整備人口 | J7: 整備人口 | K7: 整備人口 | M7: 推進事業等 | N7: 設置処理人口 | O7: 処理人口 | P7: 処理人口
M8: 設置処理人口
E9: （人） | F9: （人） | G9: （人） | H9: （人） | I9: （人） | J9: （人） | K9: （人） | L9: (人) | M9: （人） | N9: （人） | O9: （人） | P9: （人） | Q9: （人）
A10: 20 | B10: 長野 | C10: 201 | D10: 長野市 | E10: 382141 | F10: =SUM(G10,L10,P10,Q10) -> 371977 | G10: 356690 | H10: 7805 | I10: 0 | J10: 0 | K10: 0 | L10: =SUM(H10:K10) -> 7805 | M10: 2634 | N10: 2160 | O10: 2688 | P10: 7482 | Q10: 0
C11: 30～50万人 合計 | E11: =SUM(E10) -> 382141 | F11: =SUM(F10) -> 371977 | G11: =SUM(G10) -> 356690 | H11: =SUM(H10) -> 7805 | I11: =SUM(I10) -> 0 | J11: =SUM(J10) -> 0 | K11: =SUM(K10) -> 0 | L11: =SUM(L10) -> 7805 | ... Q11: =SUM(Q10) -> 0
A13: 20 | B13: 長野 | C13: 202 | D13: 松本市 | E13: 241112 | F13: =SUM(G13,L13,P13,Q13) -> 240290 | G13: 232652 | H13: 1202 | I13: 0 | J13: 0 | K13: 0 | L13: =SUM(H13:K13) -> 1202 | M13: 3161 | N13: 2886 | O13: 389 | P13: 6436 | Q13: 0
A14: 20 | B14: 長野 | C14: 203 | D14: 上田市 | E14: 159460 | F14: =SUM(G14,L14,P14,Q14) -> 158286 | G14: 128656 | H14: 26555 | I14: 0 | J14: 0 | K14: 0 | L14: =SUM(H14:K14) -> 26555 | M14: 283 | N14: 2278 | O14: 514 | P14: 3075 | Q14: 0
A15: 20 | B15: 長野 | C15: 205 | D15: 飯田市 | E15: 103712 | F15: =SUM(G15,L15,P15,Q15) -> 100457 | G15: 85853 | H15: 6231 | I15: 0 | J15: 0 | K15: 0 | L15: =SUM(H15:K15) -> 6231 | M15: 63 | N15: 8040 | O15: 270 | P15: 8373 | Q15: 0
C16: 10～30万人 合計 | E16: =SUM(E13:E15) -> 504284 | F16: =SUM(F13:F15) -> 499033 | G16: =SUM(G13:G15) -> 447161 | H16: =SUM(H13:H15) -> 33988 | I16: =SUM(I13:I15) -> 0 | J16: =SUM(J13:J15) -> 0 | K16: =SUM(K13:K15) -> 0 | L16: =SUM(L13:L15) -> 33988 | ... Q16: =SUM(Q13:Q15) -> 0
A18: 20 | B18: 長野 | C18: 217 | D18: 佐久市 | E18: 99616 | F18: =SUM(G18,L18,P18,Q18) -> 97142 | G18: 74031 | H18: 6252 | I18: 0 | J18: 0 | K18: 0 | L18: =SUM(H18:K18) -> 6252 | M18: 0 | N18: 11881 | O18: 4764 | P18: 16645 | Q18: 214
A19: 20 | B19: 長野 | C19: 220 | D19: 安曇野市 | E19: 98255 | F19: =SUM(G19,L19,P19,Q19) -> 95518 | G19: 87788 | H19: 2946 | I19: 0 | J19: 0 | K19: 0 | L19: =SUM(H19:K19) -> 2946 | M19: 67 | N19: 1597 | O19: 3120 | P19: 4784 | Q19: 0
A20: 20 | B20: 長野 | C20: 209 | D20: 伊那市 | E20: 69297 | F20: =SUM(G20,L20,P20,Q20) -> 64453 | G20: 48678 | H20: 11367 | I20: 0 | J20: 0 | K20: 47 | L20: =SUM(H20:K20) -> 11414 | M20: 1509 | N20: 1777 | O20: 1075 | P20: 4361 | Q20: 0
A21: 20 | B21: 長野 | C21: 215 | D21: 塩尻市 | E21: 67447 | F21: =SUM(G21,L21,P21,Q21) -> 67279 | G21: 60572 | H21: 6244 | I21: 0 | J21: 0 | K21: 0 | L21: =SUM(H21:K21) -> 6244 | M21: 43 | N21: 292 | O21: 128 | P21: 463 | Q21: 0
A22: 20 | B22: 長野 | C22: 218 | D22: 千曲市 | E22: 61358 | F22: =SUM(G22,L22,P22,Q22) -> 61318 | G22: 56321 | H22: 4791 | I22: 0 | J22: 0 | K22: 0 | L22: =SUM(H22:K22) -> 4791 | M22: 0 | N22: 121 | O22: 85 | P22: 206 | Q22: 0
A23: 20 | B23: 長野 | C23: 214 | D23: 茅野市 | E23: 55910 | F23: =SUM(G23,L23,P23,Q23) -> 55400 | G23: 54060 | H23: 0 | I23: 0 | J23: 0 | K23: 0 | L23: =SUM(H23:K23) -> 0 | M23: 0 | N23: 979 | O23: 361 | P23: 1340 | Q23: 0
A24: 20 | B24: 長野 | C24: 207 | D24: 須坂市 | E24: 51521 | F24: =SUM(G24,L24,P24,Q24) -> 50877 | G24: 49635 | H24: 974 | I24: 0 | J24: 0 | K24: 0 | L24: =SUM(H24:K24) -> 974 | M24: 0 | N24: 98 | O24: 170 | P24: 268 | Q24: 0
A25: 20 | B25: 長野 | C25: 204 | D25: 岡谷市 | E25: 51039 | F25: 51330 | G25: 49522 | H25: 0 | I25: 0 | J25: 0 | K25: 0 | L25: =SUM(H25:K25) -> 0 | M25: 0 | N25: 0 | O25: 152 | P25: 152 | Q25: 0
A26: 20 | B26: 長野 | C26: 206 | D26: 諏訪市 | E26: 50503 | F26: =SUM(G26,L26,P26,Q26) -> 50079 | G26: 49871 | H26: 0 | I26: 0 | J26: 0 | K26: 0 | L26: =SUM(H26:K26) -> 0 | M26: 0 | N26: 149 | O26: 59 | P26: 208 | Q26: 0
C27: 5～１0万人 合計 | E27: =SUM(E18:E26) -> 604946 | F27: =SUM(F18:F26) -> 593396 | G27: =SUM(G18:G26) -> 530478 | H27: =SUM(H18:H26) -> 32574 | I27: =SUM(I18:I26) -> 0 | J27: =SUM(J18:J26) -> 0 | K27: =SUM(K18:K26) -> 47 | L27: =SUM(L18:L26) -> 32621 | ... Q27: =SUM(Q18:Q26) -> 214
A29: 20 | B29: 長野 | C29: 211 | D29: 中野市 | E29: 45616 | F29: =SUM(G29,L29,P29,Q29) -> 43897 | G29: 30946 | H29: 12384 | I29: 0 | J29: 0 | K29: 0 | L29: =SUM(H29:K29) -> 12384 | M29: 0 | N29: 465 | O29: 102 | P29: 567 | Q29: 0
A30: 20 | B30: 長野 | C30: 208 | D30: 小諸市 | E30: 43112 | F30: =SUM(G30,L30,P30,Q30) -> 42323 | G30: 28901 | H30: 7966 | I30: 0 | J30: 0 | K30: 0 | L30: =SUM(H30:K30) -> 7966 | M30: 8 | N30: 4862 | O30: 586 | P30: 5456 | Q30: 0
A31: 20 | B31: 長野 | C31: 210 | D31: 駒ヶ根市 | E31: 33266 | F31: =SUM(G31,L31,P31,Q31) -> 31626 | G31: 19262 | H31: 11383 | I31: 0 | J31: 0 | K31: 0 | L31: =SUM(H31:K31) -> 11383 | M31: 0 | N31: 930 | O31: 51 | P31: 981 | Q31: 0
A32: 20 | B32: 長野 | C32: 219 | D32: 東御市 | E32: 30716 | F32: =SUM(G32,L32,P32,Q32) -> 30218 | G32: 19061 | H32: 8720 | I32: 0 | J32: 0 | K32: 0 | L32: =SUM(H32:K32) -> 8720 | M32: 8 | N32: 1854 | O32: 116 | P32: 1978 | Q32: 459
C33: 3～5万人 合計 | E33: =SUM(E29:E32) -> 152710 | F33: =SUM(F29:F32) -> 148064 | G33: =SUM(G29:G32) -> 98170 | H33: =SUM(H29:H32) -> 40453 | I33: =SUM(I29:I32) -> 0 | J33: =SUM(J29:J32) -> 0 | K33: =SUM(K29:K32) -> 0 | L33: =SUM(L29:L32) -> 40453 | ... Q33: =SUM(Q29:Q32) -> 459
A35: 20 | B35: 長野 | C35: 212 | D35: 大町市 | E35: 28666 | F35: =SUM(G35,L35,P35,Q35) -> 26259 | G35: 20674 | H35: 1006 | I35: 0 | J35: 0 | K35: 0 | L35: =SUM(H35:K35) -> 1006 | M35: 483 | N35: 3984 | O35: 112 | P35: 4579 | Q35: 0
A36: 20 | B36: 長野 | C36: 383 | D36: 箕輪町 | E36: 24998 | F36: =SUM(G36,L36,P36,Q36) -> 24891 | G36: 18322 | H36: 6192 | I36: 0 | J36: 0 | K36: 0 | L36: =SUM(H36:K36) -> 6192 | M36: 9 | N36: 155 | O36: 213 | P36: 377 | Q36: 0
A37: 20 | B37: 長野 | C37: 213 | D37: 飯山市 | E37: 22124 | F37: =SUM(G37,L37,P37,Q37) -> 21928 | G37: 16436 | H37: 5307 | I37: 0 | J37: 0 | K37: 0 | L37: =SUM(H37:K37) -> 5307 | M37: 106 | N37: 68 | O37: 11 | P37: 185 | Q37: 0
A38: 20 | B38: 長野 | C38: 361 | D38: 下諏訪町 | E38: 20828 | F38: =SUM(G38,L38,P38,Q38) -> 20813 | G38: 20813 | H38: 0 | I38: 0 | J38: 0 | K38: 0 | L38: =SUM(H38:K38) -> 0 | M38: 0 | N38: 0 | O38: 0 | P38: 0 | Q38: 0
A39: 20 | B39: 長野 | C39: 382 | D39: 辰野町 | E39: 20237 | F39: =SUM(G39,L39,P39,Q39) -> 20140 | G39: 17819 | H39: 1699 | I39: 0 | J39: 0 | K39: 0 | L39: =SUM(H39:K39) -> 1699 | M39: 152 | N39: 366 | O39: 104 | P39: 622 | Q39: 0
A40: 20 | B40: 長野 | C40: 321 | D40: 軽井沢町 | E40: 20119 | F40: =SUM(G40,L40,P40,Q40) -> 16028 | G40: 9927 | H40: 627 | I40: 0 | J40: 0 | K40: 0 | L40: =SUM(H40:K40) -> 627 | M40: 131 | N40: 5167 | O40: 176 | P40: 5474 | Q40: 0
A41: 20 | B41: 長野 | C41: 323 | D41: 御代田町 | E41: 15526 | F41: =SUM(G41,L41,P41,Q41) -> 14799 | G41: 13045 | H41: 533 | I41: 0 | J41: 0 | K41: 0 | L41: =SUM(H41:K41) -> 533 | M41: 260 | N41: 676 | O41: 285 | P41: 1221 | Q41: 0
A42: 20 | B42: 長野 | C42: 521 | D42: 坂城町 | E42: 15380 | F42: =SUM(G42,L42,P42,Q42) -> 13689 | G42: 11576 | H42: 0 | I42: 0 | J42: 0 | K42: 0 | L42: =SUM(H42:K42) -> 0 | M42: 0 | N42: 2113 | O42: 0 | P42: 2113 | Q42: 0
A43: 20 | B43: 長野 | C43: 385 | D43: 南箕輪村 | E43: 15169 | F43: =SUM(G43,L43,P43,Q43) -> 15138 | G43: 14896 | H43: 0 | I43: 0 | J43: 0 | K43: 0 | L43: =SUM(H43:K43) -> 0 | M43: 0 | N43: 154 | O43: 88 | P43: 242 | Q43: 0
A44: 20 | B44: 長野 | C44: 362 | D44: 富士見町 | E44: 14987 | F44: 15027 | G44: 10782 | H44: 3107 | I44: 0 | J44: 0 | K44: 0 | L44: =SUM(H44:K44) -> 3107 | M44: 0 | N44: 512 | O44: 157 | P44: 669 | Q44: 0
...

Sheet 人口集計_地域別
A1: 長野県 汚水処理人口普及状況総括表
A2: ① | B2: ② | C2: ③ | D2: ④ | E2: ⑤ | F2: ⑥ | G2: ⑧ | H2: ⑩ | M2: ⑫ | N2: ⑬ | O2: ⑭ | P2: ⑮ | Q2: ⑰
A3: 県 | B3: 都道府県 | C3: 市町 | D3: 市町村名 | E3: 住民基本台帳 | F3: H26年度末 | G3: 下 水 道 | H3: 農業集落排水施設等 | M3: 合 併 処 理 浄 化 槽 等 | Q3: コ ミ プ ラ
A4: コ | B4: 名 | C4: 村 | E4: 人口 | G4: H27年度末 | L4: H27年度末 | M4: 下水道の処理開始公示済区域外 | Q4: H27年度末
A5: ｜ | C5: ｺｰﾄﾞ | D5: H28.3.31現在 | E5: H28.3.31現在 | F5: 汚水処理人口 | G5: 下水道 | H5: H27年度末 | I5: H27年度末 | J5: H27年度末 | K5: H27年度末 | L5: 農排等 | M5: 浄化槽 | N5: 浄化槽設置 | O5: 民間設置 | P5: 合併処理 | Q5: コミプラ
A6: ド | G6: 処理人口 | H6: 農排 | I6: 漁排 | J6: 林排 | K6: 簡易排水 | L6: 整備人口 | M6: 市町村整備 | N6: 整備事業 | O6: 浄化槽 | P6: 浄化槽 | Q6: 処理人口
H7: 整備人口 | I7: 整備人口 | J7: 整備人口 | K7: 整備人口 | M7: 推進事業等 | N7: 設置処理人口 | O7: 処理人口 | P7: 処理人口
M8: 設置処理人口
E9: （人） | F9: （人） | G9: （人） | H9: （人） | I9: （人） | J9: （人） | K9: （人） | L9: (人) | M9: （人） | N9: （人） | O9: （人） | P9: （人） | Q9: （人）
A10: 20 | B10: 長野 | C10: 208 | D10: 小諸市 | E10: 43112 | F10: =SUM(G10,L10,P10,Q10) -> 42323 | G10: 28901 | H10: 7966 | I10: 0 | J10: 0 | K10: 0 | L10: =SUM(H10:K10) -> 7966 | M10: 8 | N10: 4862 | O10: 586 | P10: 5456 | Q10: 0
A11: 20 | B11: 長野 | C11: 217 | D11: 佐久市 | E11: 99616 | F11: =SUM(G11,L11,P11,Q11) -> 97142 | G11: 74031 | H11: 6252 | I11: 0 | J11: 0 | K11: 0 | L11: =SUM(H11:K11) -> 6252 | M11: 0 | N11: 11881 | O11: 4764 | P11: 16645 | Q11: 214
A12: 20 | B12: 長野 | C12: 303 | D12: 小海町 | E12: 4840 | F12: =SUM(G12,L12,P12,Q12) -> 4684 | G12: 3030 | H12: 540 | I12: 0 | J12: 0 | K12: 0 | L12: =SUM(H12:K12) -> 540 | M12: 0 | N12: 1052 | O12: 62 | P12: 1114 | Q12: 0
A13: 20 | B13: 長野 | C13: 304 | D13: 川上村 | E13: 4058 | F13: 4073 | G13: 1967 | H13: 2031 | I13: 0 | J13: 0 | K13: 0 | L13: =SUM(H13:K13) -> 2031 | M13: 0 | N13: 55 | O13: 0 | P13: 55 | Q13: 0
A14: 20 | B14: 長野 | C14: 305 | D14: 南牧村 | E14: 3235 | F14: 3151 | G14: 760 | H14: 241 | I14: 0 | J14: 0 | K14: 0 | L14: =SUM(H14:K14) -> 241 | M14: 275 | N14: 1635 | O14: 203 | P14: 2113 | Q14: 65
A15: 20 | B15: 長野 | C15: 306 | D15: 南相木村 | E15: 1065 | F15: 994 | G15: 0 | H15: 0 | I15: 0 | J15: 0 | K15: 0 | L15: =SUM(H15:K15) -> 0 | M15: 207 | N15: 763 | O15: 6 | P15: 976 | Q15: 0
A16: 20 | B16: 長野 | C16: 307 | D16: 北相木村 | E16: 778 | F16: =SUM(G16,L16,P16,Q16) -> 617 | G16: 0 | H16: 0 | I16: 0 | J16: 0 | K16: 0 | L16: =SUM(H16:K16) -> 0 | M16: 0 | N16: 617 | O16: 0 | P16: 617 | Q16: 0
A17: 20 | B17: 長野 | C17: 309 | D17: 佐久穂町 | E17: 11752 | F17: 11518 | G17: 9637 | H17: 1263 | I17: 0 | J17: 0 | K17: 0 | L17: =SUM(H17:K17) -> 1263 | M17: 0 | N17: 454 | O17: 0 | P17: 454 | Q17: 0
A18: 20 | B18: 長野 | C18: 321 | D18: 軽井沢町 | E18: 20119 | F18: =SUM(G18,L18,P18,Q18) -> 16028 | G18: 9927 | H18: 627 | I18: 0 | J18: 0 | K18: 0 | L18: =SUM(H18:K18) -> 627 | M18: 131 | N18: 5167 | O18: 176 | P18: 5474 | Q18: 0
A19: 20 | B19: 長野 | C19: 323 | D19: 御代田町 | E19: 15526 | F19: =SUM(G19,L19,P19,Q19) -> 14799 | G19: 13045 | H19: 533 | I19: 0 | J19: 0 | K19: 0 | L19: =SUM(H19:K19) -> 533 | M19: 260 | N19: 676 | O19: 285 | P19: 1221 | Q19: 0
A20: 20 | B20: 長野 | C20: 324 | D20: 立科町 | E20: 7557 | F20: =SUM(G20,L20,P20,Q20) -> 7404 | G20: 3487 | H20: 3371 | I20: 0 | J20: 0 | K20: 0 | L20: =SUM(H20:K20) -> 3371 | M20: 196 | N20: 119 | O20: 11 | P20: 326 | Q20: 220
A21: 佐久地方合計 | C21: 佐久建設合計 | E21: =SUM(E10:E20) -> 211658 | F21: =SUM(F10:F20) -> 202733 | G21: =SUM(G10:G20) -> 144785 | H21: =SUM(H10:H20) -> 22824 | I21: =SUM(I10:I20) -> 0 | J21: =SUM(J10:J20) -> 0 | K21: =SUM(K10:K20) -> 0 | L21: =SUM(L10:L20) -> 22824 | ... Q21: =SUM(Q10:Q20) -> 499
A22: 20 | B22: 長野 | C22: 203 | D22: 上田市 | E22: 159460 | F22: =SUM(G22,L22,P22,Q22) -> 158286 | G22: 128656 | H22: 26555 | I22: 0 | J22: 0 | K22: 0 | L22: =SUM(H22:K22) -> 26555 | M22: 283 | N22: 2278 | O22: 514 | P22: 3075 | Q22: 0
A23: 20 | B23: 長野 | C23: 219 | D23: 東御市 | E23: 30716 | F23: =SUM(G23,L23,P23,Q23) -> 30218 | G23: 19061 | H23: 8720 | I23: 0 | J23: 0 | K23: 0 | L23: =SUM(H23:K23) -> 8720 | M23: 8 | N23: 1854 | O23: 116 | P23: 1978 | Q23: 459
A24: 20 | B24: 長野 | C24: 349 | D24: 青木村 | E24: 4553 | F24: =SUM(G24,L24,P24,Q24) -> 4404 | G24: 4093 | H24: 0 | I24: 0 | J24: 0 | K24: 0 | L24: =SUM(H24:K24) -> 0 | M24: 0 | N24: 269 | O24: 42 | P24: 311 | Q24: 0
A25: 20 | B25: 長野 | C25: 350 | D25: 長和町 | E25: 6405 | F25: =SUM(G25,L25,P25,Q25) -> 6171 | G25: 5700 | H25: 0 | I25: 0 | J25: 0 | K25: 68 | L25: =SUM(H25:K25) -> 68 | M25: 36 | N25: 367 | O25: 0 | P25: 403 | Q25: 0
A26: 上小地方合計 | C26: 上田建設合計 | E26: =SUM(E22:E25) -> 201134 | F26: =SUM(F22:F25) -> 199079 | G26: =SUM(G22:G25) -> 157510 | H26: =SUM(H22:H25) -> 35275 | I26: =SUM(I22:I25) -> 0 | J26: =SUM(J22:J25) -> 0 | K26: =SUM(K22:K25) -> 68 | L26: =SUM(L22:L25) -> 35343 | ... Q26: =SUM(Q22:Q25) -> 459
A27: 東信地域合計 | E27: =E21+E26 -> 412792 | F27: =F21+F26 -> 401812 | G27: =G21+G26 -> 302295 | H27: =H21+H26 -> 58099 | I27: =I21+I26 -> 0 | J27: =J21+J26 -> 0 | K27: =K21+K26 -> 68 | L27: =L21+L26 -> 58167 | ... Q27: =Q21+Q26 -> 958
A29: 20 | B29: 長野 | C29: 204 | D29: 岡谷市 | E29: 51039 | F29: 51330 | G29: 49522 | H29: 0 | I29: 0 | J29: 0 | K29: 0 | L29: =SUM(H29:K29) -> 0 | M29: 0 | N29: 0 | O29: 152 | P29: 152 | Q29: 0
A30: 20 | B30: 長野 | C30: 206 | D30: 諏訪市 | E30: 50503 | F30: =SUM(G30,L30,P30,Q30) -> 50079 | G30: 49871 | H30: 0 | I30: 0 | J30: 0 | K30: 0 | L30: =SUM(H30:K30) -> 0 | M30: 0 | N30: 149 | O30: 59 | P30: 208 | Q30: 0
A31: 20 | B31: 長野 | C31: 214 | D31: 茅野市 | E31: 55910 | F31: =SUM(G31,L31,P31,Q31) -> 55400 | G31: 54060 | H31: 0 | I31: 0 | J31: 0 | K31: 0 | L31: =SUM(H31:K31) -> 0 | M31: 0 | N31: 979 | O31: 361 | P31: 1340 | Q31: 0
A32: 20 | B32: 長野 | C32: 361 | D32: 下諏訪町 | E32: 20828 | F32: =SUM(G32,L32,P32,Q32) -> 20813 | G32: 20813 | H32: 0 | I32: 0 | J32: 0 | K32: 0 | L32: =SUM(H32:K32) -> 0 | M32: 0 | N32: 0 | O32: 0 | P32: 0 | Q32: 0
A33: 20 | B33: 長野 | C33: 362 | D33: 富士見町 | E33: 14987 | F33: =SUM(G33,L33,P33,Q33) -> 14558 | G33: 10782 | H33: 3107 | I33: 0 | J33: 0 | K33: 0 | L33: =SUM(H33:K33) -> 3107 | M33: 0 | N33: 512 | O33: 157 | P33: 669 | Q33: 0
A34: 20 | B34: 長野 | C34: 363 | D34: 原村 | E34: 7444 | F34: =SUM(G34,L34,P34,Q34) -> 7399 | G34: 6330 | H34: 0 | I34: 0 | J34: 0 | K34: 0 | L34: =SUM(H34:K34) -> 0 | M34: 0 | N34: 1040 | O34: 29 | P34: 1069 | Q34: 0
A35: 諏訪地方合計 | C35: 諏訪建設合計 | E35: =SUM(E29:E34) -> 200711 | F35: =SUM(F29:F34) -> 199579 | G35: =SUM(G29:G34) -> 191378 | H35: =SUM(H29:H34) -> 3107 | I35: =SUM(I29:I34) -> 0 | J35: =SUM(J29:J34) -> 0 | K35: =SUM(K29:K34) -> 0 | L35: =SUM(L29:L34) -> 3107 | ... Q35: =SUM(Q29:Q34) -> 0
A36: 20 | B36: 長野 | C36: 209 | D36: 伊那市 | E36: 69297 | F36: =SUM(G36,L36,P36,Q36) -> 64453 | G36: 48678 | H36: 11367 | I36: 0 | J36: 0 | K36: 47 | L36: =SUM(H36:K36) -> 11414 | M36: 1509 | N36: 1777 | O36: 1075 | P36: 4361 | Q36: 0
A37: 20 | B37: 長野 | C37: 210 | D37: 駒ヶ根市 | E37: 33266 | F37: =SUM(G37,L37,P37,Q37) -> 31626 | G37: 19262 | H37: 11383 | I37: 0 | J37: 0 | K37: 0 | L37: =SUM(H37:K37) -> 11383 | M37: 0 | N37: 930 | O37: 51 | P37: 981 | Q37: 0
A38: 20 | B38: 長野 | C38: 382 | D38: 辰野町 | E38: 20237 | F38: =SUM(G38,L38,P38,Q38) -> 20140 | G38: 17819 | H38: 1699 | I38: 0 | J38: 0 | K38: 0 | L38: =SUM(H38:K38) -> 1699 | M38: 152 | N38: 366 | O38: 104 | P38: 622 | Q38: 0
A39: 20 | B39: 長野 | C39: 383 | D39: 箕輪町 | E39: 24998 | F39: =SUM(G39,L39,P39,Q39) -> 24891 | G39: 18322 | H39: 6192 | I39: 0 | J39: 0 | K39: 0 | L39: =SUM(H39:K39) -> 6192 | M39: 9 | N39: 155 | O39: 213 | P39: 377 | Q39: 0
A40: 20 | B40: 長野 | C40: 384 | D40: 飯島町 | E40: 9780 | F40: =SUM(G40,L40,P40,Q40) -> 9413 | G40: 5558 | H40: 1934 | I40: 0 | J40: 0 | K40: 0 | L40: =SUM(H40:K40) -> 1934 | M40: 0 | N40: 1921 | O40: 0 | P40: 1921 | Q40: 0
A41: 20 | B41: 長野 | C41: 385 | D41: 南箕輪村 | E41: 15169 | F41: 15027 | G41: 14896 | H41: 0 | I41: 0 | J41: 0 | K41: 0 | L41: =SUM(H41:K41) -> 0 | M41: 0 | N41: 154 | O41: 88 | P41: 242 | Q41: 0
...
