Workbook

Sheet 市町村別
B1: 市町村別汚水処理人口普及率
B2: （下水道、農業集落排水施設等、浄化槽及びコミュニティ・プラント） | P2: （平成28年度末）
B3: 市町村 | C3: 普 及 率 （％） | G3: 市町村 | H3: 普 及 率 （％） | L3: 市町村 | M3: 普 及 率 （％）
C4: 下水道 | D4: 農集排 | E4: 浄化槽 ｺﾐﾌﾟﾗ | F4: 計 | H4: 下水道 | I4: 農集排 | J4: 浄化槽 ｺﾐﾌﾟﾗ | K4: 計 | M4: 下水道 | N4: 農集排 | O4: 浄化槽 ｺﾐﾌﾟﾗ | P4: 計
B5: ='[1]P-15'!A5 -> 長野市 | C5: =データ!I10*100 -> 93.629246 | D5: =データ!O10*100 -> 2.0132835 | E5: =データ!X10*100 -> 1.9055229 | F5: =データ!G10*100 -> 97.548052 | G5: ='[1]P-15'!F5 -> 御代田町 | H5: =データ!I36*100 -> 84.974495 | I5: =データ!O36*100 -> 3.2995416 | J5: =データ!X36*100 -> 8.0583715 | K5: =データ!G36*100 -> 96.332408 | L5: ='[1]P-15'!K5 -> 上松町 | M5: =データ!I62*100 -> 69.978723 | O5: =データ!X62*100 -> 13.978723 | P5: =データ!G62*100 -> 83.957447 | U5: （参考）汚水処理人口普及率の推移
B6: ='[1]P-15'!A6 -> 松本市 | C6: =データ!I11*100 -> 96.561871 | D6: =データ!O11*100 -> 0.50441992 | E6: =データ!X11*100 -> 2.6477884 | F6: =データ!G11*100 -> 99.714079 | G6: ='[1]P-15'!F6 -> 立科町 | H6: =データ!I37*100 -> 46.281983 | I6: =データ!O37*100 -> 44.5629 | J6: =データ!X37*100 -> 7.3560768 | K6: =データ!G37*100 -> 98.200959 | L6: ='[1]P-15'!K6 -> 南木曽町 | M6: =データ!I63*100 -> 7.8321678 | N6: =データ!O63*100 -> 17.226107 | O6: =データ!X63*100 -> 56.969697 | P6: =データ!G63*100 -> 82.027972 | U6: 年度末現在 | V6: Ｈ８ | W6: Ｈ９ | X6: Ｈ10 | Y6: Ｈ11 | Z6: Ｈ12 | AA6: Ｈ13 | AB6: Ｈ14 | AC6: Ｈ15 | AD6: Ｈ16 | AE6: Ｈ17 | AF6: Ｈ18 | AG6: Ｈ19 | AH6: Ｈ20 | AI6: Ｈ21 | AJ6: Ｈ22 | AK6: Ｈ23 | AL6: Ｈ24 | AM6: Ｈ25 | AN6: Ｈ26 | AO6: Ｈ27 | AP6: Ｈ28
B7: ='[1]P-15'!A7 -> 上田市 | C7: =データ!I12*100 -> 80.736792 | D7: =データ!O12*100 -> 16.526517 | E7: =データ!X12*100 -> 2.2086129 | F7: =データ!G12*100 -> 99.471922 | G7: ='[1]P-15'!F7 -> 青木村 | H7: =データ!I38*100 -> 90.622222 | J7: =データ!X38*100 -> 6.6444444 | K7: =データ!G38*100 -> 97.266667 | L7: ='[1]P-15'!K7 -> 木祖村 | M7: =データ!I64*100 -> 64.35743 | N7: =データ!O64*100 -> 11.412316 | O7: =データ!X64*100 -> 19.779116 | P7: =データ!G64*100 -> 95.548862 | U7: 実施市町村数 | V7: 120 | W7: 120 | X7: 120 | Y7: 120 | Z7: 120 | AA7: 120 | AB7: 120 | AC7: 118 | AD7: 111 | AE7: 81 | AF7: 81 | AG7: 81 | AH7: 80 | AI7: 77 | AJ7: 77 | AK7: 77 | AL7: 77 | AM7: 77 | AN7: 77 | AO7: 77 | AP7: 77
B8: ='[1]P-15'!A8 -> 岡谷市 | C8: =データ!I13*100 -> 99.462599 | E8: =データ!X13*100 -> 0.31019086 | F8: =データ!G13*100 -> 99.77279 | G8: ='[1]P-15'!F8 -> 長和町 | H8: =データ!I39*100 -> 88.915394 | I8: =データ!O39*100 -> 1.0814249 | J8: =データ!X39*100 -> 6.5839695 | K8: =データ!G39*100 -> 96.580789 | L8: ='[1]P-15'!K8 -> 王滝村 | N8: =データ!O65*100 -> 85.768742 | O8: =データ!X65*100 -> 11.689962 | P8: =データ!G65*100 -> 97.458704 | U8: 供用開始市町村数 | V8: 113 | W8: 116 | X8: 118 | Y8: 120 | Z8: 120 | AA8: 120 | AB8: 120 | AC8: 118 | AD8: 111 | AE8: 81 | AF8: 81 | AG8: 81 | AH8: 80 | AI8: 77 | AJ8: 77 | AK8: 77 | AL8: 77 | AM8: 77 | AN8: 77 | AO8: 77 | AP8: 77
B9: ='[1]P-15'!A9 -> 飯田市 | C9: =データ!I14*100 -> 82.865962 | D9: =データ!O14*100 -> 5.9404211 | E9: =データ!X14*100 -> 8.2001107 | F9: =データ!G14*100 -> 97.006494 | G9: ='[1]P-15'!F9 -> 下諏訪町 | H9: =データ!I40*100 -> 99.93704 | K9: =データ!G40*100 -> 99.93704 | L9: ='[1]P-15'!K9 -> 大桑村 | M9: =データ!I66*100 -> 32.965057 | N9: =データ!O66*100 -> 45.991778 | O9: =データ!X66*100 -> 16.700925 | P9: =データ!G66*100 -> 95.65776 | U9: 長野県普及率（％） | V9: 52.1 | W9: 56.8 | X9: 62.3 | Y9: 67.9 | Z9: 73.6 | AA9: 77.6 | AB9: 81.3 | AC9: 84.7 | AD9: 87.7 | AE9: 89.6 | AF9: 91.5 | AG9: 93.1 | AH9: 94 | AI9: 94.5 | AJ9: 95.3 | AK9: 95.9 | AL9: 96.6 | AM9: 96.8 | AN9: 97.3 | AO9: 97.4 | AP9: 97.6
B10: ='[1]P-15'!A10 -> 諏訪市 | C10: =データ!I15*100 -> 98.764742 | E10: =データ!X15*100 -> 0.40709625 | F10: =データ!G15*100 -> 99.171839 | G10: ='[1]P-15'!F10 -> 富士見町 | H10: =データ!I41*100 -> 79.323788 | I10: =データ!O41*100 -> 12.468912 | J10: =データ!X41*100 -> 5.3707065 | K10: =データ!G41*100 -> 97.163407 | L10: ='[1]P-15'!K10 -> 木曽町 | M10: =データ!I67*100 -> 68.87291 | N10: =データ!O67*100 -> 10.777094 | O10: =データ!X67*100 -> 15.507234 | P10: =データ!G67*100 -> 95.157238 | U10: 下水道（％） | V10: 39.6 | W10: 43 | X10: 46.8 | Y10: 51.3 | Z10: 56.2 | AA10: 59.9 | AB10: 63.6 | AC10: 67.2 | AD10: 69.9 | AE10: 72.1 | AF10: 74.2 | AG10: 76 | AH10: 77.4 | AI10: 78.5 | AJ10: 79.3 | AK10: 80.2 | AL10: 80.9 | AM10: 81.5 | AN10: 82.3 | AO10: 82.7 | AP10: 83.1
B11: ='[1]P-15'!A11 -> 須坂市 | C11: =データ!I16*100 -> 96.812889 | D11: =データ!O16*100 -> 1.8997835 | E11: =データ!X16*100 -> 0.52468353 | F11: =データ!G16*100 -> 99.237356 | G11: ='[1]P-15'!F11 -> 原村 | H11: =データ!I42*100 -> 80.315259 | J11: =データ!X42*100 -> 18.713745 | K11: =データ!G42*100 -> 99.029004 | L11: ='[1]P-15'!K11 -> 麻績村 | M11: =データ!I68*100 -> 78.31283 | N11: =データ!O68*100 -> 5.5887522 | O11: =データ!X68*100 -> 12.618629 | P11: =データ!G68*100 -> 96.520211 | U11: 農集排（％） | V11: 4.5 | W11: 5.5 | X11: 6.6 | Y11: 7.4 | Z11: 8.2 | AA11: 9.1 | AB11: 9.4 | AC11: 9.8 | AD11: 10.1 | AE11: 10.1 | AF11: 10.4 | AG11: 10.4 | AH11: 10.5 | AI11: 10.3 | AJ11: 10.1 | AK11: 10 | AL11: 9.8 | AM11: 9.6 | AN11: 9.3 | AO11: 9 | AP11: 8.8
B12: ='[1]P-15'!A12 -> 小諸市 | C12: =データ!I17*100 -> 67.211235 | D12: =データ!O17*100 -> 17.343476 | E12: =データ!X17*100 -> 13.177297 | F12: =データ!G17*100 -> 97.732007 | G12: ='[1]P-15'!F12 -> 辰野町 | H12: =データ!I43*100 -> 88.218175 | I12: =データ!O43*100 -> 8.2643384 | J12: =データ!X43*100 -> 3.0006523 | K12: =データ!G43*100 -> 99.483165 | L12: ='[1]P-15'!K12 -> 生坂村 | N12: =データ!O69*100 -> 50.134771 | O12: =データ!X69*100 -> 37.574124 | P12: =データ!G69*100 -> 87.708895 | U12: 浄化槽・コミブラ（％） | V12: 8 | W12: 8.3 | X12: 8.9 | Y12: 9.1 | Z12: 9.2 | AA12: 8.7 | AB12: 8.2 | AC12: 7.7 | AD12: 7.6 | AE12: 7.4 | AF12: 7 | AG12: 6.7 | AH12: 6.1 | AI12: 5.7 | AJ12: 5.9 | AK12: 5.7 | AL12: 5.9 | AM12: 5.8 | AN12: 5.7 | AO12: 5.7 | AP12: 5.7
B13: ='[1]P-15'!A13 -> 伊那市 | C13: =データ!I18*100 -> 71.06568 | D13: =データ!O18*100 -> 16.595175 | E13: =データ!X18*100 -> 6.2175563 | F13: =データ!G18*100 -> 93.878412 | G13: ='[1]P-15'!F13 -> 箕輪町 | H13: =データ!I44*100 -> 74.724661 | I13: =データ!O44*100 -> 24.030327 | J13: =データ!X44*100 -> 1.1811652 | K13: =データ!G44*100 -> 99.936153 | L13: ='[1]P-15'!K13 -> 山形村 | M13: =データ!I70*100 -> 99.817768 | O13: =データ!X70*100 -> 0.011389522 | P13: =データ!G70*100 -> 99.829157 | U13: 全国普及率（％） | V13: 62 | W13: 64 | X13: 66 | Y13: 69 | Z13: 71.4 | AA13: 73.7 | AB13: 75.8 | AC13: 77.7 | AD13: 79.4 | AE13: 80.9 | AF13: 82.4 | AG13: 83.7 | AH13: 84.8 | AI13: 85.7 | AJ13: 86.9 | AK13: 87.6 | AL13: 88.1 | AM13: 88.9 | AN13: 89.5 | AO13: 89.9 | AP13: 90.4
B14: ='[1]P-15'!A14 -> 駒ヶ根市 | C14: =データ!I19*100 -> 58.448703 | D14: =データ!O19*100 -> 34.242186 | E14: =データ!X19*100 -> 2.1915241 | F14: =データ!G19*100 -> 94.882413 | G14: ='[1]P-15'!F14 -> 飯島町 | H14: =データ!I45*100 -> 56.679744 | I14: =データ!O45*100 -> 20.080529 | J14: =データ!X45*100 -> 19.729507 | K14: =データ!G45*100 -> 96.489779 | L14: ='[1]P-15'!K14 -> 朝日村 | M14: =データ!I71*100 -> 100 | P14: =データ!G71*100 -> 100 | U14: 全国順位 | V14: 19 | W14: 18 | X14: 14 | Y14: 12 | Z14: 10 | AA14: 9 | AB14: 8 | AC14: 8 | AD14: 8 | AE14: 8 | AF14: 8 | AG14: 6 | AH14: 6 | AI14: 7 | AJ14: 7 | AK14: 7 | AL14: 5 | AM14: 5 | AN14: 5 | AO14: 6 | AP14: 6
B15: ='[1]P-15'!A15 -> 中野市 | C15: =データ!I20*100 -> 67.783437 | D15: =データ!O20*100 -> 27.814438 | E15: =データ!X20*100 -> 1.2865368 | F15: =データ!G20*100 -> 96.884411 | G15: ='[1]P-15'!F15 -> 南箕輪村 | H15: =データ!I46*100 -> 98.153947 | J15: =データ!X46*100 -> 1.6438356 | K15: =データ!G46*100 -> 99.797782 | L15: ='[1]P-15'!K15 -> 筑北村 | N15: =データ!O72*100 -> 59.924623 | O15: =データ!X72*100 -> 34.024288 | P15: =データ!G72*100 -> 93.948911 | U15: ※全国の汚水処理人口普及率（下水道等普及率）は、平成８年度から国において集計、公表されている。
B16: ='[1]P-15'!A16 -> 大町市 | C16: =データ!I21*100 -> 72.019112 | D16: =データ!O21*100 -> 3.4188639 | E16: =データ!X21*100 -> 17.147408 | F16: =データ!G21*100 -> 92.585383 | G16: ='[1]P-15'!F16 -> 中川村 | H16: =データ!I47*100 -> 56.691487 | I16: =データ!O47*100 -> 25.115717 | J16: =データ!X47*100 -> 14.469712 | K16: =データ!G47*100 -> 96.276917 | L16: ='[1]P-15'!K16 -> 池田町 | M16: =データ!I73*100 -> 94.522583 | O16: =データ!X73*100 -> 4.0213946 | P16: =データ!G73*100 -> 98.543978
B17: ='[1]P-15'!A17 -> 飯山市 | C17: =データ!I22*100 -> 78.412654 | D17: =データ!O22*100 -> 19.871795 | E17: =データ!X22*100 -> 0.82549345 | F17: =データ!G22*100 -> 99.109943 | G17: ='[1]P-15'!F17 -> 宮田村 | H17: =データ!I48*100 -> 74.056552 | I17: =データ!O48*100 -> 25.294312 | J17: =データ!X48*100 -> 0.64913632 | K17: =データ!G48*100 -> 100 | L17: ='[1]P-15'!K17 -> 松川村 | M17: =データ!I74*100 -> 98.899435 | O17: =データ!X74*100 -> 0.42407108 | P17: =データ!G74*100 -> 99.323506
B18: ='[1]P-15'!A18 -> 茅野市 | C18: =データ!I23*100 -> 96.748897 | E18: =データ!X23*100 -> 2.4561905 | F18: =データ!G23*100 -> 99.205087 | G18: ='[1]P-15'!F18 -> 松川町 | H18: =データ!I49*100 -> 41.446247 | I18: =データ!O49*100 -> 42.891013 | J18: =データ!X49*100 -> 12.699118 | K18: =データ!G49*100 -> 97.036378 | L18: ='[1]P-15'!K18 -> 白馬村 | M18: =データ!I75*100 -> 75.631369 | N18: =データ!O75*100 -> 0.55383252 | O18: =データ!X75*100 -> 19.860434 | P18: =データ!G75*100 -> 96.045636
B19: ='[1]P-15'!A19 -> 塩尻市 | C19: =データ!I24*100 -> 89.986069 | D19: =データ!O24*100 -> 9.0980497 | E19: =データ!X24*100 -> 0.68172387 | F19: =データ!G24*100 -> 99.765843 | G19: ='[1]P-15'!F19 -> 高森町 | H19: =データ!I50*100 -> 53.4778 | I19: =データ!O50*100 -> 35.997878 | J19: =データ!X50*100 -> 9.4635551 | K19: =データ!G50*100 -> 98.939233 | L19: ='[1]P-15'!K19 -> 小谷村 | M19: =データ!I76*100 -> 11.950319 | N19: =データ!O76*100 -> 24.840551 | O19: =データ!X76*100 -> 41.389728 | P19: =データ!G76*100 -> 78.180598
B20: ='[1]P-15'!A20 -> 佐久市 | C20: =データ!I25*100 -> 75.220509 | D20: =データ!O25*100 -> 5.6623319 | E20: =データ!X25*100 -> 16.610848 | F20: =データ!G25*100 -> 97.493689 | G20: ='[1]P-15'!F20 -> 阿南町 | I20: =データ!O51*100 -> 55.161627 | J20: =データ!X51*100 -> 32.367049 | K20: =データ!G51*100 -> 87.528676 | L20: ='[1]P-15'!K20 -> 坂城町 | M20: =データ!I77*100 -> 78.063879 | O20: =データ!X77*100 -> 10.405005 | P20: =データ!G77*100 -> 88.468884
B21: ='[1]P-15'!A21 -> 千曲市 | C21: =データ!I26*100 -> 91.955545 | D21: =データ!O26*100 -> 7.7339217 | E21: =データ!X26*100 -> 0.23862058 | F21: =データ!G26*100 -> 99.928087 | G21: ='[1]P-15'!F21 -> 阿智村 | H21: =データ!I52*100 -> 45.851064 | I21: =データ!O52*100 -> 16.610942 | J21: =データ!X52*100 -> 30.395137 | K21: =データ!G52*100 -> 92.857143 | L21: ='[1]P-15'!K21 -> 小布施町 | M21: =データ!I78*100 -> 79.85904 | N21: =データ!O78*100 -> 20.14096 | P21: =データ!G78*100 -> 100
B22: ='[1]P-15'!A22 -> 東御市 | C22: =データ!I27*100 -> 61.999475 | D22: =データ!O27*100 -> 28.406853 | E22: =データ!X27*100 -> 7.9558881 | F22: =データ!G27*100 -> 98.362216 | G22: ='[1]P-15'!F22 -> 平谷村 | I22: =データ!O53*100 -> 90.022173 | J22: =データ!X53*100 -> 6.6518847 | K22: =データ!G53*100 -> 96.674058 | L22: ='[1]P-15'!K22 -> 高山村 | M22: =データ!I79*100 -> 66.592521 | N22: =データ!O79*100 -> 31.336021 | O22: =データ!X79*100 -> 1.5709718 | P22: =データ!G79*100 -> 99.499513
B23: ='[1]P-15'!A23 -> 安曇野市 | C23: =データ!I28*100 -> 89.406615 | D23: =データ!O28*100 -> 2.9730447 | E23: =データ!X28*100 -> 4.8319628 | F23: =データ!G28*100 -> 97.211623 | G23: ='[1]P-15'!F23 -> 根羽村 | I23: =データ!O54*100 -> 72.869023 | J23: =データ!X54*100 -> 23.284823 | K23: =データ!G54*100 -> 96.153846 | L23: ='[1]P-15'!K23 -> 山ノ内町 | M23: =データ!I80*100 -> 68.878418 | N23: =データ!O80*100 -> 23.289047 | O23: =データ!X80*100 -> 5.121273 | P23: =データ!G80*100 -> 97.288738
B24: ='[1]P-15'!A24 -> 小海町 | C24: =データ!I29*100 -> 74.419091 | E24: =データ!X29*100 -> 24.115554 | F24: =データ!G29*100 -> 98.534645 | G24: ='[1]P-15'!F24 -> 下條村 | J24: =データ!X55*100 -> 96.063608 | K24: =データ!G55*100 -> 96.063608 | L24: ='[1]P-15'!K24 -> 木島平村 | M24: =データ!I81*100 -> 90.652666 | N24: =データ!O81*100 -> 2.8824377 | O24: =データ!X81*100 -> 1.6059296 | P24: =データ!G81*100 -> 95.141034
B25: ='[1]P-15'!A25 -> 川上村 | C25: =データ!I30*100 -> 47.67642 | D25: =データ!O30*100 -> 50.135235 | E25: =データ!X30*100 -> 1.3523482 | F25: =データ!G30*100 -> 99.164003 | G25: ='[1]P-15'!F25 -> 売木村 | I25: =データ!O56*100 -> 64.539007 | J25: =データ!X56*100 -> 32.092199 | K25: =データ!G56*100 -> 96.631206 | L25: ='[1]P-15'!K25 -> 野沢温泉村 | M25: =データ!I82*100 -> 76.763037 | N25: =データ!O82*100 -> 23.236963 | P25: =データ!G82*100 -> 100
B26: ='[1]P-15'!A26 -> 南牧村 | C26: =データ!I31*100 -> 23.336457 | D26: =データ!O31*100 -> 7.8412996 | E26: =データ!X31*100 -> 67.510153 | F26: =データ!G31*100 -> 98.68791 | G26: ='[1]P-15'!F26 -> 天龍村 | H26: =データ!I57*100 -> 63.188406 | J26: =データ!X57*100 -> 20 | K26: =データ!G57*100 -> 83.188406 | L26: ='[1]P-15'!K26 -> 信濃町 | M26: =データ!I83*100 -> 45.575979 | N26: =データ!O83*100 -> 25.904784 | O26: =データ!X83*100 -> 18.187008 | P26: =データ!G83*100 -> 89.66777
B27: ='[1]P-15'!A27 -> 南相木村 | E27: =データ!X32*100 -> 92.526017 | F27: =データ!G32*100 -> 92.526017 | G27: ='[1]P-15'!F27 -> 泰阜村 | J27: =データ!X58*100 -> 72.205619 | K27: =データ!G58*100 -> 72.205619 | L27: ='[1]P-15'!K27 -> 小川村 | M27: =データ!I84*100 -> 80.122558 | O27: =データ!X84*100 -> 9.4216775 | P27: =データ!G84*100 -> 89.544236
B28: ='[1]P-15'!A28 -> 北相木村 | E28: =データ!X33*100 -> 78.347935 | F28: =データ!G33*100 -> 78.347935 | G28: ='[1]P-15'!F28 -> 喬木村 | H28: =データ!I59*100 -> 57.504604 | I28: =データ!O59*100 -> 24.41682 | J28: =データ!X59*100 -> 15.914672 | K28: =データ!G59*100 -> 97.836096 | L28: ='[1]P-15'!K28 -> 飯綱町 | M28: =データ!I85*100 -> 58.191795 | N28: =データ!O85*100 -> 35.101472 | O28: =データ!X85*100 -> 4.5814824 | P28: =データ!G85*100 -> 97.87475
B29: ='[1]P-15'!A29 -> 佐久穂町 | C29: =データ!I34*100 -> 82.050388 | D29: =データ!O34*100 -> 10.722692 | E29: =データ!X34*100 -> 3.8706303 | F29: =データ!G34*100 -> 96.64371 | G29: ='[1]P-15'!F29 -> 豊丘村 | H29: =データ!I60*100 -> 51.228901 | I29: =データ!O60*100 -> 31.22594 | J29: =データ!X60*100 -> 16.952917 | K29: =データ!G60*100 -> 99.407758 | L29: ='[1]P-15'!K29 -> 栄村 | N29: =データ!O86*100 -> 10.187532 | O29: =データ!X86*100 -> 72.579828 | P29: =データ!G86*100 -> 82.767359
B30: ='[1]P-15'!A30 -> 軽井沢町 | C30: =データ!I35*100 -> 48.670989 | D30: =データ!O35*100 -> 3.0490521 | E30: =データ!X35*100 -> 27.649359 | F30: =データ!G35*100 -> 79.369401 | G30: ='[1]P-15'!F30 -> 大鹿村 | J30: =データ!X61*100 -> 51.566952 | K30: =データ!G61*100 -> 51.566952 | L30: ='[1]P-15'!K30 -> 長野県計 | M30: =データ!I87*100 -> 83.138569 | N30: =データ!O87*100 -> 8.7509213 | O30: =データ!X87*100 -> 5.7218216 | P30: =データ!G87*100 -> 97.611312
B31: 注）１ 普及率は、個々の種別の普及率で四捨五入しているため、合計が合わないことがある。 ２ 下水道及び農業集落排水施設等の網掛け部は、当該種別で汚水処理を行う予定のない市町村 ３ 事業種別ごとの実施市町村数は、下水道64市町村、農業集落排水56市町村、浄化槽・コミュニティプラント73市町村
B34: （参考）汚水処理人口普及率の推移
B43: 注） 全国の汚水処理人口普及率（下水道等普及率）は、平成８年度から国において集計、公表されている。

Sheet データ
A1: 長野県 汚水処理人口普及状況総括表
A2: ① | B2: ② | C2: ③ | D2: ④ | E2: ⑤ | F2: ⑥ | G2: ⑦ | H2: ⑧ | I2: ⑨ | J2: ⑩ | O2: ⑪ | P2: ⑫ | Q2: ⑬ | R2: ⑭ | S2: ⑮ | T2: ⑯ | U2: ⑰ | V2: ⑱ | W2: ⑲ | X2: ⑳
A3: 県 | B3: 都道府県 | C3: 市町 | D3: 市町村名 | E3: 住民基本台帳 | F3: H28年度末 | G3: H28年度末 | H3: 下 水 道 | J3: 農業集落排水施設等 | P3: 合 併 処 理 浄 化 槽 等 | U3: コ ミ プ ラ | W3: 都市区分
A4: コ | B4: 名 | C4: 村 | E4: 人口 | G4: 汚水処理 | H4: H28年度末 | I4: H28年度末 | N4: H28年度末 | O4: H28年度末 | P4: 下水道の処理開始公示済区域外 | T4: H28年度末 | U4: H28年度末 | V4: H28年度末 | W4: 1:政令市 | X4: H28年度末
A5: ｜ | C5: ｺｰﾄﾞ | D5: H29.3.31現在 | E5: H29.3.31現在 | F5: 汚水処理人口 | G5: 人口普及率 | H5: 下水道 | I5: 下水道 | J5: H28年度末 | K5: H28年度末 | L5: H28年度末 | M5: H28年度末 | N5: 農排等 | O5: 農排等 | P5: 浄化槽 | Q5: 浄化槽設置 | R5: 民間設置 | S5: 合併処理 | T5: 浄化槽 | U5: コミプラ | V5: コミプラ | W5: 2:一般市 | X5: 浄化槽＋コミプラ
A6: ド | H6: 処理人口 | I6: 整備率 | J6: 農排 | K6: 漁排 | L6: 林排 | M6: 簡易排水 | N6: 整備人口 | O6: 整備率 | P6: 市町村整備 | Q6: 整備事業 | R6: 浄化槽 | S6: 浄化槽 | T6: 人口普及率 | U6: 処理人口 | V6: 処理人口 | W6: 3:町 | X6: 処理人口
J7: 整備人口 | K7: 整備人口 | L7: 整備人口 | M7: 整備人口 | P7: 推進事業等 | Q7: 設置処理人口 | R7: 処理人口 | S7: 処理人口 | V7: 普及率 | W7: 4:村 | X7: 普及率
P8: 設置処理人口 | W8: (計：都市数）
E9: （人） | F9: （人） | G9: （％） | H9: （人） | I9: （％） | J9: （人） | K9: （人） | L9: （人） | M9: （人） | N9: (人) | O9: （％） | P9: （人） | Q9: （人） | R9: （人） | S9: （人） | T9: （％） | U9: （人） | V9: （％） | X9: （％）
A10: 20 | B10: 長野 | C10: 201 | D10: 長野市 | E10: 380473 | F10: =SUM(H10,N10,S10,U10) -> 371144 | G10: =F10/E10 -> 0.97548052 | H10: 356234 | I10: =H10/E10 -> 0.93629246 | J10: 7660 | K10: 0 | L10: 0 | M10: 0 | N10: =SUM(J10:M10) -> 7660 | O10: =N10/E10 -> 0.020132835 | P10: 2694 | Q10: 2116 | R10: 2440 | S10: =SUM(P10:R10) -> 7250 | T10: =S10/E10 -> 0.019055229 | U10: 0 | V10: =U10/E10 -> 0 | W10: 2 | X10: =(S10+U10)/E10 -> 0.019055229
A11: 20 | B11: 長野 | C11: 202 | D11: 松本市 | E11: 240276 | F11: =SUM(H11,N11,S11,U11) -> 239589 | G11: =F11/E11 -> 0.99714079 | H11: 232015 | I11: =H11/E11 -> 0.96561871 | J11: 1212 | K11: 0 | L11: 0 | M11: 0 | N11: =SUM(J11:M11) -> 1212 | O11: =N11/E11 -> 0.0050441992 | P11: 3107 | Q11: 2866 | R11: 389 | S11: =SUM(P11:R11) -> 6362 | T11: =S11/E11 -> 0.026477884 | U11: 0 | V11: =U11/E11 -> 0 | W11: 2 | X11: =(S11+U11)/E11 -> 0.026477884
A12: 20 | B12: 長野 | C12: 203 | D12: 上田市 | E12: 158878 | F12: =SUM(H12,N12,S12,U12) -> 158039 | G12: =F12/E12 -> 0.99471922 | H12: 128273 | I12: =H12/E12 -> 0.80736792 | J12: 26257 | K12: 0 | L12: 0 | M12: 0 | N12: =SUM(J12:M12) -> 26257 | O12: =N12/E12 -> 0.16526517 | P12: 368 | Q12: 2459 | R12: 682 | S12: =SUM(P12:R12) -> 3509 | T12: =S12/E12 -> 0.022086129 | U12: 0 | V12: =U12/E12 -> 0 | W12: 2 | X12: =(S12+U12)/E12 -> 0.022086129
A13: 20 | B13: 長野 | C13: 204 | D13: 岡谷市 | E13: 50614 | F13: =SUM(H13,N13,S13,U13) -> 50499 | G13: =F13/E13 -> 0.9977279 | H13: 50342 | I13: =H13/E13 -> 0.99462599 | J13: 0 | K13: 0 | L13: 0 | M13: 0 | N13: =SUM(J13:M13) -> 0 | O13: =N13/E13 -> 0 | P13: 0 | Q13: 0 | R13: 157 | S13: =SUM(P13:R13) -> 157 | T13: =S13/E13 -> 0.0031019086 | U13: 0 | V13: =U13/E13 -> 0 | W13: 2 | X13: =(S13+U13)/E13 -> 0.0031019086
A14: 20 | B14: 長野 | C14: 205 | D14: 飯田市 | E14: 103023 | F14: =SUM(H14,N14,S14,U14) -> 99939 | G14: =F14/E14 -> 0.97006494 | H14: 85371 | I14: =H14/E14 -> 0.82865962 | J14: 6120 | K14: 0 | L14: 0 | M14: 0 | N14: =SUM(J14:M14) -> 6120 | O14: =N14/E14 -> 0.059404211 | P14: 79 | Q14: 8099 | R14: 270 | S14: =SUM(P14:R14) -> 8448 | T14: =S14/E14 -> 0.082001107 | U14: 0 | V14: =U14/E14 -> 0 | W14: 2 | X14: =(S14+U14)/E14 -> 0.082001107
A15: 20 | B15: 長野 | C15: 206 | D15: 諏訪市 | E15: 50111 | F15: =SUM(H15,N15,S15,U15) -> 49696 | G15: =F15/E15 -> 0.99171839 | H15: 49492 | I15: =H15/E15 -> 0.98764742 | J15: 0 | K15: 0 | L15: 0 | M15: 0 | N15: =SUM(J15:M15) -> 0 | O15: =N15/E15 -> 0 | P15: 0 | Q15: 146 | R15: 58 | S15: =SUM(P15:R15) -> 204 | T15: =S15/E15 -> 0.0040709625 | U15: 0 | V15: =U15/E15 -> 0 | W15: 2 | X15: =(S15+U15)/E15 -> 0.0040709625
A16: 20 | B16: 長野 | C16: 207 | D16: 須坂市 | E16: 51269 | F16: =SUM(H16,N16,S16,U16) -> 50878 | G16: =F16/E16 -> 0.99237356 | H16: 49635 | I16: =H16/E16 -> 0.96812889 | J16: 974 | K16: 0 | L16: 0 | M16: 0 | N16: =SUM(J16:M16) -> 974 | O16: =N16/E16 -> 0.018997835 | P16: 0 | Q16: 99 | R16: 170 | S16: =SUM(P16:R16) -> 269 | T16: =S16/E16 -> 0.0052468353 | U16: 0 | V16: =U16/E16 -> 0 | W16: 2 | X16: =(S16+U16)/E16 -> 0.0052468353
A17: 20 | B17: 長野 | C17: 208 | D17: 小諸市 | E17: 42725 | F17: =SUM(H17,N17,S17,U17) -> 41756 | G17: =F17/E17 -> 0.97732007 | H17: 28716 | I17: =H17/E17 -> 0.67211235 | J17: 7410 | K17: 0 | L17: 0 | M17: 0 | N17: =SUM(J17:M17) -> 7410 | O17: =N17/E17 -> 0.17343476 | P17: 8 | Q17: 5012 | R17: 610 | S17: =SUM(P17:R17) -> 5630 | T17: =S17/E17 -> 0.13177297 | U17: 0 | V17: =U17/E17 -> 0 | W17: 2 | X17: =(S17+U17)/E17 -> 0.13177297
A18: 20 | B18: 長野 | C18: 209 | D18: 伊那市 | E18: 68773 | F18: =SUM(H18,N18,S18,U18) -> 64563 | G18: =F18/E18 -> 0.93878412 | H18: 48874 | I18: =H18/E18 -> 0.7106568 | J18: 11361 | K18: 0 | L18: 0 | M18: 52 | N18: =SUM(J18:M18) -> 11413 | O18: =N18/E18 -> 0.16595175 | P18: 1450 | Q18: 1826 | R18: 1000 | S18: =SUM(P18:R18) -> 4276 | T18: =S18/E18 -> 0.062175563 | U18: 0 | V18: =U18/E18 -> 0 | W18: 2 | X18: =(S18+U18)/E18 -> 0.062175563
A19: 20 | B19: 長野 | C19: 210 | D19: 駒ヶ根市 | E19: 33082 | F19: =SUM(H19,N19,S19,U19) -> 31389 | G19: =F19/E19 -> 0.94882413 | H19: 19336 | I19: =H19/E19 -> 0.58448703 | J19: 11328 | K19: 0 | L19: 0 | M19: 0 | N19: =SUM(J19:M19) -> 11328 | O19: =N19/E19 -> 0.34242186 | P19: 0 | Q19: 712 | R19: 13 | S19: =SUM(P19:R19) -> 725 | T19: =S19/E19 -> 0.021915241 | U19: 0 | V19: =U19/E19 -> 0 | W19: 2 | X19: =(S19+U19)/E19 -> 0.021915241
A20: 20 | B20: 長野 | C20: 211 | D20: 中野市 | E20: 45160 | F20: =SUM(H20,N20,S20,U20) -> 43753 | G20: =F20/E20 -> 0.96884411 | H20: 30611 | I20: =H20/E20 -> 0.67783437 | J20: 12561 | K20: 0 | L20: 0 | M20: 0 | N20: =SUM(J20:M20) -> 12561 | O20: =N20/E20 -> 0.27814438 | P20: 0 | Q20: 469 | R20: 112 | S20: =SUM(P20:R20) -> 581 | T20: =S20/E20 -> 0.012865368 | U20: 0 | V20: =U20/E20 -> 0 | W20: 2 | X20: =(S20+U20)/E20 -> 0.012865368
A21: 20 | B21: 長野 | C21: 212 | D21: 大町市 | E21: 28255 | F21: =SUM(H21,N21,S21,U21) -> 26160 | G21: =F21/E21 -> 0.92585383 | H21: 20349 | I21: =H21/E21 -> 0.72019112 | J21: 966 | K21: 0 | L21: 0 | M21: 0 | N21: =SUM(J21:M21) -> 966 | O21: =N21/E21 -> 0.034188639 | P21: 475 | Q21: 4276 | R21: 94 | S21: =SUM(P21:R21) -> 4845 | T21: =S21/E21 -> 0.17147408 | U21: 0 | V21: =U21/E21 -> 0 | W21: 2 | X21: =(S21+U21)/E21 -> 0.17147408
... A86: 20 | B86: 長野 | C86: 602 | D86: 栄村 | E86: 1973 | F86: =SUM(H86,N86,S86,U86) -> 1633 | G86: =F86/E86 -> 0.82767359 | H86: 0 | I86: =H86/E86 -> 0 | J86: 201 | K86: 0 | L86: 0 | M86: 0 | N86: =SUM(J86:M86) -> 201 | O86: =N86/E86 -> 0.10187532 | P86: 1287 | Q86: 140 | R86: 5 | S86: =SUM(P86:R86) -> 1432 | T86: =S86/E86 -> 0.72579828 | U86: 0 | V86: =U86/E86 -> 0 | W86: 4 | X86: =(S86+U86)/E86 -> 0.72579828
D87: 県 計 | E87: =SUM(E10:E86) -> 2117857 | F87: =SUM(H87,N87,S87,U87) -> 2067268 | G87: =F87/E87 -> 0.97611312 | H87: =SUM(H10:H86) -> 1760756 | I87: =H87/E87 -> 0.83138569 | J87: =SUM(J10:J86) -> 185015 | K87: =SUM(K10:K86) -> 0 | L87: =SUM(L10:L86) -> 96 | M87: =SUM(M10:M86) -> 221 | N87: =SUM(N10:N86) -> 185332 | O87: =N87/E87 -> 0.087509213 | P87: =SUM(P10:P86) -> 16671 | Q87: =SUM(Q10:Q86) -> 80103 | R87: =SUM(R10:R86) -> 23456 | S87: =SUM(P87:R87) -> 120230 | T87: =S87/E87 -> 0.05676965 | U87: =SUM(U10:U86) -> 950 | V87: =U87/E87 -> 0.00044856664 | W87: =COUNT(W10:W86) -> 77 | X87: =(S87+U87)/E87 -> 0.057218216
A88: ※ 組合等で事業を実施している場合は、該当する自治体に含めてください。（組合当別の記載は市内でください＞
